{"text_format":"2","workbook":"xlsx","n_sheets":2,"sheets":["CTS Order FORM","DATA"],"not_rendered":{"charts":0,"images":6,"macros":1,"external_links":0,"defined_names":3,"comments":0,"pivot_tables":0},"unopened":[],"bounds":{"document_bytes":16777216,"sheet_cells":100000,"run_cost":"one","rows_first":2000,"rows_last":500,"rows_between":2000,"halvings":0,"cell_chars":16384,"cell_head_chars":4096},"cells_cut":0,"cells_raw":0,"read":"whole","date_system":"1900"}

{"sheet":"CTS Order FORM","index":0,"n_rows":60,"n_cols":16384,"rows_kept":60,"cut":false,"hidden":false,"merged":[[44,15,44,17],[9,1,11,3],[41,15,41,17],[42,15,42,17],[38,15,38,17],[37,14,37,15],[39,15,39,17],[40,15,40,17],[36,16,36,17],[9,7,10,9],[11,7,11,9],[10,10,10,13],[11,10,11,20],[36,18,36,20],[13,5,13,8],[9,4,11,6],[3,1,3,2],[4,1,4,2],[5,1,5,2],[3,3,3,9],[13,10,13,13],[6,1,6,2],[7,1,7,2],[5,3,5,9],[4,6,4,7],[4,8,4,9],[4,3,4,5],[7,3,7,6],[6,3,6,9],[7,8,7,9],[59,14,59,16],[50,2,50,16],[0,15,0,16],[46,2,46,3],[2,6,2,7],[7,16,7,20],[2,19,2,20],[2,3,2,5],[2,8,2,9],[5,16,5,20],[9,16,9,20],[3,19,3,20],[2,13,2,14],[3,13,3,14],[2,16,2,17],[2,1,2,2]]}
[]
[]
[null,"Contact Name:**",{"$nulls":4},"Your Ref /Order #:",{"$nulls":11},"Phone:","03 5337 3633"]
[null,"Company Name:**",{"$nulls":17},"03 5337 3688 "]
[null,"Account Number:**",{"$nulls":4},"Phone Number **"]
[null,"Email:** ",{"$nulls":13},"EMAIL ORDER TO: ","CutToSize@laminex.com.au "]
[null,"Delivery Address:**"]
[{"$nulls":7},"Date:**",{"$nulls":7},"MATERIAL**"]
[]
[null,"2mm Arris = 2ARS",null,null,"DEFAULT EDGE                Square Edge = SQR",null,null,"8.5mm Bullnose = BN",{"$nulls":7},"COLOUR & THICKNESS**"]
[{"$nulls":10},"SPECIAL REQUIREMENTS"]
[{"$nulls":7},"Reverse Shark Nose = RSK"]
[]
[{"$nulls":5},"EDGING PROFILE**",{"$nulls":4},"FABRICATION PROCESSES"]
[null,"Line","Qty","Height mm (Minimum 150mm)","Width mm (Minimum 150mm)","Left","Right","Top","Bottom","CORNER RADIUS  (DEFAULT SQR)","Qty Hinges/\nMounting Plate\n(Pair)","Qty Cut Outs/\nDrilling/\nShaped Panels ","Qty Shark Nose/ Specialty\nCut","Qty Pattern \nSet-Up","PANEL SHAPE","COMMENTS                                                                                           Hinge Type & Measurements","Laminex\nASW code","Total m2","$/m2\n(inc discount)","Unit Value\n(inc discount)","Total*"]
[null,1,{"$nulls":14},{"$f":"IF(C16=\"\",\"\",VLOOKUP($Q$10,DATA!$P$2:$R$112,2))","v":""},{"$f":"IF(C16=\"\",\"\",C16*D16*E16/1000000)","v":""},{"$f":"IF(C16=\"\",\"\",V16-V16*$S$37)","v":""},{"$f":"IF(C16=\"\",\"\",R16/C16*S16)","v":""},{"$f":"IF(C16=\"\",\"\",C16*T16)","v":""},{"$f":"IF(C16=\"\",\"\",VLOOKUP($Q$10,DATA!$P$2:$S$114,4,FALSE))","v":""}]
[null,2,{"$nulls":14},{"$f":"IF(C17=\"\",\"\",VLOOKUP($Q$10,DATA!$P$2:$R$112,2))","v":""},{"$f":"IF(C17=\"\",\"\",C17*D17*E17/1000000)","v":""},{"$f":"IF(C17=\"\",\"\",V17-V17*$S$37)","v":""},{"$f":"IF(C17=\"\",\"\",R17/C17*S17)","v":""},{"$f":"IF(C17=\"\",\"\",C17*T17)","v":""},{"$f":"IF(C17=\"\",\"\",VLOOKUP($Q$10,DATA!$P$2:$S$114,4,FALSE))","v":""}]
[null,3,{"$nulls":14},{"$f":"IF(C18=\"\",\"\",VLOOKUP($Q$10,DATA!$P$2:$R$112,2))","v":""},"",{"$f":"IF(C18=\"\",\"\",V18-V18*$S$37)","v":""},{"$f":"IF(C18=\"\",\"\",R18/C18*S18)","v":""},{"$f":"IF(C18=\"\",\"\",C18*T18)","v":""},{"$f":"IF(C18=\"\",\"\",VLOOKUP($Q$10,DATA!$P$2:$S$114,4,FALSE))","v":""},{"$f":"IF(D18=\"\",\"\",VLOOKUP($Q$10,DATA!$P$2:$R$196,3))","v":""},{"$f":"IF(E18=\"\",\"\",VLOOKUP($Q$10,DATA!$P$2:$R$196,3))","v":""},{"$f":"IF(F18=\"\",\"\",VLOOKUP($Q$10,DATA!$P$2:$R$196,3))","v":""},{"$f":"IF(G18=\"\",\"\",VLOOKUP($Q$10,DATA!$P$2:$R$196,3))","v":""},{"$f":"IF(H18=\"\",\"\",VLOOKUP($Q$10,DATA!$P$2:$R$196,3))","v":""},{"$f":"IF(I18=\"\",\"\",VLOOKUP($Q$10,DATA!$P$2:$R$196,3))","v":""},{"$f":"IF(J18=\"\",\"\",VLOOKUP($Q$10,DATA!$P$2:$R$196,3))","v":""},{"$f":"IF(K18=\"\",\"\",VLOOKUP($Q$10,DATA!$P$2:$R$196,3))","v":""},{"$f":"IF(L18=\"\",\"\",VLOOKUP($Q$10,DATA!$P$2:$R$196,3))","v":""},{"$f":"IF(M18=\"\",\"\",VLOOKUP($Q$10,DATA!$P$2:$R$196,3))","v":""},{"$f":"IF(N18=\"\",\"\",VLOOKUP($Q$10,DATA!$P$2:$R$196,3))","v":""},{"$f":"IF(O18=\"\",\"\",VLOOKUP($Q$10,DATA!$P$2:$R$196,3))","v":""},{"$f":"IF(P18=\"\",\"\",VLOOKUP($Q$10,DATA!$P$2:$R$196,3))","v":""},{"$f":"IF(Q18=\"\",\"\",VLOOKUP($Q$10,DATA!$P$2:$R$196,3))","v":""},{"$f":"IF(R18=\"\",\"\",VLOOKUP($Q$10,DATA!$P$2:$R$196,3))","v":""},{"$f":"IF(S18=\"\",\"\",VLOOKUP($Q$10,DATA!$P$2:$R$196,3))","v":""},{"$f":"IF(T18=\"\",\"\",VLOOKUP($Q$10,DATA!$P$2:$R$196,3))","v":""},{"$f":"IF(U18=\"\",\"\",VLOOKUP($Q$10,DATA!$P$2:$R$196,3))","v":""},{"$f":"IF(V18=\"\",\"\",VLOOKUP($Q$10,DATA!$P$2:$R$196,3))","v":""},{"$f":"IF(W18=\"\",\"\",VLOOKUP($Q$10,DATA!$P$2:$R$196,3))","v":""},{"$f":"IF(X18=\"\",\"\",VLOOKUP($Q$10,DATA!$P$2:$R$196,3))","v":""},{"$f":"IF(Y18=\"\",\"\",VLOOKUP($Q$10,DATA!$P$2:$R$196,3))","v":""},{"$f":"IF(Z18=\"\",\"\",VLOOKUP($Q$10,DATA!$P$2:$R$196,3))","v":""},{"$f":"IF(AA18=\"\",\"\",VLOOKUP($Q$10,DATA!$P$2:$R$196,3))","v":""},{"$f":"IF(AB18=\"\",\"\",VLOOKUP($Q$10,DATA!$P$2:$R$196,3))","v":""},{"$f":"IF(AC18=\"\",\"\",VLOOKUP($Q$10,DATA!$P$2:$R$196,3))","v":""},{"$f":"IF(AD18=\"\",\"\",VLOOKUP($Q$10,DATA!$P$2:$R$196,3))","v":""},{"$f":"IF(AE18=\"\",\"\",VLOOKUP($Q$10,DATA!$P$2:$R$196,3))","v":""},{"$f":"IF(AF18=\"\",\"\",VLOOKUP($Q$10,DATA!$P$2:$R$196,3))","v":""},{"$f":"IF(AG18=\"\",\"\",VLOOKUP($Q$10,DATA!$P$2:$R$196,3))","v":""},{"$f":"IF(AH18=\"\",\"\",VLOOKUP($Q$10,DATA!$P$2:$R$196,3))","v":""},{"$f":"IF(AI18=\"\",\"\",VLOOKUP($Q$10,DATA!$P$2:$R$196,3))","v":""},{"$f":"IF(AJ18=\"\",\"\",VLOOKUP($Q$10,DATA!$P$2:$R$196,3))","v":""},{"$f":"IF(AK18=\"\",\"\",VLOOKUP($Q$10,DATA!$P$2:$R$196,3))","v":""},{"$f":"IF(AL18=\"\",\"\",VLOOKUP($Q$10,DATA!$P$2:$R$196,3))","v":""},{"$f":"IF(AM18=\"\",\"\",VLOOKUP($Q$10,DATA!$P$2:$R$196,3))","v":""},{"$f":"IF(AN18=\"\",\"\",VLOOKUP($Q$10,DATA!$P$2:$R$196,3))","v":""},{"$f":"IF(AO18=\"\",\"\",VLOOKUP($Q$10,DATA!$P$2:$R$196,3))","v":""},{"$f":"IF(AP18=\"\",\"\",VLOOKUP($Q$10,DATA!$P$2:$R$196,3))","v":""},{"$f":"IF(AQ18=\"\",\"\",VLOOKUP($Q$10,DATA!$P$2:$R$196,3))","v":""},{"$f":"IF(AR18=\"\",\"\",VLOOKUP($Q$10,DATA!$P$2:$R$196,3))","v":""},{"$f":"IF(AS18=\"\",\"\",VLOOKUP($Q$10,DATA!$P$2:$R$196,3))","v":""},{"$f":"IF(AT18=\"\",\"\",VLOOKUP($Q$10,DATA!$P$2:$R$196,3))","v":""},{"$f":"IF(AU18=\"\",\"\",VLOOKUP($Q$10,DATA!$P$2:$R$196,3))","v":""},{"$f":"IF(AV18=\"\",\"\",VLOOKUP($Q$10,DATA!$P$2:$R$196,3))","v":""},{"$f":"IF(AW18=\"\",\"\",VLOOKUP($Q$10,DATA!$P$2:$R$196,3))","v":""},{"$f":"IF(AX18=\"\",\"\",VLOOKUP($Q$10,DATA!$P$2:$R$196,3))","v":""},{"$f":"IF(AY18=\"\",\"\",VLOOKUP($Q$10,DATA!$P$2:$R$196,3))","v":""},{"$f":"IF(AZ18=\"\",\"\",VLOOKUP($Q$10,DATA!$P$2:$R$196,3))","v":""},{"$f":"IF(BA18=\"\",\"\",VLOOKUP($Q$10,DATA!$P$2:$R$196,3))","v":""},{"$f":"IF(BB18=\"\",\"\",VLOOKUP($Q$10,DATA!$P$2:$R$196,3))","v":""},{"$f":"IF(BC18=\"\",\"\",VLOOKUP($Q$10,DATA!$P$2:$R$196,3))","v":""},{"$f":"IF(BD18=\"\",\"\",VLOOKUP($Q$10,DATA!$P$2:$R$196,3))","v":""},{"$f":"IF(BE18=\"\",\"\",VLOOKUP($Q$10,DATA!$P$2:$R$196,3))","v":""},{"$f":"IF(BF18=\"\",\"\",VLOOKUP($Q$10,DATA!$P$2:$R$196,3))","v":""},{"$f":"IF(BG18=\"\",\"\",VLOOKUP($Q$10,DATA!$P$2:$R$196,3))","v":""},{"$f":"IF(BH18=\"\",\"\",VLOOKUP($Q$10,DATA!$P$2:$R$196,3))","v":""},{"$f":"IF(BI18=\"\",\"\",VLOOKUP($Q$10,DATA!$P$2:$R$196,3))","v":""},{"$f":"IF(BJ18=\"\",\"\",VLOOKUP($Q$10,DATA!$P$2:$R$196,3))","v":""},{"$f":"IF(BK18=\"\",\"\",VLOOKUP($Q$10,DATA!$P$2:$R$196,3))","v":""},{"$f":"IF(BL18=\"\",\"\",VLOOKUP($Q$10,DATA!$P$2:$R$196,3))","v":""},{"$f":"IF(BM18=\"\",\"\",VLOOKUP($Q$10,DATA!$P$2:$R$196,3))","v":""},{"$f":"IF(BN18=\"\",\"\",VLOOKUP($Q$10,DATA!$P$2:$R$196,3))","v":""},{"$f":"IF(BO18=\"\",\"\",VLOOKUP($Q$10,DATA!$P$2:$R$196,3))","v":""},{"$f":"IF(BP18=\"\",\"\",VLOOKUP($Q$10,DATA!$P$2:$R$196,3))","v":""},{"$f":"IF(BQ18=\"\",\"\",VLOOKUP($Q$10,DATA!$P$2:$R$196,3))","v":""},{"$f":"IF(BR18=\"\",\"\",VLOOKUP($Q$10,DATA!$P$2:$R$196,3))","v":""},{"$f":"IF(BS18=\"\",\"\",VLOOKUP($Q$10,DATA!$P$2:$R$196,3))","v":""},{"$f":"IF(BT18=\"\",\"\",VLOOKUP($Q$10,DATA!$P$2:$R$196,3))","v":""},{"$f":"IF(BU18=\"\",\"\",VLOOKUP($Q$10,DATA!$P$2:$R$196,3))","v":""},{"$f":"IF(BV18=\"\",\"\",VLOOKUP($Q$10,DATA!$P$2:$R$196,3))","v":""},{"$f":"IF(BW18=\"\",\"\",VLOOKUP($Q$10,DATA!$P$2:$R$196,3))","v":""},{"$f":"IF(BX18=\"\",\"\",VLOOKUP($Q$10,DATA!$P$2:$R$196,3))","v":""},{"$f":"IF(BY18=\"\",\"\",VLOOKUP($Q$10,DATA!$P$2:$R$196,3))","v":""},{"$f":"IF(BZ18=\"\",\"\",VLOOKUP($Q$10,DATA!$P$2:$R$196,3))","v":""},{"$f":"IF(CA18=\"\",\"\",VLOOKUP($Q$10,DATA!$P$2:$R$196,3))","v":""},{"$f":"IF(CB18=\"\",\"\",VLOOKUP($Q$10,DATA!$P$2:$R$196,3))","v":""},{"$f":"IF(CC18=\"\",\"\",VLOOKUP($Q$10,DATA!$P$2:$R$196,3))","v":""},{"$f":"IF(CD18=\"\",\"\",VLOOKUP($Q$10,DATA!$P$2:$R$196,3))","v":""},{"$f":"IF(CE18=\"\",\"\",VLOOKUP($Q$10,DATA!$P$2:$R$196,3))","v":""},{"$f":"IF(CF18=\"\",\"\",VLOOKUP($Q$10,DATA!$P$2:$R$196,3))","v":""},{"$f":"IF(CG18=\"\",\"\",VLOOKUP($Q$10,DATA!$P$2:$R$196,3))","v":""},{"$f":"IF(CH18=\"\",\"\",VLOOKUP($Q$10,DATA!$P$2:$R$196,3))","v":""},{"$f":"IF(CI18=\"\",\"\",VLOOKUP($Q$10,DATA!$P$2:$R$196,3))","v":""},{"$f":"IF(CJ18=\"\",\"\",VLOOKUP($Q$10,DATA!$P$2:$R$196,3))","v":""},{"$f":"IF(CK18=\"\",\"\",VLOOKUP($Q$10,DATA!$P$2:$R$196,3))","v":""},{"$f":"IF(CL18=\"\",\"\",VLOOKUP($Q$10,DATA!$P$2:$R$196,3))","v":""},{"$f":"IF(CM18=\"\",\"\",VLOOKUP($Q$10,DATA!$P$2:$R$196,3))","v":""},{"$f":"IF(CN18=\"\",\"\",VLOOKUP($Q$10,DATA!$P$2:$R$196,3))","v":""},{"$f":"IF(CO18=\"\",\"\",VLOOKUP($Q$10,DATA!$P$2:$R$196,3))","v":""},{"$f":"IF(CP18=\"\",\"\",VLOOKUP($Q$10,DATA!$P$2:$R$196,3))","v":""},{"$f":"IF(CQ18=\"\",\"\",VLOOKUP($Q$10,DATA!$P$2:$R$196,3))","v":""},{"$f":"IF(CR18=\"\",\"\",VLOOKUP($Q$10,DATA!$P$2:$R$196,3))","v":""},{"$f":"IF(CS18=\"\",\"\",VLOOKUP($Q$10,DATA!$P$2:$R$196,3))","v":""},{"$f":"IF(CT18=\"\",\"\",VLOOKUP($Q$10,DATA!$P$2:$R$196,3))","v":""},{"$f":"IF(CU18=\"\",\"\",VLOOKUP($Q$10,DATA!$P$2:$R$196,3))","v":""},{"$f":"IF(CV18=\"\",\"\",VLOOKUP($Q$10,DATA!$P$2:$R$196,3))","v":""},{"$f":"IF(CW18=\"\",\"\",VLOOKUP($Q$10,DATA!$P$2:$R$196,3))","v":""},{"$f":"IF(CX18=\"\",\"\",VLOOKUP($Q$10,DATA!$P$2:$R$196,3))","v":""},{"$f":"IF(CY18=\"\",\"\",VLOOKUP($Q$10,DATA!$P$2:$R$196,3))","v":""},{"$f":"IF(CZ18=\"\",\"\",VLOOKUP($Q$10,DATA!$P$2:$R$196,3))","v":""},{"$f":"IF(DA18=\"\",\"\",VLOOKUP($Q$10,DATA!$P$2:$R$196,3))","v":""},{"$f":"IF(DB18=\"\",\"\",VLOOKUP($Q$10,DATA!$P$2:$R$196,3))","v":""},{"$f":"IF(DC18=\"\",\"\",VLOOKUP($Q$10,DATA!$P$2:$R$196,3))","v":""},{"$f":"IF(DD18=\"\",\"\",VLOOKUP($Q$10,DATA!$P$2:$R$196,3))","v":""},{"$f":"IF(DE18=\"\",\"\",VLOOKUP($Q$10,DATA!$P$2:$R$196,3))","v":""},{"$f":"IF(DF18=\"\",\"\",VLOOKUP($Q$10,DATA!$P$2:$R$196,3))","v":""},{"$f":"IF(DG18=\"\",\"\",VLOOKUP($Q$10,DATA!$P$2:$R$196,3))","v":""},{"$f":"IF(DH18=\"\",\"\",VLOOKUP($Q$10,DATA!$P$2:$R$196,3))","v":""},{"$f":"IF(DI18=\"\",\"\",VLOOKUP($Q$10,DATA!$P$2:$R$196,3))","v":""},{"$f":"IF(DJ18=\"\",\"\",VLOOKUP($Q$10,DATA!$P$2:$R$196,3))","v":""},{"$f":"IF(DK18=\"\",\"\",VLOOKUP($Q$10,DATA!$P$2:$R$196,3))","v":""},{"$f":"IF(DL18=\"\",\"\",VLOOKUP($Q$10,DATA!$P$2:$R$196,3))","v":""},{"$f":"IF(DM18=\"\",\"\",VLOOKUP($Q$10,DATA!$P$2:$R$196,3))","v":""},{"$f":"IF(DN18=\"\",\"\",VLOOKUP($Q$10,DATA!$P$2:$R$196,3))","v":""},{"$f":"IF(DO18=\"\",\"\",VLOOKUP($Q$10,DATA!$P$2:$R$196,3))","v":""},{"$f":"IF(DP18=\"\",\"\",VLOOKUP($Q$10,DATA!$P$2:$R$196,3))","v":""},{"$f":"IF(DQ18=\"\",\"\",VLOOKUP($Q$10,DATA!$P$2:$R$196,3))","v":""},{"$f":"IF(DR18=\"\",\"\",VLOOKUP($Q$10,DATA!$P$2:$R$196,3))","v":""},{"$f":"IF(DS18=\"\",\"\",VLOOKUP($Q$10,DATA!$P$2:$R$196,3))","v":""},{"$f":"IF(DT18=\"\",\"\",VLOOKUP($Q$10,DATA!$P$2:$R$196,3))","v":""},{"$f":"IF(DU18=\"\",\"\",VLOOKUP($Q$10,DATA!$P$2:$R$196,3))","v":""},{"$f":"IF(DV18=\"\",\"\",VLOOKUP($Q$10,DATA!$P$2:$R$196,3))","v":""},{"$f":"IF(DW18=\"\",\"\",VLOOKUP($Q$10,DATA!$P$2:$R$196,3))","v":""},{"$f":"IF(DX18=\"\",\"\",VLOOKUP($Q$10,DATA!$P$2:$R$196,3))","v":""},{"$f":"IF(DY18=\"\",\"\",VLOOKUP($Q$10,DATA!$P$2:$R$196,3))","v":""},{"$f":"IF(DZ18=\"\",\"\",VLOOKUP($Q$10,DATA!$P$2:$R$196,3))","v":""},{"$f":"IF(EA18=\"\",\"\",VLOOKUP($Q$10,DATA!$P$2:$R$196,3))","v":""},{"$f":"IF(EB18=\"\",\"\",VLOOKUP($Q$10,DATA!$P$2:$R$196,3))","v":""},{"$f":"IF(EC18=\"\",\"\",VLOOKUP($Q$10,DATA!$P$2:$R$196,3))","v":""},{"$f":"IF(ED18=\"\",\"\",VLOOKUP($Q$10,DATA!$P$2:$R$196,3))","v":""},{"$f":"IF(EE18=\"\",\"\",VLOOKUP($Q$10,DATA!$P$2:$R$196,3))","v":""},{"$f":"IF(EF18=\"\",\"\",VLOOKUP($Q$10,DATA!$P$2:$R$196,3))","v":""},{"$f":"IF(EG18=\"\",\"\",VLOOKUP($Q$10,DATA!$P$2:$R$196,3))","v":""},{"$f":"IF(EH18=\"\",\"\",VLOOKUP($Q$10,DATA!$P$2:$R$196,3))","v":""},{"$f":"IF(EI18=\"\",\"\",VLOOKUP($Q$10,DATA!$P$2:$R$196,3))","v":""},{"$f":"IF(EJ18=\"\",\"\",VLOOKUP($Q$10,DATA!$P$2:$R$196,3))","v":""},{"$f":"IF(EK18=\"\",\"\",VLOOKUP($Q$10,DATA!$P$2:$R$196,3))","v":""},{"$f":"IF(EL18=\"\",\"\",VLOOKUP($Q$10,DATA!$P$2:$R$196,3))","v":""},{"$f":"IF(EM18=\"\",\"\",VLOOKUP($Q$10,DATA!$P$2:$R$196,3))","v":""},{"$f":"IF(EN18=\"\",\"\",VLOOKUP($Q$10,DATA!$P$2:$R$196,3))","v":""},{"$f":"IF(EO18=\"\",\"\",VLOOKUP($Q$10,DATA!$P$2:$R$196,3))","v":""},{"$f":"IF(EP18=\"\",\"\",VLOOKUP($Q$10,DATA!$P$2:$R$196,3))","v":""},{"$f":"IF(EQ18=\"\",\"\",VLOOKUP($Q$10,DATA!$P$2:$R$196,3))","v":""},{"$f":"IF(ER18=\"\",\"\",VLOOKUP($Q$10,DATA!$P$2:$R$196,3))","v":""},{"$f":"IF(ES18=\"\",\"\",VLOOKUP($Q$10,DATA!$P$2:$R$196,3))","v":""},{"$f":"IF(ET18=\"\",\"\",VLOOKUP($Q$10,DATA!$P$2:$R$196,3))","v":""},{"$f":"IF(EU18=\"\",\"\",VLOOKUP($Q$10,DATA!$P$2:$R$196,3))","v":""},{"$f":"IF(EV18=\"\",\"\",VLOOKUP($Q$10,DATA!$P$2:$R$196,3))","v":""},{"$f":"IF(EW18=\"\",\"\",VLOOKUP($Q$10,DATA!$P$2:$R$196,3))","v":""},{"$f":"IF(EX18=\"\",\"\",VLOOKUP($Q$10,DATA!$P$2:$R$196,3))","v":""},{"$f":"IF(EY18=\"\",\"\",VLOOKUP($Q$10,DATA!$P$2:$R$196,3))","v":""},{"$f":"IF(EZ18=\"\",\"\",VLOOKUP($Q$10,DATA!$P$2:$R$196,3))","v":""},{"$f":"IF(FA18=\"\",\"\",VLOOKUP($Q$10,DATA!$P$2:$R$196,3))","v":""},{"$f":"IF(FB18=\"\",\"\",VLOOKUP($Q$10,DATA!$P$2:$R$196,3))","v":""},{"$f":"IF(FC18=\"\",\"\",VLOOKUP($Q$10,DATA!$P$2:$R$196,3))","v":""},{"$f":"IF(FD18=\"\",\"\",VLOOKUP($Q$10,DATA!$P$2:$R$196,3))","v":""},{"$f":"IF(FE18=\"\",\"\",VLOOKUP($Q$10,DATA!$P$2:$R$196,3))","v":""},{"$f":"IF(FF18=\"\",\"\",VLOOKUP($Q$10,DATA!$P$2:$R$196,3))","v":""},{"$f":"IF(FG18=\"\",\"\",VLOOKUP($Q$10,DATA!$P$2:$R$196,3))","v":""},{"$f":"IF(FH18=\"\",\"\",VLOOKUP($Q$10,DATA!$P$2:$R$196,3))","v":""},{"$f":"IF(FI18=\"\",\"\",VLOOKUP($Q$10,DATA!$P$2:$R$196,3))","v":""},{"$f":"IF(FJ18=\"\",\"\",VLOOKUP($Q$10,DATA!$P$2:$R$196,3))","v":""},{"$f":"IF(FK18=\"\",\"\",VLOOKUP($Q$10,DATA!$P$2:$R$196,3))","v":""},{"$f":"IF(FL18=\"\",\"\",VLOOKUP($Q$10,DATA!$P$2:$R$196,3))","v":""},{"$f":"IF(FM18=\"\",\"\",VLOOKUP($Q$10,DATA!$P$2:$R$196,3))","v":""},{"$f":"IF(FN18=\"\",\"\",VLOOKUP($Q$10,DATA!$P$2:$R$196,3))","v":""},{"$f":"IF(FO18=\"\",\"\",VLOOKUP($Q$10,DATA!$P$2:$R$196,3))","v":""},{"$f":"IF(FP18=\"\",\"\",VLOOKUP($Q$10,DATA!$P$2:$R$196,3))","v":""},{"$f":"IF(FQ18=\"\",\"\",VLOOKUP($Q$10,DATA!$P$2:$R$196,3))","v":""},{"$f":"IF(FR18=\"\",\"\",VLOOKUP($Q$10,DATA!$P$2:$R$196,3))","v":""},{"$f":"IF(FS18=\"\",\"\",VLOOKUP($Q$10,DATA!$P$2:$R$196,3))","v":""},{"$f":"IF(FT18=\"\",\"\",VLOOKUP($Q$10,DATA!$P$2:$R$196,3))","v":""},{"$f":"IF(FU18=\"\",\"\",VLOOKUP($Q$10,DATA!$P$2:$R$196,3))","v":""},{"$f":"IF(FV18=\"\",\"\",VLOOKUP($Q$10,DATA!$P$2:$R$196,3))","v":""},{"$f":"IF(FW18=\"\",\"\",VLOOKUP($Q$10,DATA!$P$2:$R$196,3))","v":""},{"$f":"IF(FX18=\"\",\"\",VLOOKUP($Q$10,DATA!$P$2:$R$196,3))","v":""},{"$f":"IF(FY18=\"\",\"\",VLOOKUP($Q$10,DATA!$P$2:$R$196,3))","v":""},{"$f":"IF(FZ18=\"\",\"\",VLOOKUP($Q$10,DATA!$P$2:$R$196,3))","v":""},{"$f":"IF(GA18=\"\",\"\",VLOOKUP($Q$10,DATA!$P$2:$R$196,3))","v":""},{"$f":"IF(GB18=\"\",\"\",VLOOKUP($Q$10,DATA!$P$2:$R$196,3))","v":""},{"$f":"IF(GC18=\"\",\"\",VLOOKUP($Q$10,DATA!$P$2:$R$196,3))","v":""},{"$f":"IF(GD18=\"\",\"\",VLOOKUP($Q$10,DATA!$P$2:$R$196,3))","v":""},{"$f":"IF(GE18=\"\",\"\",VLOOKUP($Q$10,DATA!$P$2:$R$196,3))","v":""},{"$f":"IF(GF18=\"\",\"\",VLOOKUP($Q$10,DATA!$P$2:$R$196,3))","v":""},{"$f":"IF(GG18=\"\",\"\",VLOOKUP($Q$10,DATA!$P$2:$R$196,3))","v":""},{"$f":"IF(GH18=\"\",\"\",VLOOKUP($Q$10,DATA!$P$2:$R$196,3))","v":""},{"$f":"IF(GI18=\"\",\"\",VLOOKUP($Q$10,DATA!$P$2:$R$196,3))","v":""},{"$f":"IF(GJ18=\"\",\"\",VLOOKUP($Q$10,DATA!$P$2:$R$196,3))","v":""},{"$f":"IF(GK18=\"\",\"\",VLOOKUP($Q$10,DATA!$P$2:$R$196,3))","v":""},{"$f":"IF(GL18=\"\",\"\",VLOOKUP($Q$10,DATA!$P$2:$R$196,3))","v":""},{"$f":"IF(GM18=\"\",\"\",VLOOKUP($Q$10,DATA!$P$2:$R$196,3))","v":""},{"$f":"IF(GN18=\"\",\"\",VLOOKUP($Q$10,DATA!$P$2:$R$196,3))","v":""},{"$f":"IF(GO18=\"\",\"\",VLOOKUP($Q$10,DATA!$P$2:$R$196,3))","v":""},{"$f":"IF(GP18=\"\",\"\",VLOOKUP($Q$10,DATA!$P$2:$R$196,3))","v":""},{"$f":"IF(GQ18=\"\",\"\",VLOOKUP($Q$10,DATA!$P$2:$R$196,3))","v":""},{"$f":"IF(GR18=\"\",\"\",VLOOKUP($Q$10,DATA!$P$2:$R$196,3))","v":""},{"$f":"IF(GS18=\"\",\"\",VLOOKUP($Q$10,DATA!$P$2:$R$196,3))","v":""},{"$f":"IF(GT18=\"\",\"\",VLOOKUP($Q$10,DATA!$P$2:$R$196,3))","v":""},{"$f":"IF(GU18=\"\",\"\",VLOOKUP($Q$10,DATA!$P$2:$R$196,3))","v":""},{"$f":"IF(GV18=\"\",\"\",VLOOKUP($Q$10,DATA!$P$2:$R$196,3))","v":""},{"$f":"IF(GW18=\"\",\"\",VLOOKUP($Q$10,DATA!$P$2:$R$196,3))","v":""},{"$f":"IF(GX18=\"\",\"\",VLOOKUP($Q$10,DATA!$P$2:$R$196,3))","v":""},{"$f":"IF(GY18=\"\",\"\",VLOOKUP($Q$10,DATA!$P$2:$R$196,3))","v":""},{"$f":"IF(GZ18=\"\",\"\",VLOOKUP($Q$10,DATA!$P$2:$R$196,3))","v":""},{"$f":"IF(HA18=\"\",\"\",VLOOKUP($Q$10,DATA!$P$2:$R$196,3))","v":""},{"$f":"IF(HB18=\"\",\"\",VLOOKUP($Q$10,DATA!$P$2:$R$196,3))","v":""},{"$f":"IF(HC18=\"\",\"\",VLOOKUP($Q$10,DATA!$P$2:$R$196,3))","v":""},{"$f":"IF(HD18=\"\",\"\",VLOOKUP($Q$10,DATA!$P$2:$R$196,3))","v":""},{"$f":"IF(HE18=\"\",\"\",VLOOKUP($Q$10,DATA!$P$2:$R$196,3))","v":""},{"$f":"IF(HF18=\"\",\"\",VLOOKUP($Q$10,DATA!$P$2:$R$196,3))","v":""},{"$f":"IF(HG18=\"\",\"\",VLOOKUP($Q$10,DATA!$P$2:$R$196,3))","v":""},{"$f":"IF(HH18=\"\",\"\",VLOOKUP($Q$10,DATA!$P$2:$R$196,3))","v":""},{"$f":"IF(HI18=\"\",\"\",VLOOKUP($Q$10,DATA!$P$2:$R$196,3))","v":""},{"$f":"IF(HJ18=\"\",\"\",VLOOKUP($Q$10,DATA!$P$2:$R$196,3))","v":""},{"$f":"IF(HK18=\"\",\"\",VLOOKUP($Q$10,DATA!$P$2:$R$196,3))","v":""},{"$f":"IF(HL18=\"\",\"\",VLOOKUP($Q$10,DATA!$P$2:$R$196,3))","v":""},{"$f":"IF(HM18=\"\",\"\",VLOOKUP($Q$10,DATA!$P$2:$R$196,3))","v":""},{"$f":"IF(HN18=\"\",\"\",VLOOKUP($Q$10,DATA!$P$2:$R$196,3))","v":""},{"$f":"IF(HO18=\"\",\"\",VLOOKUP($Q$10,DATA!$P$2:$R$196,3))","v":""},{"$f":"IF(HP18=\"\",\"\",VLOOKUP($Q$10,DATA!$P$2:$R$196,3))","v":""},{"$f":"IF(HQ18=\"\",\"\",VLOOKUP($Q$10,DATA!$P$2:$R$196,3))","v":""},{"$f":"IF(HR18=\"\",\"\",VLOOKUP($Q$10,DATA!$P$2:$R$196,3))","v":""},{"$f":"IF(HS18=\"\",\"\",VLOOKUP($Q$10,DATA!$P$2:$R$196,3))","v":""},{"$f":"IF(HT18=\"\",\"\",VLOOKUP($Q$10,DATA!$P$2:$R$196,3))","v":""},{"$f":"IF(HU18=\"\",\"\",VLOOKUP($Q$10,DATA!$P$2:$R$196,3))","v":""},{"$f":"IF(HV18=\"\",\"\",VLOOKUP($Q$10,DATA!$P$2:$R$196,3))","v":""},{"$f":"IF(HW18=\"\",\"\",VLOOKUP($Q$10,DATA!$P$2:$R$196,3))","v":""},{"$f":"IF(HX18=\"\",\"\",VLOOKUP($Q$10,DATA!$P$2:$R$196,3))","v":""},{"$f":"IF(HY18=\"\",\"\",VLOOKUP($Q$10,DATA!$P$2:$R$196,3))","v":""},{"$f":"IF(HZ18=\"\",\"\",VLOOKUP($Q$10,DATA!$P$2:$R$196,3))","v":""},{"$f":"IF(IA18=\"\",\"\",VLOOKUP($Q$10,DATA!$P$2:$R$196,3))","v":""},{"$f":"IF(IB18=\"\",\"\",VLOOKUP($Q$10,DATA!$P$2:$R$196,3))","v":""},{"$f":"IF(IC18=\"\",\"\",VLOOKUP($Q$10,DATA!$P$2:$R$196,3))","v":""},{"$f":"IF(ID18=\"\",\"\",VLOOKUP($Q$10,DATA!$P$2:$R$196,3))","v":""},{"$f":"IF(IE18=\"\",\"\",VLOOKUP($Q$10,DATA!$P$2:$R$196,3))","v":""},{"$f":"IF(IF18=\"\",\"\",VLOOKUP($Q$10,DATA!$P$2:$R$196,3))","v":""},{"$f":"IF(IG18=\"\",\"\",VLOOKUP($Q$10,DATA!$P$2:$R$196,3))","v":""},{"$f":"IF(IH18=\"\",\"\",VLOOKUP($Q$10,DATA!$P$2:$R$196,3))","v":""},{"$f":"IF(II18=\"\",\"\",VLOOKUP($Q$10,DATA!$P$2:$R$196,3))","v":""},{"$f":"IF(IJ18=\"\",\"\",VLOOKUP($Q$10,DATA!$P$2:$R$196,3))","v":""},{"$f":"IF(IK18=\"\",\"\",VLOOKUP($Q$10,DATA!$P$2:$R$196,3))","v":""},{"$f":"IF(IL18=\"\",\"\",VLOOKUP($Q$10,DATA!$P$2:$R$196,3))","v":""},{"$f":"IF(IM18=\"\",\"\",VLOOKUP($Q$10,DATA!$P$2:$R$196,3))","v":""},{"$f":"IF(IN18=\"\",\"\",VLOOKUP($Q$10,DATA!$P$2:$R$196,3))","v":""},{"$f":"IF(IO18=\"\",\"\",VLOOKUP($Q$10,DATA!$P$2:$R$196,3))","v":""},{"$f":"IF(IP18=\"\",\"\",VLOOKUP($Q$10,DATA!$P$2:$R$196,3))","v":""},{"$f":"IF(IQ18=\"\",\"\",VLOOKUP($Q$10,DATA!$P$2:$R$196,3))","v":""},{"$f":"IF(IR18=\"\",\"\",VLOOKUP($Q$10,DATA!$P$2:$R$196,3))","v":""},{"$f":"IF(IS18=\"\",\"\",VLOOKUP($Q$10,DATA!$P$2:$R$196,3))","v":""},{"$f":"IF(IT18=\"\",\"\",VLOOKUP($Q$10,DATA!$P$2:$R$196,3))","v":""},{"$f":"IF(IU18=\"\",\"\",VLOOKUP($Q$10,DATA!$P$2:$R$196,3))","v":""},{"$f":"IF(IV18=\"\",\"\",VLOOKUP($Q$10,DATA!$P$2:$R$196,3))","v":""},{"$f":"IF(IW18=\"\",\"\",VLOOKUP($Q$10,DATA!$P$2:$R$196,3))","v":""},{"$f":"IF(IX18=\"\",\"\",VLOOKUP($Q$10,DATA!$P$2:$R$196,3))","v":""},{"$f":"IF(IY18=\"\",\"\",VLOOKUP($Q$10,DATA!$P$2:$R$196,3))","v":""},{"$f":"IF(IZ18=\"\",\"\",VLOOKUP($Q$10,DATA!$P$2:$R$196,3))","v":""},{"$f":"IF(JA18=\"\",\"\",VLOOKUP($Q$10,DATA!$P$2:$R$196,3))","v":""},{"$f":"IF(JB18=\"\",\"\",VLOOKUP($Q$10,DATA!$P$2:$R$196,3))","v":""},{"$f":"IF(JC18=\"\",\"\",VLOOKUP($Q$10,DATA!$P$2:$R$196,3))","v":""},{"$f":"IF(JD18=\"\",\"\",VLOOKUP($Q$10,DATA!$P$2:$R$196,3))","v":""},{"$f":"IF(JE18=\"\",\"\",VLOOKUP($Q$10,DATA!$P$2:$R$196,3))","v":""},{"$f":"IF(JF18=\"\",\"\",VLOOKUP($Q$10,DATA!$P$2:$R$196,3))","v":""},{"$f":"IF(JG18=\"\",\"\",VLOOKUP($Q$10,DATA!$P$2:$R$196,3))","v":""},{"$f":"IF(JH18=\"\",\"\",VLOOKUP($Q$10,DATA!$P$2:$R$196,3))","v":""},{"$f":"IF(JI18=\"\",\"\",VLOOKUP($Q$10,DATA!$P$2:$R$196,3))","v":""},{"$f":"IF(JJ18=\"\",\"\",VLOOKUP($Q$10,DATA!$P$2:$R$196,3))","v":""},{"$f":"IF(JK18=\"\",\"\",VLOOKUP($Q$10,DATA!$P$2:$R$196,3))","v":""},{"$f":"IF(JL18=\"\",\"\",VLOOKUP($Q$10,DATA!$P$2:$R$196,3))","v":""},{"$f":"IF(JM18=\"\",\"\",VLOOKUP($Q$10,DATA!$P$2:$R$196,3))","v":""},{"$f":"IF(JN18=\"\",\"\",VLOOKUP($Q$10,DATA!$P$2:$R$196,3))","v":""},{"$f":"IF(JO18=\"\",\"\",VLOOKUP($Q$10,DATA!$P$2:$R$196,3))","v":""},{"$f":"IF(JP18=\"\",\"\",VLOOKUP($Q$10,DATA!$P$2:$R$196,3))","v":""},{"$f":"IF(JQ18=\"\",\"\",VLOOKUP($Q$10,DATA!$P$2:$R$196,3))","v":""},{"$f":"IF(JR18=\"\",\"\",VLOOKUP($Q$10,DATA!$P$2:$R$196,3))","v":""},{"$f":"IF(JS18=\"\",\"\",VLOOKUP($Q$10,DATA!$P$2:$R$196,3))","v":""},{"$f":"IF(JT18=\"\",\"\",VLOOKUP($Q$10,DATA!$P$2:$R$196,3))","v":""},{"$f":"IF(JU18=\"\",\"\",VLOOKUP($Q$10,DATA!$P$2:$R$196,3))","v":""},{"$f":"IF(JV18=\"\",\"\",VLOOKUP($Q$10,DATA!$P$2:$R$196,3))","v":""},{"$f":"IF(JW18=\"\",\"\",VLOOKUP($Q$10,DATA!$P$2:$R$196,3))","v":""},{"$f":"IF(JX18=\"\",\"\",VLOOKUP($Q$10,DATA!$P$2:$R$196,3))","v":""},{"$f":"IF(JY18=\"\",\"\",VLOOKUP($Q$10,DATA!$P$2:$R$196,3))","v":""},{"$f":"IF(JZ18=\"\",\"\",VLOOKUP($Q$10,DATA!$P$2:$R$196,3))","v":""},{"$f":"IF(KA18=\"\",\"\",VLOOKUP($Q$10,DATA!$P$2:$R$196,3))","v":""},{"$f":"IF(KB18=\"\",\"\",VLOOKUP($Q$10,DATA!$P$2:$R$196,3))","v":""},{"$f":"IF(KC18=\"\",\"\",VLOOKUP($Q$10,DATA!$P$2:$R$196,3))","v":""},{"$f":"IF(KD18=\"\",\"\",VLOOKUP($Q$10,DATA!$P$2:$R$196,3))","v":""},{"$f":"IF(KE18=\"\",\"\",VLOOKUP($Q$10,DATA!$P$2:$R$196,3))","v":""},{"$f":"IF(KF18=\"\",\"\",VLOOKUP($Q$10,DATA!$P$2:$R$196,3))","v":""},{"$f":"IF(KG18=\"\",\"\",VLOOKUP($Q$10,DATA!$P$2:$R$196,3))","v":""},{"$f":"IF(KH18=\"\",\"\",VLOOKUP($Q$10,DATA!$P$2:$R$196,3))","v":""},{"$f":"IF(KI18=\"\",\"\",VLOOKUP($Q$10,DATA!$P$2:$R$196,3))","v":""},{"$f":"IF(KJ18=\"\",\"\",VLOOKUP($Q$10,DATA!$P$2:$R$196,3))","v":""},{"$f":"IF(KK18=\"\",\"\",VLOOKUP($Q$10,DATA!$P$2:$R$196,3))","v":""},{"$f":"IF(KL18=\"\",\"\",VLOOKUP($Q$10,DATA!$P$2:$R$196,3))","v":""},{"$f":"IF(KM18=\"\",\"\",VLOOKUP($Q$10,DATA!$P$2:$R$196,3))","v":""},{"$f":"IF(KN18=\"\",\"\",VLOOKUP($Q$10,DATA!$P$2:$R$196,3))","v":""},{"$f":"IF(KO18=\"\",\"\",VLOOKUP($Q$10,DATA!$P$2:$R$196,3))","v":""},{"$f":"IF(KP18=\"\",\"\",VLOOKUP($Q$10,DATA!$P$2:$R$196,3))","v":""},{"$f":"IF(KQ18=\"\",\"\",VLOOKUP($Q$10,DATA!$P$2:$R$196,3))","v":""},{"$f":"IF(KR18=\"\",\"\",VLOOKUP($Q$10,DATA!$P$2:$R$196,3))","v":""},{"$f":"IF(KS18=\"\",\"\",VLOOKUP($Q$10,DATA!$P$2:$R$196,3))","v":""},{"$f":"IF(KT18=\"\",\"\",VLOOKUP($Q$10,DATA!$P$2:$R$196,3))","v":""},{"$f":"IF(KU18=\"\",\"\",VLOOKUP($Q$10,DATA!$P$2:$R$196,3))","v":""},{"$f":"IF(KV18=\"\",\"\",VLOOKUP($Q$10,DATA!$P$2:$R$196,3))","v":""},{"$f":"IF(KW18=\"\",\"\",VLOOKUP($Q$10,DATA!$P$2:$R$196,3))","v":""},{"$f":"IF(KX18=\"\",\"\",VLOOKUP($Q$10,DATA!$P$2:$R$196,3))","v":""},{"$f":"IF(KY18=\"\",\"\",VLOOKUP($Q$10,DATA!$P$2:$R$196,3))","v":""},{"$f":"IF(KZ18=\"\",\"\",VLOOKUP($Q$10,DATA!$P$2:$R$196,3))","v":""},{"$f":"IF(LA18=\"\",\"\",VLOOKUP($Q$10,DATA!$P$2:$R$196,3))","v":""},{"$f":"IF(LB18=\"\",\"\",VLOOKUP($Q$10,DATA!$P$2:$R$196,3))","v":""},{"$f":"IF(LC18=\"\",\"\",VLOOKUP($Q$10,DATA!$P$2:$R$196,3))","v":""},{"$f":"IF(LD18=\"\",\"\",VLOOKUP($Q$10,DATA!$P$2:$R$196,3))","v":""},{"$f":"IF(LE18=\"\",\"\",VLOOKUP($Q$10,DATA!$P$2:$R$196,3))","v":""},{"$f":"IF(LF18=\"\",\"\",VLOOKUP($Q$10,DATA!$P$2:$R$196,3))","v":""},{"$f":"IF(LG18=\"\",\"\",VLOOKUP($Q$10,DATA!$P$2:$R$196,3))","v":""},{"$f":"IF(LH18=\"\",\"\",VLOOKUP($Q$10,DATA!$P$2:$R$196,3))","v":""},{"$f":"IF(LI18=\"\",\"\",VLOOKUP($Q$10,DATA!$P$2:$R$196,3))","v":""},{"$f":"IF(LJ18=\"\",\"\",VLOOKUP($Q$10,DATA!$P$2:$R$196,3))","v":""},{"$f":"IF(LK18=\"\",\"\",VLOOKUP($Q$10,DATA!$P$2:$R$196,3))","v":""},{"$f":"IF(LL18=\"\",\"\",VLOOKUP($Q$10,DATA!$P$2:$R$196,3))","v":""},{"$f":"IF(LM18=\"\",\"\",VLOOKUP($Q$10,DATA!$P$2:$R$196,3))","v":""},{"$f":"IF(LN18=\"\",\"\",VLOOKUP($Q$10,DATA!$P$2:$R$196,3))","v":""},{"$f":"IF(LO18=\"\",\"\",VLOOKUP($Q$10,DATA!$P$2:$R$196,3))","v":""},{"$f":"IF(LP18=\"\",\"\",VLOOKUP($Q$10,DATA!$P$2:$R$196,3))","v":""},{"$f":"IF(LQ18=\"\",\"\",VLOOKUP($Q$10,DATA!$P$2:$R$196,3))","v":""},{"$f":"IF(LR18=\"\",\"\",VLOOKUP($Q$10,DATA!$P$2:$R$196,3))","v":""},{"$f":"IF(LS18=\"\",\"\",VLOOKUP($Q$10,DATA!$P$2:$R$196,3))","v":""},{"$f":"IF(LT18=\"\",\"\",VLOOKUP($Q$10,DATA!$P$2:$R$196,3))","v":""},{"$f":"IF(LU18=\"\",\"\",VLOOKUP($Q$10,DATA!$P$2:$R$196,3))","v":""},{"$f":"IF(LV18=\"\",\"\",VLOOKUP($Q$10,DATA!$P$2:$R$196,3))","v":""},{"$f":"IF(LW18=\"\",\"\",VLOOKUP($Q$10,DATA!$P$2:$R$196,3))","v":""},{"$f":"IF(LX18=\"\",\"\",VLOOKUP($Q$10,DATA!$P$2:$R$196,3))","v":""},{"$f":"IF(LY18=\"\",\"\",VLOOKUP($Q$10,DATA!$P$2:$R$196,3))","v":""},{"$f":"IF(LZ18=\"\",\"\",VLOOKUP($Q$10,DATA!$P$2:$R$196,3))","v":""},{"$f":"IF(MA18=\"\",\"\",VLOOKUP($Q$10,DATA!$P$2:$R$196,3))","v":""},{"$f":"IF(MB18=\"\",\"\",VLOOKUP($Q$10,DATA!$P$2:$R$196,3))","v":""},{"$f":"IF(MC18=\"\",\"\",VLOOKUP($Q$10,DATA!$P$2:$R$196,3))","v":""},{"$f":"IF(MD18=\"\",\"\",VLOOKUP($Q$10,DATA!$P$2:$R$196,3))","v":""},{"$f":"IF(ME18=\"\",\"\",VLOOKUP($Q$10,DATA!$P$2:$R$196,3))","v":""},{"$f":"IF(MF18=\"\",\"\",VLOOKUP($Q$10,DATA!$P$2:$R$196,3))","v":""},{"$f":"IF(MG18=\"\",\"\",VLOOKUP($Q$10,DATA!$P$2:$R$196,3))","v":""},{"$f":"IF(MH18=\"\",\"\",VLOOKUP($Q$10,DATA!$P$2:$R$196,3))","v":""},{"$f":"IF(MI18=\"\",\"\",VLOOKUP($Q$10,DATA!$P$2:$R$196,3))","v":""},{"$f":"IF(MJ18=\"\",\"\",VLOOKUP($Q$10,DATA!$P$2:$R$196,3))","v":""},{"$f":"IF(MK18=\"\",\"\",VLOOKUP($Q$10,DATA!$P$2:$R$196,3))","v":""},{"$f":"IF(ML18=\"\",\"\",VLOOKUP($Q$10,DATA!$P$2:$R$196,3))","v":""},{"$f":"IF(MM18=\"\",\"\",VLOOKUP($Q$10,DATA!$P$2:$R$196,3))","v":""},{"$f":"IF(MN18=\"\",\"\",VLOOKUP($Q$10,DATA!$P$2:$R$196,3))","v":""},{"$f":"IF(MO18=\"\",\"\",VLOOKUP($Q$10,DATA!$P$2:$R$196,3))","v":""},{"$f":"IF(MP18=\"\",\"\",VLOOKUP($Q$10,DATA!$P$2:$R$196,3))","v":""},{"$f":"IF(MQ18=\"\",\"\",VLOOKUP($Q$10,DATA!$P$2:$R$196,3))","v":""},{"$f":"IF(MR18=\"\",\"\",VLOOKUP($Q$10,DATA!$P$2:$R$196,3))","v":""},{"$f":"IF(MS18=\"\",\"\",VLOOKUP($Q$10,DATA!$P$2:$R$196,3))","v":""},{"$f":"IF(MT18=\"\",\"\",VLOOKUP($Q$10,DATA!$P$2:$R$196,3))","v":""},{"$f":"IF(MU18=\"\",\"\",VLOOKUP($Q$10,DATA!$P$2:$R$196,3))","v":""},{"$f":"IF(MV18=\"\",\"\",VLOOKUP($Q$10,DATA!$P$2:$R$196,3))","v":""},{"$f":"IF(MW18=\"\",\"\",VLOOKUP($Q$10,DATA!$P$2:$R$196,3))","v":""},{"$f":"IF(MX18=\"\",\"\",VLOOKUP($Q$10,DATA!$P$2:$R$196,3))","v":""},{"$f":"IF(MY18=\"\",\"\",VLOOKUP($Q$10,DATA!$P$2:$R$196,3))","v":""},{"$f":"IF(MZ18=\"\",\"\",VLOOKUP($Q$10,DATA!$P$2:$R$196,3))","v":""},{"$f":"IF(NA18=\"\",\"\",VLOOKUP($Q$10,DATA!$P$2:$R$196,3))","v":""},{"$f":"IF(NB18=\"\",\"\",VLOOKUP($Q$10,DATA!$P$2:$R$196,3))","v":""},{"$f":"IF(NC18=\"\",\"\",VLOOKUP($Q$10,DATA!$P$2:$R$196,3))","v":""},{"$f":"IF(ND18=\"\",\"\",VLOOKUP($Q$10,DATA!$P$2:$R$196,3))","v":""},{"$f":"IF(NE18=\"\",\"\",VLOOKUP($Q$10,DATA!$P$2:$R$196,3))","v":""},{"$f":"IF(NF18=\"\",\"\",VLOOKUP($Q$10,DATA!$P$2:$R$196,3))","v":""},{"$f":"IF(NG18=\"\",\"\",VLOOKUP($Q$10,DATA!$P$2:$R$196,3))","v":""},{"$f":"IF(NH18=\"\",\"\",VLOOKUP($Q$10,DATA!$P$2:$R$196,3))","v":""},{"$f":"IF(NI18=\"\",\"\",VLOOKUP($Q$10,DATA!$P$2:$R$196,3))","v":""},{"$f":"IF(NJ18=\"\",\"\",VLOOKUP($Q$10,DATA!$P$2:$R$196,3))","v":""},{"$f":"IF(NK18=\"\",\"\",VLOOKUP($Q$10,DATA!$P$2:$R$196,3))","v":""},{"$f":"IF(NL18=\"\",\"\",VLOOKUP($Q$10,DATA!$P$2:$R$196,3))","v":""},{"$f":"IF(NM18=\"\",\"\",VLOOKUP($Q$10,DATA!$P$2:$R$196,3))","v":""},{"$f":"IF(NN18=\"\",\"\",VLOOKUP($Q$10,DATA!$P$2:$R$196,3))","v":""},{"$f":"IF(NO18=\"\",\"\",VLOOKUP($Q$10,DATA!$P$2:$R$196,3))","v":""},{"$f":"IF(NP18=\"\",\"\",VLOOKUP($Q$10,DATA!$P$2:$R$196,3))","v":""},{"$f":"IF(NQ18=\"\",\"\",VLOOKUP($Q$10,DATA!$P$2:$R$196,3))","v":""},{"$f":"IF(NR18=\"\",\"\",VLOOKUP($Q$10,DATA!$P$2:$R$196,3))","v":""},{"$f":"IF(NS18=\"\",\"\",VLOOKUP($Q$10,DATA!$P$2:$R$196,3))","v":""},{"$f":"IF(NT18=\"\",\"\",VLOOKUP($Q$10,DATA!$P$2:$R$196,3))","v":""},{"$f":"IF(NU18=\"\",\"\",VLOOKUP($Q$10,DATA!$P$2:$R$196,3))","v":""},{"$f":"IF(NV18=\"\",\"\",VLOOKUP($Q$10,DATA!$P$2:$R$196,3))","v":""},{"$f":"IF(NW18=\"\",\"\",VLOOKUP($Q$10,DATA!$P$2:$R$196,3))","v":""},{"$f":"IF(NX18=\"\",\"\",VLOOKUP($Q$10,DATA!$P$2:$R$196,3))","v":""},{"$f":"IF(NY18=\"\",\"\",VLOOKUP($Q$10,DATA!$P$2:$R$196,3))","v":""},{"$f":"IF(NZ18=\"\",\"\",VLOOKUP($Q$10,DATA!$P$2:$R$196,3))","v":""},{"$f":"IF(OA18=\"\",\"\",VLOOKUP($Q$10,DATA!$P$2:$R$196,3))","v":""},{"$f":"IF(OB18=\"\",\"\",VLOOKUP($Q$10,DATA!$P$2:$R$196,3))","v":""},{"$f":"IF(OC18=\"\",\"\",VLOOKUP($Q$10,DATA!$P$2:$R$196,3))","v":""},{"$f":"IF(OD18=\"\",\"\",VLOOKUP($Q$10,DATA!$P$2:$R$196,3))","v":""},{"$f":"IF(OE18=\"\",\"\",VLOOKUP($Q$10,DATA!$P$2:$R$196,3))","v":""},{"$f":"IF(OF18=\"\",\"\",VLOOKUP($Q$10,DATA!$P$2:$R$196,3))","v":""},{"$f":"IF(OG18=\"\",\"\",VLOOKUP($Q$10,DATA!$P$2:$R$196,3))","v":""},{"$f":"IF(OH18=\"\",\"\",VLOOKUP($Q$10,DATA!$P$2:$R$196,3))","v":""},{"$f":"IF(OI18=\"\",\"\",VLOOKUP($Q$10,DATA!$P$2:$R$196,3))","v":""},{"$f":"IF(OJ18=\"\",\"\",VLOOKUP($Q$10,DATA!$P$2:$R$196,3))","v":""},{"$f":"IF(OK18=\"\",\"\",VLOOKUP($Q$10,DATA!$P$2:$R$196,3))","v":""},{"$f":"IF(OL18=\"\",\"\",VLOOKUP($Q$10,DATA!$P$2:$R$196,3))","v":""},{"$f":"IF(OM18=\"\",\"\",VLOOKUP($Q$10,DATA!$P$2:$R$196,3))","v":""},{"$f":"IF(ON18=\"\",\"\",VLOOKUP($Q$10,DATA!$P$2:$R$196,3))","v":""},{"$f":"IF(OO18=\"\",\"\",VLOOKUP($Q$10,DATA!$P$2:$R$196,3))","v":""},{"$f":"IF(OP18=\"\",\"\",VLOOKUP($Q$10,DATA!$P$2:$R$196,3))","v":""},{"$f":"IF(OQ18=\"\",\"\",VLOOKUP($Q$10,DATA!$P$2:$R$196,3))","v":""},{"$f":"IF(OR18=\"\",\"\",VLOOKUP($Q$10,DATA!$P$2:$R$196,3))","v":""},{"$f":"IF(OS18=\"\",\"\",VLOOKUP($Q$10,DATA!$P$2:$R$196,3))","v":""},{"$f":"IF(OT18=\"\",\"\",VLOOKUP($Q$10,DATA!$P$2:$R$196,3))","v":""},{"$f":"IF(OU18=\"\",\"\",VLOOKUP($Q$10,DATA!$P$2:$R$196,3))","v":""},{"$f":"IF(OV18=\"\",\"\",VLOOKUP($Q$10,DATA!$P$2:$R$196,3))","v":""},{"$f":"IF(OW18=\"\",\"\",VLOOKUP($Q$10,DATA!$P$2:$R$196,3))","v":""},{"$f":"IF(OX18=\"\",\"\",VLOOKUP($Q$10,DATA!$P$2:$R$196,3))","v":""},{"$f":"IF(OY18=\"\",\"\",VLOOKUP($Q$10,DATA!$P$2:$R$196,3))","v":""},{"$f":"IF(OZ18=\"\",\"\",VLOOKUP($Q$10,DATA!$P$2:$R$196,3))","v":""},{"$f":"IF(PA18=\"\",\"\",VLOOKUP($Q$10,DATA!$P$2:$R$196,3))","v":""},{"$f":"IF(PB18=\"\",\"\",VLOOKUP($Q$10,DATA!$P$2:$R$196,3))","v":""},{"$f":"IF(PC18=\"\",\"\",VLOOKUP($Q$10,DATA!$P$2:$R$196,3))","v":""},{"$f":"IF(PD18=\"\",\"\",VLOOKUP($Q$10,DATA!$P$2:$R$196,3))","v":""},{"$f":"IF(PE18=\"\",\"\",VLOOKUP($Q$10,DATA!$P$2:$R$196,3))","v":""},{"$f":"IF(PF18=\"\",\"\",VLOOKUP($Q$10,DATA!$P$2:$R$196,3))","v":""},{"$f":"IF(PG18=\"\",\"\",VLOOKUP($Q$10,DATA!$P$2:$R$196,3))","v":""},{"$f":"IF(PH18=\"\",\"\",VLOOKUP($Q$10,DATA!$P$2:$R$196,3))","v":""},{"$f":"IF(PI18=\"\",\"\",VLOOKUP($Q$10,DATA!$P$2:$R$196,3))","v":""},{"$f":"IF(PJ18=\"\",\"\",VLOOKUP($Q$10,DATA!$P$2:$R$196,3))","v":""},{"$f":"IF(PK18=\"\",\"\",VLOOKUP($Q$10,DATA!$P$2:$R$196,3))","v":""},{"$f":"IF(PL18=\"\",\"\",VLOOKUP($Q$10,DATA!$P$2:$R$196,3))","v":""},{"$f":"IF(PM18=\"\",\"\",VLOOKUP($Q$10,DATA!$P$2:$R$196,3))","v":""},{"$f":"IF(PN18=\"\",\"\",VLOOKUP($Q$10,DATA!$P$2:$R$196,3))","v":""},{"$f":"IF(PO18=\"\",\"\",VLOOKUP($Q$10,DATA!$P$2:$R$196,3))","v":""},{"$f":"IF(PP18=\"\",\"\",VLOOKUP($Q$10,DATA!$P$2:$R$196,3))","v":""},{"$f":"IF(PQ18=\"\",\"\",VLOOKUP($Q$10,DATA!$P$2:$R$196,3))","v":""},{"$f":"IF(PR18=\"\",\"\",VLOOKUP($Q$10,DATA!$P$2:$R$196,3))","v":""},{"$f":"IF(PS18=\"\",\"\",VLOOKUP($Q$10,DATA!$P$2:$R$196,3))","v":""},{"$f":"IF(PT18=\"\",\"\",VLOOKUP($Q$10,DATA!$P$2:$R$196,3))","v":""},{"$f":"IF(PU18=\"\",\"\",VLOOKUP($Q$10,DATA!$P$2:$R$196,3))","v":""},{"$f":"IF(PV18=\"\",\"\",VLOOKUP($Q$10,DATA!$P$2:$R$196,3))","v":""},{"$f":"IF(PW18=\"\",\"\",VLOOKUP($Q$10,DATA!$P$2:$R$196,3))","v":""},{"$f":"IF(PX18=\"\",\"\",VLOOKUP($Q$10,DATA!$P$2:$R$196,3))","v":""},{"$f":"IF(PY18=\"\",\"\",VLOOKUP($Q$10,DATA!$P$2:$R$196,3))","v":""},{"$f":"IF(PZ18=\"\",\"\",VLOOKUP($Q$10,DATA!$P$2:$R$196,3))","v":""},{"$f":"IF(QA18=\"\",\"\",VLOOKUP($Q$10,DATA!$P$2:$R$196,3))","v":""},{"$f":"IF(QB18=\"\",\"\",VLOOKUP($Q$10,DATA!$P$2:$R$196,3))","v":""},{"$f":"IF(QC18=\"\",\"\",VLOOKUP($Q$10,DATA!$P$2:$R$196,3))","v":""},{"$f":"IF(QD18=\"\",\"\",VLOOKUP($Q$10,DATA!$P$2:$R$196,3))","v":""},{"$f":"IF(QE18=\"\",\"\",VLOOKUP($Q$10,DATA!$P$2:$R$196,3))","v":""},{"$f":"IF(QF18=\"\",\"\",VLOOKUP($Q$10,DATA!$P$2:$R$196,3))","v":""},{"$f":"IF(QG18=\"\",\"\",VLOOKUP($Q$10,DATA!$P$2:$R$196,3))","v":""},{"$f":"IF(QH18=\"\",\"\",VLOOKUP($Q$10,DATA!$P$2:$R$196,3))","v":""},{"$f":"IF(QI18=\"\",\"\",VLOOKUP($Q$10,DATA!$P$2:$R$196,3))","v":""},{"$f":"IF(QJ18=\"\",\"\",VLOOKUP($Q$10,DATA!$P$2:$R$196,3))","v":""},{"$f":"IF(QK18=\"\",\"\",VLOOKUP($Q$10,DATA!$P$2:$R$196,3))","v":""},{"$f":"IF(QL18=\"\",\"\",VLOOKUP($Q$10,DATA!$P$2:$R$196,3))","v":""},{"$f":"IF(QM18=\"\",\"\",VLOOKUP($Q$10,DATA!$P$2:$R$196,3))","v":""},{"$f":"IF(QN18=\"\",\"\",VLOOKUP($Q$10,DATA!$P$2:$R$196,3))","v":""},{"$f":"IF(QO18=\"\",\"\",VLOOKUP($Q$10,DATA!$P$2:$R$196,3))","v":""},{"$f":"IF(QP18=\"\",\"\",VLOOKUP($Q$10,DATA!$P$2:$R$196,3))","v":""},{"$f":"IF(QQ18=\"\",\"\",VLOOKUP($Q$10,DATA!$P$2:$R$196,3))","v":""},{"$f":"IF(QR18=\"\",\"\",VLOOKUP($Q$10,DATA!$P$2:$R$196,3))","v":""},{"$f":"IF(QS18=\"\",\"\",VLOOKUP($Q$10,DATA!$P$2:$R$196,3))","v":""},{"$f":"IF(QT18=\"\",\"\",VLOOKUP($Q$10,DATA!$P$2:$R$196,3))","v":""},{"$f":"IF(QU18=\"\",\"\",VLOOKUP($Q$10,DATA!$P$2:$R$196,3))","v":""},{"$f":"IF(QV18=\"\",\"\",VLOOKUP($Q$10,DATA!$P$2:$R$196,3))","v":""},{"$f":"IF(QW18=\"\",\"\",VLOOKUP($Q$10,DATA!$P$2:$R$196,3))","v":""},{"$f":"IF(QX18=\"\",\"\",VLOOKUP($Q$10,DATA!$P$2:$R$196,3))","v":""},{"$f":"IF(QY18=\"\",\"\",VLOOKUP($Q$10,DATA!$P$2:$R$196,3))","v":""},{"$f":"IF(QZ18=\"\",\"\",VLOOKUP($Q$10,DATA!$P$2:$R$196,3))","v":""},{"$f":"IF(RA18=\"\",\"\",VLOOKUP($Q$10,DATA!$P$2:$R$196,3))","v":""},{"$f":"IF(RB18=\"\",\"\",VLOOKUP($Q$10,DATA!$P$2:$R$196,3))","v":""},{"$f":"IF(RC18=\"\",\"\",VLOOKUP($Q$10,DATA!$P$2:$R$196,3))","v":""},{"$f":"IF(RD18=\"\",\"\",VLOOKUP($Q$10,DATA!$P$2:$R$196,3))","v":""},{"$f":"IF(RE18=\"\",\"\",VLOOKUP($Q$10,DATA!$P$2:$R$196,3))","v":""},{"$f":"IF(RF18=\"\",\"\",VLOOKUP($Q$10,DATA!$P$2:$R$196,3))","v":""},{"$f":"IF(RG18=\"\",\"\",VLOOKUP($Q$10,DATA!$P$2:$R$196,3))","v":""},{"$f":"IF(RH18=\"\",\"\",VLOOKUP($Q$10,DATA!$P$2:$R$196,3))","v":""},{"$f":"IF(RI18=\"\",\"\",VLOOKUP($Q$10,DATA!$P$2:$R$196,3))","v":""},{"$f":"IF(RJ18=\"\",\"\",VLOOKUP($Q$10,DATA!$P$2:$R$196,3))","v":""},{"$f":"IF(RK18=\"\",\"\",VLOOKUP($Q$10,DATA!$P$2:$R$196,3))","v":""},{"$f":"IF(RL18=\"\",\"\",VLOOKUP($Q$10,DATA!$P$2:$R$196,3))","v":""},{"$f":"IF(RM18=\"\",\"\",VLOOKUP($Q$10,DATA!$P$2:$R$196,3))","v":""},{"$f":"IF(RN18=\"\",\"\",VLOOKUP($Q$10,DATA!$P$2:$R$196,3))","v":""},{"$f":"IF(RO18=\"\",\"\",VLOOKUP($Q$10,DATA!$P$2:$R$196,3))","v":""},{"$f":"IF(RP18=\"\",\"\",VLOOKUP($Q$10,DATA!$P$2:$R$196,3))","v":""},{"$f":"IF(RQ18=\"\",\"\",VLOOKUP($Q$10,DATA!$P$2:$R$196,3))","v":""},{"$f":"IF(RR18=\"\",\"\",VLOOKUP($Q$10,DATA!$P$2:$R$196,3))","v":""},{"$f":"IF(RS18=\"\",\"\",VLOOKUP($Q$10,DATA!$P$2:$R$196,3))","v":""},{"$f":"IF(RT18=\"\",\"\",VLOOKUP($Q$10,DATA!$P$2:$R$196,3))","v":""},{"$f":"IF(RU18=\"\",\"\",VLOOKUP($Q$10,DATA!$P$2:$R$196,3))","v":""},{"$f":"IF(RV18=\"\",\"\",VLOOKUP($Q$10,DATA!$P$2:$R$196,3))","v":""},{"$f":"IF(RW18=\"\",\"\",VLOOKUP($Q$10,DATA!$P$2:$R$196,3))","v":""},{"$f":"IF(RX18=\"\",\"\",VLOOKUP($Q$10,DATA!$P$2:$R$196,3))","v":""},{"$f":"IF(RY18=\"\",\"\",VLOOKUP($Q$10,DATA!$P$2:$R$196,3))","v":""},{"$f":"IF(RZ18=\"\",\"\",VLOOKUP($Q$10,DATA!$P$2:$R$196,3))","v":""},{"$f":"IF(SA18=\"\",\"\",VLOOKUP($Q$10,DATA!$P$2:$R$196,3))","v":""},{"$f":"IF(SB18=\"\",\"\",VLOOKUP($Q$10,DATA!$P$2:$R$196,3))","v":""},{"$f":"IF(SC18=\"\",\"\",VLOOKUP($Q$10,DATA!$P$2:$R$196,3))","v":""},{"$f":"IF(SD18=\"\",\"\",VLOOKUP($Q$10,DATA!$P$2:$R$196,3))","v":""},{"$f":"IF(SE18=\"\",\"\",VLOOKUP($Q$10,DATA!$P$2:$R$196,3))","v":""},{"$f":"IF(SF18=\"\",\"\",VLOOKUP($Q$10,DATA!$P$2:$R$196,3))","v":""},{"$f":"IF(SG18=\"\",\"\",VLOOKUP($Q$10,DATA!$P$2:$R$196,3))","v":""},{"$f":"IF(SH18=\"\",\"\",VLOOKUP($Q$10,DATA!$P$2:$R$196,3))","v":""},{"$f":"IF(SI18=\"\",\"\",VLOOKUP($Q$10,DATA!$P$2:$R$196,3))","v":""},{"$f":"IF(SJ18=\"\",\"\",VLOOKUP($Q$10,DATA!$P$2:$R$196,3))","v":""},{"$f":"IF(SK18=\"\",\"\",VLOOKUP($Q$10,DATA!$P$2:$R$196,3))","v":""},{"$f":"IF(SL18=\"\",\"\",VLOOKUP($Q$10,DATA!$P$2:$R$196,3))","v":""},{"$f":"IF(SM18=\"\",\"\",VLOOKUP($Q$10,DATA!$P$2:$R$196,3))","v":""},{"$f":"IF(SN18=\"\",\"\",VLOOKUP($Q$10,DATA!$P$2:$R$196,3))","v":""},{"$f":"IF(SO18=\"\",\"\",VLOOKUP($Q$10,DATA!$P$2:$R$196,3))","v":""},{"$f":"IF(SP18=\"\",\"\",VLOOKUP($Q$10,DATA!$P$2:$R$196,3))","v":""},{"$f":"IF(SQ18=\"\",\"\",VLOOKUP($Q$10,DATA!$P$2:$R$196,3))","v":""},{"$f":"IF(SR18=\"\",\"\",VLOOKUP($Q$10,DATA!$P$2:$R$196,3))","v":""},{"$f":"IF(SS18=\"\",\"\",VLOOKUP($Q$10,DATA!$P$2:$R$196,3))","v":""},{"$f":"IF(ST18=\"\",\"\",VLOOKUP($Q$10,DATA!$P$2:$R$196,3))","v":""},{"$f":"IF(SU18=\"\",\"\",VLOOKUP($Q$10,DATA!$P$2:$R$196,3))","v":""},{"$f":"IF(SV18=\"\",\"\",VLOOKUP($Q$10,DATA!$P$2:$R$196,3))","v":""},{"$f":"IF(SW18=\"\",\"\",VLOOKUP($Q$10,DATA!$P$2:$R$196,3))","v":""},{"$f":"IF(SX18=\"\",\"\",VLOOKUP($Q$10,DATA!$P$2:$R$196,3))","v":""},{"$f":"IF(SY18=\"\",\"\",VLOOKUP($Q$10,DATA!$P$2:$R$196,3))","v":""},{"$f":"IF(SZ18=\"\",\"\",VLOOKUP($Q$10,DATA!$P$2:$R$196,3))","v":""},{"$f":"IF(TA18=\"\",\"\",VLOOKUP($Q$10,DATA!$P$2:$R$196,3))","v":""},{"$f":"IF(TB18=\"\",\"\",VLOOKUP($Q$10,DATA!$P$2:$R$196,3))","v":""},{"$f":"IF(TC18=\"\",\"\",VLOOKUP($Q$10,DATA!$P$2:$R$196,3))","v":""},{"$f":"IF(TD18=\"\",\"\",VLOOKUP($Q$10,DATA!$P$2:$R$196,3))","v":""},{"$f":"IF(TE18=\"\",\"\",VLOOKUP($Q$10,DATA!$P$2:$R$196,3))","v":""},{"$f":"IF(TF18=\"\",\"\",VLOOKUP($Q$10,DATA!$P$2:$R$196,3))","v":""},{"$f":"IF(TG18=\"\",\"\",VLOOKUP($Q$10,DATA!$P$2:$R$196,3))","v":""},{"$f":"IF(TH18=\"\",\"\",VLOOKUP($Q$10,DATA!$P$2:$R$196,3))","v":""},{"$f":"IF(TI18=\"\",\"\",VLOOKUP($Q$10,DATA!$P$2:$R$196,3))","v":""},{"$f":"IF(TJ18=\"\",\"\",VLOOKUP($Q$10,DATA!$P$2:$R$196,3))","v":""},{"$f":"IF(TK18=\"\",\"\",VLOOKUP($Q$10,DATA!$P$2:$R$196,3))","v":""},{"$f":"IF(TL18=\"\",\"\",VLOOKUP($Q$10,DATA!$P$2:$R$196,3))","v":""},{"$f":"IF(TM18=\"\",\"\",VLOOKUP($Q$10,DATA!$P$2:$R$196,3))","v":""},{"$f":"IF(TN18=\"\",\"\",VLOOKUP($Q$10,DATA!$P$2:$R$196,3))","v":""},{"$f":"IF(TO18=\"\",\"\",VLOOKUP($Q$10,DATA!$P$2:$R$196,3))","v":""},{"$f":"IF(TP18=\"\",\"\",VLOOKUP($Q$10,DATA!$P$2:$R$196,3))","v":""},{"$f":"IF(TQ18=\"\",\"\",VLOOKUP($Q$10,DATA!$P$2:$R$196,3))","v":""},{"$f":"IF(TR18=\"\",\"\",VLOOKUP($Q$10,DATA!$P$2:$R$196,3))","v":""},{"$f":"IF(TS18=\"\",\"\",VLOOKUP($Q$10,DATA!$P$2:$R$196,3))","v":""},{"$f":"IF(TT18=\"\",\"\",VLOOKUP($Q$10,DATA!$P$2:$R$196,3))","v":""},{"$f":"IF(TU18=\"\",\"\",VLOOKUP($Q$10,DATA!$P$2:$R$196,3))","v":""},{"$f":"IF(TV18=\"\",\"\",VLOOKUP($Q$10,DATA!$P$2:$R$196,3))","v":""},{"$f":"IF(TW18=\"\",\"\",VLOOKUP($Q$10,DATA!$P$2:$R$196,3))","v":""},{"$f":"IF(TX18=\"\",\"\",VLOOKUP($Q$10,DATA!$P$2:$R$196,3))","v":""},{"$f":"IF(TY18=\"\",\"\",VLOOKUP($Q$10,DATA!$P$2:$R$196,3))","v":""},{"$f":"IF(TZ18=\"\",\"\",VLOOKUP($Q$10,DATA!$P$2:$R$196,3))","v":""},{"$f":"IF(UA18=\"\",\"\",VLOOKUP($Q$10,DATA!$P$2:$R$196,3))","v":""},{"$f":"IF(UB18=\"\",\"\",VLOOKUP($Q$10,DATA!$P$2:$R$196,3))","v":""},{"$f":"IF(UC18=\"\",\"\",VLOOKUP($Q$10,DATA!$P$2:$R$196,3))","v":""},{"$f":"IF(UD18=\"\",\"\",VLOOKUP($Q$10,DATA!$P$2:$R$196,3))","v":""},{"$f":"IF(UE18=\"\",\"\",VLOOKUP($Q$10,DATA!$P$2:$R$196,3))","v":""},{"$f":"IF(UF18=\"\",\"\",VLOOKUP($Q$10,DATA!$P$2:$R$196,3))","v":""},{"$f":"IF(UG18=\"\",\"\",VLOOKUP($Q$10,DATA!$P$2:$R$196,3))","v":""},{"$f":"IF(UH18=\"\",\"\",VLOOKUP($Q$10,DATA!$P$2:$R$196,3))","v":""},{"$f":"IF(UI18=\"\",\"\",VLOOKUP($Q$10,DATA!$P$2:$R$196,3))","v":""},{"$f":"IF(UJ18=\"\",\"\",VLOOKUP($Q$10,DATA!$P$2:$R$196,3))","v":""},{"$f":"IF(UK18=\"\",\"\",VLOOKUP($Q$10,DATA!$P$2:$R$196,3))","v":""},{"$f":"IF(UL18=\"\",\"\",VLOOKUP($Q$10,DATA!$P$2:$R$196,3))","v":""},{"$f":"IF(UM18=\"\",\"\",VLOOKUP($Q$10,DATA!$P$2:$R$196,3))","v":""},{"$f":"IF(UN18=\"\",\"\",VLOOKUP($Q$10,DATA!$P$2:$R$196,3))","v":""},{"$f":"IF(UO18=\"\",\"\",VLOOKUP($Q$10,DATA!$P$2:$R$196,3))","v":""},{"$f":"IF(UP18=\"\",\"\",VLOOKUP($Q$10,DATA!$P$2:$R$196,3))","v":""},{"$f":"IF(UQ18=\"\",\"\",VLOOKUP($Q$10,DATA!$P$2:$R$196,3))","v":""},{"$f":"IF(UR18=\"\",\"\",VLOOKUP($Q$10,DATA!$P$2:$R$196,3))","v":""},{"$f":"IF(US18=\"\",\"\",VLOOKUP($Q$10,DATA!$P$2:$R$196,3))","v":""},{"$f":"IF(UT18=\"\",\"\",VLOOKUP($Q$10,DATA!$P$2:$R$196,3))","v":""},{"$f":"IF(UU18=\"\",\"\",VLOOKUP($Q$10,DATA!$P$2:$R$196,3))","v":""},{"$f":"IF(UV18=\"\",\"\",VLOOKUP($Q$10,DATA!$P$2:$R$196,3))","v":""},{"$f":"IF(UW18=\"\",\"\",VLOOKUP($Q$10,DATA!$P$2:$R$196,3))","v":""},{"$f":"IF(UX18=\"\",\"\",VLOOKUP($Q$10,DATA!$P$2:$R$196,3))","v":""},{"$f":"IF(UY18=\"\",\"\",VLOOKUP($Q$10,DATA!$P$2:$R$196,3))","v":""},{"$f":"IF(UZ18=\"\",\"\",VLOOKUP($Q$10,DATA!$P$2:$R$196,3))","v":""},{"$f":"IF(VA18=\"\",\"\",VLOOKUP($Q$10,DATA!$P$2:$R$196,3))","v":""},{"$f":"IF(VB18=\"\",\"\",VLOOKUP($Q$10,DATA!$P$2:$R$196,3))","v":""},{"$f":"IF(VC18=\"\",\"\",VLOOKUP($Q$10,DATA!$P$2:$R$196,3))","v":""},{"$f":"IF(VD18=\"\",\"\",VLOOKUP($Q$10,DATA!$P$2:$R$196,3))","v":""},{"$f":"IF(VE18=\"\",\"\",VLOOKUP($Q$10,DATA!$P$2:$R$196,3))","v":""},{"$f":"IF(VF18=\"\",\"\",VLOOKUP($Q$10,DATA!$P$2:$R$196,3))","v":""},{"$f":"IF(VG18=\"\",\"\",VLOOKUP($Q$10,DATA!$P$2:$R$196,3))","v":""},{"$f":"IF(VH18=\"\",\"\",VLOOKUP($Q$10,DATA!$P$2:$R$196,3))","v":""},{"$f":"IF(VI18=\"\",\"\",VLOOKUP($Q$10,DATA!$P$2:$R$196,3))","v":""},{"$f":"IF(VJ18=\"\",\"\",VLOOKUP($Q$10,DATA!$P$2:$R$196,3))","v":""},{"$f":"IF(VK18=\"\",\"\",VLOOKUP($Q$10,DATA!$P$2:$R$196,3))","v":""},{"$f":"IF(VL18=\"\",\"\",VLOOKUP($Q$10,DATA!$P$2:$R$196,3))","v":""},{"$f":"IF(VM18=\"\",\"\",VLOOKUP($Q$10,DATA!$P$2:$R$196,3))","v":""},{"$f":"IF(VN18=\"\",\"\",VLOOKUP($Q$10,DATA!$P$2:$R$196,3))","v":""},{"$f":"IF(VO18=\"\",\"\",VLOOKUP($Q$10,DATA!$P$2:$R$196,3))","v":""},{"$f":"IF(VP18=\"\",\"\",VLOOKUP($Q$10,DATA!$P$2:$R$196,3))","v":""},{"$f":"IF(VQ18=\"\",\"\",VLOOKUP($Q$10,DATA!$P$2:$R$196,3))","v":""},{"$f":"IF(VR18=\"\",\"\",VLOOKUP($Q$10,DATA!$P$2:$R$196,3))","v":""},{"$f":"IF(VS18=\"\",\"\",VLOOKUP($Q$10,DATA!$P$2:$R$196,3))","v":""},{"$f":"IF(VT18=\"\",\"\",VLOOKUP($Q$10,DATA!$P$2:$R$196,3))","v":""},{"$f":"IF(VU18=\"\",\"\",VLOOKUP($Q$10,DATA!$P$2:$R$196,3))","v":""},{"$f":"IF(VV18=\"\",\"\",VLOOKUP($Q$10,DATA!$P$2:$R$196,3))","v":""},{"$f":"IF(VW18=\"\",\"\",VLOOKUP($Q$10,DATA!$P$2:$R$196,3))","v":""},{"$f":"IF(VX18=\"\",\"\",VLOOKUP($Q$10,DATA!$P$2:$R$196,3))","v":""},{"$f":"IF(VY18=\"\",\"\",VLOOKUP($Q$10,DATA!$P$2:$R$196,3))","v":""},{"$f":"IF(VZ18=\"\",\"\",VLOOKUP($Q$10,DATA!$P$2:$R$196,3))","v":""},{"$f":"IF(WA18=\"\",\"\",VLOOKUP($Q$10,DATA!$P$2:$R$196,3))","v":""},{"$f":"IF(WB18=\"\",\"\",VLOOKUP($Q$10,DATA!$P$2:$R$196,3))","v":""},{"$f":"IF(WC18=\"\",\"\",VLOOKUP($Q$10,DATA!$P$2:$R$196,3))","v":""},{"$f":"IF(WD18=\"\",\"\",VLOOKUP($Q$10,DATA!$P$2:$R$196,3))","v":""},{"$f":"IF(WE18=\"\",\"\",VLOOKUP($Q$10,DATA!$P$2:$R$196,3))","v":""},{"$f":"IF(WF18=\"\",\"\",VLOOKUP($Q$10,DATA!$P$2:$R$196,3))","v":""},{"$f":"IF(WG18=\"\",\"\",VLOOKUP($Q$10,DATA!$P$2:$R$196,3))","v":""},{"$f":"IF(WH18=\"\",\"\",VLOOKUP($Q$10,DATA!$P$2:$R$196,3))","v":""},{"$f":"IF(WI18=\"\",\"\",VLOOKUP($Q$10,DATA!$P$2:$R$196,3))","v":""},{"$f":"IF(WJ18=\"\",\"\",VLOOKUP($Q$10,DATA!$P$2:$R$196,3))","v":""},{"$f":"IF(WK18=\"\",\"\",VLOOKUP($Q$10,DATA!$P$2:$R$196,3))","v":""},{"$f":"IF(WL18=\"\",\"\",VLOOKUP($Q$10,DATA!$P$2:$R$196,3))","v":""},{"$f":"IF(WM18=\"\",\"\",VLOOKUP($Q$10,DATA!$P$2:$R$196,3))","v":""},{"$f":"IF(WN18=\"\",\"\",VLOOKUP($Q$10,DATA!$P$2:$R$196,3))","v":""},{"$f":"IF(WO18=\"\",\"\",VLOOKUP($Q$10,DATA!$P$2:$R$196,3))","v":""},{"$f":"IF(WP18=\"\",\"\",VLOOKUP($Q$10,DATA!$P$2:$R$196,3))","v":""},{"$f":"IF(WQ18=\"\",\"\",VLOOKUP($Q$10,DATA!$P$2:$R$196,3))","v":""},{"$f":"IF(WR18=\"\",\"\",VLOOKUP($Q$10,DATA!$P$2:$R$196,3))","v":""},{"$f":"IF(WS18=\"\",\"\",VLOOKUP($Q$10,DATA!$P$2:$R$196,3))","v":""},{"$f":"IF(WT18=\"\",\"\",VLOOKUP($Q$10,DATA!$P$2:$R$196,3))","v":""},{"$f":"IF(WU18=\"\",\"\",VLOOKUP($Q$10,DATA!$P$2:$R$196,3))","v":""},{"$f":"IF(WV18=\"\",\"\",VLOOKUP($Q$10,DATA!$P$2:$R$196,3))","v":""},{"$f":"IF(WW18=\"\",\"\",VLOOKUP($Q$10,DATA!$P$2:$R$196,3))","v":""},{"$f":"IF(WX18=\"\",\"\",VLOOKUP($Q$10,DATA!$P$2:$R$196,3))","v":""},{"$f":"IF(WY18=\"\",\"\",VLOOKUP($Q$10,DATA!$P$2:$R$196,3))","v":""},{"$f":"IF(WZ18=\"\",\"\",VLOOKUP($Q$10,DATA!$P$2:$R$196,3))","v":""},{"$f":"IF(XA18=\"\",\"\",VLOOKUP($Q$10,DATA!$P$2:$R$196,3))","v":""},{"$f":"IF(XB18=\"\",\"\",VLOOKUP($Q$10,DATA!$P$2:$R$196,3))","v":""},{"$f":"IF(XC18=\"\",\"\",VLOOKUP($Q$10,DATA!$P$2:$R$196,3))","v":""},{"$f":"IF(XD18=\"\",\"\",VLOOKUP($Q$10,DATA!$P$2:$R$196,3))","v":""},{"$f":"IF(XE18=\"\",\"\",VLOOKUP($Q$10,DATA!$P$2:$R$196,3))","v":""},{"$f":"IF(XF18=\"\",\"\",VLOOKUP($Q$10,DATA!$P$2:$R$196,3))","v":""},{"$f":"IF(XG18=\"\",\"\",VLOOKUP($Q$10,DATA!$P$2:$R$196,3))","v":""},{"$f":"IF(XH18=\"\",\"\",VLOOKUP($Q$10,DATA!$P$2:$R$196,3))","v":""},{"$f":"IF(XI18=\"\",\"\",VLOOKUP($Q$10,DATA!$P$2:$R$196,3))","v":""},{"$f":"IF(XJ18=\"\",\"\",VLOOKUP($Q$10,DATA!$P$2:$R$196,3))","v":""},{"$f":"IF(XK18=\"\",\"\",VLOOKUP($Q$10,DATA!$P$2:$R$196,3))","v":""},{"$f":"IF(XL18=\"\",\"\",VLOOKUP($Q$10,DATA!$P$2:$R$196,3))","v":""},{"$f":"IF(XM18=\"\",\"\",VLOOKUP($Q$10,DATA!$P$2:$R$196,3))","v":""},{"$f":"IF(XN18=\"\",\"\",VLOOKUP($Q$10,DATA!$P$2:$R$196,3))","v":""},{"$f":"IF(XO18=\"\",\"\",VLOOKUP($Q$10,DATA!$P$2:$R$196,3))","v":""},{"$f":"IF(XP18=\"\",\"\",VLOOKUP($Q$10,DATA!$P$2:$R$196,3))","v":""},{"$f":"IF(XQ18=\"\",\"\",VLOOKUP($Q$10,DATA!$P$2:$R$196,3))","v":""},{"$f":"IF(XR18=\"\",\"\",VLOOKUP($Q$10,DATA!$P$2:$R$196,3))","v":""},{"$f":"IF(XS18=\"\",\"\",VLOOKUP($Q$10,DATA!$P$2:$R$196,3))","v":""},{"$f":"IF(XT18=\"\",\"\",VLOOKUP($Q$10,DATA!$P$2:$R$196,3))","v":""},{"$f":"IF(XU18=\"\",\"\",VLOOKUP($Q$10,DATA!$P$2:$R$196,3))","v":""},{"$f":"IF(XV18=\"\",\"\",VLOOKUP($Q$10,DATA!$P$2:$R$196,3))","v":""},{"$f":"IF(XW18=\"\",\"\",VLOOKUP($Q$10,DATA!$P$2:$R$196,3))","v":""},{"$f":"IF(XX18=\"\",\"\",VLOOKUP($Q$10,DATA!$P$2:$R$196,3))","v":""},{"$f":"IF(XY18=\"\",\"\",VLOOKUP($Q$10,DATA!$P$2:$R$196,3))","v":""},{"$f":"IF(XZ18=\"\",\"\",VLOOKUP($Q$10,DATA!$P$2:$R$196,3))","v":""},{"$f":"IF(YA18=\"\",\"\",VLOOKUP($Q$10,DATA!$P$2:$R$196,3))","v":""},{"$f":"IF(YB18=\"\",\"\",VLOOKUP($Q$10,DATA!$P$2:$R$196,3))","v":""},{"$f":"IF(YC18=\"\",\"\",VLOOKUP($Q$10,DATA!$P$2:$R$196,3))","v":""},{"$f":"IF(YD18=\"\",\"\",VLOOKUP($Q$10,DATA!$P$2:$R$196,3))","v":""},{"$f":"IF(YE18=\"\",\"\",VLOOKUP($Q$10,DATA!$P$2:$R$196,3))","v":""},{"$f":"IF(YF18=\"\",\"\",VLOOKUP($Q$10,DATA!$P$2:$R$196,3))","v":""},{"$f":"IF(YG18=\"\",\"\",VLOOKUP($Q$10,DATA!$P$2:$R$196,3))","v":""},{"$f":"IF(YH18=\"\",\"\",VLOOKUP($Q$10,DATA!$P$2:$R$196,3))","v":""},{"$f":"IF(YI18=\"\",\"\",VLOOKUP($Q$10,DATA!$P$2:$R$196,3))","v":""},{"$f":"IF(YJ18=\"\",\"\",VLOOKUP($Q$10,DATA!$P$2:$R$196,3))","v":""},{"$f":"IF(YK18=\"\",\"\",VLOOKUP($Q$10,DATA!$P$2:$R$196,3))","v":""},{"$f":"IF(YL18=\"\",\"\",VLOOKUP($Q$10,DATA!$P$2:$R$196,3))","v":""},{"$f":"IF(YM18=\"\",\"\",VLOOKUP($Q$10,DATA!$P$2:$R$196,3))","v":""},{"$f":"IF(YN18=\"\",\"\",VLOOKUP($Q$10,DATA!$P$2:$R$196,3))","v":""},{"$f":"IF(YO18=\"\",\"\",VLOOKUP($Q$10,DATA!$P$2:$R$196,3))","v":""},{"$f":"IF(YP18=\"\",\"\",VLOOKUP($Q$10,DATA!$P$2:$R$196,3))","v":""},{"$f":"IF(YQ18=\"\",\"\",VLOOKUP($Q$10,DATA!$P$2:$R$196,3))","v":""},{"$f":"IF(YR18=\"\",\"\",VLOOKUP($Q$10,DATA!$P$2:$R$196,3))","v":""},{"$f":"IF(YS18=\"\",\"\",VLOOKUP($Q$10,DATA!$P$2:$R$196,3))","v":""},{"$f":"IF(YT18=\"\",\"\",VLOOKUP($Q$10,DATA!$P$2:$R$196,3))","v":""},{"$f":"IF(YU18=\"\",\"\",VLOOKUP($Q$10,DATA!$P$2:$R$196,3))","v":""},{"$f":"IF(YV18=\"\",\"\",VLOOKUP($Q$10,DATA!$P$2:$R$196,3))","v":""},{"$f":"IF(YW18=\"\",\"\",VLOOKUP($Q$10,DATA!$P$2:$R$196,3))","v":""},{"$f":"IF(YX18=\"\",\"\",VLOOKUP($Q$10,DATA!$P$2:$R$196,3))","v":""},{"$f":"IF(YY18=\"\",\"\",VLOOKUP($Q$10,DATA!$P$2:$R$196,3))","v":""},{"$f":"IF(YZ18=\"\",\"\",VLOOKUP($Q$10,DATA!$P$2:$R$196,3))","v":""},{"$f":"IF(ZA18=\"\",\"\",VLOOKUP($Q$10,DATA!$P$2:$R$196,3))","v":""},{"$f":"IF(ZB18=\"\",\"\",VLOOKUP($Q$10,DATA!$P$2:$R$196,3))","v":""},{"$f":"IF(ZC18=\"\",\"\",VLOOKUP($Q$10,DATA!$P$2:$R$196,3))","v":""},{"$f":"IF(ZD18=\"\",\"\",VLOOKUP($Q$10,DATA!$P$2:$R$196,3))","v":""},{"$f":"IF(ZE18=\"\",\"\",VLOOKUP($Q$10,DATA!$P$2:$R$196,3))","v":""},{"$f":"IF(ZF18=\"\",\"\",VLOOKUP($Q$10,DATA!$P$2:$R$196,3))","v":""},{"$f":"IF(ZG18=\"\",\"\",VLOOKUP($Q$10,DATA!$P$2:$R$196,3))","v":""},{"$f":"IF(ZH18=\"\",\"\",VLOOKUP($Q$10,DATA!$P$2:$R$196,3))","v":""},{"$f":"IF(ZI18=\"\",\"\",VLOOKUP($Q$10,DATA!$P$2:$R$196,3))","v":""},{"$f":"IF(ZJ18=\"\",\"\",VLOOKUP($Q$10,DATA!$P$2:$R$196,3))","v":""},{"$f":"IF(ZK18=\"\",\"\",VLOOKUP($Q$10,DATA!$P$2:$R$196,3))","v":""},{"$f":"IF(ZL18=\"\",\"\",VLOOKUP($Q$10,DATA!$P$2:$R$196,3))","v":""},{"$f":"IF(ZM18=\"\",\"\",VLOOKUP($Q$10,DATA!$P$2:$R$196,3))","v":""},{"$f":"IF(ZN18=\"\",\"\",VLOOKUP($Q$10,DATA!$P$2:$R$196,3))","v":""},{"$f":"IF(ZO18=\"\",\"\",VLOOKUP($Q$10,DATA!$P$2:$R$196,3))","v":""},{"$f":"IF(ZP18=\"\",\"\",VLOOKUP($Q$10,DATA!$P$2:$R$196,3))","v":""},{"$f":"IF(ZQ18=\"\",\"\",VLOOKUP($Q$10,DATA!$P$2:$R$196,3))","v":""},{"$f":"IF(ZR18=\"\",\"\",VLOOKUP($Q$10,DATA!$P$2:$R$196,3))","v":""},{"$f":"IF(ZS18=\"\",\"\",VLOOKUP($Q$10,DATA!$P$2:$R$196,3))","v":""},{"$f":"IF(ZT18=\"\",\"\",VLOOKUP($Q$10,DATA!$P$2:$R$196,3))","v":""},{"$f":"IF(ZU18=\"\",\"\",VLOOKUP($Q$10,DATA!$P$2:$R$196,3))","v":""},{"$f":"IF(ZV18=\"\",\"\",VLOOKUP($Q$10,DATA!$P$2:$R$196,3))","v":""},{"$f":"IF(ZW18=\"\",\"\",VLOOKUP($Q$10,DATA!$P$2:$R$196,3))","v":""},{"$f":"IF(ZX18=\"\",\"\",VLOOKUP($Q$10,DATA!$P$2:$R$196,3))","v":""},{"$f":"IF(ZY18=\"\",\"\",VLOOKUP($Q$10,DATA!$P$2:$R$196,3))","v":""},{"$f":"IF(ZZ18=\"\",\"\",VLOOKUP($Q$10,DATA!$P$2:$R$196,3))","v":""},{"$f":"IF(AAA18=\"\",\"\",VLOOKUP($Q$10,DATA!$P$2:$R$196,3))","v":""},{"$f":"IF(AAB18=\"\",\"\",VLOOKUP($Q$10,DATA!$P$2:$R$196,3))","v":""},{"$f":"IF(AAC18=\"\",\"\",VLOOKUP($Q$10,DATA!$P$2:$R$196,3))","v":""},{"$f":"IF(AAD18=\"\",\"\",VLOOKUP($Q$10,DATA!$P$2:$R$196,3))","v":""},{"$f":"IF(AAE18=\"\",\"\",VLOOKUP($Q$10,DATA!$P$2:$R$196,3))","v":""},{"$f":"IF(AAF18=\"\",\"\",VLOOKUP($Q$10,DATA!$P$2:$R$196,3))","v":""},{"$f":"IF(AAG18=\"\",\"\",VLOOKUP($Q$10,DATA!$P$2:$R$196,3))","v":""},{"$f":"IF(AAH18=\"\",\"\",VLOOKUP($Q$10,DATA!$P$2:$R$196,3))","v":""},{"$f":"IF(AAI18=\"\",\"\",VLOOKUP($Q$10,DATA!$P$2:$R$196,3))","v":""},{"$f":"IF(AAJ18=\"\",\"\",VLOOKUP($Q$10,DATA!$P$2:$R$196,3))","v":""},{"$f":"IF(AAK18=\"\",\"\",VLOOKUP($Q$10,DATA!$P$2:$R$196,3))","v":""},{"$f":"IF(AAL18=\"\",\"\",VLOOKUP($Q$10,DATA!$P$2:$R$196,3))","v":""},{"$f":"IF(AAM18=\"\",\"\",VLOOKUP($Q$10,DATA!$P$2:$R$196,3))","v":""},{"$f":"IF(AAN18=\"\",\"\",VLOOKUP($Q$10,DATA!$P$2:$R$196,3))","v":""},{"$f":"IF(AAO18=\"\",\"\",VLOOKUP($Q$10,DATA!$P$2:$R$196,3))","v":""},{"$f":"IF(AAP18=\"\",\"\",VLOOKUP($Q$10,DATA!$P$2:$R$196,3))","v":""},{"$f":"IF(AAQ18=\"\",\"\",VLOOKUP($Q$10,DATA!$P$2:$R$196,3))","v":""},{"$f":"IF(AAR18=\"\",\"\",VLOOKUP($Q$10,DATA!$P$2:$R$196,3))","v":""},{"$f":"IF(AAS18=\"\",\"\",VLOOKUP($Q$10,DATA!$P$2:$R$196,3))","v":""},{"$f":"IF(AAT18=\"\",\"\",VLOOKUP($Q$10,DATA!$P$2:$R$196,3))","v":""},{"$f":"IF(AAU18=\"\",\"\",VLOOKUP($Q$10,DATA!$P$2:$R$196,3))","v":""},{"$f":"IF(AAV18=\"\",\"\",VLOOKUP($Q$10,DATA!$P$2:$R$196,3))","v":""},{"$f":"IF(AAW18=\"\",\"\",VLOOKUP($Q$10,DATA!$P$2:$R$196,3))","v":""},{"$f":"IF(AAX18=\"\",\"\",VLOOKUP($Q$10,DATA!$P$2:$R$196,3))","v":""},{"$f":"IF(AAY18=\"\",\"\",VLOOKUP($Q$10,DATA!$P$2:$R$196,3))","v":""},{"$f":"IF(AAZ18=\"\",\"\",VLOOKUP($Q$10,DATA!$P$2:$R$196,3))","v":""},{"$f":"IF(ABA18=\"\",\"\",VLOOKUP($Q$10,DATA!$P$2:$R$196,3))","v":""},{"$f":"IF(ABB18=\"\",\"\",VLOOKUP($Q$10,DATA!$P$2:$R$196,3))","v":""},{"$f":"IF(ABC18=\"\",\"\",VLOOKUP($Q$10,DATA!$P$2:$R$196,3))","v":""},{"$f":"IF(ABD18=\"\",\"\",VLOOKUP($Q$10,DATA!$P$2:$R$196,3))","v":""},{"$f":"IF(ABE18=\"\",\"\",VLOOKUP($Q$10,DATA!$P$2:$R$196,3))","v":""},{"$f":"IF(ABF18=\"\",\"\",VLOOKUP($Q$10,DATA!$P$2:$R$196,3))","v":""},{"$f":"IF(ABG18=\"\",\"\",VLOOKUP($Q$10,DATA!$P$2:$R$196,3))","v":""},{"$f":"IF(ABH18=\"\",\"\",VLOOKUP($Q$10,DATA!$P$2:$R$196,3))","v":""},{"$f":"IF(ABI18=\"\",\"\",VLOOKUP($Q$10,DATA!$P$2:$R$196,3))","v":""},{"$f":"IF(ABJ18=\"\",\"\",VLOOKUP($Q$10,DATA!$P$2:$R$196,3))","v":""},{"$f":"IF(ABK18=\"\",\"\",VLOOKUP($Q$10,DATA!$P$2:$R$196,3))","v":""},{"$f":"IF(ABL18=\"\",\"\",VLOOKUP($Q$10,DATA!$P$2:$R$196,3))","v":""},{"$f":"IF(ABM18=\"\",\"\",VLOOKUP($Q$10,DATA!$P$2:$R$196,3))","v":""},{"$f":"IF(ABN18=\"\",\"\",VLOOKUP($Q$10,DATA!$P$2:$R$196,3))","v":""},{"$f":"IF(ABO18=\"\",\"\",VLOOKUP($Q$10,DATA!$P$2:$R$196,3))","v":""},{"$f":"IF(ABP18=\"\",\"\",VLOOKUP($Q$10,DATA!$P$2:$R$196,3))","v":""},{"$f":"IF(ABQ18=\"\",\"\",VLOOKUP($Q$10,DATA!$P$2:$R$196,3))","v":""},{"$f":"IF(ABR18=\"\",\"\",VLOOKUP($Q$10,DATA!$P$2:$R$196,3))","v":""},{"$f":"IF(ABS18=\"\",\"\",VLOOKUP($Q$10,DATA!$P$2:$R$196,3))","v":""},{"$f":"IF(ABT18=\"\",\"\",VLOOKUP($Q$10,DATA!$P$2:$R$196,3))","v":""},{"$f":"IF(ABU18=\"\",\"\",VLOOKUP($Q$10,DATA!$P$2:$R$196,3))","v":""},{"$f":"IF(ABV18=\"\",\"\",VLOOKUP($Q$10,DATA!$P$2:$R$196,3))","v":""},{"$f":"IF(ABW18=\"\",\"\",VLOOKUP($Q$10,DATA!$P$2:$R$196,3))","v":""},{"$f":"IF(ABX18=\"\",\"\",VLOOKUP($Q$10,DATA!$P$2:$R$196,3))","v":""},{"$f":"IF(ABY18=\"\",\"\",VLOOKUP($Q$10,DATA!$P$2:$R$196,3))","v":""},{"$f":"IF(ABZ18=\"\",\"\",VLOOKUP($Q$10,DATA!$P$2:$R$196,3))","v":""},{"$f":"IF(ACA18=\"\",\"\",VLOOKUP($Q$10,DATA!$P$2:$R$196,3))","v":""},{"$f":"IF(ACB18=\"\",\"\",VLOOKUP($Q$10,DATA!$P$2:$R$196,3))","v":""},{"$f":"IF(ACC18=\"\",\"\",VLOOKUP($Q$10,DATA!$P$2:$R$196,3))","v":""},{"$f":"IF(ACD18=\"\",\"\",VLOOKUP($Q$10,DATA!$P$2:$R$196,3))","v":""},{"$f":"IF(ACE18=\"\",\"\",VLOOKUP($Q$10,DATA!$P$2:$R$196,3))","v":""},{"$f":"IF(ACF18=\"\",\"\",VLOOKUP($Q$10,DATA!$P$2:$R$196,3))","v":""},{"$f":"IF(ACG18=\"\",\"\",VLOOKUP($Q$10,DATA!$P$2:$R$196,3))","v":""},{"$f":"IF(ACH18=\"\",\"\",VLOOKUP($Q$10,DATA!$P$2:$R$196,3))","v":""},{"$f":"IF(ACI18=\"\",\"\",VLOOKUP($Q$10,DATA!$P$2:$R$196,3))","v":""},{"$f":"IF(ACJ18=\"\",\"\",VLOOKUP($Q$10,DATA!$P$2:$R$196,3))","v":""},{"$f":"IF(ACK18=\"\",\"\",VLOOKUP($Q$10,DATA!$P$2:$R$196,3))","v":""},{"$f":"IF(ACL18=\"\",\"\",VLOOKUP($Q$10,DATA!$P$2:$R$196,3))","v":""},{"$f":"IF(ACM18=\"\",\"\",VLOOKUP($Q$10,DATA!$P$2:$R$196,3))","v":""},{"$f":"IF(ACN18=\"\",\"\",VLOOKUP($Q$10,DATA!$P$2:$R$196,3))","v":""},{"$f":"IF(ACO18=\"\",\"\",VLOOKUP($Q$10,DATA!$P$2:$R$196,3))","v":""},{"$f":"IF(ACP18=\"\",\"\",VLOOKUP($Q$10,DATA!$P$2:$R$196,3))","v":""},{"$f":"IF(ACQ18=\"\",\"\",VLOOKUP($Q$10,DATA!$P$2:$R$196,3))","v":""},{"$f":"IF(ACR18=\"\",\"\",VLOOKUP($Q$10,DATA!$P$2:$R$196,3))","v":""},{"$f":"IF(ACS18=\"\",\"\",VLOOKUP($Q$10,DATA!$P$2:$R$196,3))","v":""},{"$f":"IF(ACT18=\"\",\"\",VLOOKUP($Q$10,DATA!$P$2:$R$196,3))","v":""},{"$f":"IF(ACU18=\"\",\"\",VLOOKUP($Q$10,DATA!$P$2:$R$196,3))","v":""},{"$f":"IF(ACV18=\"\",\"\",VLOOKUP($Q$10,DATA!$P$2:$R$196,3))","v":""},{"$f":"IF(ACW18=\"\",\"\",VLOOKUP($Q$10,DATA!$P$2:$R$196,3))","v":""},{"$f":"IF(ACX18=\"\",\"\",VLOOKUP($Q$10,DATA!$P$2:$R$196,3))","v":""},{"$f":"IF(ACY18=\"\",\"\",VLOOKUP($Q$10,DATA!$P$2:$R$196,3))","v":""},{"$f":"IF(ACZ18=\"\",\"\",VLOOKUP($Q$10,DATA!$P$2:$R$196,3))","v":""},{"$f":"IF(ADA18=\"\",\"\",VLOOKUP($Q$10,DATA!$P$2:$R$196,3))","v":""},{"$f":"IF(ADB18=\"\",\"\",VLOOKUP($Q$10,DATA!$P$2:$R$196,3))","v":""},{"$f":"IF(ADC18=\"\",\"\",VLOOKUP($Q$10,DATA!$P$2:$R$196,3))","v":""},{"$f":"IF(ADD18=\"\",\"\",VLOOKUP($Q$10,DATA!$P$2:$R$196,3))","v":""},{"$f":"IF(ADE18=\"\",\"\",VLOOKUP($Q$10,DATA!$P$2:$R$196,3))","v":""},{"$f":"IF(ADF18=\"\",\"\",VLOOKUP($Q$10,DATA!$P$2:$R$196,3))","v":""},{"$f":"IF(ADG18=\"\",\"\",VLOOKUP($Q$10,DATA!$P$2:$R$196,3))","v":""},{"$f":"IF(ADH18=\"\",\"\",VLOOKUP($Q$10,DATA!$P$2:$R$196,3))","v":""},{"$f":"IF(ADI18=\"\",\"\",VLOOKUP($Q$10,DATA!$P$2:$R$196,3))","v":""},{"$f":"IF(ADJ18=\"\",\"\",VLOOKUP($Q$10,DATA!$P$2:$R$196,3))","v":""},{"$f":"IF(ADK18=\"\",\"\",VLOOKUP($Q$10,DATA!$P$2:$R$196,3))","v":""},{"$f":"IF(ADL18=\"\",\"\",VLOOKUP($Q$10,DATA!$P$2:$R$196,3))","v":""},{"$f":"IF(ADM18=\"\",\"\",VLOOKUP($Q$10,DATA!$P$2:$R$196,3))","v":""},{"$f":"IF(ADN18=\"\",\"\",VLOOKUP($Q$10,DATA!$P$2:$R$196,3))","v":""},{"$f":"IF(ADO18=\"\",\"\",VLOOKUP($Q$10,DATA!$P$2:$R$196,3))","v":""},{"$f":"IF(ADP18=\"\",\"\",VLOOKUP($Q$10,DATA!$P$2:$R$196,3))","v":""},{"$f":"IF(ADQ18=\"\",\"\",VLOOKUP($Q$10,DATA!$P$2:$R$196,3))","v":""},{"$f":"IF(ADR18=\"\",\"\",VLOOKUP($Q$10,DATA!$P$2:$R$196,3))","v":""},{"$f":"IF(ADS18=\"\",\"\",VLOOKUP($Q$10,DATA!$P$2:$R$196,3))","v":""},{"$f":"IF(ADT18=\"\",\"\",VLOOKUP($Q$10,DATA!$P$2:$R$196,3))","v":""},{"$f":"IF(ADU18=\"\",\"\",VLOOKUP($Q$10,DATA!$P$2:$R$196,3))","v":""},{"$f":"IF(ADV18=\"\",\"\",VLOOKUP($Q$10,DATA!$P$2:$R$196,3))","v":""},{"$f":"IF(ADW18=\"\",\"\",VLOOKUP($Q$10,DATA!$P$2:$R$196,3))","v":""},{"$f":"IF(ADX18=\"\",\"\",VLOOKUP($Q$10,DATA!$P$2:$R$196,3))","v":""},{"$f":"IF(ADY18=\"\",\"\",VLOOKUP($Q$10,DATA!$P$2:$R$196,3))","v":""},{"$f":"IF(ADZ18=\"\",\"\",VLOOKUP($Q$10,DATA!$P$2:$R$196,3))","v":""},{"$f":"IF(AEA18=\"\",\"\",VLOOKUP($Q$10,DATA!$P$2:$R$196,3))","v":""},{"$f":"IF(AEB18=\"\",\"\",VLOOKUP($Q$10,DATA!$P$2:$R$196,3))","v":""},{"$f":"IF(AEC18=\"\",\"\",VLOOKUP($Q$10,DATA!$P$2:$R$196,3))","v":""},{"$f":"IF(AED18=\"\",\"\",VLOOKUP($Q$10,DATA!$P$2:$R$196,3))","v":""},{"$f":"IF(AEE18=\"\",\"\",VLOOKUP($Q$10,DATA!$P$2:$R$196,3))","v":""},{"$f":"IF(AEF18=\"\",\"\",VLOOKUP($Q$10,DATA!$P$2:$R$196,3))","v":""},{"$f":"IF(AEG18=\"\",\"\",VLOOKUP($Q$10,DATA!$P$2:$R$196,3))","v":""},{"$f":"IF(AEH18=\"\",\"\",VLOOKUP($Q$10,DATA!$P$2:$R$196,3))","v":""},{"$f":"IF(AEI18=\"\",\"\",VLOOKUP($Q$10,DATA!$P$2:$R$196,3))","v":""},{"$f":"IF(AEJ18=\"\",\"\",VLOOKUP($Q$10,DATA!$P$2:$R$196,3))","v":""},{"$f":"IF(AEK18=\"\",\"\",VLOOKUP($Q$10,DATA!$P$2:$R$196,3))","v":""},{"$f":"IF(AEL18=\"\",\"\",VLOOKUP($Q$10,DATA!$P$2:$R$196,3))","v":""},{"$f":"IF(AEM18=\"\",\"\",VLOOKUP($Q$10,DATA!$P$2:$R$196,3))","v":""},{"$f":"IF(AEN18=\"\",\"\",VLOOKUP($Q$10,DATA!$P$2:$R$196,3))","v":""},{"$f":"IF(AEO18=\"\",\"\",VLOOKUP($Q$10,DATA!$P$2:$R$196,3))","v":""},{"$f":"IF(AEP18=\"\",\"\",VLOOKUP($Q$10,DATA!$P$2:$R$196,3))","v":""},{"$f":"IF(AEQ18=\"\",\"\",VLOOKUP($Q$10,DATA!$P$2:$R$196,3))","v":""},{"$f":"IF(AER18=\"\",\"\",VLOOKUP($Q$10,DATA!$P$2:$R$196,3))","v":""},{"$f":"IF(AES18=\"\",\"\",VLOOKUP($Q$10,DATA!$P$2:$R$196,3))","v":""},{"$f":"IF(AET18=\"\",\"\",VLOOKUP($Q$10,DATA!$P$2:$R$196,3))","v":""},{"$f":"IF(AEU18=\"\",\"\",VLOOKUP($Q$10,DATA!$P$2:$R$196,3))","v":""},{"$f":"IF(AEV18=\"\",\"\",VLOOKUP($Q$10,DATA!$P$2:$R$196,3))","v":""},{"$f":"IF(AEW18=\"\",\"\",VLOOKUP($Q$10,DATA!$P$2:$R$196,3))","v":""},{"$f":"IF(AEX18=\"\",\"\",VLOOKUP($Q$10,DATA!$P$2:$R$196,3))","v":""},{"$f":"IF(AEY18=\"\",\"\",VLOOKUP($Q$10,DATA!$P$2:$R$196,3))","v":""},{"$f":"IF(AEZ18=\"\",\"\",VLOOKUP($Q$10,DATA!$P$2:$R$196,3))","v":""},{"$f":"IF(AFA18=\"\",\"\",VLOOKUP($Q$10,DATA!$P$2:$R$196,3))","v":""},{"$f":"IF(AFB18=\"\",\"\",VLOOKUP($Q$10,DATA!$P$2:$R$196,3))","v":""},{"$f":"IF(AFC18=\"\",\"\",VLOOKUP($Q$10,DATA!$P$2:$R$196,3))","v":""},{"$f":"IF(AFD18=\"\",\"\",VLOOKUP($Q$10,DATA!$P$2:$R$196,3))","v":""},{"$f":"IF(AFE18=\"\",\"\",VLOOKUP($Q$10,DATA!$P$2:$R$196,3))","v":""},{"$f":"IF(AFF18=\"\",\"\",VLOOKUP($Q$10,DATA!$P$2:$R$196,3))","v":""},{"$f":"IF(AFG18=\"\",\"\",VLOOKUP($Q$10,DATA!$P$2:$R$196,3))","v":""},{"$f":"IF(AFH18=\"\",\"\",VLOOKUP($Q$10,DATA!$P$2:$R$196,3))","v":""},{"$f":"IF(AFI18=\"\",\"\",VLOOKUP($Q$10,DATA!$P$2:$R$196,3))","v":""},{"$f":"IF(AFJ18=\"\",\"\",VLOOKUP($Q$10,DATA!$P$2:$R$196,3))","v":""},{"$f":"IF(AFK18=\"\",\"\",VLOOKUP($Q$10,DATA!$P$2:$R$196,3))","v":""},{"$f":"IF(AFL18=\"\",\"\",VLOOKUP($Q$10,DATA!$P$2:$R$196,3))","v":""},{"$f":"IF(AFM18=\"\",\"\",VLOOKUP($Q$10,DATA!$P$2:$R$196,3))","v":""},{"$f":"IF(AFN18=\"\",\"\",VLOOKUP($Q$10,DATA!$P$2:$R$196,3))","v":""},{"$f":"IF(AFO18=\"\",\"\",VLOOKUP($Q$10,DATA!$P$2:$R$196,3))","v":""},{"$f":"IF(AFP18=\"\",\"\",VLOOKUP($Q$10,DATA!$P$2:$R$196,3))","v":""},{"$f":"IF(AFQ18=\"\",\"\",VLOOKUP($Q$10,DATA!$P$2:$R$196,3))","v":""},{"$f":"IF(AFR18=\"\",\"\",VLOOKUP($Q$10,DATA!$P$2:$R$196,3))","v":""},{"$f":"IF(AFS18=\"\",\"\",VLOOKUP($Q$10,DATA!$P$2:$R$196,3))","v":""},{"$f":"IF(AFT18=\"\",\"\",VLOOKUP($Q$10,DATA!$P$2:$R$196,3))","v":""},{"$f":"IF(AFU18=\"\",\"\",VLOOKUP($Q$10,DATA!$P$2:$R$196,3))","v":""},{"$f":"IF(AFV18=\"\",\"\",VLOOKUP($Q$10,DATA!$P$2:$R$196,3))","v":""},{"$f":"IF(AFW18=\"\",\"\",VLOOKUP($Q$10,DATA!$P$2:$R$196,3))","v":""},{"$f":"IF(AFX18=\"\",\"\",VLOOKUP($Q$10,DATA!$P$2:$R$196,3))","v":""},{"$f":"IF(AFY18=\"\",\"\",VLOOKUP($Q$10,DATA!$P$2:$R$196,3))","v":""},{"$f":"IF(AFZ18=\"\",\"\",VLOOKUP($Q$10,DATA!$P$2:$R$196,3))","v":""},{"$f":"IF(AGA18=\"\",\"\",VLOOKUP($Q$10,DATA!$P$2:$R$196,3))","v":""},{"$f":"IF(AGB18=\"\",\"\",VLOOKUP($Q$10,DATA!$P$2:$R$196,3))","v":""},{"$f":"IF(AGC18=\"\",\"\",VLOOKUP($Q$10,DATA!$P$2:$R$196,3))","v":""},{"$f":"IF(AGD18=\"\",\"\",VLOOKUP($Q$10,DATA!$P$2:$R$196,3))","v":""},{"$f":"IF(AGE18=\"\",\"\",VLOOKUP($Q$10,DATA!$P$2:$R$196,3))","v":""},{"$f":"IF(AGF18=\"\",\"\",VLOOKUP($Q$10,DATA!$P$2:$R$196,3))","v":""},{"$f":"IF(AGG18=\"\",\"\",VLOOKUP($Q$10,DATA!$P$2:$R$196,3))","v":""},{"$f":"IF(AGH18=\"\",\"\",VLOOKUP($Q$10,DATA!$P$2:$R$196,3))","v":""},{"$f":"IF(AGI18=\"\",\"\",VLOOKUP($Q$10,DATA!$P$2:$R$196,3))","v":""},{"$f":"IF(AGJ18=\"\",\"\",VLOOKUP($Q$10,DATA!$P$2:$R$196,3))","v":""},{"$f":"IF(AGK18=\"\",\"\",VLOOKUP($Q$10,DATA!$P$2:$R$196,3))","v":""},{"$f":"IF(AGL18=\"\",\"\",VLOOKUP($Q$10,DATA!$P$2:$R$196,3))","v":""},{"$f":"IF(AGM18=\"\",\"\",VLOOKUP($Q$10,DATA!$P$2:$R$196,3))","v":""},{"$f":"IF(AGN18=\"\",\"\",VLOOKUP($Q$10,DATA!$P$2:$R$196,3))","v":""},{"$f":"IF(AGO18=\"\",\"\",VLOOKUP($Q$10,DATA!$P$2:$R$196,3))","v":""},{"$f":"IF(AGP18=\"\",\"\",VLOOKUP($Q$10,DATA!$P$2:$R$196,3))","v":""},{"$f":"IF(AGQ18=\"\",\"\",VLOOKUP($Q$10,DATA!$P$2:$R$196,3))","v":""},{"$f":"IF(AGR18=\"\",\"\",VLOOKUP($Q$10,DATA!$P$2:$R$196,3))","v":""},{"$f":"IF(AGS18=\"\",\"\",VLOOKUP($Q$10,DATA!$P$2:$R$196,3))","v":""},{"$f":"IF(AGT18=\"\",\"\",VLOOKUP($Q$10,DATA!$P$2:$R$196,3))","v":""},{"$f":"IF(AGU18=\"\",\"\",VLOOKUP($Q$10,DATA!$P$2:$R$196,3))","v":""},{"$f":"IF(AGV18=\"\",\"\",VLOOKUP($Q$10,DATA!$P$2:$R$196,3))","v":""},{"$f":"IF(AGW18=\"\",\"\",VLOOKUP($Q$10,DATA!$P$2:$R$196,3))","v":""},{"$f":"IF(AGX18=\"\",\"\",VLOOKUP($Q$10,DATA!$P$2:$R$196,3))","v":""},{"$f":"IF(AGY18=\"\",\"\",VLOOKUP($Q$10,DATA!$P$2:$R$196,3))","v":""},{"$f":"IF(AGZ18=\"\",\"\",VLOOKUP($Q$10,DATA!$P$2:$R$196,3))","v":""},{"$f":"IF(AHA18=\"\",\"\",VLOOKUP($Q$10,DATA!$P$2:$R$196,3))","v":""},{"$f":"IF(AHB18=\"\",\"\",VLOOKUP($Q$10,DATA!$P$2:$R$196,3))","v":""},{"$f":"IF(AHC18=\"\",\"\",VLOOKUP($Q$10,DATA!$P$2:$R$196,3))","v":""},{"$f":"IF(AHD18=\"\",\"\",VLOOKUP($Q$10,DATA!$P$2:$R$196,3))","v":""},{"$f":"IF(AHE18=\"\",\"\",VLOOKUP($Q$10,DATA!$P$2:$R$196,3))","v":""},{"$f":"IF(AHF18=\"\",\"\",VLOOKUP($Q$10,DATA!$P$2:$R$196,3))","v":""},{"$f":"IF(AHG18=\"\",\"\",VLOOKUP($Q$10,DATA!$P$2:$R$196,3))","v":""},{"$f":"IF(AHH18=\"\",\"\",VLOOKUP($Q$10,DATA!$P$2:$R$196,3))","v":""},{"$f":"IF(AHI18=\"\",\"\",VLOOKUP($Q$10,DATA!$P$2:$R$196,3))","v":""},{"$f":"IF(AHJ18=\"\",\"\",VLOOKUP($Q$10,DATA!$P$2:$R$196,3))","v":""},{"$f":"IF(AHK18=\"\",\"\",VLOOKUP($Q$10,DATA!$P$2:$R$196,3))","v":""},{"$f":"IF(AHL18=\"\",\"\",VLOOKUP($Q$10,DATA!$P$2:$R$196,3))","v":""},{"$f":"IF(AHM18=\"\",\"\",VLOOKUP($Q$10,DATA!$P$2:$R$196,3))","v":""},{"$f":"IF(AHN18=\"\",\"\",VLOOKUP($Q$10,DATA!$P$2:$R$196,3))","v":""},{"$f":"IF(AHO18=\"\",\"\",VLOOKUP($Q$10,DATA!$P$2:$R$196,3))","v":""},{"$f":"IF(AHP18=\"\",\"\",VLOOKUP($Q$10,DATA!$P$2:$R$196,3))","v":""},{"$f":"IF(AHQ18=\"\",\"\",VLOOKUP($Q$10,DATA!$P$2:$R$196,3))","v":""},{"$f":"IF(AHR18=\"\",\"\",VLOOKUP($Q$10,DATA!$P$2:$R$196,3))","v":""},{"$f":"IF(AHS18=\"\",\"\",VLOOKUP($Q$10,DATA!$P$2:$R$196,3))","v":""},{"$f":"IF(AHT18=\"\",\"\",VLOOKUP($Q$10,DATA!$P$2:$R$196,3))","v":""},{"$f":"IF(AHU18=\"\",\"\",VLOOKUP($Q$10,DATA!$P$2:$R$196,3))","v":""},{"$f":"IF(AHV18=\"\",\"\",VLOOKUP($Q$10,DATA!$P$2:$R$196,3))","v":""},{"$f":"IF(AHW18=\"\",\"\",VLOOKUP($Q$10,DATA!$P$2:$R$196,3))","v":""},{"$f":"IF(AHX18=\"\",\"\",VLOOKUP($Q$10,DATA!$P$2:$R$196,3))","v":""},{"$f":"IF(AHY18=\"\",\"\",VLOOKUP($Q$10,DATA!$P$2:$R$196,3))","v":""},{"$f":"IF(AHZ18=\"\",\"\",VLOOKUP($Q$10,DATA!$P$2:$R$196,3))","v":""},{"$f":"IF(AIA18=\"\",\"\",VLOOKUP($Q$10,DATA!$P$2:$R$196,3))","v":""},{"$f":"IF(AIB18=\"\",\"\",VLOOKUP($Q$10,DATA!$P$2:$R$196,3))","v":""},{"$f":"IF(AIC18=\"\",\"\",VLOOKUP($Q$10,DATA!$P$2:$R$196,3))","v":""},{"$f":"IF(AID18=\"\",\"\",VLOOKUP($Q$10,DATA!$P$2:$R$196,3))","v":""},{"$f":"IF(AIE18=\"\",\"\",VLOOKUP($Q$10,DATA!$P$2:$R$196,3))","v":""},{"$f":"IF(AIF18=\"\",\"\",VLOOKUP($Q$10,DATA!$P$2:$R$196,3))","v":""},{"$f":"IF(AIG18=\"\",\"\",VLOOKUP($Q$10,DATA!$P$2:$R$196,3))","v":""},{"$f":"IF(AIH18=\"\",\"\",VLOOKUP($Q$10,DATA!$P$2:$R$196,3))","v":""},{"$f":"IF(AII18=\"\",\"\",VLOOKUP($Q$10,DATA!$P$2:$R$196,3))","v":""},{"$f":"IF(AIJ18=\"\",\"\",VLOOKUP($Q$10,DATA!$P$2:$R$196,3))","v":""},{"$f":"IF(AIK18=\"\",\"\",VLOOKUP($Q$10,DATA!$P$2:$R$196,3))","v":""},{"$f":"IF(AIL18=\"\",\"\",VLOOKUP($Q$10,DATA!$P$2:$R$196,3))","v":""},{"$f":"IF(AIM18=\"\",\"\",VLOOKUP($Q$10,DATA!$P$2:$R$196,3))","v":""},{"$f":"IF(AIN18=\"\",\"\",VLOOKUP($Q$10,DATA!$P$2:$R$196,3))","v":""},{"$f":"IF(AIO18=\"\",\"\",VLOOKUP($Q$10,DATA!$P$2:$R$196,3))","v":""},{"$f":"IF(AIP18=\"\",\"\",VLOOKUP($Q$10,DATA!$P$2:$R$196,3))","v":""},{"$f":"IF(AIQ18=\"\",\"\",VLOOKUP($Q$10,DATA!$P$2:$R$196,3))","v":""},{"$f":"IF(AIR18=\"\",\"\",VLOOKUP($Q$10,DATA!$P$2:$R$196,3))","v":""},{"$f":"IF(AIS18=\"\",\"\",VLOOKUP($Q$10,DATA!$P$2:$R$196,3))","v":""},{"$f":"IF(AIT18=\"\",\"\",VLOOKUP($Q$10,DATA!$P$2:$R$196,3))","v":""},{"$f":"IF(AIU18=\"\",\"\",VLOOKUP($Q$10,DATA!$P$2:$R$196,3))","v":""},{"$f":"IF(AIV18=\"\",\"\",VLOOKUP($Q$10,DATA!$P$2:$R$196,3))","v":""},{"$f":"IF(AIW18=\"\",\"\",VLOOKUP($Q$10,DATA!$P$2:$R$196,3))","v":""},{"$f":"IF(AIX18=\"\",\"\",VLOOKUP($Q$10,DATA!$P$2:$R$196,3))","v":""},{"$f":"IF(AIY18=\"\",\"\",VLOOKUP($Q$10,DATA!$P$2:$R$196,3))","v":""},{"$f":"IF(AIZ18=\"\",\"\",VLOOKUP($Q$10,DATA!$P$2:$R$196,3))","v":""},{"$f":"IF(AJA18=\"\",\"\",VLOOKUP($Q$10,DATA!$P$2:$R$196,3))","v":""},{"$f":"IF(AJB18=\"\",\"\",VLOOKUP($Q$10,DATA!$P$2:$R$196,3))","v":""},{"$f":"IF(AJC18=\"\",\"\",VLOOKUP($Q$10,DATA!$P$2:$R$196,3))","v":""},{"$f":"IF(AJD18=\"\",\"\",VLOOKUP($Q$10,DATA!$P$2:$R$196,3))","v":""},{"$f":"IF(AJE18=\"\",\"\",VLOOKUP($Q$10,DATA!$P$2:$R$196,3))","v":""},{"$f":"IF(AJF18=\"\",\"\",VLOOKUP($Q$10,DATA!$P$2:$R$196,3))","v":""},{"$f":"IF(AJG18=\"\",\"\",VLOOKUP($Q$10,DATA!$P$2:$R$196,3))","v":""},{"$f":"IF(AJH18=\"\",\"\",VLOOKUP($Q$10,DATA!$P$2:$R$196,3))","v":""},{"$f":"IF(AJI18=\"\",\"\",VLOOKUP($Q$10,DATA!$P$2:$R$196,3))","v":""},{"$f":"IF(AJJ18=\"\",\"\",VLOOKUP($Q$10,DATA!$P$2:$R$196,3))","v":""},{"$f":"IF(AJK18=\"\",\"\",VLOOKUP($Q$10,DATA!$P$2:$R$196,3))","v":""},{"$f":"IF(AJL18=\"\",\"\",VLOOKUP($Q$10,DATA!$P$2:$R$196,3))","v":""},{"$f":"IF(AJM18=\"\",\"\",VLOOKUP($Q$10,DATA!$P$2:$R$196,3))","v":""},{"$f":"IF(AJN18=\"\",\"\",VLOOKUP($Q$10,DATA!$P$2:$R$196,3))","v":""},{"$f":"IF(AJO18=\"\",\"\",VLOOKUP($Q$10,DATA!$P$2:$R$196,3))","v":""},{"$f":"IF(AJP18=\"\",\"\",VLOOKUP($Q$10,DATA!$P$2:$R$196,3))","v":""},{"$f":"IF(AJQ18=\"\",\"\",VLOOKUP($Q$10,DATA!$P$2:$R$196,3))","v":""},{"$f":"IF(AJR18=\"\",\"\",VLOOKUP($Q$10,DATA!$P$2:$R$196,3))","v":""},{"$f":"IF(AJS18=\"\",\"\",VLOOKUP($Q$10,DATA!$P$2:$R$196,3))","v":""},{"$f":"IF(AJT18=\"\",\"\",VLOOKUP($Q$10,DATA!$P$2:$R$196,3))","v":""},{"$f":"IF(AJU18=\"\",\"\",VLOOKUP($Q$10,DATA!$P$2:$R$196,3))","v":""},{"$f":"IF(AJV18=\"\",\"\",VLOOKUP($Q$10,DATA!$P$2:$R$196,3))","v":""},{"$f":"IF(AJW18=\"\",\"\",VLOOKUP($Q$10,DATA!$P$2:$R$196,3))","v":""},{"$f":"IF(AJX18=\"\",\"\",VLOOKUP($Q$10,DATA!$P$2:$R$196,3))","v":""},{"$f":"IF(AJY18=\"\",\"\",VLOOKUP($Q$10,DATA!$P$2:$R$196,3))","v":""},{"$f":"IF(AJZ18=\"\",\"\",VLOOKUP($Q$10,DATA!$P$2:$R$196,3))","v":""},{"$f":"IF(AKA18=\"\",\"\",VLOOKUP($Q$10,DATA!$P$2:$R$196,3))","v":""},{"$f":"IF(AKB18=\"\",\"\",VLOOKUP($Q$10,DATA!$P$2:$R$196,3))","v":""},{"$f":"IF(AKC18=\"\",\"\",VLOOKUP($Q$10,DATA!$P$2:$R$196,3))","v":""},{"$f":"IF(AKD18=\"\",\"\",VLOOKUP($Q$10,DATA!$P$2:$R$196,3))","v":""},{"$f":"IF(AKE18=\"\",\"\",VLOOKUP($Q$10,DATA!$P$2:$R$196,3))","v":""},{"$f":"IF(AKF18=\"\",\"\",VLOOKUP($Q$10,DATA!$P$2:$R$196,3))","v":""},{"$f":"IF(AKG18=\"\",\"\",VLOOKUP($Q$10,DATA!$P$2:$R$196,3))","v":""},{"$f":"IF(AKH18=\"\",\"\",VLOOKUP($Q$10,DATA!$P$2:$R$196,3))","v":""},{"$f":"IF(AKI18=\"\",\"\",VLOOKUP($Q$10,DATA!$P$2:$R$196,3))","v":""},{"$f":"IF(AKJ18=\"\",\"\",VLOOKUP($Q$10,DATA!$P$2:$R$196,3))","v":""},{"$f":"IF(AKK18=\"\",\"\",VLOOKUP($Q$10,DATA!$P$2:$R$196,3))","v":""},{"$f":"IF(AKL18=\"\",\"\",VLOOKUP($Q$10,DATA!$P$2:$R$196,3))","v":""},{"$f":"IF(AKM18=\"\",\"\",VLOOKUP($Q$10,DATA!$P$2:$R$196,3))","v":""},{"$f":"IF(AKN18=\"\",\"\",VLOOKUP($Q$10,DATA!$P$2:$R$196,3))","v":""},{"$f":"IF(AKO18=\"\",\"\",VLOOKUP($Q$10,DATA!$P$2:$R$196,3))","v":""},{"$f":"IF(AKP18=\"\",\"\",VLOOKUP($Q$10,DATA!$P$2:$R$196,3))","v":""},{"$f":"IF(AKQ18=\"\",\"\",VLOOKUP($Q$10,DATA!$P$2:$R$196,3))","v":""},{"$f":"IF(AKR18=\"\",\"\",VLOOKUP($Q$10,DATA!$P$2:$R$196,3))","v":""},{"$f":"IF(AKS18=\"\",\"\",VLOOKUP($Q$10,DATA!$P$2:$R$196,3))","v":""},{"$f":"IF(AKT18=\"\",\"\",VLOOKUP($Q$10,DATA!$P$2:$R$196,3))","v":""},{"$f":"IF(AKU18=\"\",\"\",VLOOKUP($Q$10,DATA!$P$2:$R$196,3))","v":""},{"$f":"IF(AKV18=\"\",\"\",VLOOKUP($Q$10,DATA!$P$2:$R$196,3))","v":""},{"$f":"IF(AKW18=\"\",\"\",VLOOKUP($Q$10,DATA!$P$2:$R$196,3))","v":""},{"$f":"IF(AKX18=\"\",\"\",VLOOKUP($Q$10,DATA!$P$2:$R$196,3))","v":""},{"$f":"IF(AKY18=\"\",\"\",VLOOKUP($Q$10,DATA!$P$2:$R$196,3))","v":""},{"$f":"IF(AKZ18=\"\",\"\",VLOOKUP($Q$10,DATA!$P$2:$R$196,3))","v":""},{"$f":"IF(ALA18=\"\",\"\",VLOOKUP($Q$10,DATA!$P$2:$R$196,3))","v":""},{"$f":"IF(ALB18=\"\",\"\",VLOOKUP($Q$10,DATA!$P$2:$R$196,3))","v":""},{"$f":"IF(ALC18=\"\",\"\",VLOOKUP($Q$10,DATA!$P$2:$R$196,3))","v":""},{"$f":"IF(ALD18=\"\",\"\",VLOOKUP($Q$10,DATA!$P$2:$R$196,3))","v":""},{"$f":"IF(ALE18=\"\",\"\",VLOOKUP($Q$10,DATA!$P$2:$R$196,3))","v":""},{"$f":"IF(ALF18=\"\",\"\",VLOOKUP($Q$10,DATA!$P$2:$R$196,3))","v":""},{"$f":"IF(ALG18=\"\",\"\",VLOOKUP($Q$10,DATA!$P$2:$R$196,3))","v":""},{"$f":"IF(ALH18=\"\",\"\",VLOOKUP($Q$10,DATA!$P$2:$R$196,3))","v":""},{"$f":"IF(ALI18=\"\",\"\",VLOOKUP($Q$10,DATA!$P$2:$R$196,3))","v":""},{"$f":"IF(ALJ18=\"\",\"\",VLOOKUP($Q$10,DATA!$P$2:$R$196,3))","v":""},{"$f":"IF(ALK18=\"\",\"\",VLOOKUP($Q$10,DATA!$P$2:$R$196,3))","v":""},{"$f":"IF(ALL18=\"\",\"\",VLOOKUP($Q$10,DATA!$P$2:$R$196,3))","v":""},{"$f":"IF(ALM18=\"\",\"\",VLOOKUP($Q$10,DATA!$P$2:$R$196,3))","v":""},{"$f":"IF(ALN18=\"\",\"\",VLOOKUP($Q$10,DATA!$P$2:$R$196,3))","v":""},{"$f":"IF(ALO18=\"\",\"\",VLOOKUP($Q$10,DATA!$P$2:$R$196,3))","v":""},{"$f":"IF(ALP18=\"\",\"\",VLOOKUP($Q$10,DATA!$P$2:$R$196,3))","v":""},{"$f":"IF(ALQ18=\"\",\"\",VLOOKUP($Q$10,DATA!$P$2:$R$196,3))","v":""},{"$f":"IF(ALR18=\"\",\"\",VLOOKUP($Q$10,DATA!$P$2:$R$196,3))","v":""},{"$f":"IF(ALS18=\"\",\"\",VLOOKUP($Q$10,DATA!$P$2:$R$196,3))","v":""},{"$f":"IF(ALT18=\"\",\"\",VLOOKUP($Q$10,DATA!$P$2:$R$196,3))","v":""},{"$f":"IF(ALU18=\"\",\"\",VLOOKUP($Q$10,DATA!$P$2:$R$196,3))","v":""},{"$f":"IF(ALV18=\"\",\"\",VLOOKUP($Q$10,DATA!$P$2:$R$196,3))","v":""},{"$f":"IF(ALW18=\"\",\"\",VLOOKUP($Q$10,DATA!$P$2:$R$196,3))","v":""},{"$f":"IF(ALX18=\"\",\"\",VLOOKUP($Q$10,DATA!$P$2:$R$196,3))","v":""},{"$f":"IF(ALY18=\"\",\"\",VLOOKUP($Q$10,DATA!$P$2:$R$196,3))","v":""},{"$f":"IF(ALZ18=\"\",\"\",VLOOKUP($Q$10,DATA!$P$2:$R$196,3))","v":""},{"$f":"IF(AMA18=\"\",\"\",VLOOKUP($Q$10,DATA!$P$2:$R$196,3))","v":""},{"$f":"IF(AMB18=\"\",\"\",VLOOKUP($Q$10,DATA!$P$2:$R$196,3))","v":""},{"$f":"IF(AMC18=\"\",\"\",VLOOKUP($Q$10,DATA!$P$2:$R$196,3))","v":""},{"$f":"IF(AMD18=\"\",\"\",VLOOKUP($Q$10,DATA!$P$2:$R$196,3))","v":""},{"$f":"IF(AME18=\"\",\"\",VLOOKUP($Q$10,DATA!$P$2:$R$196,3))","v":""},{"$f":"IF(AMF18=\"\",\"\",VLOOKUP($Q$10,DATA!$P$2:$R$196,3))","v":""},{"$f":"IF(AMG18=\"\",\"\",VLOOKUP($Q$10,DATA!$P$2:$R$196,3))","v":""},{"$f":"IF(AMH18=\"\",\"\",VLOOKUP($Q$10,DATA!$P$2:$R$196,3))","v":""},{"$f":"IF(AMI18=\"\",\"\",VLOOKUP($Q$10,DATA!$P$2:$R$196,3))","v":""},{"$f":"IF(AMJ18=\"\",\"\",VLOOKUP($Q$10,DATA!$P$2:$R$196,3))","v":""},{"$f":"IF(AMK18=\"\",\"\",VLOOKUP($Q$10,DATA!$P$2:$R$196,3))","v":""},{"$f":"IF(AML18=\"\",\"\",VLOOKUP($Q$10,DATA!$P$2:$R$196,3))","v":""},{"$f":"IF(AMM18=\"\",\"\",VLOOKUP($Q$10,DATA!$P$2:$R$196,3))","v":""},{"$f":"IF(AMN18=\"\",\"\",VLOOKUP($Q$10,DATA!$P$2:$R$196,3))","v":""},{"$f":"IF(AMO18=\"\",\"\",VLOOKUP($Q$10,DATA!$P$2:$R$196,3))","v":""},{"$f":"IF(AMP18=\"\",\"\",VLOOKUP($Q$10,DATA!$P$2:$R$196,3))","v":""},{"$f":"IF(AMQ18=\"\",\"\",VLOOKUP($Q$10,DATA!$P$2:$R$196,3))","v":""},{"$f":"IF(AMR18=\"\",\"\",VLOOKUP($Q$10,DATA!$P$2:$R$196,3))","v":""},{"$f":"IF(AMS18=\"\",\"\",VLOOKUP($Q$10,DATA!$P$2:$R$196,3))","v":""},{"$f":"IF(AMT18=\"\",\"\",VLOOKUP($Q$10,DATA!$P$2:$R$196,3))","v":""},{"$f":"IF(AMU18=\"\",\"\",VLOOKUP($Q$10,DATA!$P$2:$R$196,3))","v":""},{"$f":"IF(AMV18=\"\",\"\",VLOOKUP($Q$10,DATA!$P$2:$R$196,3))","v":""},{"$f":"IF(AMW18=\"\",\"\",VLOOKUP($Q$10,DATA!$P$2:$R$196,3))","v":""},{"$f":"IF(AMX18=\"\",\"\",VLOOKUP($Q$10,DATA!$P$2:$R$196,3))","v":""},{"$f":"IF(AMY18=\"\",\"\",VLOOKUP($Q$10,DATA!$P$2:$R$196,3))","v":""},{"$f":"IF(AMZ18=\"\",\"\",VLOOKUP($Q$10,DATA!$P$2:$R$196,3))","v":""},{"$f":"IF(ANA18=\"\",\"\",VLOOKUP($Q$10,DATA!$P$2:$R$196,3))","v":""},{"$f":"IF(ANB18=\"\",\"\",VLOOKUP($Q$10,DATA!$P$2:$R$196,3))","v":""},{"$f":"IF(ANC18=\"\",\"\",VLOOKUP($Q$10,DATA!$P$2:$R$196,3))","v":""},{"$f":"IF(AND18=\"\",\"\",VLOOKUP($Q$10,DATA!$P$2:$R$196,3))","v":""},{"$f":"IF(ANE18=\"\",\"\",VLOOKUP($Q$10,DATA!$P$2:$R$196,3))","v":""},{"$f":"IF(ANF18=\"\",\"\",VLOOKUP($Q$10,DATA!$P$2:$R$196,3))","v":""},{"$f":"IF(ANG18=\"\",\"\",VLOOKUP($Q$10,DATA!$P$2:$R$196,3))","v":""},{"$f":"IF(ANH18=\"\",\"\",VLOOKUP($Q$10,DATA!$P$2:$R$196,3))","v":""},{"$f":"IF(ANI18=\"\",\"\",VLOOKUP($Q$10,DATA!$P$2:$R$196,3))","v":""},{"$f":"IF(ANJ18=\"\",\"\",VLOOKUP($Q$10,DATA!$P$2:$R$196,3))","v":""},{"$f":"IF(ANK18=\"\",\"\",VLOOKUP($Q$10,DATA!$P$2:$R$196,3))","v":""},{"$f":"IF(ANL18=\"\",\"\",VLOOKUP($Q$10,DATA!$P$2:$R$196,3))","v":""},{"$f":"IF(ANM18=\"\",\"\",VLOOKUP($Q$10,DATA!$P$2:$R$196,3))","v":""},{"$f":"IF(ANN18=\"\",\"\",VLOOKUP($Q$10,DATA!$P$2:$R$196,3))","v":""},{"$f":"IF(ANO18=\"\",\"\",VLOOKUP($Q$10,DATA!$P$2:$R$196,3))","v":""},{"$f":"IF(ANP18=\"\",\"\",VLOOKUP($Q$10,DATA!$P$2:$R$196,3))","v":""},{"$f":"IF(ANQ18=\"\",\"\",VLOOKUP($Q$10,DATA!$P$2:$R$196,3))","v":""},{"$f":"IF(ANR18=\"\",\"\",VLOOKUP($Q$10,DATA!$P$2:$R$196,3))","v":""},{"$f":"IF(ANS18=\"\",\"\",VLOOKUP($Q$10,DATA!$P$2:$R$196,3))","v":""},{"$f":"IF(ANT18=\"\",\"\",VLOOKUP($Q$10,DATA!$P$2:$R$196,3))","v":""},{"$f":"IF(ANU18=\"\",\"\",VLOOKUP($Q$10,DATA!$P$2:$R$196,3))","v":""},{"$f":"IF(ANV18=\"\",\"\",VLOOKUP($Q$10,DATA!$P$2:$R$196,3))","v":""},{"$f":"IF(ANW18=\"\",\"\",VLOOKUP($Q$10,DATA!$P$2:$R$196,3))","v":""},{"$f":"IF(ANX18=\"\",\"\",VLOOKUP($Q$10,DATA!$P$2:$R$196,3))","v":""},{"$f":"IF(ANY18=\"\",\"\",VLOOKUP($Q$10,DATA!$P$2:$R$196,3))","v":""},{"$f":"IF(ANZ18=\"\",\"\",VLOOKUP($Q$10,DATA!$P$2:$R$196,3))","v":""},{"$f":"IF(AOA18=\"\",\"\",VLOOKUP($Q$10,DATA!$P$2:$R$196,3))","v":""},{"$f":"IF(AOB18=\"\",\"\",VLOOKUP($Q$10,DATA!$P$2:$R$196,3))","v":""},{"$f":"IF(AOC18=\"\",\"\",VLOOKUP($Q$10,DATA!$P$2:$R$196,3))","v":""},{"$f":"IF(AOD18=\"\",\"\",VLOOKUP($Q$10,DATA!$P$2:$R$196,3))","v":""},{"$f":"IF(AOE18=\"\",\"\",VLOOKUP($Q$10,DATA!$P$2:$R$196,3))","v":""},{"$f":"IF(AOF18=\"\",\"\",VLOOKUP($Q$10,DATA!$P$2:$R$196,3))","v":""},{"$f":"IF(AOG18=\"\",\"\",VLOOKUP($Q$10,DATA!$P$2:$R$196,3))","v":""},{"$f":"IF(AOH18=\"\",\"\",VLOOKUP($Q$10,DATA!$P$2:$R$196,3))","v":""},{"$f":"IF(AOI18=\"\",\"\",VLOOKUP($Q$10,DATA!$P$2:$R$196,3))","v":""},{"$f":"IF(AOJ18=\"\",\"\",VLOOKUP($Q$10,DATA!$P$2:$R$196,3))","v":""},{"$f":"IF(AOK18=\"\",\"\",VLOOKUP($Q$10,DATA!$P$2:$R$196,3))","v":""},{"$f":"IF(AOL18=\"\",\"\",VLOOKUP($Q$10,DATA!$P$2:$R$196,3))","v":""},{"$f":"IF(AOM18=\"\",\"\",VLOOKUP($Q$10,DATA!$P$2:$R$196,3))","v":""},{"$f":"IF(AON18=\"\",\"\",VLOOKUP($Q$10,DATA!$P$2:$R$196,3))","v":""},{"$f":"IF(AOO18=\"\",\"\",VLOOKUP($Q$10,DATA!$P$2:$R$196,3))","v":""},{"$f":"IF(AOP18=\"\",\"\",VLOOKUP($Q$10,DATA!$P$2:$R$196,3))","v":""},{"$f":"IF(AOQ18=\"\",\"\",VLOOKUP($Q$10,DATA!$P$2:$R$196,3))","v":""},{"$f":"IF(AOR18=\"\",\"\",VLOOKUP($Q$10,DATA!$P$2:$R$196,3))","v":""},{"$f":"IF(AOS18=\"\",\"\",VLOOKUP($Q$10,DATA!$P$2:$R$196,3))","v":""},{"$f":"IF(AOT18=\"\",\"\",VLOOKUP($Q$10,DATA!$P$2:$R$196,3))","v":""},{"$f":"IF(AOU18=\"\",\"\",VLOOKUP($Q$10,DATA!$P$2:$R$196,3))","v":""},{"$f":"IF(AOV18=\"\",\"\",VLOOKUP($Q$10,DATA!$P$2:$R$196,3))","v":""},{"$f":"IF(AOW18=\"\",\"\",VLOOKUP($Q$10,DATA!$P$2:$R$196,3))","v":""},{"$f":"IF(AOX18=\"\",\"\",VLOOKUP($Q$10,DATA!$P$2:$R$196,3))","v":""},{"$f":"IF(AOY18=\"\",\"\",VLOOKUP($Q$10,DATA!$P$2:$R$196,3))","v":""},{"$f":"IF(AOZ18=\"\",\"\",VLOOKUP($Q$10,DATA!$P$2:$R$196,3))","v":""},{"$f":"IF(APA18=\"\",\"\",VLOOKUP($Q$10,DATA!$P$2:$R$196,3))","v":""},{"$f":"IF(APB18=\"\",\"\",VLOOKUP($Q$10,DATA!$P$2:$R$196,3))","v":""},{"$f":"IF(APC18=\"\",\"\",VLOOKUP($Q$10,DATA!$P$2:$R$196,3))","v":""},{"$f":"IF(APD18=\"\",\"\",VLOOKUP($Q$10,DATA!$P$2:$R$196,3))","v":""},{"$f":"IF(APE18=\"\",\"\",VLOOKUP($Q$10,DATA!$P$2:$R$196,3))","v":""},{"$f":"IF(APF18=\"\",\"\",VLOOKUP($Q$10,DATA!$P$2:$R$196,3))","v":""},{"$f":"IF(APG18=\"\",\"\",VLOOKUP($Q$10,DATA!$P$2:$R$196,3))","v":""},{"$f":"IF(APH18=\"\",\"\",VLOOKUP($Q$10,DATA!$P$2:$R$196,3))","v":""},{"$f":"IF(API18=\"\",\"\",VLOOKUP($Q$10,DATA!$P$2:$R$196,3))","v":""},{"$f":"IF(APJ18=\"\",\"\",VLOOKUP($Q$10,DATA!$P$2:$R$196,3))","v":""},{"$f":"IF(APK18=\"\",\"\",VLOOKUP($Q$10,DATA!$P$2:$R$196,3))","v":""},{"$f":"IF(APL18=\"\",\"\",VLOOKUP($Q$10,DATA!$P$2:$R$196,3))","v":""},{"$f":"IF(APM18=\"\",\"\",VLOOKUP($Q$10,DATA!$P$2:$R$196,3))","v":""},{"$f":"IF(APN18=\"\",\"\",VLOOKUP($Q$10,DATA!$P$2:$R$196,3))","v":""},{"$f":"IF(APO18=\"\",\"\",VLOOKUP($Q$10,DATA!$P$2:$R$196,3))","v":""},{"$f":"IF(APP18=\"\",\"\",VLOOKUP($Q$10,DATA!$P$2:$R$196,3))","v":""},{"$f":"IF(APQ18=\"\",\"\",VLOOKUP($Q$10,DATA!$P$2:$R$196,3))","v":""},{"$f":"IF(APR18=\"\",\"\",VLOOKUP($Q$10,DATA!$P$2:$R$196,3))","v":""},{"$f":"IF(APS18=\"\",\"\",VLOOKUP($Q$10,DATA!$P$2:$R$196,3))","v":""},{"$f":"IF(APT18=\"\",\"\",VLOOKUP($Q$10,DATA!$P$2:$R$196,3))","v":""},{"$f":"IF(APU18=\"\",\"\",VLOOKUP($Q$10,DATA!$P$2:$R$196,3))","v":""},{"$f":"IF(APV18=\"\",\"\",VLOOKUP($Q$10,DATA!$P$2:$R$196,3))","v":""},{"$f":"IF(APW18=\"\",\"\",VLOOKUP($Q$10,DATA!$P$2:$R$196,3))","v":""},{"$f":"IF(APX18=\"\",\"\",VLOOKUP($Q$10,DATA!$P$2:$R$196,3))","v":""},{"$f":"IF(APY18=\"\",\"\",VLOOKUP($Q$10,DATA!$P$2:$R$196,3))","v":""},{"$f":"IF(APZ18=\"\",\"\",VLOOKUP($Q$10,DATA!$P$2:$R$196,3))","v":""},{"$f":"IF(AQA18=\"\",\"\",VLOOKUP($Q$10,DATA!$P$2:$R$196,3))","v":""},{"$f":"IF(AQB18=\"\",\"\",VLOOKUP($Q$10,DATA!$P$2:$R$196,3))","v":""},{"$f":"IF(AQC18=\"\",\"\",VLOOKUP($Q$10,DATA!$P$2:$R$196,3))","v":""},{"$f":"IF(AQD18=\"\",\"\",VLOOKUP($Q$10,DATA!$P$2:$R$196,3))","v":""},{"$f":"IF(AQE18=\"\",\"\",VLOOKUP($Q$10,DATA!$P$2:$R$196,3))","v":""},{"$f":"IF(AQF18=\"\",\"\",VLOOKUP($Q$10,DATA!$P$2:$R$196,3))","v":""},{"$f":"IF(AQG18=\"\",\"\",VLOOKUP($Q$10,DATA!$P$2:$R$196,3))","v":""},{"$f":"IF(AQH18=\"\",\"\",VLOOKUP($Q$10,DATA!$P$2:$R$196,3))","v":""},{"$f":"IF(AQI18=\"\",\"\",VLOOKUP($Q$10,DATA!$P$2:$R$196,3))","v":""},{"$f":"IF(AQJ18=\"\",\"\",VLOOKUP($Q$10,DATA!$P$2:$R$196,3))","v":""},{"$f":"IF(AQK18=\"\",\"\",VLOOKUP($Q$10,DATA!$P$2:$R$196,3))","v":""},{"$f":"IF(AQL18=\"\",\"\",VLOOKUP($Q$10,DATA!$P$2:$R$196,3))","v":""},{"$f":"IF(AQM18=\"\",\"\",VLOOKUP($Q$10,DATA!$P$2:$R$196,3))","v":""},{"$f":"IF(AQN18=\"\",\"\",VLOOKUP($Q$10,DATA!$P$2:$R$196,3))","v":""},{"$f":"IF(AQO18=\"\",\"\",VLOOKUP($Q$10,DATA!$P$2:$R$196,3))","v":""},{"$f":"IF(AQP18=\"\",\"\",VLOOKUP($Q$10,DATA!$P$2:$R$196,3))","v":""},{"$f":"IF(AQQ18=\"\",\"\",VLOOKUP($Q$10,DATA!$P$2:$R$196,3))","v":""},{"$f":"IF(AQR18=\"\",\"\",VLOOKUP($Q$10,DATA!$P$2:$R$196,3))","v":""},{"$f":"IF(AQS18=\"\",\"\",VLOOKUP($Q$10,DATA!$P$2:$R$196,3))","v":""},{"$f":"IF(AQT18=\"\",\"\",VLOOKUP($Q$10,DATA!$P$2:$R$196,3))","v":""},{"$f":"IF(AQU18=\"\",\"\",VLOOKUP($Q$10,DATA!$P$2:$R$196,3))","v":""},{"$f":"IF(AQV18=\"\",\"\",VLOOKUP($Q$10,DATA!$P$2:$R$196,3))","v":""},{"$f":"IF(AQW18=\"\",\"\",VLOOKUP($Q$10,DATA!$P$2:$R$196,3))","v":""},{"$f":"IF(AQX18=\"\",\"\",VLOOKUP($Q$10,DATA!$P$2:$R$196,3))","v":""},{"$f":"IF(AQY18=\"\",\"\",VLOOKUP($Q$10,DATA!$P$2:$R$196,3))","v":""},{"$f":"IF(AQZ18=\"\",\"\",VLOOKUP($Q$10,DATA!$P$2:$R$196,3))","v":""},{"$f":"IF(ARA18=\"\",\"\",VLOOKUP($Q$10,DATA!$P$2:$R$196,3))","v":""},{"$f":"IF(ARB18=\"\",\"\",VLOOKUP($Q$10,DATA!$P$2:$R$196,3))","v":""},{"$f":"IF(ARC18=\"\",\"\",VLOOKUP($Q$10,DATA!$P$2:$R$196,3))","v":""},{"$f":"IF(ARD18=\"\",\"\",VLOOKUP($Q$10,DATA!$P$2:$R$196,3))","v":""},{"$f":"IF(ARE18=\"\",\"\",VLOOKUP($Q$10,DATA!$P$2:$R$196,3))","v":""},{"$f":"IF(ARF18=\"\",\"\",VLOOKUP($Q$10,DATA!$P$2:$R$196,3))","v":""},{"$f":"IF(ARG18=\"\",\"\",VLOOKUP($Q$10,DATA!$P$2:$R$196,3))","v":""},{"$f":"IF(ARH18=\"\",\"\",VLOOKUP($Q$10,DATA!$P$2:$R$196,3))","v":""},{"$f":"IF(ARI18=\"\",\"\",VLOOKUP($Q$10,DATA!$P$2:$R$196,3))","v":""},{"$f":"IF(ARJ18=\"\",\"\",VLOOKUP($Q$10,DATA!$P$2:$R$196,3))","v":""},{"$f":"IF(ARK18=\"\",\"\",VLOOKUP($Q$10,DATA!$P$2:$R$196,3))","v":""},{"$f":"IF(ARL18=\"\",\"\",VLOOKUP($Q$10,DATA!$P$2:$R$196,3))","v":""},{"$f":"IF(ARM18=\"\",\"\",VLOOKUP($Q$10,DATA!$P$2:$R$196,3))","v":""},{"$f":"IF(ARN18=\"\",\"\",VLOOKUP($Q$10,DATA!$P$2:$R$196,3))","v":""},{"$f":"IF(ARO18=\"\",\"\",VLOOKUP($Q$10,DATA!$P$2:$R$196,3))","v":""},{"$f":"IF(ARP18=\"\",\"\",VLOOKUP($Q$10,DATA!$P$2:$R$196,3))","v":""},{"$f":"IF(ARQ18=\"\",\"\",VLOOKUP($Q$10,DATA!$P$2:$R$196,3))","v":""},{"$f":"IF(ARR18=\"\",\"\",VLOOKUP($Q$10,DATA!$P$2:$R$196,3))","v":""},{"$f":"IF(ARS18=\"\",\"\",VLOOKUP($Q$10,DATA!$P$2:$R$196,3))","v":""},{"$f":"IF(ART18=\"\",\"\",VLOOKUP($Q$10,DATA!$P$2:$R$196,3))","v":""},{"$f":"IF(ARU18=\"\",\"\",VLOOKUP($Q$10,DATA!$P$2:$R$196,3))","v":""},{"$f":"IF(ARV18=\"\",\"\",VLOOKUP($Q$10,DATA!$P$2:$R$196,3))","v":""},{"$f":"IF(ARW18=\"\",\"\",VLOOKUP($Q$10,DATA!$P$2:$R$196,3))","v":""},{"$f":"IF(ARX18=\"\",\"\",VLOOKUP($Q$10,DATA!$P$2:$R$196,3))","v":""},{"$f":"IF(ARY18=\"\",\"\",VLOOKUP($Q$10,DATA!$P$2:$R$196,3))","v":""},{"$f":"IF(ARZ18=\"\",\"\",VLOOKUP($Q$10,DATA!$P$2:$R$196,3))","v":""},{"$f":"IF(ASA18=\"\",\"\",VLOOKUP($Q$10,DATA!$P$2:$R$196,3))","v":""},{"$f":"IF(ASB18=\"\",\"\",VLOOKUP($Q$10,DATA!$P$2:$R$196,3))","v":""},{"$f":"IF(ASC18=\"\",\"\",VLOOKUP($Q$10,DATA!$P$2:$R$196,3))","v":""},{"$f":"IF(ASD18=\"\",\"\",VLOOKUP($Q$10,DATA!$P$2:$R$196,3))","v":""},{"$f":"IF(ASE18=\"\",\"\",VLOOKUP($Q$10,DATA!$P$2:$R$196,3))","v":""},{"$f":"IF(ASF18=\"\",\"\",VLOOKUP($Q$10,DATA!$P$2:$R$196,3))","v":""},{"$f":"IF(ASG18=\"\",\"\",VLOOKUP($Q$10,DATA!$P$2:$R$196,3))","v":""},{"$f":"IF(ASH18=\"\",\"\",VLOOKUP($Q$10,DATA!$P$2:$R$196,3))","v":""},{"$f":"IF(ASI18=\"\",\"\",VLOOKUP($Q$10,DATA!$P$2:$R$196,3))","v":""},{"$f":"IF(ASJ18=\"\",\"\",VLOOKUP($Q$10,DATA!$P$2:$R$196,3))","v":""},{"$f":"IF(ASK18=\"\",\"\",VLOOKUP($Q$10,DATA!$P$2:$R$196,3))","v":""},{"$f":"IF(ASL18=\"\",\"\",VLOOKUP($Q$10,DATA!$P$2:$R$196,3))","v":""},{"$f":"IF(ASM18=\"\",\"\",VLOOKUP($Q$10,DATA!$P$2:$R$196,3))","v":""},{"$f":"IF(ASN18=\"\",\"\",VLOOKUP($Q$10,DATA!$P$2:$R$196,3))","v":""},{"$f":"IF(ASO18=\"\",\"\",VLOOKUP($Q$10,DATA!$P$2:$R$196,3))","v":""},{"$f":"IF(ASP18=\"\",\"\",VLOOKUP($Q$10,DATA!$P$2:$R$196,3))","v":""},{"$f":"IF(ASQ18=\"\",\"\",VLOOKUP($Q$10,DATA!$P$2:$R$196,3))","v":""},{"$f":"IF(ASR18=\"\",\"\",VLOOKUP($Q$10,DATA!$P$2:$R$196,3))","v":""},{"$f":"IF(ASS18=\"\",\"\",VLOOKUP($Q$10,DATA!$P$2:$R$196,3))","v":""},{"$f":"IF(AST18=\"\",\"\",VLOOKUP($Q$10,DATA!$P$2:$R$196,3))","v":""},{"$f":"IF(ASU18=\"\",\"\",VLOOKUP($Q$10,DATA!$P$2:$R$196,3))","v":""},{"$f":"IF(ASV18=\"\",\"\",VLOOKUP($Q$10,DATA!$P$2:$R$196,3))","v":""},{"$f":"IF(ASW18=\"\",\"\",VLOOKUP($Q$10,DATA!$P$2:$R$196,3))","v":""},{"$f":"IF(ASX18=\"\",\"\",VLOOKUP($Q$10,DATA!$P$2:$R$196,3))","v":""},{"$f":"IF(ASY18=\"\",\"\",VLOOKUP($Q$10,DATA!$P$2:$R$196,3))","v":""},{"$f":"IF(ASZ18=\"\",\"\",VLOOKUP($Q$10,DATA!$P$2:$R$196,3))","v":""},{"$f":"IF(ATA18=\"\",\"\",VLOOKUP($Q$10,DATA!$P$2:$R$196,3))","v":""},{"$f":"IF(ATB18=\"\",\"\",VLOOKUP($Q$10,DATA!$P$2:$R$196,3))","v":""},{"$f":"IF(ATC18=\"\",\"\",VLOOKUP($Q$10,DATA!$P$2:$R$196,3))","v":""},{"$f":"IF(ATD18=\"\",\"\",VLOOKUP($Q$10,DATA!$P$2:$R$196,3))","v":""},{"$f":"IF(ATE18=\"\",\"\",VLOOKUP($Q$10,DATA!$P$2:$R$196,3))","v":""},{"$f":"IF(ATF18=\"\",\"\",VLOOKUP($Q$10,DATA!$P$2:$R$196,3))","v":""},{"$f":"IF(ATG18=\"\",\"\",VLOOKUP($Q$10,DATA!$P$2:$R$196,3))","v":""},{"$f":"IF(ATH18=\"\",\"\",VLOOKUP($Q$10,DATA!$P$2:$R$196,3))","v":""},{"$f":"IF(ATI18=\"\",\"\",VLOOKUP($Q$10,DATA!$P$2:$R$196,3))","v":""},{"$f":"IF(ATJ18=\"\",\"\",VLOOKUP($Q$10,DATA!$P$2:$R$196,3))","v":""},{"$f":"IF(ATK18=\"\",\"\",VLOOKUP($Q$10,DATA!$P$2:$R$196,3))","v":""},{"$f":"IF(ATL18=\"\",\"\",VLOOKUP($Q$10,DATA!$P$2:$R$196,3))","v":""},{"$f":"IF(ATM18=\"\",\"\",VLOOKUP($Q$10,DATA!$P$2:$R$196,3))","v":""},{"$f":"IF(ATN18=\"\",\"\",VLOOKUP($Q$10,DATA!$P$2:$R$196,3))","v":""},{"$f":"IF(ATO18=\"\",\"\",VLOOKUP($Q$10,DATA!$P$2:$R$196,3))","v":""},{"$f":"IF(ATP18=\"\",\"\",VLOOKUP($Q$10,DATA!$P$2:$R$196,3))","v":""},{"$f":"IF(ATQ18=\"\",\"\",VLOOKUP($Q$10,DATA!$P$2:$R$196,3))","v":""},{"$f":"IF(ATR18=\"\",\"\",VLOOKUP($Q$10,DATA!$P$2:$R$196,3))","v":""},{"$f":"IF(ATS18=\"\",\"\",VLOOKUP($Q$10,DATA!$P$2:$R$196,3))","v":""},{"$f":"IF(ATT18=\"\",\"\",VLOOKUP($Q$10,DATA!$P$2:$R$196,3))","v":""},{"$f":"IF(ATU18=\"\",\"\",VLOOKUP($Q$10,DATA!$P$2:$R$196,3))","v":""},{"$f":"IF(ATV18=\"\",\"\",VLOOKUP($Q$10,DATA!$P$2:$R$196,3))","v":""},{"$f":"IF(ATW18=\"\",\"\",VLOOKUP($Q$10,DATA!$P$2:$R$196,3))","v":""},{"$f":"IF(ATX18=\"\",\"\",VLOOKUP($Q$10,DATA!$P$2:$R$196,3))","v":""},{"$f":"IF(ATY18=\"\",\"\",VLOOKUP($Q$10,DATA!$P$2:$R$196,3))","v":""},{"$f":"IF(ATZ18=\"\",\"\",VLOOKUP($Q$10,DATA!$P$2:$R$196,3))","v":""},{"$f":"IF(AUA18=\"\",\"\",VLOOKUP($Q$10,DATA!$P$2:$R$196,3))","v":""},{"$f":"IF(AUB18=\"\",\"\",VLOOKUP($Q$10,DATA!$P$2:$R$196,3))","v":""},{"$f":"IF(AUC18=\"\",\"\",VLOOKUP($Q$10,DATA!$P$2:$R$196,3))","v":""},{"$f":"IF(AUD18=\"\",\"\",VLOOKUP($Q$10,DATA!$P$2:$R$196,3))","v":""},{"$f":"IF(AUE18=\"\",\"\",VLOOKUP($Q$10,DATA!$P$2:$R$196,3))","v":""},{"$f":"IF(AUF18=\"\",\"\",VLOOKUP($Q$10,DATA!$P$2:$R$196,3))","v":""},{"$f":"IF(AUG18=\"\",\"\",VLOOKUP($Q$10,DATA!$P$2:$R$196,3))","v":""},{"$f":"IF(AUH18=\"\",\"\",VLOOKUP($Q$10,DATA!$P$2:$R$196,3))","v":""},{"$f":"IF(AUI18=\"\",\"\",VLOOKUP($Q$10,DATA!$P$2:$R$196,3))","v":""},{"$f":"IF(AUJ18=\"\",\"\",VLOOKUP($Q$10,DATA!$P$2:$R$196,3))","v":""},{"$f":"IF(AUK18=\"\",\"\",VLOOKUP($Q$10,DATA!$P$2:$R$196,3))","v":""},{"$f":"IF(AUL18=\"\",\"\",VLOOKUP($Q$10,DATA!$P$2:$R$196,3))","v":""},{"$f":"IF(AUM18=\"\",\"\",VLOOKUP($Q$10,DATA!$P$2:$R$196,3))","v":""},{"$f":"IF(AUN18=\"\",\"\",VLOOKUP($Q$10,DATA!$P$2:$R$196,3))","v":""},{"$f":"IF(AUO18=\"\",\"\",VLOOKUP($Q$10,DATA!$P$2:$R$196,3))","v":""},{"$f":"IF(AUP18=\"\",\"\",VLOOKUP($Q$10,DATA!$P$2:$R$196,3))","v":""},{"$f":"IF(AUQ18=\"\",\"\",VLOOKUP($Q$10,DATA!$P$2:$R$196,3))","v":""},{"$f":"IF(AUR18=\"\",\"\",VLOOKUP($Q$10,DATA!$P$2:$R$196,3))","v":""},{"$f":"IF(AUS18=\"\",\"\",VLOOKUP($Q$10,DATA!$P$2:$R$196,3))","v":""},{"$f":"IF(AUT18=\"\",\"\",VLOOKUP($Q$10,DATA!$P$2:$R$196,3))","v":""},{"$f":"IF(AUU18=\"\",\"\",VLOOKUP($Q$10,DATA!$P$2:$R$196,3))","v":""},{"$f":"IF(AUV18=\"\",\"\",VLOOKUP($Q$10,DATA!$P$2:$R$196,3))","v":""},{"$f":"IF(AUW18=\"\",\"\",VLOOKUP($Q$10,DATA!$P$2:$R$196,3))","v":""},{"$f":"IF(AUX18=\"\",\"\",VLOOKUP($Q$10,DATA!$P$2:$R$196,3))","v":""},{"$f":"IF(AUY18=\"\",\"\",VLOOKUP($Q$10,DATA!$P$2:$R$196,3))","v":""},{"$f":"IF(AUZ18=\"\",\"\",VLOOKUP($Q$10,DATA!$P$2:$R$196,3))","v":""},{"$f":"IF(AVA18=\"\",\"\",VLOOKUP($Q$10,DATA!$P$2:$R$196,3))","v":""},{"$f":"IF(AVB18=\"\",\"\",VLOOKUP($Q$10,DATA!$P$2:$R$196,3))","v":""},{"$f":"IF(AVC18=\"\",\"\",VLOOKUP($Q$10,DATA!$P$2:$R$196,3))","v":""},{"$f":"IF(AVD18=\"\",\"\",VLOOKUP($Q$10,DATA!$P$2:$R$196,3))","v":""},{"$f":"IF(AVE18=\"\",\"\",VLOOKUP($Q$10,DATA!$P$2:$R$196,3))","v":""},{"$f":"IF(AVF18=\"\",\"\",VLOOKUP($Q$10,DATA!$P$2:$R$196,3))","v":""},{"$f":"IF(AVG18=\"\",\"\",VLOOKUP($Q$10,DATA!$P$2:$R$196,3))","v":""},{"$f":"IF(AVH18=\"\",\"\",VLOOKUP($Q$10,DATA!$P$2:$R$196,3))","v":""},{"$f":"IF(AVI18=\"\",\"\",VLOOKUP($Q$10,DATA!$P$2:$R$196,3))","v":""},{"$f":"IF(AVJ18=\"\",\"\",VLOOKUP($Q$10,DATA!$P$2:$R$196,3))","v":""},{"$f":"IF(AVK18=\"\",\"\",VLOOKUP($Q$10,DATA!$P$2:$R$196,3))","v":""},{"$f":"IF(AVL18=\"\",\"\",VLOOKUP($Q$10,DATA!$P$2:$R$196,3))","v":""},{"$f":"IF(AVM18=\"\",\"\",VLOOKUP($Q$10,DATA!$P$2:$R$196,3))","v":""},{"$f":"IF(AVN18=\"\",\"\",VLOOKUP($Q$10,DATA!$P$2:$R$196,3))","v":""},{"$f":"IF(AVO18=\"\",\"\",VLOOKUP($Q$10,DATA!$P$2:$R$196,3))","v":""},{"$f":"IF(AVP18=\"\",\"\",VLOOKUP($Q$10,DATA!$P$2:$R$196,3))","v":""},{"$f":"IF(AVQ18=\"\",\"\",VLOOKUP($Q$10,DATA!$P$2:$R$196,3))","v":""},{"$f":"IF(AVR18=\"\",\"\",VLOOKUP($Q$10,DATA!$P$2:$R$196,3))","v":""},{"$f":"IF(AVS18=\"\",\"\",VLOOKUP($Q$10,DATA!$P$2:$R$196,3))","v":""},{"$f":"IF(AVT18=\"\",\"\",VLOOKUP($Q$10,DATA!$P$2:$R$196,3))","v":""},{"$f":"IF(AVU18=\"\",\"\",VLOOKUP($Q$10,DATA!$P$2:$R$196,3))","v":""},{"$f":"IF(AVV18=\"\",\"\",VLOOKUP($Q$10,DATA!$P$2:$R$196,3))","v":""},{"$f":"IF(AVW18=\"\",\"\",VLOOKUP($Q$10,DATA!$P$2:$R$196,3))","v":""},{"$f":"IF(AVX18=\"\",\"\",VLOOKUP($Q$10,DATA!$P$2:$R$196,3))","v":""},{"$f":"IF(AVY18=\"\",\"\",VLOOKUP($Q$10,DATA!$P$2:$R$196,3))","v":""},{"$f":"IF(AVZ18=\"\",\"\",VLOOKUP($Q$10,DATA!$P$2:$R$196,3))","v":""},{"$f":"IF(AWA18=\"\",\"\",VLOOKUP($Q$10,DATA!$P$2:$R$196,3))","v":""},{"$f":"IF(AWB18=\"\",\"\",VLOOKUP($Q$10,DATA!$P$2:$R$196,3))","v":""},{"$f":"IF(AWC18=\"\",\"\",VLOOKUP($Q$10,DATA!$P$2:$R$196,3))","v":""},{"$f":"IF(AWD18=\"\",\"\",VLOOKUP($Q$10,DATA!$P$2:$R$196,3))","v":""},{"$f":"IF(AWE18=\"\",\"\",VLOOKUP($Q$10,DATA!$P$2:$R$196,3))","v":""},{"$f":"IF(AWF18=\"\",\"\",VLOOKUP($Q$10,DATA!$P$2:$R$196,3))","v":""},{"$f":"IF(AWG18=\"\",\"\",VLOOKUP($Q$10,DATA!$P$2:$R$196,3))","v":""},{"$f":"IF(AWH18=\"\",\"\",VLOOKUP($Q$10,DATA!$P$2:$R$196,3))","v":""},{"$f":"IF(AWI18=\"\",\"\",VLOOKUP($Q$10,DATA!$P$2:$R$196,3))","v":""},{"$f":"IF(AWJ18=\"\",\"\",VLOOKUP($Q$10,DATA!$P$2:$R$196,3))","v":""},{"$f":"IF(AWK18=\"\",\"\",VLOOKUP($Q$10,DATA!$P$2:$R$196,3))","v":""},{"$f":"IF(AWL18=\"\",\"\",VLOOKUP($Q$10,DATA!$P$2:$R$196,3))","v":""},{"$f":"IF(AWM18=\"\",\"\",VLOOKUP($Q$10,DATA!$P$2:$R$196,3))","v":""},{"$f":"IF(AWN18=\"\",\"\",VLOOKUP($Q$10,DATA!$P$2:$R$196,3))","v":""},{"$f":"IF(AWO18=\"\",\"\",VLOOKUP($Q$10,DATA!$P$2:$R$196,3))","v":""},{"$f":"IF(AWP18=\"\",\"\",VLOOKUP($Q$10,DATA!$P$2:$R$196,3))","v":""},{"$f":"IF(AWQ18=\"\",\"\",VLOOKUP($Q$10,DATA!$P$2:$R$196,3))","v":""},{"$f":"IF(AWR18=\"\",\"\",VLOOKUP($Q$10,DATA!$P$2:$R$196,3))","v":""},{"$f":"IF(AWS18=\"\",\"\",VLOOKUP($Q$10,DATA!$P$2:$R$196,3))","v":""},{"$f":"IF(AWT18=\"\",\"\",VLOOKUP($Q$10,DATA!$P$2:$R$196,3))","v":""},{"$f":"IF(AWU18=\"\",\"\",VLOOKUP($Q$10,DATA!$P$2:$R$196,3))","v":""},{"$f":"IF(AWV18=\"\",\"\",VLOOKUP($Q$10,DATA!$P$2:$R$196,3))","v":""},{"$f":"IF(AWW18=\"\",\"\",VLOOKUP($Q$10,DATA!$P$2:$R$196,3))","v":""},{"$f":"IF(AWX18=\"\",\"\",VLOOKUP($Q$10,DATA!$P$2:$R$196,3))","v":""},{"$f":"IF(AWY18=\"\",\"\",VLOOKUP($Q$10,DATA!$P$2:$R$196,3))","v":""},{"$f":"IF(AWZ18=\"\",\"\",VLOOKUP($Q$10,DATA!$P$2:$R$196,3))","v":""},{"$f":"IF(AXA18=\"\",\"\",VLOOKUP($Q$10,DATA!$P$2:$R$196,3))","v":""},{"$f":"IF(AXB18=\"\",\"\",VLOOKUP($Q$10,DATA!$P$2:$R$196,3))","v":""},{"$f":"IF(AXC18=\"\",\"\",VLOOKUP($Q$10,DATA!$P$2:$R$196,3))","v":""},{"$f":"IF(AXD18=\"\",\"\",VLOOKUP($Q$10,DATA!$P$2:$R$196,3))","v":""},{"$f":"IF(AXE18=\"\",\"\",VLOOKUP($Q$10,DATA!$P$2:$R$196,3))","v":""},{"$f":"IF(AXF18=\"\",\"\",VLOOKUP($Q$10,DATA!$P$2:$R$196,3))","v":""},{"$f":"IF(AXG18=\"\",\"\",VLOOKUP($Q$10,DATA!$P$2:$R$196,3))","v":""},{"$f":"IF(AXH18=\"\",\"\",VLOOKUP($Q$10,DATA!$P$2:$R$196,3))","v":""},{"$f":"IF(AXI18=\"\",\"\",VLOOKUP($Q$10,DATA!$P$2:$R$196,3))","v":""},{"$f":"IF(AXJ18=\"\",\"\",VLOOKUP($Q$10,DATA!$P$2:$R$196,3))","v":""},{"$f":"IF(AXK18=\"\",\"\",VLOOKUP($Q$10,DATA!$P$2:$R$196,3))","v":""},{"$f":"IF(AXL18=\"\",\"\",VLOOKUP($Q$10,DATA!$P$2:$R$196,3))","v":""},{"$f":"IF(AXM18=\"\",\"\",VLOOKUP($Q$10,DATA!$P$2:$R$196,3))","v":""},{"$f":"IF(AXN18=\"\",\"\",VLOOKUP($Q$10,DATA!$P$2:$R$196,3))","v":""},{"$f":"IF(AXO18=\"\",\"\",VLOOKUP($Q$10,DATA!$P$2:$R$196,3))","v":""},{"$f":"IF(AXP18=\"\",\"\",VLOOKUP($Q$10,DATA!$P$2:$R$196,3))","v":""},{"$f":"IF(AXQ18=\"\",\"\",VLOOKUP($Q$10,DATA!$P$2:$R$196,3))","v":""},{"$f":"IF(AXR18=\"\",\"\",VLOOKUP($Q$10,DATA!$P$2:$R$196,3))","v":""},{"$f":"IF(AXS18=\"\",\"\",VLOOKUP($Q$10,DATA!$P$2:$R$196,3))","v":""},{"$f":"IF(AXT18=\"\",\"\",VLOOKUP($Q$10,DATA!$P$2:$R$196,3))","v":""},{"$f":"IF(AXU18=\"\",\"\",VLOOKUP($Q$10,DATA!$P$2:$R$196,3))","v":""},{"$f":"IF(AXV18=\"\",\"\",VLOOKUP($Q$10,DATA!$P$2:$R$196,3))","v":""},{"$f":"IF(AXW18=\"\",\"\",VLOOKUP($Q$10,DATA!$P$2:$R$196,3))","v":""},{"$f":"IF(AXX18=\"\",\"\",VLOOKUP($Q$10,DATA!$P$2:$R$196,3))","v":""},{"$f":"IF(AXY18=\"\",\"\",VLOOKUP($Q$10,DATA!$P$2:$R$196,3))","v":""},{"$f":"IF(AXZ18=\"\",\"\",VLOOKUP($Q$10,DATA!$P$2:$R$196,3))","v":""},{"$f":"IF(AYA18=\"\",\"\",VLOOKUP($Q$10,DATA!$P$2:$R$196,3))","v":""},{"$f":"IF(AYB18=\"\",\"\",VLOOKUP($Q$10,DATA!$P$2:$R$196,3))","v":""},{"$f":"IF(AYC18=\"\",\"\",VLOOKUP($Q$10,DATA!$P$2:$R$196,3))","v":""},{"$f":"IF(AYD18=\"\",\"\",VLOOKUP($Q$10,DATA!$P$2:$R$196,3))","v":""},{"$f":"IF(AYE18=\"\",\"\",VLOOKUP($Q$10,DATA!$P$2:$R$196,3))","v":""},{"$f":"IF(AYF18=\"\",\"\",VLOOKUP($Q$10,DATA!$P$2:$R$196,3))","v":""},{"$f":"IF(AYG18=\"\",\"\",VLOOKUP($Q$10,DATA!$P$2:$R$196,3))","v":""},{"$f":"IF(AYH18=\"\",\"\",VLOOKUP($Q$10,DATA!$P$2:$R$196,3))","v":""},{"$f":"IF(AYI18=\"\",\"\",VLOOKUP($Q$10,DATA!$P$2:$R$196,3))","v":""},{"$f":"IF(AYJ18=\"\",\"\",VLOOKUP($Q$10,DATA!$P$2:$R$196,3))","v":""},{"$f":"IF(AYK18=\"\",\"\",VLOOKUP($Q$10,DATA!$P$2:$R$196,3))","v":""},{"$f":"IF(AYL18=\"\",\"\",VLOOKUP($Q$10,DATA!$P$2:$R$196,3))","v":""},{"$f":"IF(AYM18=\"\",\"\",VLOOKUP($Q$10,DATA!$P$2:$R$196,3))","v":""},{"$f":"IF(AYN18=\"\",\"\",VLOOKUP($Q$10,DATA!$P$2:$R$196,3))","v":""},{"$f":"IF(AYO18=\"\",\"\",VLOOKUP($Q$10,DATA!$P$2:$R$196,3))","v":""},{"$f":"IF(AYP18=\"\",\"\",VLOOKUP($Q$10,DATA!$P$2:$R$196,3))","v":""},{"$f":"IF(AYQ18=\"\",\"\",VLOOKUP($Q$10,DATA!$P$2:$R$196,3))","v":""},{"$f":"IF(AYR18=\"\",\"\",VLOOKUP($Q$10,DATA!$P$2:$R$196,3))","v":""},{"$f":"IF(AYS18=\"\",\"\",VLOOKUP($Q$10,DATA!$P$2:$R$196,3))","v":""},{"$f":"IF(AYT18=\"\",\"\",VLOOKUP($Q$10,DATA!$P$2:$R$196,3))","v":""},{"$f":"IF(AYU18=\"\",\"\",VLOOKUP($Q$10,DATA!$P$2:$R$196,3))","v":""},{"$f":"IF(AYV18=\"\",\"\",VLOOKUP($Q$10,DATA!$P$2:$R$196,3))","v":""},{"$f":"IF(AYW18=\"\",\"\",VLOOKUP($Q$10,DATA!$P$2:$R$196,3))","v":""},{"$f":"IF(AYX18=\"\",\"\",VLOOKUP($Q$10,DATA!$P$2:$R$196,3))","v":""},{"$f":"IF(AYY18=\"\",\"\",VLOOKUP($Q$10,DATA!$P$2:$R$196,3))","v":""},{"$f":"IF(AYZ18=\"\",\"\",VLOOKUP($Q$10,DATA!$P$2:$R$196,3))","v":""},{"$f":"IF(AZA18=\"\",\"\",VLOOKUP($Q$10,DATA!$P$2:$R$196,3))","v":""},{"$f":"IF(AZB18=\"\",\"\",VLOOKUP($Q$10,DATA!$P$2:$R$196,3))","v":""},{"$f":"IF(AZC18=\"\",\"\",VLOOKUP($Q$10,DATA!$P$2:$R$196,3))","v":""},{"$f":"IF(AZD18=\"\",\"\",VLOOKUP($Q$10,DATA!$P$2:$R$196,3))","v":""},{"$f":"IF(AZE18=\"\",\"\",VLOOKUP($Q$10,DATA!$P$2:$R$196,3))","v":""},{"$f":"IF(AZF18=\"\",\"\",VLOOKUP($Q$10,DATA!$P$2:$R$196,3))","v":""},{"$f":"IF(AZG18=\"\",\"\",VLOOKUP($Q$10,DATA!$P$2:$R$196,3))","v":""},{"$f":"IF(AZH18=\"\",\"\",VLOOKUP($Q$10,DATA!$P$2:$R$196,3))","v":""},{"$f":"IF(AZI18=\"\",\"\",VLOOKUP($Q$10,DATA!$P$2:$R$196,3))","v":""},{"$f":"IF(AZJ18=\"\",\"\",VLOOKUP($Q$10,DATA!$P$2:$R$196,3))","v":""},{"$f":"IF(AZK18=\"\",\"\",VLOOKUP($Q$10,DATA!$P$2:$R$196,3))","v":""},{"$f":"IF(AZL18=\"\",\"\",VLOOKUP($Q$10,DATA!$P$2:$R$196,3))","v":""},{"$f":"IF(AZM18=\"\",\"\",VLOOKUP($Q$10,DATA!$P$2:$R$196,3))","v":""},{"$f":"IF(AZN18=\"\",\"\",VLOOKUP($Q$10,DATA!$P$2:$R$196,3))","v":""},{"$f":"IF(AZO18=\"\",\"\",VLOOKUP($Q$10,DATA!$P$2:$R$196,3))","v":""},{"$f":"IF(AZP18=\"\",\"\",VLOOKUP($Q$10,DATA!$P$2:$R$196,3))","v":""},{"$f":"IF(AZQ18=\"\",\"\",VLOOKUP($Q$10,DATA!$P$2:$R$196,3))","v":""},{"$f":"IF(AZR18=\"\",\"\",VLOOKUP($Q$10,DATA!$P$2:$R$196,3))","v":""},{"$f":"IF(AZS18=\"\",\"\",VLOOKUP($Q$10,DATA!$P$2:$R$196,3))","v":""},{"$f":"IF(AZT18=\"\",\"\",VLOOKUP($Q$10,DATA!$P$2:$R$196,3))","v":""},{"$f":"IF(AZU18=\"\",\"\",VLOOKUP($Q$10,DATA!$P$2:$R$196,3))","v":""},{"$f":"IF(AZV18=\"\",\"\",VLOOKUP($Q$10,DATA!$P$2:$R$196,3))","v":""},{"$f":"IF(AZW18=\"\",\"\",VLOOKUP($Q$10,DATA!$P$2:$R$196,3))","v":""},{"$f":"IF(AZX18=\"\",\"\",VLOOKUP($Q$10,DATA!$P$2:$R$196,3))","v":""},{"$f":"IF(AZY18=\"\",\"\",VLOOKUP($Q$10,DATA!$P$2:$R$196,3))","v":""},{"$f":"IF(AZZ18=\"\",\"\",VLOOKUP($Q$10,DATA!$P$2:$R$196,3))","v":""},{"$f":"IF(BAA18=\"\",\"\",VLOOKUP($Q$10,DATA!$P$2:$R$196,3))","v":""},{"$f":"IF(BAB18=\"\",\"\",VLOOKUP($Q$10,DATA!$P$2:$R$196,3))","v":""},{"$f":"IF(BAC18=\"\",\"\",VLOOKUP($Q$10,DATA!$P$2:$R$196,3))","v":""},{"$f":"IF(BAD18=\"\",\"\",VLOOKUP($Q$10,DATA!$P$2:$R$196,3))","v":""},{"$f":"IF(BAE18=\"\",\"\",VLOOKUP($Q$10,DATA!$P$2:$R$196,3))","v":""},{"$f":"IF(BAF18=\"\",\"\",VLOOKUP($Q$10,DATA!$P$2:$R$196,3))","v":""},{"$f":"IF(BAG18=\"\",\"\",VLOOKUP($Q$10,DATA!$P$2:$R$196,3))","v":""},{"$f":"IF(BAH18=\"\",\"\",VLOOKUP($Q$10,DATA!$P$2:$R$196,3))","v":""},{"$f":"IF(BAI18=\"\",\"\",VLOOKUP($Q$10,DATA!$P$2:$R$196,3))","v":""},{"$f":"IF(BAJ18=\"\",\"\",VLOOKUP($Q$10,DATA!$P$2:$R$196,3))","v":""},{"$f":"IF(BAK18=\"\",\"\",VLOOKUP($Q$10,DATA!$P$2:$R$196,3))","v":""},{"$f":"IF(BAL18=\"\",\"\",VLOOKUP($Q$10,DATA!$P$2:$R$196,3))","v":""},{"$f":"IF(BAM18=\"\",\"\",VLOOKUP($Q$10,DATA!$P$2:$R$196,3))","v":""},{"$f":"IF(BAN18=\"\",\"\",VLOOKUP($Q$10,DATA!$P$2:$R$196,3))","v":""},{"$f":"IF(BAO18=\"\",\"\",VLOOKUP($Q$10,DATA!$P$2:$R$196,3))","v":""},{"$f":"IF(BAP18=\"\",\"\",VLOOKUP($Q$10,DATA!$P$2:$R$196,3))","v":""},{"$f":"IF(BAQ18=\"\",\"\",VLOOKUP($Q$10,DATA!$P$2:$R$196,3))","v":""},{"$f":"IF(BAR18=\"\",\"\",VLOOKUP($Q$10,DATA!$P$2:$R$196,3))","v":""},{"$f":"IF(BAS18=\"\",\"\",VLOOKUP($Q$10,DATA!$P$2:$R$196,3))","v":""},{"$f":"IF(BAT18=\"\",\"\",VLOOKUP($Q$10,DATA!$P$2:$R$196,3))","v":""},{"$f":"IF(BAU18=\"\",\"\",VLOOKUP($Q$10,DATA!$P$2:$R$196,3))","v":""},{"$f":"IF(BAV18=\"\",\"\",VLOOKUP($Q$10,DATA!$P$2:$R$196,3))","v":""},{"$f":"IF(BAW18=\"\",\"\",VLOOKUP($Q$10,DATA!$P$2:$R$196,3))","v":""},{"$f":"IF(BAX18=\"\",\"\",VLOOKUP($Q$10,DATA!$P$2:$R$196,3))","v":""},{"$f":"IF(BAY18=\"\",\"\",VLOOKUP($Q$10,DATA!$P$2:$R$196,3))","v":""},{"$f":"IF(BAZ18=\"\",\"\",VLOOKUP($Q$10,DATA!$P$2:$R$196,3))","v":""},{"$f":"IF(BBA18=\"\",\"\",VLOOKUP($Q$10,DATA!$P$2:$R$196,3))","v":""},{"$f":"IF(BBB18=\"\",\"\",VLOOKUP($Q$10,DATA!$P$2:$R$196,3))","v":""},{"$f":"IF(BBC18=\"\",\"\",VLOOKUP($Q$10,DATA!$P$2:$R$196,3))","v":""},{"$f":"IF(BBD18=\"\",\"\",VLOOKUP($Q$10,DATA!$P$2:$R$196,3))","v":""},{"$f":"IF(BBE18=\"\",\"\",VLOOKUP($Q$10,DATA!$P$2:$R$196,3))","v":""},{"$f":"IF(BBF18=\"\",\"\",VLOOKUP($Q$10,DATA!$P$2:$R$196,3))","v":""},{"$f":"IF(BBG18=\"\",\"\",VLOOKUP($Q$10,DATA!$P$2:$R$196,3))","v":""},{"$f":"IF(BBH18=\"\",\"\",VLOOKUP($Q$10,DATA!$P$2:$R$196,3))","v":""},{"$f":"IF(BBI18=\"\",\"\",VLOOKUP($Q$10,DATA!$P$2:$R$196,3))","v":""},{"$f":"IF(BBJ18=\"\",\"\",VLOOKUP($Q$10,DATA!$P$2:$R$196,3))","v":""},{"$f":"IF(BBK18=\"\",\"\",VLOOKUP($Q$10,DATA!$P$2:$R$196,3))","v":""},{"$f":"IF(BBL18=\"\",\"\",VLOOKUP($Q$10,DATA!$P$2:$R$196,3))","v":""},{"$f":"IF(BBM18=\"\",\"\",VLOOKUP($Q$10,DATA!$P$2:$R$196,3))","v":""},{"$f":"IF(BBN18=\"\",\"\",VLOOKUP($Q$10,DATA!$P$2:$R$196,3))","v":""},{"$f":"IF(BBO18=\"\",\"\",VLOOKUP($Q$10,DATA!$P$2:$R$196,3))","v":""},{"$f":"IF(BBP18=\"\",\"\",VLOOKUP($Q$10,DATA!$P$2:$R$196,3))","v":""},{"$f":"IF(BBQ18=\"\",\"\",VLOOKUP($Q$10,DATA!$P$2:$R$196,3))","v":""},{"$f":"IF(BBR18=\"\",\"\",VLOOKUP($Q$10,DATA!$P$2:$R$196,3))","v":""},{"$f":"IF(BBS18=\"\",\"\",VLOOKUP($Q$10,DATA!$P$2:$R$196,3))","v":""},{"$f":"IF(BBT18=\"\",\"\",VLOOKUP($Q$10,DATA!$P$2:$R$196,3))","v":""},{"$f":"IF(BBU18=\"\",\"\",VLOOKUP($Q$10,DATA!$P$2:$R$196,3))","v":""},{"$f":"IF(BBV18=\"\",\"\",VLOOKUP($Q$10,DATA!$P$2:$R$196,3))","v":""},{"$f":"IF(BBW18=\"\",\"\",VLOOKUP($Q$10,DATA!$P$2:$R$196,3))","v":""},{"$f":"IF(BBX18=\"\",\"\",VLOOKUP($Q$10,DATA!$P$2:$R$196,3))","v":""},{"$f":"IF(BBY18=\"\",\"\",VLOOKUP($Q$10,DATA!$P$2:$R$196,3))","v":""},{"$f":"IF(BBZ18=\"\",\"\",VLOOKUP($Q$10,DATA!$P$2:$R$196,3))","v":""},{"$f":"IF(BCA18=\"\",\"\",VLOOKUP($Q$10,DATA!$P$2:$R$196,3))","v":""},{"$f":"IF(BCB18=\"\",\"\",VLOOKUP($Q$10,DATA!$P$2:$R$196,3))","v":""},{"$f":"IF(BCC18=\"\",\"\",VLOOKUP($Q$10,DATA!$P$2:$R$196,3))","v":""},{"$f":"IF(BCD18=\"\",\"\",VLOOKUP($Q$10,DATA!$P$2:$R$196,3))","v":""},{"$f":"IF(BCE18=\"\",\"\",VLOOKUP($Q$10,DATA!$P$2:$R$196,3))","v":""},{"$f":"IF(BCF18=\"\",\"\",VLOOKUP($Q$10,DATA!$P$2:$R$196,3))","v":""},{"$f":"IF(BCG18=\"\",\"\",VLOOKUP($Q$10,DATA!$P$2:$R$196,3))","v":""},{"$f":"IF(BCH18=\"\",\"\",VLOOKUP($Q$10,DATA!$P$2:$R$196,3))","v":""},{"$f":"IF(BCI18=\"\",\"\",VLOOKUP($Q$10,DATA!$P$2:$R$196,3))","v":""},{"$f":"IF(BCJ18=\"\",\"\",VLOOKUP($Q$10,DATA!$P$2:$R$196,3))","v":""},{"$f":"IF(BCK18=\"\",\"\",VLOOKUP($Q$10,DATA!$P$2:$R$196,3))","v":""},{"$f":"IF(BCL18=\"\",\"\",VLOOKUP($Q$10,DATA!$P$2:$R$196,3))","v":""},{"$f":"IF(BCM18=\"\",\"\",VLOOKUP($Q$10,DATA!$P$2:$R$196,3))","v":""},{"$f":"IF(BCN18=\"\",\"\",VLOOKUP($Q$10,DATA!$P$2:$R$196,3))","v":""},{"$f":"IF(BCO18=\"\",\"\",VLOOKUP($Q$10,DATA!$P$2:$R$196,3))","v":""},{"$f":"IF(BCP18=\"\",\"\",VLOOKUP($Q$10,DATA!$P$2:$R$196,3))","v":""},{"$f":"IF(BCQ18=\"\",\"\",VLOOKUP($Q$10,DATA!$P$2:$R$196,3))","v":""},{"$f":"IF(BCR18=\"\",\"\",VLOOKUP($Q$10,DATA!$P$2:$R$196,3))","v":""},{"$f":"IF(BCS18=\"\",\"\",VLOOKUP($Q$10,DATA!$P$2:$R$196,3))","v":""},{"$f":"IF(BCT18=\"\",\"\",VLOOKUP($Q$10,DATA!$P$2:$R$196,3))","v":""},{"$f":"IF(BCU18=\"\",\"\",VLOOKUP($Q$10,DATA!$P$2:$R$196,3))","v":""},{"$f":"IF(BCV18=\"\",\"\",VLOOKUP($Q$10,DATA!$P$2:$R$196,3))","v":""},{"$f":"IF(BCW18=\"\",\"\",VLOOKUP($Q$10,DATA!$P$2:$R$196,3))","v":""},{"$f":"IF(BCX18=\"\",\"\",VLOOKUP($Q$10,DATA!$P$2:$R$196,3))","v":""},{"$f":"IF(BCY18=\"\",\"\",VLOOKUP($Q$10,DATA!$P$2:$R$196,3))","v":""},{"$f":"IF(BCZ18=\"\",\"\",VLOOKUP($Q$10,DATA!$P$2:$R$196,3))","v":""},{"$f":"IF(BDA18=\"\",\"\",VLOOKUP($Q$10,DATA!$P$2:$R$196,3))","v":""},{"$f":"IF(BDB18=\"\",\"\",VLOOKUP($Q$10,DATA!$P$2:$R$196,3))","v":""},{"$f":"IF(BDC18=\"\",\"\",VLOOKUP($Q$10,DATA!$P$2:$R$196,3))","v":""},{"$f":"IF(BDD18=\"\",\"\",VLOOKUP($Q$10,DATA!$P$2:$R$196,3))","v":""},{"$f":"IF(BDE18=\"\",\"\",VLOOKUP($Q$10,DATA!$P$2:$R$196,3))","v":""},{"$f":"IF(BDF18=\"\",\"\",VLOOKUP($Q$10,DATA!$P$2:$R$196,3))","v":""},{"$f":"IF(BDG18=\"\",\"\",VLOOKUP($Q$10,DATA!$P$2:$R$196,3))","v":""},{"$f":"IF(BDH18=\"\",\"\",VLOOKUP($Q$10,DATA!$P$2:$R$196,3))","v":""},{"$f":"IF(BDI18=\"\",\"\",VLOOKUP($Q$10,DATA!$P$2:$R$196,3))","v":""},{"$f":"IF(BDJ18=\"\",\"\",VLOOKUP($Q$10,DATA!$P$2:$R$196,3))","v":""},{"$f":"IF(BDK18=\"\",\"\",VLOOKUP($Q$10,DATA!$P$2:$R$196,3))","v":""},{"$f":"IF(BDL18=\"\",\"\",VLOOKUP($Q$10,DATA!$P$2:$R$196,3))","v":""},{"$f":"IF(BDM18=\"\",\"\",VLOOKUP($Q$10,DATA!$P$2:$R$196,3))","v":""},{"$f":"IF(BDN18=\"\",\"\",VLOOKUP($Q$10,DATA!$P$2:$R$196,3))","v":""},{"$f":"IF(BDO18=\"\",\"\",VLOOKUP($Q$10,DATA!$P$2:$R$196,3))","v":""},{"$f":"IF(BDP18=\"\",\"\",VLOOKUP($Q$10,DATA!$P$2:$R$196,3))","v":""},{"$f":"IF(BDQ18=\"\",\"\",VLOOKUP($Q$10,DATA!$P$2:$R$196,3))","v":""},{"$f":"IF(BDR18=\"\",\"\",VLOOKUP($Q$10,DATA!$P$2:$R$196,3))","v":""},{"$f":"IF(BDS18=\"\",\"\",VLOOKUP($Q$10,DATA!$P$2:$R$196,3))","v":""},{"$f":"IF(BDT18=\"\",\"\",VLOOKUP($Q$10,DATA!$P$2:$R$196,3))","v":""},{"$f":"IF(BDU18=\"\",\"\",VLOOKUP($Q$10,DATA!$P$2:$R$196,3))","v":""},{"$f":"IF(BDV18=\"\",\"\",VLOOKUP($Q$10,DATA!$P$2:$R$196,3))","v":""},{"$f":"IF(BDW18=\"\",\"\",VLOOKUP($Q$10,DATA!$P$2:$R$196,3))","v":""},{"$f":"IF(BDX18=\"\",\"\",VLOOKUP($Q$10,DATA!$P$2:$R$196,3))","v":""},{"$f":"IF(BDY18=\"\",\"\",VLOOKUP($Q$10,DATA!$P$2:$R$196,3))","v":""},{"$f":"IF(BDZ18=\"\",\"\",VLOOKUP($Q$10,DATA!$P$2:$R$196,3))","v":""},{"$f":"IF(BEA18=\"\",\"\",VLOOKUP($Q$10,DATA!$P$2:$R$196,3))","v":""},{"$f":"IF(BEB18=\"\",\"\",VLOOKUP($Q$10,DATA!$P$2:$R$196,3))","v":""},{"$f":"IF(BEC18=\"\",\"\",VLOOKUP($Q$10,DATA!$P$2:$R$196,3))","v":""},{"$f":"IF(BED18=\"\",\"\",VLOOKUP($Q$10,DATA!$P$2:$R$196,3))","v":""},{"$f":"IF(BEE18=\"\",\"\",VLOOKUP($Q$10,DATA!$P$2:$R$196,3))","v":""},{"$f":"IF(BEF18=\"\",\"\",VLOOKUP($Q$10,DATA!$P$2:$R$196,3))","v":""},{"$f":"IF(BEG18=\"\",\"\",VLOOKUP($Q$10,DATA!$P$2:$R$196,3))","v":""},{"$f":"IF(BEH18=\"\",\"\",VLOOKUP($Q$10,DATA!$P$2:$R$196,3))","v":""},{"$f":"IF(BEI18=\"\",\"\",VLOOKUP($Q$10,DATA!$P$2:$R$196,3))","v":""},{"$f":"IF(BEJ18=\"\",\"\",VLOOKUP($Q$10,DATA!$P$2:$R$196,3))","v":""},{"$f":"IF(BEK18=\"\",\"\",VLOOKUP($Q$10,DATA!$P$2:$R$196,3))","v":""},{"$f":"IF(BEL18=\"\",\"\",VLOOKUP($Q$10,DATA!$P$2:$R$196,3))","v":""},{"$f":"IF(BEM18=\"\",\"\",VLOOKUP($Q$10,DATA!$P$2:$R$196,3))","v":""},{"$f":"IF(BEN18=\"\",\"\",VLOOKUP($Q$10,DATA!$P$2:$R$196,3))","v":""},{"$f":"IF(BEO18=\"\",\"\",VLOOKUP($Q$10,DATA!$P$2:$R$196,3))","v":""},{"$f":"IF(BEP18=\"\",\"\",VLOOKUP($Q$10,DATA!$P$2:$R$196,3))","v":""},{"$f":"IF(BEQ18=\"\",\"\",VLOOKUP($Q$10,DATA!$P$2:$R$196,3))","v":""},{"$f":"IF(BER18=\"\",\"\",VLOOKUP($Q$10,DATA!$P$2:$R$196,3))","v":""},{"$f":"IF(BES18=\"\",\"\",VLOOKUP($Q$10,DATA!$P$2:$R$196,3))","v":""},{"$f":"IF(BET18=\"\",\"\",VLOOKUP($Q$10,DATA!$P$2:$R$196,3))","v":""},{"$f":"IF(BEU18=\"\",\"\",VLOOKUP($Q$10,DATA!$P$2:$R$196,3))","v":""},{"$f":"IF(BEV18=\"\",\"\",VLOOKUP($Q$10,DATA!$P$2:$R$196,3))","v":""},{"$f":"IF(BEW18=\"\",\"\",VLOOKUP($Q$10,DATA!$P$2:$R$196,3))","v":""},{"$f":"IF(BEX18=\"\",\"\",VLOOKUP($Q$10,DATA!$P$2:$R$196,3))","v":""},{"$f":"IF(BEY18=\"\",\"\",VLOOKUP($Q$10,DATA!$P$2:$R$196,3))","v":""},{"$f":"IF(BEZ18=\"\",\"\",VLOOKUP($Q$10,DATA!$P$2:$R$196,3))","v":""},{"$f":"IF(BFA18=\"\",\"\",VLOOKUP($Q$10,DATA!$P$2:$R$196,3))","v":""},{"$f":"IF(BFB18=\"\",\"\",VLOOKUP($Q$10,DATA!$P$2:$R$196,3))","v":""},{"$f":"IF(BFC18=\"\",\"\",VLOOKUP($Q$10,DATA!$P$2:$R$196,3))","v":""},{"$f":"IF(BFD18=\"\",\"\",VLOOKUP($Q$10,DATA!$P$2:$R$196,3))","v":""},{"$f":"IF(BFE18=\"\",\"\",VLOOKUP($Q$10,DATA!$P$2:$R$196,3))","v":""},{"$f":"IF(BFF18=\"\",\"\",VLOOKUP($Q$10,DATA!$P$2:$R$196,3))","v":""},{"$f":"IF(BFG18=\"\",\"\",VLOOKUP($Q$10,DATA!$P$2:$R$196,3))","v":""},{"$f":"IF(BFH18=\"\",\"\",VLOOKUP($Q$10,DATA!$P$2:$R$196,3))","v":""},{"$f":"IF(BFI18=\"\",\"\",VLOOKUP($Q$10,DATA!$P$2:$R$196,3))","v":""},{"$f":"IF(BFJ18=\"\",\"\",VLOOKUP($Q$10,DATA!$P$2:$R$196,3))","v":""},{"$f":"IF(BFK18=\"\",\"\",VLOOKUP($Q$10,DATA!$P$2:$R$196,3))","v":""},{"$f":"IF(BFL18=\"\",\"\",VLOOKUP($Q$10,DATA!$P$2:$R$196,3))","v":""},{"$f":"IF(BFM18=\"\",\"\",VLOOKUP($Q$10,DATA!$P$2:$R$196,3))","v":""},{"$f":"IF(BFN18=\"\",\"\",VLOOKUP($Q$10,DATA!$P$2:$R$196,3))","v":""},{"$f":"IF(BFO18=\"\",\"\",VLOOKUP($Q$10,DATA!$P$2:$R$196,3))","v":""},{"$f":"IF(BFP18=\"\",\"\",VLOOKUP($Q$10,DATA!$P$2:$R$196,3))","v":""},{"$f":"IF(BFQ18=\"\",\"\",VLOOKUP($Q$10,DATA!$P$2:$R$196,3))","v":""},{"$f":"IF(BFR18=\"\",\"\",VLOOKUP($Q$10,DATA!$P$2:$R$196,3))","v":""},{"$f":"IF(BFS18=\"\",\"\",VLOOKUP($Q$10,DATA!$P$2:$R$196,3))","v":""},{"$f":"IF(BFT18=\"\",\"\",VLOOKUP($Q$10,DATA!$P$2:$R$196,3))","v":""},{"$f":"IF(BFU18=\"\",\"\",VLOOKUP($Q$10,DATA!$P$2:$R$196,3))","v":""},{"$f":"IF(BFV18=\"\",\"\",VLOOKUP($Q$10,DATA!$P$2:$R$196,3))","v":""},{"$f":"IF(BFW18=\"\",\"\",VLOOKUP($Q$10,DATA!$P$2:$R$196,3))","v":""},{"$f":"IF(BFX18=\"\",\"\",VLOOKUP($Q$10,DATA!$P$2:$R$196,3))","v":""},{"$f":"IF(BFY18=\"\",\"\",VLOOKUP($Q$10,DATA!$P$2:$R$196,3))","v":""},{"$f":"IF(BFZ18=\"\",\"\",VLOOKUP($Q$10,DATA!$P$2:$R$196,3))","v":""},{"$f":"IF(BGA18=\"\",\"\",VLOOKUP($Q$10,DATA!$P$2:$R$196,3))","v":""},{"$f":"IF(BGB18=\"\",\"\",VLOOKUP($Q$10,DATA!$P$2:$R$196,3))","v":""},{"$f":"IF(BGC18=\"\",\"\",VLOOKUP($Q$10,DATA!$P$2:$R$196,3))","v":""},{"$f":"IF(BGD18=\"\",\"\",VLOOKUP($Q$10,DATA!$P$2:$R$196,3))","v":""},{"$f":"IF(BGE18=\"\",\"\",VLOOKUP($Q$10,DATA!$P$2:$R$196,3))","v":""},{"$f":"IF(BGF18=\"\",\"\",VLOOKUP($Q$10,DATA!$P$2:$R$196,3))","v":""},{"$f":"IF(BGG18=\"\",\"\",VLOOKUP($Q$10,DATA!$P$2:$R$196,3))","v":""},{"$f":"IF(BGH18=\"\",\"\",VLOOKUP($Q$10,DATA!$P$2:$R$196,3))","v":""},{"$f":"IF(BGI18=\"\",\"\",VLOOKUP($Q$10,DATA!$P$2:$R$196,3))","v":""},{"$f":"IF(BGJ18=\"\",\"\",VLOOKUP($Q$10,DATA!$P$2:$R$196,3))","v":""},{"$f":"IF(BGK18=\"\",\"\",VLOOKUP($Q$10,DATA!$P$2:$R$196,3))","v":""},{"$f":"IF(BGL18=\"\",\"\",VLOOKUP($Q$10,DATA!$P$2:$R$196,3))","v":""},{"$f":"IF(BGM18=\"\",\"\",VLOOKUP($Q$10,DATA!$P$2:$R$196,3))","v":""},{"$f":"IF(BGN18=\"\",\"\",VLOOKUP($Q$10,DATA!$P$2:$R$196,3))","v":""},{"$f":"IF(BGO18=\"\",\"\",VLOOKUP($Q$10,DATA!$P$2:$R$196,3))","v":""},{"$f":"IF(BGP18=\"\",\"\",VLOOKUP($Q$10,DATA!$P$2:$R$196,3))","v":""},{"$f":"IF(BGQ18=\"\",\"\",VLOOKUP($Q$10,DATA!$P$2:$R$196,3))","v":""},{"$f":"IF(BGR18=\"\",\"\",VLOOKUP($Q$10,DATA!$P$2:$R$196,3))","v":""},{"$f":"IF(BGS18=\"\",\"\",VLOOKUP($Q$10,DATA!$P$2:$R$196,3))","v":""},{"$f":"IF(BGT18=\"\",\"\",VLOOKUP($Q$10,DATA!$P$2:$R$196,3))","v":""},{"$f":"IF(BGU18=\"\",\"\",VLOOKUP($Q$10,DATA!$P$2:$R$196,3))","v":""},{"$f":"IF(BGV18=\"\",\"\",VLOOKUP($Q$10,DATA!$P$2:$R$196,3))","v":""},{"$f":"IF(BGW18=\"\",\"\",VLOOKUP($Q$10,DATA!$P$2:$R$196,3))","v":""},{"$f":"IF(BGX18=\"\",\"\",VLOOKUP($Q$10,DATA!$P$2:$R$196,3))","v":""},{"$f":"IF(BGY18=\"\",\"\",VLOOKUP($Q$10,DATA!$P$2:$R$196,3))","v":""},{"$f":"IF(BGZ18=\"\",\"\",VLOOKUP($Q$10,DATA!$P$2:$R$196,3))","v":""},{"$f":"IF(BHA18=\"\",\"\",VLOOKUP($Q$10,DATA!$P$2:$R$196,3))","v":""},{"$f":"IF(BHB18=\"\",\"\",VLOOKUP($Q$10,DATA!$P$2:$R$196,3))","v":""},{"$f":"IF(BHC18=\"\",\"\",VLOOKUP($Q$10,DATA!$P$2:$R$196,3))","v":""},{"$f":"IF(BHD18=\"\",\"\",VLOOKUP($Q$10,DATA!$P$2:$R$196,3))","v":""},{"$f":"IF(BHE18=\"\",\"\",VLOOKUP($Q$10,DATA!$P$2:$R$196,3))","v":""},{"$f":"IF(BHF18=\"\",\"\",VLOOKUP($Q$10,DATA!$P$2:$R$196,3))","v":""},{"$f":"IF(BHG18=\"\",\"\",VLOOKUP($Q$10,DATA!$P$2:$R$196,3))","v":""},{"$f":"IF(BHH18=\"\",\"\",VLOOKUP($Q$10,DATA!$P$2:$R$196,3))","v":""},{"$f":"IF(BHI18=\"\",\"\",VLOOKUP($Q$10,DATA!$P$2:$R$196,3))","v":""},{"$f":"IF(BHJ18=\"\",\"\",VLOOKUP($Q$10,DATA!$P$2:$R$196,3))","v":""},{"$f":"IF(BHK18=\"\",\"\",VLOOKUP($Q$10,DATA!$P$2:$R$196,3))","v":""},{"$f":"IF(BHL18=\"\",\"\",VLOOKUP($Q$10,DATA!$P$2:$R$196,3))","v":""},{"$f":"IF(BHM18=\"\",\"\",VLOOKUP($Q$10,DATA!$P$2:$R$196,3))","v":""},{"$f":"IF(BHN18=\"\",\"\",VLOOKUP($Q$10,DATA!$P$2:$R$196,3))","v":""},{"$f":"IF(BHO18=\"\",\"\",VLOOKUP($Q$10,DATA!$P$2:$R$196,3))","v":""},{"$f":"IF(BHP18=\"\",\"\",VLOOKUP($Q$10,DATA!$P$2:$R$196,3))","v":""},{"$f":"IF(BHQ18=\"\",\"\",VLOOKUP($Q$10,DATA!$P$2:$R$196,3))","v":""},{"$f":"IF(BHR18=\"\",\"\",VLOOKUP($Q$10,DATA!$P$2:$R$196,3))","v":""},{"$f":"IF(BHS18=\"\",\"\",VLOOKUP($Q$10,DATA!$P$2:$R$196,3))","v":""},{"$f":"IF(BHT18=\"\",\"\",VLOOKUP($Q$10,DATA!$P$2:$R$196,3))","v":""},{"$f":"IF(BHU18=\"\",\"\",VLOOKUP($Q$10,DATA!$P$2:$R$196,3))","v":""},{"$f":"IF(BHV18=\"\",\"\",VLOOKUP($Q$10,DATA!$P$2:$R$196,3))","v":""},{"$f":"IF(BHW18=\"\",\"\",VLOOKUP($Q$10,DATA!$P$2:$R$196,3))","v":""},{"$f":"IF(BHX18=\"\",\"\",VLOOKUP($Q$10,DATA!$P$2:$R$196,3))","v":""},{"$f":"IF(BHY18=\"\",\"\",VLOOKUP($Q$10,DATA!$P$2:$R$196,3))","v":""},{"$f":"IF(BHZ18=\"\",\"\",VLOOKUP($Q$10,DATA!$P$2:$R$196,3))","v":""},{"$f":"IF(BIA18=\"\",\"\",VLOOKUP($Q$10,DATA!$P$2:$R$196,3))","v":""},{"$f":"IF(BIB18=\"\",\"\",VLOOKUP($Q$10,DATA!$P$2:$R$196,3))","v":""},{"$f":"IF(BIC18=\"\",\"\",VLOOKUP($Q$10,DATA!$P$2:$R$196,3))","v":""},{"$f":"IF(BID18=\"\",\"\",VLOOKUP($Q$10,DATA!$P$2:$R$196,3))","v":""},{"$f":"IF(BIE18=\"\",\"\",VLOOKUP($Q$10,DATA!$P$2:$R$196,3))","v":""},{"$f":"IF(BIF18=\"\",\"\",VLOOKUP($Q$10,DATA!$P$2:$R$196,3))","v":""},{"$f":"IF(BIG18=\"\",\"\",VLOOKUP($Q$10,DATA!$P$2:$R$196,3))","v":""},{"$f":"IF(BIH18=\"\",\"\",VLOOKUP($Q$10,DATA!$P$2:$R$196,3))","v":""},{"$f":"IF(BII18=\"\",\"\",VLOOKUP($Q$10,DATA!$P$2:$R$196,3))","v":""},{"$f":"IF(BIJ18=\"\",\"\",VLOOKUP($Q$10,DATA!$P$2:$R$196,3))","v":""},{"$f":"IF(BIK18=\"\",\"\",VLOOKUP($Q$10,DATA!$P$2:$R$196,3))","v":""},{"$f":"IF(BIL18=\"\",\"\",VLOOKUP($Q$10,DATA!$P$2:$R$196,3))","v":""},{"$f":"IF(BIM18=\"\",\"\",VLOOKUP($Q$10,DATA!$P$2:$R$196,3))","v":""},{"$f":"IF(BIN18=\"\",\"\",VLOOKUP($Q$10,DATA!$P$2:$R$196,3))","v":""},{"$f":"IF(BIO18=\"\",\"\",VLOOKUP($Q$10,DATA!$P$2:$R$196,3))","v":""},{"$f":"IF(BIP18=\"\",\"\",VLOOKUP($Q$10,DATA!$P$2:$R$196,3))","v":""},{"$f":"IF(BIQ18=\"\",\"\",VLOOKUP($Q$10,DATA!$P$2:$R$196,3))","v":""},{"$f":"IF(BIR18=\"\",\"\",VLOOKUP($Q$10,DATA!$P$2:$R$196,3))","v":""},{"$f":"IF(BIS18=\"\",\"\",VLOOKUP($Q$10,DATA!$P$2:$R$196,3))","v":""},{"$f":"IF(BIT18=\"\",\"\",VLOOKUP($Q$10,DATA!$P$2:$R$196,3))","v":""},{"$f":"IF(BIU18=\"\",\"\",VLOOKUP($Q$10,DATA!$P$2:$R$196,3))","v":""},{"$f":"IF(BIV18=\"\",\"\",VLOOKUP($Q$10,DATA!$P$2:$R$196,3))","v":""},{"$f":"IF(BIW18=\"\",\"\",VLOOKUP($Q$10,DATA!$P$2:$R$196,3))","v":""},{"$f":"IF(BIX18=\"\",\"\",VLOOKUP($Q$10,DATA!$P$2:$R$196,3))","v":""},{"$f":"IF(BIY18=\"\",\"\",VLOOKUP($Q$10,DATA!$P$2:$R$196,3))","v":""},{"$f":"IF(BIZ18=\"\",\"\",VLOOKUP($Q$10,DATA!$P$2:$R$196,3))","v":""},{"$f":"IF(BJA18=\"\",\"\",VLOOKUP($Q$10,DATA!$P$2:$R$196,3))","v":""},{"$f":"IF(BJB18=\"\",\"\",VLOOKUP($Q$10,DATA!$P$2:$R$196,3))","v":""},{"$f":"IF(BJC18=\"\",\"\",VLOOKUP($Q$10,DATA!$P$2:$R$196,3))","v":""},{"$f":"IF(BJD18=\"\",\"\",VLOOKUP($Q$10,DATA!$P$2:$R$196,3))","v":""},{"$f":"IF(BJE18=\"\",\"\",VLOOKUP($Q$10,DATA!$P$2:$R$196,3))","v":""},{"$f":"IF(BJF18=\"\",\"\",VLOOKUP($Q$10,DATA!$P$2:$R$196,3))","v":""},{"$f":"IF(BJG18=\"\",\"\",VLOOKUP($Q$10,DATA!$P$2:$R$196,3))","v":""},{"$f":"IF(BJH18=\"\",\"\",VLOOKUP($Q$10,DATA!$P$2:$R$196,3))","v":""},{"$f":"IF(BJI18=\"\",\"\",VLOOKUP($Q$10,DATA!$P$2:$R$196,3))","v":""},{"$f":"IF(BJJ18=\"\",\"\",VLOOKUP($Q$10,DATA!$P$2:$R$196,3))","v":""},{"$f":"IF(BJK18=\"\",\"\",VLOOKUP($Q$10,DATA!$P$2:$R$196,3))","v":""},{"$f":"IF(BJL18=\"\",\"\",VLOOKUP($Q$10,DATA!$P$2:$R$196,3))","v":""},{"$f":"IF(BJM18=\"\",\"\",VLOOKUP($Q$10,DATA!$P$2:$R$196,3))","v":""},{"$f":"IF(BJN18=\"\",\"\",VLOOKUP($Q$10,DATA!$P$2:$R$196,3))","v":""},{"$f":"IF(BJO18=\"\",\"\",VLOOKUP($Q$10,DATA!$P$2:$R$196,3))","v":""},{"$f":"IF(BJP18=\"\",\"\",VLOOKUP($Q$10,DATA!$P$2:$R$196,3))","v":""},{"$f":"IF(BJQ18=\"\",\"\",VLOOKUP($Q$10,DATA!$P$2:$R$196,3))","v":""},{"$f":"IF(BJR18=\"\",\"\",VLOOKUP($Q$10,DATA!$P$2:$R$196,3))","v":""},{"$f":"IF(BJS18=\"\",\"\",VLOOKUP($Q$10,DATA!$P$2:$R$196,3))","v":""},{"$f":"IF(BJT18=\"\",\"\",VLOOKUP($Q$10,DATA!$P$2:$R$196,3))","v":""},{"$f":"IF(BJU18=\"\",\"\",VLOOKUP($Q$10,DATA!$P$2:$R$196,3))","v":""},{"$f":"IF(BJV18=\"\",\"\",VLOOKUP($Q$10,DATA!$P$2:$R$196,3))","v":""},{"$f":"IF(BJW18=\"\",\"\",VLOOKUP($Q$10,DATA!$P$2:$R$196,3))","v":""},{"$f":"IF(BJX18=\"\",\"\",VLOOKUP($Q$10,DATA!$P$2:$R$196,3))","v":""},{"$f":"IF(BJY18=\"\",\"\",VLOOKUP($Q$10,DATA!$P$2:$R$196,3))","v":""},{"$f":"IF(BJZ18=\"\",\"\",VLOOKUP($Q$10,DATA!$P$2:$R$196,3))","v":""},{"$f":"IF(BKA18=\"\",\"\",VLOOKUP($Q$10,DATA!$P$2:$R$196,3))","v":""},{"$f":"IF(BKB18=\"\",\"\",VLOOKUP($Q$10,DATA!$P$2:$R$196,3))","v":""},{"$f":"IF(BKC18=\"\",\"\",VLOOKUP($Q$10,DATA!$P$2:$R$196,3))","v":""},{"$f":"IF(BKD18=\"\",\"\",VLOOKUP($Q$10,DATA!$P$2:$R$196,3))","v":""},{"$f":"IF(BKE18=\"\",\"\",VLOOKUP($Q$10,DATA!$P$2:$R$196,3))","v":""},{"$f":"IF(BKF18=\"\",\"\",VLOOKUP($Q$10,DATA!$P$2:$R$196,3))","v":""},{"$f":"IF(BKG18=\"\",\"\",VLOOKUP($Q$10,DATA!$P$2:$R$196,3))","v":""},{"$f":"IF(BKH18=\"\",\"\",VLOOKUP($Q$10,DATA!$P$2:$R$196,3))","v":""},{"$f":"IF(BKI18=\"\",\"\",VLOOKUP($Q$10,DATA!$P$2:$R$196,3))","v":""},{"$f":"IF(BKJ18=\"\",\"\",VLOOKUP($Q$10,DATA!$P$2:$R$196,3))","v":""},{"$f":"IF(BKK18=\"\",\"\",VLOOKUP($Q$10,DATA!$P$2:$R$196,3))","v":""},{"$f":"IF(BKL18=\"\",\"\",VLOOKUP($Q$10,DATA!$P$2:$R$196,3))","v":""},{"$f":"IF(BKM18=\"\",\"\",VLOOKUP($Q$10,DATA!$P$2:$R$196,3))","v":""},{"$f":"IF(BKN18=\"\",\"\",VLOOKUP($Q$10,DATA!$P$2:$R$196,3))","v":""},{"$f":"IF(BKO18=\"\",\"\",VLOOKUP($Q$10,DATA!$P$2:$R$196,3))","v":""},{"$f":"IF(BKP18=\"\",\"\",VLOOKUP($Q$10,DATA!$P$2:$R$196,3))","v":""},{"$f":"IF(BKQ18=\"\",\"\",VLOOKUP($Q$10,DATA!$P$2:$R$196,3))","v":""},{"$f":"IF(BKR18=\"\",\"\",VLOOKUP($Q$10,DATA!$P$2:$R$196,3))","v":""},{"$f":"IF(BKS18=\"\",\"\",VLOOKUP($Q$10,DATA!$P$2:$R$196,3))","v":""},{"$f":"IF(BKT18=\"\",\"\",VLOOKUP($Q$10,DATA!$P$2:$R$196,3))","v":""},{"$f":"IF(BKU18=\"\",\"\",VLOOKUP($Q$10,DATA!$P$2:$R$196,3))","v":""},{"$f":"IF(BKV18=\"\",\"\",VLOOKUP($Q$10,DATA!$P$2:$R$196,3))","v":""},{"$f":"IF(BKW18=\"\",\"\",VLOOKUP($Q$10,DATA!$P$2:$R$196,3))","v":""},{"$f":"IF(BKX18=\"\",\"\",VLOOKUP($Q$10,DATA!$P$2:$R$196,3))","v":""},{"$f":"IF(BKY18=\"\",\"\",VLOOKUP($Q$10,DATA!$P$2:$R$196,3))","v":""},{"$f":"IF(BKZ18=\"\",\"\",VLOOKUP($Q$10,DATA!$P$2:$R$196,3))","v":""},{"$f":"IF(BLA18=\"\",\"\",VLOOKUP($Q$10,DATA!$P$2:$R$196,3))","v":""},{"$f":"IF(BLB18=\"\",\"\",VLOOKUP($Q$10,DATA!$P$2:$R$196,3))","v":""},{"$f":"IF(BLC18=\"\",\"\",VLOOKUP($Q$10,DATA!$P$2:$R$196,3))","v":""},{"$f":"IF(BLD18=\"\",\"\",VLOOKUP($Q$10,DATA!$P$2:$R$196,3))","v":""},{"$f":"IF(BLE18=\"\",\"\",VLOOKUP($Q$10,DATA!$P$2:$R$196,3))","v":""},{"$f":"IF(BLF18=\"\",\"\",VLOOKUP($Q$10,DATA!$P$2:$R$196,3))","v":""},{"$f":"IF(BLG18=\"\",\"\",VLOOKUP($Q$10,DATA!$P$2:$R$196,3))","v":""},{"$f":"IF(BLH18=\"\",\"\",VLOOKUP($Q$10,DATA!$P$2:$R$196,3))","v":""},{"$f":"IF(BLI18=\"\",\"\",VLOOKUP($Q$10,DATA!$P$2:$R$196,3))","v":""},{"$f":"IF(BLJ18=\"\",\"\",VLOOKUP($Q$10,DATA!$P$2:$R$196,3))","v":""},{"$f":"IF(BLK18=\"\",\"\",VLOOKUP($Q$10,DATA!$P$2:$R$196,3))","v":""},{"$f":"IF(BLL18=\"\",\"\",VLOOKUP($Q$10,DATA!$P$2:$R$196,3))","v":""},{"$f":"IF(BLM18=\"\",\"\",VLOOKUP($Q$10,DATA!$P$2:$R$196,3))","v":""},{"$f":"IF(BLN18=\"\",\"\",VLOOKUP($Q$10,DATA!$P$2:$R$196,3))","v":""},{"$f":"IF(BLO18=\"\",\"\",VLOOKUP($Q$10,DATA!$P$2:$R$196,3))","v":""},{"$f":"IF(BLP18=\"\",\"\",VLOOKUP($Q$10,DATA!$P$2:$R$196,3))","v":""},{"$f":"IF(BLQ18=\"\",\"\",VLOOKUP($Q$10,DATA!$P$2:$R$196,3))","v":""},{"$f":"IF(BLR18=\"\",\"\",VLOOKUP($Q$10,DATA!$P$2:$R$196,3))","v":""},{"$f":"IF(BLS18=\"\",\"\",VLOOKUP($Q$10,DATA!$P$2:$R$196,3))","v":""},{"$f":"IF(BLT18=\"\",\"\",VLOOKUP($Q$10,DATA!$P$2:$R$196,3))","v":""},{"$f":"IF(BLU18=\"\",\"\",VLOOKUP($Q$10,DATA!$P$2:$R$196,3))","v":""},{"$f":"IF(BLV18=\"\",\"\",VLOOKUP($Q$10,DATA!$P$2:$R$196,3))","v":""},{"$f":"IF(BLW18=\"\",\"\",VLOOKUP($Q$10,DATA!$P$2:$R$196,3))","v":""},{"$f":"IF(BLX18=\"\",\"\",VLOOKUP($Q$10,DATA!$P$2:$R$196,3))","v":""},{"$f":"IF(BLY18=\"\",\"\",VLOOKUP($Q$10,DATA!$P$2:$R$196,3))","v":""},{"$f":"IF(BLZ18=\"\",\"\",VLOOKUP($Q$10,DATA!$P$2:$R$196,3))","v":""},{"$f":"IF(BMA18=\"\",\"\",VLOOKUP($Q$10,DATA!$P$2:$R$196,3))","v":""},{"$f":"IF(BMB18=\"\",\"\",VLOOKUP($Q$10,DATA!$P$2:$R$196,3))","v":""},{"$f":"IF(BMC18=\"\",\"\",VLOOKUP($Q$10,DATA!$P$2:$R$196,3))","v":""},{"$f":"IF(BMD18=\"\",\"\",VLOOKUP($Q$10,DATA!$P$2:$R$196,3))","v":""},{"$f":"IF(BME18=\"\",\"\",VLOOKUP($Q$10,DATA!$P$2:$R$196,3))","v":""},{"$f":"IF(BMF18=\"\",\"\",VLOOKUP($Q$10,DATA!$P$2:$R$196,3))","v":""},{"$f":"IF(BMG18=\"\",\"\",VLOOKUP($Q$10,DATA!$P$2:$R$196,3))","v":""},{"$f":"IF(BMH18=\"\",\"\",VLOOKUP($Q$10,DATA!$P$2:$R$196,3))","v":""},{"$f":"IF(BMI18=\"\",\"\",VLOOKUP($Q$10,DATA!$P$2:$R$196,3))","v":""},{"$f":"IF(BMJ18=\"\",\"\",VLOOKUP($Q$10,DATA!$P$2:$R$196,3))","v":""},{"$f":"IF(BMK18=\"\",\"\",VLOOKUP($Q$10,DATA!$P$2:$R$196,3))","v":""},{"$f":"IF(BML18=\"\",\"\",VLOOKUP($Q$10,DATA!$P$2:$R$196,3))","v":""},{"$f":"IF(BMM18=\"\",\"\",VLOOKUP($Q$10,DATA!$P$2:$R$196,3))","v":""},{"$f":"IF(BMN18=\"\",\"\",VLOOKUP($Q$10,DATA!$P$2:$R$196,3))","v":""},{"$f":"IF(BMO18=\"\",\"\",VLOOKUP($Q$10,DATA!$P$2:$R$196,3))","v":""},{"$f":"IF(BMP18=\"\",\"\",VLOOKUP($Q$10,DATA!$P$2:$R$196,3))","v":""},{"$f":"IF(BMQ18=\"\",\"\",VLOOKUP($Q$10,DATA!$P$2:$R$196,3))","v":""},{"$f":"IF(BMR18=\"\",\"\",VLOOKUP($Q$10,DATA!$P$2:$R$196,3))","v":""},{"$f":"IF(BMS18=\"\",\"\",VLOOKUP($Q$10,DATA!$P$2:$R$196,3))","v":""},{"$f":"IF(BMT18=\"\",\"\",VLOOKUP($Q$10,DATA!$P$2:$R$196,3))","v":""},{"$f":"IF(BMU18=\"\",\"\",VLOOKUP($Q$10,DATA!$P$2:$R$196,3))","v":""},{"$f":"IF(BMV18=\"\",\"\",VLOOKUP($Q$10,DATA!$P$2:$R$196,3))","v":""},{"$f":"IF(BMW18=\"\",\"\",VLOOKUP($Q$10,DATA!$P$2:$R$196,3))","v":""},{"$f":"IF(BMX18=\"\",\"\",VLOOKUP($Q$10,DATA!$P$2:$R$196,3))","v":""},{"$f":"IF(BMY18=\"\",\"\",VLOOKUP($Q$10,DATA!$P$2:$R$196,3))","v":""},{"$f":"IF(BMZ18=\"\",\"\",VLOOKUP($Q$10,DATA!$P$2:$R$196,3))","v":""},{"$f":"IF(BNA18=\"\",\"\",VLOOKUP($Q$10,DATA!$P$2:$R$196,3))","v":""},{"$f":"IF(BNB18=\"\",\"\",VLOOKUP($Q$10,DATA!$P$2:$R$196,3))","v":""},{"$f":"IF(BNC18=\"\",\"\",VLOOKUP($Q$10,DATA!$P$2:$R$196,3))","v":""},{"$f":"IF(BND18=\"\",\"\",VLOOKUP($Q$10,DATA!$P$2:$R$196,3))","v":""},{"$f":"IF(BNE18=\"\",\"\",VLOOKUP($Q$10,DATA!$P$2:$R$196,3))","v":""},{"$f":"IF(BNF18=\"\",\"\",VLOOKUP($Q$10,DATA!$P$2:$R$196,3))","v":""},{"$f":"IF(BNG18=\"\",\"\",VLOOKUP($Q$10,DATA!$P$2:$R$196,3))","v":""},{"$f":"IF(BNH18=\"\",\"\",VLOOKUP($Q$10,DATA!$P$2:$R$196,3))","v":""},{"$f":"IF(BNI18=\"\",\"\",VLOOKUP($Q$10,DATA!$P$2:$R$196,3))","v":""},{"$f":"IF(BNJ18=\"\",\"\",VLOOKUP($Q$10,DATA!$P$2:$R$196,3))","v":""},{"$f":"IF(BNK18=\"\",\"\",VLOOKUP($Q$10,DATA!$P$2:$R$196,3))","v":""},{"$f":"IF(BNL18=\"\",\"\",VLOOKUP($Q$10,DATA!$P$2:$R$196,3))","v":""},{"$f":"IF(BNM18=\"\",\"\",VLOOKUP($Q$10,DATA!$P$2:$R$196,3))","v":""},{"$f":"IF(BNN18=\"\",\"\",VLOOKUP($Q$10,DATA!$P$2:$R$196,3))","v":""},{"$f":"IF(BNO18=\"\",\"\",VLOOKUP($Q$10,DATA!$P$2:$R$196,3))","v":""},{"$f":"IF(BNP18=\"\",\"\",VLOOKUP($Q$10,DATA!$P$2:$R$196,3))","v":""},{"$f":"IF(BNQ18=\"\",\"\",VLOOKUP($Q$10,DATA!$P$2:$R$196,3))","v":""},{"$f":"IF(BNR18=\"\",\"\",VLOOKUP($Q$10,DATA!$P$2:$R$196,3))","v":""},{"$f":"IF(BNS18=\"\",\"\",VLOOKUP($Q$10,DATA!$P$2:$R$196,3))","v":""},{"$f":"IF(BNT18=\"\",\"\",VLOOKUP($Q$10,DATA!$P$2:$R$196,3))","v":""},{"$f":"IF(BNU18=\"\",\"\",VLOOKUP($Q$10,DATA!$P$2:$R$196,3))","v":""},{"$f":"IF(BNV18=\"\",\"\",VLOOKUP($Q$10,DATA!$P$2:$R$196,3))","v":""},{"$f":"IF(BNW18=\"\",\"\",VLOOKUP($Q$10,DATA!$P$2:$R$196,3))","v":""},{"$f":"IF(BNX18=\"\",\"\",VLOOKUP($Q$10,DATA!$P$2:$R$196,3))","v":""},{"$f":"IF(BNY18=\"\",\"\",VLOOKUP($Q$10,DATA!$P$2:$R$196,3))","v":""},{"$f":"IF(BNZ18=\"\",\"\",VLOOKUP($Q$10,DATA!$P$2:$R$196,3))","v":""},{"$f":"IF(BOA18=\"\",\"\",VLOOKUP($Q$10,DATA!$P$2:$R$196,3))","v":""},{"$f":"IF(BOB18=\"\",\"\",VLOOKUP($Q$10,DATA!$P$2:$R$196,3))","v":""},{"$f":"IF(BOC18=\"\",\"\",VLOOKUP($Q$10,DATA!$P$2:$R$196,3))","v":""},{"$f":"IF(BOD18=\"\",\"\",VLOOKUP($Q$10,DATA!$P$2:$R$196,3))","v":""},{"$f":"IF(BOE18=\"\",\"\",VLOOKUP($Q$10,DATA!$P$2:$R$196,3))","v":""},{"$f":"IF(BOF18=\"\",\"\",VLOOKUP($Q$10,DATA!$P$2:$R$196,3))","v":""},{"$f":"IF(BOG18=\"\",\"\",VLOOKUP($Q$10,DATA!$P$2:$R$196,3))","v":""},{"$f":"IF(BOH18=\"\",\"\",VLOOKUP($Q$10,DATA!$P$2:$R$196,3))","v":""},{"$f":"IF(BOI18=\"\",\"\",VLOOKUP($Q$10,DATA!$P$2:$R$196,3))","v":""},{"$f":"IF(BOJ18=\"\",\"\",VLOOKUP($Q$10,DATA!$P$2:$R$196,3))","v":""},{"$f":"IF(BOK18=\"\",\"\",VLOOKUP($Q$10,DATA!$P$2:$R$196,3))","v":""},{"$f":"IF(BOL18=\"\",\"\",VLOOKUP($Q$10,DATA!$P$2:$R$196,3))","v":""},{"$f":"IF(BOM18=\"\",\"\",VLOOKUP($Q$10,DATA!$P$2:$R$196,3))","v":""},{"$f":"IF(BON18=\"\",\"\",VLOOKUP($Q$10,DATA!$P$2:$R$196,3))","v":""},{"$f":"IF(BOO18=\"\",\"\",VLOOKUP($Q$10,DATA!$P$2:$R$196,3))","v":""},{"$f":"IF(BOP18=\"\",\"\",VLOOKUP($Q$10,DATA!$P$2:$R$196,3))","v":""},{"$f":"IF(BOQ18=\"\",\"\",VLOOKUP($Q$10,DATA!$P$2:$R$196,3))","v":""},{"$f":"IF(BOR18=\"\",\"\",VLOOKUP($Q$10,DATA!$P$2:$R$196,3))","v":""},{"$f":"IF(BOS18=\"\",\"\",VLOOKUP($Q$10,DATA!$P$2:$R$196,3))","v":""},{"$f":"IF(BOT18=\"\",\"\",VLOOKUP($Q$10,DATA!$P$2:$R$196,3))","v":""},{"$f":"IF(BOU18=\"\",\"\",VLOOKUP($Q$10,DATA!$P$2:$R$196,3))","v":""},{"$f":"IF(BOV18=\"\",\"\",VLOOKUP($Q$10,DATA!$P$2:$R$196,3))","v":""},{"$f":"IF(BOW18=\"\",\"\",VLOOKUP($Q$10,DATA!$P$2:$R$196,3))","v":""},{"$f":"IF(BOX18=\"\",\"\",VLOOKUP($Q$10,DATA!$P$2:$R$196,3))","v":""},{"$f":"IF(BOY18=\"\",\"\",VLOOKUP($Q$10,DATA!$P$2:$R$196,3))","v":""},{"$f":"IF(BOZ18=\"\",\"\",VLOOKUP($Q$10,DATA!$P$2:$R$196,3))","v":""},{"$f":"IF(BPA18=\"\",\"\",VLOOKUP($Q$10,DATA!$P$2:$R$196,3))","v":""},{"$f":"IF(BPB18=\"\",\"\",VLOOKUP($Q$10,DATA!$P$2:$R$196,3))","v":""},{"$f":"IF(BPC18=\"\",\"\",VLOOKUP($Q$10,DATA!$P$2:$R$196,3))","v":""},{"$f":"IF(BPD18=\"\",\"\",VLOOKUP($Q$10,DATA!$P$2:$R$196,3))","v":""},{"$f":"IF(BPE18=\"\",\"\",VLOOKUP($Q$10,DATA!$P$2:$R$196,3))","v":""},{"$f":"IF(BPF18=\"\",\"\",VLOOKUP($Q$10,DATA!$P$2:$R$196,3))","v":""},{"$f":"IF(BPG18=\"\",\"\",VLOOKUP($Q$10,DATA!$P$2:$R$196,3))","v":""},{"$f":"IF(BPH18=\"\",\"\",VLOOKUP($Q$10,DATA!$P$2:$R$196,3))","v":""},{"$f":"IF(BPI18=\"\",\"\",VLOOKUP($Q$10,DATA!$P$2:$R$196,3))","v":""},{"$f":"IF(BPJ18=\"\",\"\",VLOOKUP($Q$10,DATA!$P$2:$R$196,3))","v":""},{"$f":"IF(BPK18=\"\",\"\",VLOOKUP($Q$10,DATA!$P$2:$R$196,3))","v":""},{"$f":"IF(BPL18=\"\",\"\",VLOOKUP($Q$10,DATA!$P$2:$R$196,3))","v":""},{"$f":"IF(BPM18=\"\",\"\",VLOOKUP($Q$10,DATA!$P$2:$R$196,3))","v":""},{"$f":"IF(BPN18=\"\",\"\",VLOOKUP($Q$10,DATA!$P$2:$R$196,3))","v":""},{"$f":"IF(BPO18=\"\",\"\",VLOOKUP($Q$10,DATA!$P$2:$R$196,3))","v":""},{"$f":"IF(BPP18=\"\",\"\",VLOOKUP($Q$10,DATA!$P$2:$R$196,3))","v":""},{"$f":"IF(BPQ18=\"\",\"\",VLOOKUP($Q$10,DATA!$P$2:$R$196,3))","v":""},{"$f":"IF(BPR18=\"\",\"\",VLOOKUP($Q$10,DATA!$P$2:$R$196,3))","v":""},{"$f":"IF(BPS18=\"\",\"\",VLOOKUP($Q$10,DATA!$P$2:$R$196,3))","v":""},{"$f":"IF(BPT18=\"\",\"\",VLOOKUP($Q$10,DATA!$P$2:$R$196,3))","v":""},{"$f":"IF(BPU18=\"\",\"\",VLOOKUP($Q$10,DATA!$P$2:$R$196,3))","v":""},{"$f":"IF(BPV18=\"\",\"\",VLOOKUP($Q$10,DATA!$P$2:$R$196,3))","v":""},{"$f":"IF(BPW18=\"\",\"\",VLOOKUP($Q$10,DATA!$P$2:$R$196,3))","v":""},{"$f":"IF(BPX18=\"\",\"\",VLOOKUP($Q$10,DATA!$P$2:$R$196,3))","v":""},{"$f":"IF(BPY18=\"\",\"\",VLOOKUP($Q$10,DATA!$P$2:$R$196,3))","v":""},{"$f":"IF(BPZ18=\"\",\"\",VLOOKUP($Q$10,DATA!$P$2:$R$196,3))","v":""},{"$f":"IF(BQA18=\"\",\"\",VLOOKUP($Q$10,DATA!$P$2:$R$196,3))","v":""},{"$f":"IF(BQB18=\"\",\"\",VLOOKUP($Q$10,DATA!$P$2:$R$196,3))","v":""},{"$f":"IF(BQC18=\"\",\"\",VLOOKUP($Q$10,DATA!$P$2:$R$196,3))","v":""},{"$f":"IF(BQD18=\"\",\"\",VLOOKUP($Q$10,DATA!$P$2:$R$196,3))","v":""},{"$f":"IF(BQE18=\"\",\"\",VLOOKUP($Q$10,DATA!$P$2:$R$196,3))","v":""},{"$f":"IF(BQF18=\"\",\"\",VLOOKUP($Q$10,DATA!$P$2:$R$196,3))","v":""},{"$f":"IF(BQG18=\"\",\"\",VLOOKUP($Q$10,DATA!$P$2:$R$196,3))","v":""},{"$f":"IF(BQH18=\"\",\"\",VLOOKUP($Q$10,DATA!$P$2:$R$196,3))","v":""},{"$f":"IF(BQI18=\"\",\"\",VLOOKUP($Q$10,DATA!$P$2:$R$196,3))","v":""},{"$f":"IF(BQJ18=\"\",\"\",VLOOKUP($Q$10,DATA!$P$2:$R$196,3))","v":""},{"$f":"IF(BQK18=\"\",\"\",VLOOKUP($Q$10,DATA!$P$2:$R$196,3))","v":""},{"$f":"IF(BQL18=\"\",\"\",VLOOKUP($Q$10,DATA!$P$2:$R$196,3))","v":""},{"$f":"IF(BQM18=\"\",\"\",VLOOKUP($Q$10,DATA!$P$2:$R$196,3))","v":""},{"$f":"IF(BQN18=\"\",\"\",VLOOKUP($Q$10,DATA!$P$2:$R$196,3))","v":""},{"$f":"IF(BQO18=\"\",\"\",VLOOKUP($Q$10,DATA!$P$2:$R$196,3))","v":""},{"$f":"IF(BQP18=\"\",\"\",VLOOKUP($Q$10,DATA!$P$2:$R$196,3))","v":""},{"$f":"IF(BQQ18=\"\",\"\",VLOOKUP($Q$10,DATA!$P$2:$R$196,3))","v":""},{"$f":"IF(BQR18=\"\",\"\",VLOOKUP($Q$10,DATA!$P$2:$R$196,3))","v":""},{"$f":"IF(BQS18=\"\",\"\",VLOOKUP($Q$10,DATA!$P$2:$R$196,3))","v":""},{"$f":"IF(BQT18=\"\",\"\",VLOOKUP($Q$10,DATA!$P$2:$R$196,3))","v":""},{"$f":"IF(BQU18=\"\",\"\",VLOOKUP($Q$10,DATA!$P$2:$R$196,3))","v":""},{"$f":"IF(BQV18=\"\",\"\",VLOOKUP($Q$10,DATA!$P$2:$R$196,3))","v":""},{"$f":"IF(BQW18=\"\",\"\",VLOOKUP($Q$10,DATA!$P$2:$R$196,3))","v":""},{"$f":"IF(BQX18=\"\",\"\",VLOOKUP($Q$10,DATA!$P$2:$R$196,3))","v":""},{"$f":"IF(BQY18=\"\",\"\",VLOOKUP($Q$10,DATA!$P$2:$R$196,3))","v":""},{"$f":"IF(BQZ18=\"\",\"\",VLOOKUP($Q$10,DATA!$P$2:$R$196,3))","v":""},{"$f":"IF(BRA18=\"\",\"\",VLOOKUP($Q$10,DATA!$P$2:$R$196,3))","v":""},{"$f":"IF(BRB18=\"\",\"\",VLOOKUP($Q$10,DATA!$P$2:$R$196,3))","v":""},{"$f":"IF(BRC18=\"\",\"\",VLOOKUP($Q$10,DATA!$P$2:$R$196,3))","v":""},{"$f":"IF(BRD18=\"\",\"\",VLOOKUP($Q$10,DATA!$P$2:$R$196,3))","v":""},{"$f":"IF(BRE18=\"\",\"\",VLOOKUP($Q$10,DATA!$P$2:$R$196,3))","v":""},{"$f":"IF(BRF18=\"\",\"\",VLOOKUP($Q$10,DATA!$P$2:$R$196,3))","v":""},{"$f":"IF(BRG18=\"\",\"\",VLOOKUP($Q$10,DATA!$P$2:$R$196,3))","v":""},{"$f":"IF(BRH18=\"\",\"\",VLOOKUP($Q$10,DATA!$P$2:$R$196,3))","v":""},{"$f":"IF(BRI18=\"\",\"\",VLOOKUP($Q$10,DATA!$P$2:$R$196,3))","v":""},{"$f":"IF(BRJ18=\"\",\"\",VLOOKUP($Q$10,DATA!$P$2:$R$196,3))","v":""},{"$f":"IF(BRK18=\"\",\"\",VLOOKUP($Q$10,DATA!$P$2:$R$196,3))","v":""},{"$f":"IF(BRL18=\"\",\"\",VLOOKUP($Q$10,DATA!$P$2:$R$196,3))","v":""},{"$f":"IF(BRM18=\"\",\"\",VLOOKUP($Q$10,DATA!$P$2:$R$196,3))","v":""},{"$f":"IF(BRN18=\"\",\"\",VLOOKUP($Q$10,DATA!$P$2:$R$196,3))","v":""},{"$f":"IF(BRO18=\"\",\"\",VLOOKUP($Q$10,DATA!$P$2:$R$196,3))","v":""},{"$f":"IF(BRP18=\"\",\"\",VLOOKUP($Q$10,DATA!$P$2:$R$196,3))","v":""},{"$f":"IF(BRQ18=\"\",\"\",VLOOKUP($Q$10,DATA!$P$2:$R$196,3))","v":""},{"$f":"IF(BRR18=\"\",\"\",VLOOKUP($Q$10,DATA!$P$2:$R$196,3))","v":""},{"$f":"IF(BRS18=\"\",\"\",VLOOKUP($Q$10,DATA!$P$2:$R$196,3))","v":""},{"$f":"IF(BRT18=\"\",\"\",VLOOKUP($Q$10,DATA!$P$2:$R$196,3))","v":""},{"$f":"IF(BRU18=\"\",\"\",VLOOKUP($Q$10,DATA!$P$2:$R$196,3))","v":""},{"$f":"IF(BRV18=\"\",\"\",VLOOKUP($Q$10,DATA!$P$2:$R$196,3))","v":""},{"$f":"IF(BRW18=\"\",\"\",VLOOKUP($Q$10,DATA!$P$2:$R$196,3))","v":""},{"$f":"IF(BRX18=\"\",\"\",VLOOKUP($Q$10,DATA!$P$2:$R$196,3))","v":""},{"$f":"IF(BRY18=\"\",\"\",VLOOKUP($Q$10,DATA!$P$2:$R$196,3))","v":""},{"$f":"IF(BRZ18=\"\",\"\",VLOOKUP($Q$10,DATA!$P$2:$R$196,3))","v":""},{"$f":"IF(BSA18=\"\",\"\",VLOOKUP($Q$10,DATA!$P$2:$R$196,3))","v":""},{"$f":"IF(BSB18=\"\",\"\",VLOOKUP($Q$10,DATA!$P$2:$R$196,3))","v":""},{"$f":"IF(BSC18=\"\",\"\",VLOOKUP($Q$10,DATA!$P$2:$R$196,3))","v":""},{"$f":"IF(BSD18=\"\",\"\",VLOOKUP($Q$10,DATA!$P$2:$R$196,3))","v":""},{"$f":"IF(BSE18=\"\",\"\",VLOOKUP($Q$10,DATA!$P$2:$R$196,3))","v":""},{"$f":"IF(BSF18=\"\",\"\",VLOOKUP($Q$10,DATA!$P$2:$R$196,3))","v":""},{"$f":"IF(BSG18=\"\",\"\",VLOOKUP($Q$10,DATA!$P$2:$R$196,3))","v":""},{"$f":"IF(BSH18=\"\",\"\",VLOOKUP($Q$10,DATA!$P$2:$R$196,3))","v":""},{"$f":"IF(BSI18=\"\",\"\",VLOOKUP($Q$10,DATA!$P$2:$R$196,3))","v":""},{"$f":"IF(BSJ18=\"\",\"\",VLOOKUP($Q$10,DATA!$P$2:$R$196,3))","v":""},{"$f":"IF(BSK18=\"\",\"\",VLOOKUP($Q$10,DATA!$P$2:$R$196,3))","v":""},{"$f":"IF(BSL18=\"\",\"\",VLOOKUP($Q$10,DATA!$P$2:$R$196,3))","v":""},{"$f":"IF(BSM18=\"\",\"\",VLOOKUP($Q$10,DATA!$P$2:$R$196,3))","v":""},{"$f":"IF(BSN18=\"\",\"\",VLOOKUP($Q$10,DATA!$P$2:$R$196,3))","v":""},{"$f":"IF(BSO18=\"\",\"\",VLOOKUP($Q$10,DATA!$P$2:$R$196,3))","v":""},{"$f":"IF(BSP18=\"\",\"\",VLOOKUP($Q$10,DATA!$P$2:$R$196,3))","v":""},{"$f":"IF(BSQ18=\"\",\"\",VLOOKUP($Q$10,DATA!$P$2:$R$196,3))","v":""},{"$f":"IF(BSR18=\"\",\"\",VLOOKUP($Q$10,DATA!$P$2:$R$196,3))","v":""},{"$f":"IF(BSS18=\"\",\"\",VLOOKUP($Q$10,DATA!$P$2:$R$196,3))","v":""},{"$f":"IF(BST18=\"\",\"\",VLOOKUP($Q$10,DATA!$P$2:$R$196,3))","v":""},{"$f":"IF(BSU18=\"\",\"\",VLOOKUP($Q$10,DATA!$P$2:$R$196,3))","v":""},{"$f":"IF(BSV18=\"\",\"\",VLOOKUP($Q$10,DATA!$P$2:$R$196,3))","v":""},{"$f":"IF(BSW18=\"\",\"\",VLOOKUP($Q$10,DATA!$P$2:$R$196,3))","v":""},{"$f":"IF(BSX18=\"\",\"\",VLOOKUP($Q$10,DATA!$P$2:$R$196,3))","v":""},{"$f":"IF(BSY18=\"\",\"\",VLOOKUP($Q$10,DATA!$P$2:$R$196,3))","v":""},{"$f":"IF(BSZ18=\"\",\"\",VLOOKUP($Q$10,DATA!$P$2:$R$196,3))","v":""},{"$f":"IF(BTA18=\"\",\"\",VLOOKUP($Q$10,DATA!$P$2:$R$196,3))","v":""},{"$f":"IF(BTB18=\"\",\"\",VLOOKUP($Q$10,DATA!$P$2:$R$196,3))","v":""},{"$f":"IF(BTC18=\"\",\"\",VLOOKUP($Q$10,DATA!$P$2:$R$196,3))","v":""},{"$f":"IF(BTD18=\"\",\"\",VLOOKUP($Q$10,DATA!$P$2:$R$196,3))","v":""},{"$f":"IF(BTE18=\"\",\"\",VLOOKUP($Q$10,DATA!$P$2:$R$196,3))","v":""},{"$f":"IF(BTF18=\"\",\"\",VLOOKUP($Q$10,DATA!$P$2:$R$196,3))","v":""},{"$f":"IF(BTG18=\"\",\"\",VLOOKUP($Q$10,DATA!$P$2:$R$196,3))","v":""},{"$f":"IF(BTH18=\"\",\"\",VLOOKUP($Q$10,DATA!$P$2:$R$196,3))","v":""},{"$f":"IF(BTI18=\"\",\"\",VLOOKUP($Q$10,DATA!$P$2:$R$196,3))","v":""},{"$f":"IF(BTJ18=\"\",\"\",VLOOKUP($Q$10,DATA!$P$2:$R$196,3))","v":""},{"$f":"IF(BTK18=\"\",\"\",VLOOKUP($Q$10,DATA!$P$2:$R$196,3))","v":""},{"$f":"IF(BTL18=\"\",\"\",VLOOKUP($Q$10,DATA!$P$2:$R$196,3))","v":""},{"$f":"IF(BTM18=\"\",\"\",VLOOKUP($Q$10,DATA!$P$2:$R$196,3))","v":""},{"$f":"IF(BTN18=\"\",\"\",VLOOKUP($Q$10,DATA!$P$2:$R$196,3))","v":""},{"$f":"IF(BTO18=\"\",\"\",VLOOKUP($Q$10,DATA!$P$2:$R$196,3))","v":""},{"$f":"IF(BTP18=\"\",\"\",VLOOKUP($Q$10,DATA!$P$2:$R$196,3))","v":""},{"$f":"IF(BTQ18=\"\",\"\",VLOOKUP($Q$10,DATA!$P$2:$R$196,3))","v":""},{"$f":"IF(BTR18=\"\",\"\",VLOOKUP($Q$10,DATA!$P$2:$R$196,3))","v":""},{"$f":"IF(BTS18=\"\",\"\",VLOOKUP($Q$10,DATA!$P$2:$R$196,3))","v":""},{"$f":"IF(BTT18=\"\",\"\",VLOOKUP($Q$10,DATA!$P$2:$R$196,3))","v":""},{"$f":"IF(BTU18=\"\",\"\",VLOOKUP($Q$10,DATA!$P$2:$R$196,3))","v":""},{"$f":"IF(BTV18=\"\",\"\",VLOOKUP($Q$10,DATA!$P$2:$R$196,3))","v":""},{"$f":"IF(BTW18=\"\",\"\",VLOOKUP($Q$10,DATA!$P$2:$R$196,3))","v":""},{"$f":"IF(BTX18=\"\",\"\",VLOOKUP($Q$10,DATA!$P$2:$R$196,3))","v":""},{"$f":"IF(BTY18=\"\",\"\",VLOOKUP($Q$10,DATA!$P$2:$R$196,3))","v":""},{"$f":"IF(BTZ18=\"\",\"\",VLOOKUP($Q$10,DATA!$P$2:$R$196,3))","v":""},{"$f":"IF(BUA18=\"\",\"\",VLOOKUP($Q$10,DATA!$P$2:$R$196,3))","v":""},{"$f":"IF(BUB18=\"\",\"\",VLOOKUP($Q$10,DATA!$P$2:$R$196,3))","v":""},{"$f":"IF(BUC18=\"\",\"\",VLOOKUP($Q$10,DATA!$P$2:$R$196,3))","v":""},{"$f":"IF(BUD18=\"\",\"\",VLOOKUP($Q$10,DATA!$P$2:$R$196,3))","v":""},{"$f":"IF(BUE18=\"\",\"\",VLOOKUP($Q$10,DATA!$P$2:$R$196,3))","v":""},{"$f":"IF(BUF18=\"\",\"\",VLOOKUP($Q$10,DATA!$P$2:$R$196,3))","v":""},{"$f":"IF(BUG18=\"\",\"\",VLOOKUP($Q$10,DATA!$P$2:$R$196,3))","v":""},{"$f":"IF(BUH18=\"\",\"\",VLOOKUP($Q$10,DATA!$P$2:$R$196,3))","v":""},{"$f":"IF(BUI18=\"\",\"\",VLOOKUP($Q$10,DATA!$P$2:$R$196,3))","v":""},{"$f":"IF(BUJ18=\"\",\"\",VLOOKUP($Q$10,DATA!$P$2:$R$196,3))","v":""},{"$f":"IF(BUK18=\"\",\"\",VLOOKUP($Q$10,DATA!$P$2:$R$196,3))","v":""},{"$f":"IF(BUL18=\"\",\"\",VLOOKUP($Q$10,DATA!$P$2:$R$196,3))","v":""},{"$f":"IF(BUM18=\"\",\"\",VLOOKUP($Q$10,DATA!$P$2:$R$196,3))","v":""},{"$f":"IF(BUN18=\"\",\"\",VLOOKUP($Q$10,DATA!$P$2:$R$196,3))","v":""},{"$f":"IF(BUO18=\"\",\"\",VLOOKUP($Q$10,DATA!$P$2:$R$196,3))","v":""},{"$f":"IF(BUP18=\"\",\"\",VLOOKUP($Q$10,DATA!$P$2:$R$196,3))","v":""},{"$f":"IF(BUQ18=\"\",\"\",VLOOKUP($Q$10,DATA!$P$2:$R$196,3))","v":""},{"$f":"IF(BUR18=\"\",\"\",VLOOKUP($Q$10,DATA!$P$2:$R$196,3))","v":""},{"$f":"IF(BUS18=\"\",\"\",VLOOKUP($Q$10,DATA!$P$2:$R$196,3))","v":""},{"$f":"IF(BUT18=\"\",\"\",VLOOKUP($Q$10,DATA!$P$2:$R$196,3))","v":""},{"$f":"IF(BUU18=\"\",\"\",VLOOKUP($Q$10,DATA!$P$2:$R$196,3))","v":""},{"$f":"IF(BUV18=\"\",\"\",VLOOKUP($Q$10,DATA!$P$2:$R$196,3))","v":""},{"$f":"IF(BUW18=\"\",\"\",VLOOKUP($Q$10,DATA!$P$2:$R$196,3))","v":""},{"$f":"IF(BUX18=\"\",\"\",VLOOKUP($Q$10,DATA!$P$2:$R$196,3))","v":""},{"$f":"IF(BUY18=\"\",\"\",VLOOKUP($Q$10,DATA!$P$2:$R$196,3))","v":""},{"$f":"IF(BUZ18=\"\",\"\",VLOOKUP($Q$10,DATA!$P$2:$R$196,3))","v":""},{"$f":"IF(BVA18=\"\",\"\",VLOOKUP($Q$10,DATA!$P$2:$R$196,3))","v":""},{"$f":"IF(BVB18=\"\",\"\",VLOOKUP($Q$10,DATA!$P$2:$R$196,3))","v":""},{"$f":"IF(BVC18=\"\",\"\",VLOOKUP($Q$10,DATA!$P$2:$R$196,3))","v":""},{"$f":"IF(BVD18=\"\",\"\",VLOOKUP($Q$10,DATA!$P$2:$R$196,3))","v":""},{"$f":"IF(BVE18=\"\",\"\",VLOOKUP($Q$10,DATA!$P$2:$R$196,3))","v":""},{"$f":"IF(BVF18=\"\",\"\",VLOOKUP($Q$10,DATA!$P$2:$R$196,3))","v":""},{"$f":"IF(BVG18=\"\",\"\",VLOOKUP($Q$10,DATA!$P$2:$R$196,3))","v":""},{"$f":"IF(BVH18=\"\",\"\",VLOOKUP($Q$10,DATA!$P$2:$R$196,3))","v":""},{"$f":"IF(BVI18=\"\",\"\",VLOOKUP($Q$10,DATA!$P$2:$R$196,3))","v":""},{"$f":"IF(BVJ18=\"\",\"\",VLOOKUP($Q$10,DATA!$P$2:$R$196,3))","v":""},{"$f":"IF(BVK18=\"\",\"\",VLOOKUP($Q$10,DATA!$P$2:$R$196,3))","v":""},{"$f":"IF(BVL18=\"\",\"\",VLOOKUP($Q$10,DATA!$P$2:$R$196,3))","v":""},{"$f":"IF(BVM18=\"\",\"\",VLOOKUP($Q$10,DATA!$P$2:$R$196,3))","v":""},{"$f":"IF(BVN18=\"\",\"\",VLOOKUP($Q$10,DATA!$P$2:$R$196,3))","v":""},{"$f":"IF(BVO18=\"\",\"\",VLOOKUP($Q$10,DATA!$P$2:$R$196,3))","v":""},{"$f":"IF(BVP18=\"\",\"\",VLOOKUP($Q$10,DATA!$P$2:$R$196,3))","v":""},{"$f":"IF(BVQ18=\"\",\"\",VLOOKUP($Q$10,DATA!$P$2:$R$196,3))","v":""},{"$f":"IF(BVR18=\"\",\"\",VLOOKUP($Q$10,DATA!$P$2:$R$196,3))","v":""},{"$f":"IF(BVS18=\"\",\"\",VLOOKUP($Q$10,DATA!$P$2:$R$196,3))","v":""},{"$f":"IF(BVT18=\"\",\"\",VLOOKUP($Q$10,DATA!$P$2:$R$196,3))","v":""},{"$f":"IF(BVU18=\"\",\"\",VLOOKUP($Q$10,DATA!$P$2:$R$196,3))","v":""},{"$f":"IF(BVV18=\"\",\"\",VLOOKUP($Q$10,DATA!$P$2:$R$196,3))","v":""},{"$f":"IF(BVW18=\"\",\"\",VLOOKUP($Q$10,DATA!$P$2:$R$196,3))","v":""},{"$f":"IF(BVX18=\"\",\"\",VLOOKUP($Q$10,DATA!$P$2:$R$196,3))","v":""},{"$f":"IF(BVY18=\"\",\"\",VLOOKUP($Q$10,DATA!$P$2:$R$196,3))","v":""},{"$f":"IF(BVZ18=\"\",\"\",VLOOKUP($Q$10,DATA!$P$2:$R$196,3))","v":""},{"$f":"IF(BWA18=\"\",\"\",VLOOKUP($Q$10,DATA!$P$2:$R$196,3))","v":""},{"$f":"IF(BWB18=\"\",\"\",VLOOKUP($Q$10,DATA!$P$2:$R$196,3))","v":""},{"$f":"IF(BWC18=\"\",\"\",VLOOKUP($Q$10,DATA!$P$2:$R$196,3))","v":""},{"$f":"IF(BWD18=\"\",\"\",VLOOKUP($Q$10,DATA!$P$2:$R$196,3))","v":""},{"$f":"IF(BWE18=\"\",\"\",VLOOKUP($Q$10,DATA!$P$2:$R$196,3))","v":""},{"$f":"IF(BWF18=\"\",\"\",VLOOKUP($Q$10,DATA!$P$2:$R$196,3))","v":""},{"$f":"IF(BWG18=\"\",\"\",VLOOKUP($Q$10,DATA!$P$2:$R$196,3))","v":""},{"$f":"IF(BWH18=\"\",\"\",VLOOKUP($Q$10,DATA!$P$2:$R$196,3))","v":""},{"$f":"IF(BWI18=\"\",\"\",VLOOKUP($Q$10,DATA!$P$2:$R$196,3))","v":""},{"$f":"IF(BWJ18=\"\",\"\",VLOOKUP($Q$10,DATA!$P$2:$R$196,3))","v":""},{"$f":"IF(BWK18=\"\",\"\",VLOOKUP($Q$10,DATA!$P$2:$R$196,3))","v":""},{"$f":"IF(BWL18=\"\",\"\",VLOOKUP($Q$10,DATA!$P$2:$R$196,3))","v":""},{"$f":"IF(BWM18=\"\",\"\",VLOOKUP($Q$10,DATA!$P$2:$R$196,3))","v":""},{"$f":"IF(BWN18=\"\",\"\",VLOOKUP($Q$10,DATA!$P$2:$R$196,3))","v":""},{"$f":"IF(BWO18=\"\",\"\",VLOOKUP($Q$10,DATA!$P$2:$R$196,3))","v":""},{"$f":"IF(BWP18=\"\",\"\",VLOOKUP($Q$10,DATA!$P$2:$R$196,3))","v":""},{"$f":"IF(BWQ18=\"\",\"\",VLOOKUP($Q$10,DATA!$P$2:$R$196,3))","v":""},{"$f":"IF(BWR18=\"\",\"\",VLOOKUP($Q$10,DATA!$P$2:$R$196,3))","v":""},{"$f":"IF(BWS18=\"\",\"\",VLOOKUP($Q$10,DATA!$P$2:$R$196,3))","v":""},{"$f":"IF(BWT18=\"\",\"\",VLOOKUP($Q$10,DATA!$P$2:$R$196,3))","v":""},{"$f":"IF(BWU18=\"\",\"\",VLOOKUP($Q$10,DATA!$P$2:$R$196,3))","v":""},{"$f":"IF(BWV18=\"\",\"\",VLOOKUP($Q$10,DATA!$P$2:$R$196,3))","v":""},{"$f":"IF(BWW18=\"\",\"\",VLOOKUP($Q$10,DATA!$P$2:$R$196,3))","v":""},{"$f":"IF(BWX18=\"\",\"\",VLOOKUP($Q$10,DATA!$P$2:$R$196,3))","v":""},{"$f":"IF(BWY18=\"\",\"\",VLOOKUP($Q$10,DATA!$P$2:$R$196,3))","v":""},{"$f":"IF(BWZ18=\"\",\"\",VLOOKUP($Q$10,DATA!$P$2:$R$196,3))","v":""},{"$f":"IF(BXA18=\"\",\"\",VLOOKUP($Q$10,DATA!$P$2:$R$196,3))","v":""},{"$f":"IF(BXB18=\"\",\"\",VLOOKUP($Q$10,DATA!$P$2:$R$196,3))","v":""},{"$f":"IF(BXC18=\"\",\"\",VLOOKUP($Q$10,DATA!$P$2:$R$196,3))","v":""},{"$f":"IF(BXD18=\"\",\"\",VLOOKUP($Q$10,DATA!$P$2:$R$196,3))","v":""},{"$f":"IF(BXE18=\"\",\"\",VLOOKUP($Q$10,DATA!$P$2:$R$196,3))","v":""},{"$f":"IF(BXF18=\"\",\"\",VLOOKUP($Q$10,DATA!$P$2:$R$196,3))","v":""},{"$f":"IF(BXG18=\"\",\"\",VLOOKUP($Q$10,DATA!$P$2:$R$196,3))","v":""},{"$f":"IF(BXH18=\"\",\"\",VLOOKUP($Q$10,DATA!$P$2:$R$196,3))","v":""},{"$f":"IF(BXI18=\"\",\"\",VLOOKUP($Q$10,DATA!$P$2:$R$196,3))","v":""},{"$f":"IF(BXJ18=\"\",\"\",VLOOKUP($Q$10,DATA!$P$2:$R$196,3))","v":""},{"$f":"IF(BXK18=\"\",\"\",VLOOKUP($Q$10,DATA!$P$2:$R$196,3))","v":""},{"$f":"IF(BXL18=\"\",\"\",VLOOKUP($Q$10,DATA!$P$2:$R$196,3))","v":""},{"$f":"IF(BXM18=\"\",\"\",VLOOKUP($Q$10,DATA!$P$2:$R$196,3))","v":""},{"$f":"IF(BXN18=\"\",\"\",VLOOKUP($Q$10,DATA!$P$2:$R$196,3))","v":""},{"$f":"IF(BXO18=\"\",\"\",VLOOKUP($Q$10,DATA!$P$2:$R$196,3))","v":""},{"$f":"IF(BXP18=\"\",\"\",VLOOKUP($Q$10,DATA!$P$2:$R$196,3))","v":""},{"$f":"IF(BXQ18=\"\",\"\",VLOOKUP($Q$10,DATA!$P$2:$R$196,3))","v":""},{"$f":"IF(BXR18=\"\",\"\",VLOOKUP($Q$10,DATA!$P$2:$R$196,3))","v":""},{"$f":"IF(BXS18=\"\",\"\",VLOOKUP($Q$10,DATA!$P$2:$R$196,3))","v":""},{"$f":"IF(BXT18=\"\",\"\",VLOOKUP($Q$10,DATA!$P$2:$R$196,3))","v":""},{"$f":"IF(BXU18=\"\",\"\",VLOOKUP($Q$10,DATA!$P$2:$R$196,3))","v":""},{"$f":"IF(BXV18=\"\",\"\",VLOOKUP($Q$10,DATA!$P$2:$R$196,3))","v":""},{"$f":"IF(BXW18=\"\",\"\",VLOOKUP($Q$10,DATA!$P$2:$R$196,3))","v":""},{"$f":"IF(BXX18=\"\",\"\",VLOOKUP($Q$10,DATA!$P$2:$R$196,3))","v":""},{"$f":"IF(BXY18=\"\",\"\",VLOOKUP($Q$10,DATA!$P$2:$R$196,3))","v":""},{"$f":"IF(BXZ18=\"\",\"\",VLOOKUP($Q$10,DATA!$P$2:$R$196,3))","v":""},{"$f":"IF(BYA18=\"\",\"\",VLOOKUP($Q$10,DATA!$P$2:$R$196,3))","v":""},{"$f":"IF(BYB18=\"\",\"\",VLOOKUP($Q$10,DATA!$P$2:$R$196,3))","v":""},{"$f":"IF(BYC18=\"\",\"\",VLOOKUP($Q$10,DATA!$P$2:$R$196,3))","v":""},{"$f":"IF(BYD18=\"\",\"\",VLOOKUP($Q$10,DATA!$P$2:$R$196,3))","v":""},{"$f":"IF(BYE18=\"\",\"\",VLOOKUP($Q$10,DATA!$P$2:$R$196,3))","v":""},{"$f":"IF(BYF18=\"\",\"\",VLOOKUP($Q$10,DATA!$P$2:$R$196,3))","v":""},{"$f":"IF(BYG18=\"\",\"\",VLOOKUP($Q$10,DATA!$P$2:$R$196,3))","v":""},{"$f":"IF(BYH18=\"\",\"\",VLOOKUP($Q$10,DATA!$P$2:$R$196,3))","v":""},{"$f":"IF(BYI18=\"\",\"\",VLOOKUP($Q$10,DATA!$P$2:$R$196,3))","v":""},{"$f":"IF(BYJ18=\"\",\"\",VLOOKUP($Q$10,DATA!$P$2:$R$196,3))","v":""},{"$f":"IF(BYK18=\"\",\"\",VLOOKUP($Q$10,DATA!$P$2:$R$196,3))","v":""},{"$f":"IF(BYL18=\"\",\"\",VLOOKUP($Q$10,DATA!$P$2:$R$196,3))","v":""},{"$f":"IF(BYM18=\"\",\"\",VLOOKUP($Q$10,DATA!$P$2:$R$196,3))","v":""},{"$f":"IF(BYN18=\"\",\"\",VLOOKUP($Q$10,DATA!$P$2:$R$196,3))","v":""},{"$f":"IF(BYO18=\"\",\"\",VLOOKUP($Q$10,DATA!$P$2:$R$196,3))","v":""},{"$f":"IF(BYP18=\"\",\"\",VLOOKUP($Q$10,DATA!$P$2:$R$196,3))","v":""},{"$f":"IF(BYQ18=\"\",\"\",VLOOKUP($Q$10,DATA!$P$2:$R$196,3))","v":""},{"$f":"IF(BYR18=\"\",\"\",VLOOKUP($Q$10,DATA!$P$2:$R$196,3))","v":""},{"$f":"IF(BYS18=\"\",\"\",VLOOKUP($Q$10,DATA!$P$2:$R$196,3))","v":""},{"$f":"IF(BYT18=\"\",\"\",VLOOKUP($Q$10,DATA!$P$2:$R$196,3))","v":""},{"$f":"IF(BYU18=\"\",\"\",VLOOKUP($Q$10,DATA!$P$2:$R$196,3))","v":""},{"$f":"IF(BYV18=\"\",\"\",VLOOKUP($Q$10,DATA!$P$2:$R$196,3))","v":""},{"$f":"IF(BYW18=\"\",\"\",VLOOKUP($Q$10,DATA!$P$2:$R$196,3))","v":""},{"$f":"IF(BYX18=\"\",\"\",VLOOKUP($Q$10,DATA!$P$2:$R$196,3))","v":""},{"$f":"IF(BYY18=\"\",\"\",VLOOKUP($Q$10,DATA!$P$2:$R$196,3))","v":""},{"$f":"IF(BYZ18=\"\",\"\",VLOOKUP($Q$10,DATA!$P$2:$R$196,3))","v":""},{"$f":"IF(BZA18=\"\",\"\",VLOOKUP($Q$10,DATA!$P$2:$R$196,3))","v":""},{"$f":"IF(BZB18=\"\",\"\",VLOOKUP($Q$10,DATA!$P$2:$R$196,3))","v":""},{"$f":"IF(BZC18=\"\",\"\",VLOOKUP($Q$10,DATA!$P$2:$R$196,3))","v":""},{"$f":"IF(BZD18=\"\",\"\",VLOOKUP($Q$10,DATA!$P$2:$R$196,3))","v":""},{"$f":"IF(BZE18=\"\",\"\",VLOOKUP($Q$10,DATA!$P$2:$R$196,3))","v":""},{"$f":"IF(BZF18=\"\",\"\",VLOOKUP($Q$10,DATA!$P$2:$R$196,3))","v":""},{"$f":"IF(BZG18=\"\",\"\",VLOOKUP($Q$10,DATA!$P$2:$R$196,3))","v":""},{"$f":"IF(BZH18=\"\",\"\",VLOOKUP($Q$10,DATA!$P$2:$R$196,3))","v":""},{"$f":"IF(BZI18=\"\",\"\",VLOOKUP($Q$10,DATA!$P$2:$R$196,3))","v":""},{"$f":"IF(BZJ18=\"\",\"\",VLOOKUP($Q$10,DATA!$P$2:$R$196,3))","v":""},{"$f":"IF(BZK18=\"\",\"\",VLOOKUP($Q$10,DATA!$P$2:$R$196,3))","v":""},{"$f":"IF(BZL18=\"\",\"\",VLOOKUP($Q$10,DATA!$P$2:$R$196,3))","v":""},{"$f":"IF(BZM18=\"\",\"\",VLOOKUP($Q$10,DATA!$P$2:$R$196,3))","v":""},{"$f":"IF(BZN18=\"\",\"\",VLOOKUP($Q$10,DATA!$P$2:$R$196,3))","v":""},{"$f":"IF(BZO18=\"\",\"\",VLOOKUP($Q$10,DATA!$P$2:$R$196,3))","v":""},{"$f":"IF(BZP18=\"\",\"\",VLOOKUP($Q$10,DATA!$P$2:$R$196,3))","v":""},{"$f":"IF(BZQ18=\"\",\"\",VLOOKUP($Q$10,DATA!$P$2:$R$196,3))","v":""},{"$f":"IF(BZR18=\"\",\"\",VLOOKUP($Q$10,DATA!$P$2:$R$196,3))","v":""},{"$f":"IF(BZS18=\"\",\"\",VLOOKUP($Q$10,DATA!$P$2:$R$196,3))","v":""},{"$f":"IF(BZT18=\"\",\"\",VLOOKUP($Q$10,DATA!$P$2:$R$196,3))","v":""},{"$f":"IF(BZU18=\"\",\"\",VLOOKUP($Q$10,DATA!$P$2:$R$196,3))","v":""},{"$f":"IF(BZV18=\"\",\"\",VLOOKUP($Q$10,DATA!$P$2:$R$196,3))","v":""},{"$f":"IF(BZW18=\"\",\"\",VLOOKUP($Q$10,DATA!$P$2:$R$196,3))","v":""},{"$f":"IF(BZX18=\"\",\"\",VLOOKUP($Q$10,DATA!$P$2:$R$196,3))","v":""},{"$f":"IF(BZY18=\"\",\"\",VLOOKUP($Q$10,DATA!$P$2:$R$196,3))","v":""},{"$f":"IF(BZZ18=\"\",\"\",VLOOKUP($Q$10,DATA!$P$2:$R$196,3))","v":""},{"$f":"IF(CAA18=\"\",\"\",VLOOKUP($Q$10,DATA!$P$2:$R$196,3))","v":""},{"$f":"IF(CAB18=\"\",\"\",VLOOKUP($Q$10,DATA!$P$2:$R$196,3))","v":""},{"$f":"IF(CAC18=\"\",\"\",VLOOKUP($Q$10,DATA!$P$2:$R$196,3))","v":""},{"$f":"IF(CAD18=\"\",\"\",VLOOKUP($Q$10,DATA!$P$2:$R$196,3))","v":""},{"$f":"IF(CAE18=\"\",\"\",VLOOKUP($Q$10,DATA!$P$2:$R$196,3))","v":""},{"$f":"IF(CAF18=\"\",\"\",VLOOKUP($Q$10,DATA!$P$2:$R$196,3))","v":""},{"$f":"IF(CAG18=\"\",\"\",VLOOKUP($Q$10,DATA!$P$2:$R$196,3))","v":""},{"$f":"IF(CAH18=\"\",\"\",VLOOKUP($Q$10,DATA!$P$2:$R$196,3))","v":""},{"$f":"IF(CAI18=\"\",\"\",VLOOKUP($Q$10,DATA!$P$2:$R$196,3))","v":""},{"$f":"IF(CAJ18=\"\",\"\",VLOOKUP($Q$10,DATA!$P$2:$R$196,3))","v":""},{"$f":"IF(CAK18=\"\",\"\",VLOOKUP($Q$10,DATA!$P$2:$R$196,3))","v":""},{"$f":"IF(CAL18=\"\",\"\",VLOOKUP($Q$10,DATA!$P$2:$R$196,3))","v":""},{"$f":"IF(CAM18=\"\",\"\",VLOOKUP($Q$10,DATA!$P$2:$R$196,3))","v":""},{"$f":"IF(CAN18=\"\",\"\",VLOOKUP($Q$10,DATA!$P$2:$R$196,3))","v":""},{"$f":"IF(CAO18=\"\",\"\",VLOOKUP($Q$10,DATA!$P$2:$R$196,3))","v":""},{"$f":"IF(CAP18=\"\",\"\",VLOOKUP($Q$10,DATA!$P$2:$R$196,3))","v":""},{"$f":"IF(CAQ18=\"\",\"\",VLOOKUP($Q$10,DATA!$P$2:$R$196,3))","v":""},{"$f":"IF(CAR18=\"\",\"\",VLOOKUP($Q$10,DATA!$P$2:$R$196,3))","v":""},{"$f":"IF(CAS18=\"\",\"\",VLOOKUP($Q$10,DATA!$P$2:$R$196,3))","v":""},{"$f":"IF(CAT18=\"\",\"\",VLOOKUP($Q$10,DATA!$P$2:$R$196,3))","v":""},{"$f":"IF(CAU18=\"\",\"\",VLOOKUP($Q$10,DATA!$P$2:$R$196,3))","v":""},{"$f":"IF(CAV18=\"\",\"\",VLOOKUP($Q$10,DATA!$P$2:$R$196,3))","v":""},{"$f":"IF(CAW18=\"\",\"\",VLOOKUP($Q$10,DATA!$P$2:$R$196,3))","v":""},{"$f":"IF(CAX18=\"\",\"\",VLOOKUP($Q$10,DATA!$P$2:$R$196,3))","v":""},{"$f":"IF(CAY18=\"\",\"\",VLOOKUP($Q$10,DATA!$P$2:$R$196,3))","v":""},{"$f":"IF(CAZ18=\"\",\"\",VLOOKUP($Q$10,DATA!$P$2:$R$196,3))","v":""},{"$f":"IF(CBA18=\"\",\"\",VLOOKUP($Q$10,DATA!$P$2:$R$196,3))","v":""},{"$f":"IF(CBB18=\"\",\"\",VLOOKUP($Q$10,DATA!$P$2:$R$196,3))","v":""},{"$f":"IF(CBC18=\"\",\"\",VLOOKUP($Q$10,DATA!$P$2:$R$196,3))","v":""},{"$f":"IF(CBD18=\"\",\"\",VLOOKUP($Q$10,DATA!$P$2:$R$196,3))","v":""},{"$f":"IF(CBE18=\"\",\"\",VLOOKUP($Q$10,DATA!$P$2:$R$196,3))","v":""},{"$f":"IF(CBF18=\"\",\"\",VLOOKUP($Q$10,DATA!$P$2:$R$196,3))","v":""},{"$f":"IF(CBG18=\"\",\"\",VLOOKUP($Q$10,DATA!$P$2:$R$196,3))","v":""},{"$f":"IF(CBH18=\"\",\"\",VLOOKUP($Q$10,DATA!$P$2:$R$196,3))","v":""},{"$f":"IF(CBI18=\"\",\"\",VLOOKUP($Q$10,DATA!$P$2:$R$196,3))","v":""},{"$f":"IF(CBJ18=\"\",\"\",VLOOKUP($Q$10,DATA!$P$2:$R$196,3))","v":""},{"$f":"IF(CBK18=\"\",\"\",VLOOKUP($Q$10,DATA!$P$2:$R$196,3))","v":""},{"$f":"IF(CBL18=\"\",\"\",VLOOKUP($Q$10,DATA!$P$2:$R$196,3))","v":""},{"$f":"IF(CBM18=\"\",\"\",VLOOKUP($Q$10,DATA!$P$2:$R$196,3))","v":""},{"$f":"IF(CBN18=\"\",\"\",VLOOKUP($Q$10,DATA!$P$2:$R$196,3))","v":""},{"$f":"IF(CBO18=\"\",\"\",VLOOKUP($Q$10,DATA!$P$2:$R$196,3))","v":""},{"$f":"IF(CBP18=\"\",\"\",VLOOKUP($Q$10,DATA!$P$2:$R$196,3))","v":""},{"$f":"IF(CBQ18=\"\",\"\",VLOOKUP($Q$10,DATA!$P$2:$R$196,3))","v":""},{"$f":"IF(CBR18=\"\",\"\",VLOOKUP($Q$10,DATA!$P$2:$R$196,3))","v":""},{"$f":"IF(CBS18=\"\",\"\",VLOOKUP($Q$10,DATA!$P$2:$R$196,3))","v":""},{"$f":"IF(CBT18=\"\",\"\",VLOOKUP($Q$10,DATA!$P$2:$R$196,3))","v":""},{"$f":"IF(CBU18=\"\",\"\",VLOOKUP($Q$10,DATA!$P$2:$R$196,3))","v":""},{"$f":"IF(CBV18=\"\",\"\",VLOOKUP($Q$10,DATA!$P$2:$R$196,3))","v":""},{"$f":"IF(CBW18=\"\",\"\",VLOOKUP($Q$10,DATA!$P$2:$R$196,3))","v":""},{"$f":"IF(CBX18=\"\",\"\",VLOOKUP($Q$10,DATA!$P$2:$R$196,3))","v":""},{"$f":"IF(CBY18=\"\",\"\",VLOOKUP($Q$10,DATA!$P$2:$R$196,3))","v":""},{"$f":"IF(CBZ18=\"\",\"\",VLOOKUP($Q$10,DATA!$P$2:$R$196,3))","v":""},{"$f":"IF(CCA18=\"\",\"\",VLOOKUP($Q$10,DATA!$P$2:$R$196,3))","v":""},{"$f":"IF(CCB18=\"\",\"\",VLOOKUP($Q$10,DATA!$P$2:$R$196,3))","v":""},{"$f":"IF(CCC18=\"\",\"\",VLOOKUP($Q$10,DATA!$P$2:$R$196,3))","v":""},{"$f":"IF(CCD18=\"\",\"\",VLOOKUP($Q$10,DATA!$P$2:$R$196,3))","v":""},{"$f":"IF(CCE18=\"\",\"\",VLOOKUP($Q$10,DATA!$P$2:$R$196,3))","v":""},{"$f":"IF(CCF18=\"\",\"\",VLOOKUP($Q$10,DATA!$P$2:$R$196,3))","v":""},{"$f":"IF(CCG18=\"\",\"\",VLOOKUP($Q$10,DATA!$P$2:$R$196,3))","v":""},{"$f":"IF(CCH18=\"\",\"\",VLOOKUP($Q$10,DATA!$P$2:$R$196,3))","v":""},{"$f":"IF(CCI18=\"\",\"\",VLOOKUP($Q$10,DATA!$P$2:$R$196,3))","v":""},{"$f":"IF(CCJ18=\"\",\"\",VLOOKUP($Q$10,DATA!$P$2:$R$196,3))","v":""},{"$f":"IF(CCK18=\"\",\"\",VLOOKUP($Q$10,DATA!$P$2:$R$196,3))","v":""},{"$f":"IF(CCL18=\"\",\"\",VLOOKUP($Q$10,DATA!$P$2:$R$196,3))","v":""},{"$f":"IF(CCM18=\"\",\"\",VLOOKUP($Q$10,DATA!$P$2:$R$196,3))","v":""},{"$f":"IF(CCN18=\"\",\"\",VLOOKUP($Q$10,DATA!$P$2:$R$196,3))","v":""},{"$f":"IF(CCO18=\"\",\"\",VLOOKUP($Q$10,DATA!$P$2:$R$196,3))","v":""},{"$f":"IF(CCP18=\"\",\"\",VLOOKUP($Q$10,DATA!$P$2:$R$196,3))","v":""},{"$f":"IF(CCQ18=\"\",\"\",VLOOKUP($Q$10,DATA!$P$2:$R$196,3))","v":""},{"$f":"IF(CCR18=\"\",\"\",VLOOKUP($Q$10,DATA!$P$2:$R$196,3))","v":""},{"$f":"IF(CCS18=\"\",\"\",VLOOKUP($Q$10,DATA!$P$2:$R$196,3))","v":""},{"$f":"IF(CCT18=\"\",\"\",VLOOKUP($Q$10,DATA!$P$2:$R$196,3))","v":""},{"$f":"IF(CCU18=\"\",\"\",VLOOKUP($Q$10,DATA!$P$2:$R$196,3))","v":""},{"$f":"IF(CCV18=\"\",\"\",VLOOKUP($Q$10,DATA!$P$2:$R$196,3))","v":""},{"$f":"IF(CCW18=\"\",\"\",VLOOKUP($Q$10,DATA!$P$2:$R$196,3))","v":""},{"$f":"IF(CCX18=\"\",\"\",VLOOKUP($Q$10,DATA!$P$2:$R$196,3))","v":""},{"$f":"IF(CCY18=\"\",\"\",VLOOKUP($Q$10,DATA!$P$2:$R$196,3))","v":""},{"$f":"IF(CCZ18=\"\",\"\",VLOOKUP($Q$10,DATA!$P$2:$R$196,3))","v":""},{"$f":"IF(CDA18=\"\",\"\",VLOOKUP($Q$10,DATA!$P$2:$R$196,3))","v":""},{"$f":"IF(CDB18=\"\",\"\",VLOOKUP($Q$10,DATA!$P$2:$R$196,3))","v":""},{"$f":"IF(CDC18=\"\",\"\",VLOOKUP($Q$10,DATA!$P$2:$R$196,3))","v":""},{"$f":"IF(CDD18=\"\",\"\",VLOOKUP($Q$10,DATA!$P$2:$R$196,3))","v":""},{"$f":"IF(CDE18=\"\",\"\",VLOOKUP($Q$10,DATA!$P$2:$R$196,3))","v":""},{"$f":"IF(CDF18=\"\",\"\",VLOOKUP($Q$10,DATA!$P$2:$R$196,3))","v":""},{"$f":"IF(CDG18=\"\",\"\",VLOOKUP($Q$10,DATA!$P$2:$R$196,3))","v":""},{"$f":"IF(CDH18=\"\",\"\",VLOOKUP($Q$10,DATA!$P$2:$R$196,3))","v":""},{"$f":"IF(CDI18=\"\",\"\",VLOOKUP($Q$10,DATA!$P$2:$R$196,3))","v":""},{"$f":"IF(CDJ18=\"\",\"\",VLOOKUP($Q$10,DATA!$P$2:$R$196,3))","v":""},{"$f":"IF(CDK18=\"\",\"\",VLOOKUP($Q$10,DATA!$P$2:$R$196,3))","v":""},{"$f":"IF(CDL18=\"\",\"\",VLOOKUP($Q$10,DATA!$P$2:$R$196,3))","v":""},{"$f":"IF(CDM18=\"\",\"\",VLOOKUP($Q$10,DATA!$P$2:$R$196,3))","v":""},{"$f":"IF(CDN18=\"\",\"\",VLOOKUP($Q$10,DATA!$P$2:$R$196,3))","v":""},{"$f":"IF(CDO18=\"\",\"\",VLOOKUP($Q$10,DATA!$P$2:$R$196,3))","v":""},{"$f":"IF(CDP18=\"\",\"\",VLOOKUP($Q$10,DATA!$P$2:$R$196,3))","v":""},{"$f":"IF(CDQ18=\"\",\"\",VLOOKUP($Q$10,DATA!$P$2:$R$196,3))","v":""},{"$f":"IF(CDR18=\"\",\"\",VLOOKUP($Q$10,DATA!$P$2:$R$196,3))","v":""},{"$f":"IF(CDS18=\"\",\"\",VLOOKUP($Q$10,DATA!$P$2:$R$196,3))","v":""},{"$f":"IF(CDT18=\"\",\"\",VLOOKUP($Q$10,DATA!$P$2:$R$196,3))","v":""},{"$f":"IF(CDU18=\"\",\"\",VLOOKUP($Q$10,DATA!$P$2:$R$196,3))","v":""},{"$f":"IF(CDV18=\"\",\"\",VLOOKUP($Q$10,DATA!$P$2:$R$196,3))","v":""},{"$f":"IF(CDW18=\"\",\"\",VLOOKUP($Q$10,DATA!$P$2:$R$196,3))","v":""},{"$f":"IF(CDX18=\"\",\"\",VLOOKUP($Q$10,DATA!$P$2:$R$196,3))","v":""},{"$f":"IF(CDY18=\"\",\"\",VLOOKUP($Q$10,DATA!$P$2:$R$196,3))","v":""},{"$f":"IF(CDZ18=\"\",\"\",VLOOKUP($Q$10,DATA!$P$2:$R$196,3))","v":""},{"$f":"IF(CEA18=\"\",\"\",VLOOKUP($Q$10,DATA!$P$2:$R$196,3))","v":""},{"$f":"IF(CEB18=\"\",\"\",VLOOKUP($Q$10,DATA!$P$2:$R$196,3))","v":""},{"$f":"IF(CEC18=\"\",\"\",VLOOKUP($Q$10,DATA!$P$2:$R$196,3))","v":""},{"$f":"IF(CED18=\"\",\"\",VLOOKUP($Q$10,DATA!$P$2:$R$196,3))","v":""},{"$f":"IF(CEE18=\"\",\"\",VLOOKUP($Q$10,DATA!$P$2:$R$196,3))","v":""},{"$f":"IF(CEF18=\"\",\"\",VLOOKUP($Q$10,DATA!$P$2:$R$196,3))","v":""},{"$f":"IF(CEG18=\"\",\"\",VLOOKUP($Q$10,DATA!$P$2:$R$196,3))","v":""},{"$f":"IF(CEH18=\"\",\"\",VLOOKUP($Q$10,DATA!$P$2:$R$196,3))","v":""},{"$f":"IF(CEI18=\"\",\"\",VLOOKUP($Q$10,DATA!$P$2:$R$196,3))","v":""},{"$f":"IF(CEJ18=\"\",\"\",VLOOKUP($Q$10,DATA!$P$2:$R$196,3))","v":""},{"$f":"IF(CEK18=\"\",\"\",VLOOKUP($Q$10,DATA!$P$2:$R$196,3))","v":""},{"$f":"IF(CEL18=\"\",\"\",VLOOKUP($Q$10,DATA!$P$2:$R$196,3))","v":""},{"$f":"IF(CEM18=\"\",\"\",VLOOKUP($Q$10,DATA!$P$2:$R$196,3))","v":""},{"$f":"IF(CEN18=\"\",\"\",VLOOKUP($Q$10,DATA!$P$2:$R$196,3))","v":""},{"$f":"IF(CEO18=\"\",\"\",VLOOKUP($Q$10,DATA!$P$2:$R$196,3))","v":""},{"$f":"IF(CEP18=\"\",\"\",VLOOKUP($Q$10,DATA!$P$2:$R$196,3))","v":""},{"$f":"IF(CEQ18=\"\",\"\",VLOOKUP($Q$10,DATA!$P$2:$R$196,3))","v":""},{"$f":"IF(CER18=\"\",\"\",VLOOKUP($Q$10,DATA!$P$2:$R$196,3))","v":""},{"$f":"IF(CES18=\"\",\"\",VLOOKUP($Q$10,DATA!$P$2:$R$196,3))","v":""},{"$f":"IF(CET18=\"\",\"\",VLOOKUP($Q$10,DATA!$P$2:$R$196,3))","v":""},{"$f":"IF(CEU18=\"\",\"\",VLOOKUP($Q$10,DATA!$P$2:$R$196,3))","v":""},{"$f":"IF(CEV18=\"\",\"\",VLOOKUP($Q$10,DATA!$P$2:$R$196,3))","v":""},{"$f":"IF(CEW18=\"\",\"\",VLOOKUP($Q$10,DATA!$P$2:$R$196,3))","v":""},{"$f":"IF(CEX18=\"\",\"\",VLOOKUP($Q$10,DATA!$P$2:$R$196,3))","v":""},{"$f":"IF(CEY18=\"\",\"\",VLOOKUP($Q$10,DATA!$P$2:$R$196,3))","v":""},{"$f":"IF(CEZ18=\"\",\"\",VLOOKUP($Q$10,DATA!$P$2:$R$196,3))","v":""},{"$f":"IF(CFA18=\"\",\"\",VLOOKUP($Q$10,DATA!$P$2:$R$196,3))","v":""},{"$f":"IF(CFB18=\"\",\"\",VLOOKUP($Q$10,DATA!$P$2:$R$196,3))","v":""},{"$f":"IF(CFC18=\"\",\"\",VLOOKUP($Q$10,DATA!$P$2:$R$196,3))","v":""},{"$f":"IF(CFD18=\"\",\"\",VLOOKUP($Q$10,DATA!$P$2:$R$196,3))","v":""},{"$f":"IF(CFE18=\"\",\"\",VLOOKUP($Q$10,DATA!$P$2:$R$196,3))","v":""},{"$f":"IF(CFF18=\"\",\"\",VLOOKUP($Q$10,DATA!$P$2:$R$196,3))","v":""},{"$f":"IF(CFG18=\"\",\"\",VLOOKUP($Q$10,DATA!$P$2:$R$196,3))","v":""},{"$f":"IF(CFH18=\"\",\"\",VLOOKUP($Q$10,DATA!$P$2:$R$196,3))","v":""},{"$f":"IF(CFI18=\"\",\"\",VLOOKUP($Q$10,DATA!$P$2:$R$196,3))","v":""},{"$f":"IF(CFJ18=\"\",\"\",VLOOKUP($Q$10,DATA!$P$2:$R$196,3))","v":""},{"$f":"IF(CFK18=\"\",\"\",VLOOKUP($Q$10,DATA!$P$2:$R$196,3))","v":""},{"$f":"IF(CFL18=\"\",\"\",VLOOKUP($Q$10,DATA!$P$2:$R$196,3))","v":""},{"$f":"IF(CFM18=\"\",\"\",VLOOKUP($Q$10,DATA!$P$2:$R$196,3))","v":""},{"$f":"IF(CFN18=\"\",\"\",VLOOKUP($Q$10,DATA!$P$2:$R$196,3))","v":""},{"$f":"IF(CFO18=\"\",\"\",VLOOKUP($Q$10,DATA!$P$2:$R$196,3))","v":""},{"$f":"IF(CFP18=\"\",\"\",VLOOKUP($Q$10,DATA!$P$2:$R$196,3))","v":""},{"$f":"IF(CFQ18=\"\",\"\",VLOOKUP($Q$10,DATA!$P$2:$R$196,3))","v":""},{"$f":"IF(CFR18=\"\",\"\",VLOOKUP($Q$10,DATA!$P$2:$R$196,3))","v":""},{"$f":"IF(CFS18=\"\",\"\",VLOOKUP($Q$10,DATA!$P$2:$R$196,3))","v":""},{"$f":"IF(CFT18=\"\",\"\",VLOOKUP($Q$10,DATA!$P$2:$R$196,3))","v":""},{"$f":"IF(CFU18=\"\",\"\",VLOOKUP($Q$10,DATA!$P$2:$R$196,3))","v":""},{"$f":"IF(CFV18=\"\",\"\",VLOOKUP($Q$10,DATA!$P$2:$R$196,3))","v":""},{"$f":"IF(CFW18=\"\",\"\",VLOOKUP($Q$10,DATA!$P$2:$R$196,3))","v":""},{"$f":"IF(CFX18=\"\",\"\",VLOOKUP($Q$10,DATA!$P$2:$R$196,3))","v":""},{"$f":"IF(CFY18=\"\",\"\",VLOOKUP($Q$10,DATA!$P$2:$R$196,3))","v":""},{"$f":"IF(CFZ18=\"\",\"\",VLOOKUP($Q$10,DATA!$P$2:$R$196,3))","v":""},{"$f":"IF(CGA18=\"\",\"\",VLOOKUP($Q$10,DATA!$P$2:$R$196,3))","v":""},{"$f":"IF(CGB18=\"\",\"\",VLOOKUP($Q$10,DATA!$P$2:$R$196,3))","v":""},{"$f":"IF(CGC18=\"\",\"\",VLOOKUP($Q$10,DATA!$P$2:$R$196,3))","v":""},{"$f":"IF(CGD18=\"\",\"\",VLOOKUP($Q$10,DATA!$P$2:$R$196,3))","v":""},{"$f":"IF(CGE18=\"\",\"\",VLOOKUP($Q$10,DATA!$P$2:$R$196,3))","v":""},{"$f":"IF(CGF18=\"\",\"\",VLOOKUP($Q$10,DATA!$P$2:$R$196,3))","v":""},{"$f":"IF(CGG18=\"\",\"\",VLOOKUP($Q$10,DATA!$P$2:$R$196,3))","v":""},{"$f":"IF(CGH18=\"\",\"\",VLOOKUP($Q$10,DATA!$P$2:$R$196,3))","v":""},{"$f":"IF(CGI18=\"\",\"\",VLOOKUP($Q$10,DATA!$P$2:$R$196,3))","v":""},{"$f":"IF(CGJ18=\"\",\"\",VLOOKUP($Q$10,DATA!$P$2:$R$196,3))","v":""},{"$f":"IF(CGK18=\"\",\"\",VLOOKUP($Q$10,DATA!$P$2:$R$196,3))","v":""},{"$f":"IF(CGL18=\"\",\"\",VLOOKUP($Q$10,DATA!$P$2:$R$196,3))","v":""},{"$f":"IF(CGM18=\"\",\"\",VLOOKUP($Q$10,DATA!$P$2:$R$196,3))","v":""},{"$f":"IF(CGN18=\"\",\"\",VLOOKUP($Q$10,DATA!$P$2:$R$196,3))","v":""},{"$f":"IF(CGO18=\"\",\"\",VLOOKUP($Q$10,DATA!$P$2:$R$196,3))","v":""},{"$f":"IF(CGP18=\"\",\"\",VLOOKUP($Q$10,DATA!$P$2:$R$196,3))","v":""},{"$f":"IF(CGQ18=\"\",\"\",VLOOKUP($Q$10,DATA!$P$2:$R$196,3))","v":""},{"$f":"IF(CGR18=\"\",\"\",VLOOKUP($Q$10,DATA!$P$2:$R$196,3))","v":""},{"$f":"IF(CGS18=\"\",\"\",VLOOKUP($Q$10,DATA!$P$2:$R$196,3))","v":""},{"$f":"IF(CGT18=\"\",\"\",VLOOKUP($Q$10,DATA!$P$2:$R$196,3))","v":""},{"$f":"IF(CGU18=\"\",\"\",VLOOKUP($Q$10,DATA!$P$2:$R$196,3))","v":""},{"$f":"IF(CGV18=\"\",\"\",VLOOKUP($Q$10,DATA!$P$2:$R$196,3))","v":""},{"$f":"IF(CGW18=\"\",\"\",VLOOKUP($Q$10,DATA!$P$2:$R$196,3))","v":""},{"$f":"IF(CGX18=\"\",\"\",VLOOKUP($Q$10,DATA!$P$2:$R$196,3))","v":""},{"$f":"IF(CGY18=\"\",\"\",VLOOKUP($Q$10,DATA!$P$2:$R$196,3))","v":""},{"$f":"IF(CGZ18=\"\",\"\",VLOOKUP($Q$10,DATA!$P$2:$R$196,3))","v":""},{"$f":"IF(CHA18=\"\",\"\",VLOOKUP($Q$10,DATA!$P$2:$R$196,3))","v":""},{"$f":"IF(CHB18=\"\",\"\",VLOOKUP($Q$10,DATA!$P$2:$R$196,3))","v":""},{"$f":"IF(CHC18=\"\",\"\",VLOOKUP($Q$10,DATA!$P$2:$R$196,3))","v":""},{"$f":"IF(CHD18=\"\",\"\",VLOOKUP($Q$10,DATA!$P$2:$R$196,3))","v":""},{"$f":"IF(CHE18=\"\",\"\",VLOOKUP($Q$10,DATA!$P$2:$R$196,3))","v":""},{"$f":"IF(CHF18=\"\",\"\",VLOOKUP($Q$10,DATA!$P$2:$R$196,3))","v":""},{"$f":"IF(CHG18=\"\",\"\",VLOOKUP($Q$10,DATA!$P$2:$R$196,3))","v":""},{"$f":"IF(CHH18=\"\",\"\",VLOOKUP($Q$10,DATA!$P$2:$R$196,3))","v":""},{"$f":"IF(CHI18=\"\",\"\",VLOOKUP($Q$10,DATA!$P$2:$R$196,3))","v":""},{"$f":"IF(CHJ18=\"\",\"\",VLOOKUP($Q$10,DATA!$P$2:$R$196,3))","v":""},{"$f":"IF(CHK18=\"\",\"\",VLOOKUP($Q$10,DATA!$P$2:$R$196,3))","v":""},{"$f":"IF(CHL18=\"\",\"\",VLOOKUP($Q$10,DATA!$P$2:$R$196,3))","v":""},{"$f":"IF(CHM18=\"\",\"\",VLOOKUP($Q$10,DATA!$P$2:$R$196,3))","v":""},{"$f":"IF(CHN18=\"\",\"\",VLOOKUP($Q$10,DATA!$P$2:$R$196,3))","v":""},{"$f":"IF(CHO18=\"\",\"\",VLOOKUP($Q$10,DATA!$P$2:$R$196,3))","v":""},{"$f":"IF(CHP18=\"\",\"\",VLOOKUP($Q$10,DATA!$P$2:$R$196,3))","v":""},{"$f":"IF(CHQ18=\"\",\"\",VLOOKUP($Q$10,DATA!$P$2:$R$196,3))","v":""},{"$f":"IF(CHR18=\"\",\"\",VLOOKUP($Q$10,DATA!$P$2:$R$196,3))","v":""},{"$f":"IF(CHS18=\"\",\"\",VLOOKUP($Q$10,DATA!$P$2:$R$196,3))","v":""},{"$f":"IF(CHT18=\"\",\"\",VLOOKUP($Q$10,DATA!$P$2:$R$196,3))","v":""},{"$f":"IF(CHU18=\"\",\"\",VLOOKUP($Q$10,DATA!$P$2:$R$196,3))","v":""},{"$f":"IF(CHV18=\"\",\"\",VLOOKUP($Q$10,DATA!$P$2:$R$196,3))","v":""},{"$f":"IF(CHW18=\"\",\"\",VLOOKUP($Q$10,DATA!$P$2:$R$196,3))","v":""},{"$f":"IF(CHX18=\"\",\"\",VLOOKUP($Q$10,DATA!$P$2:$R$196,3))","v":""},{"$f":"IF(CHY18=\"\",\"\",VLOOKUP($Q$10,DATA!$P$2:$R$196,3))","v":""},{"$f":"IF(CHZ18=\"\",\"\",VLOOKUP($Q$10,DATA!$P$2:$R$196,3))","v":""},{"$f":"IF(CIA18=\"\",\"\",VLOOKUP($Q$10,DATA!$P$2:$R$196,3))","v":""},{"$f":"IF(CIB18=\"\",\"\",VLOOKUP($Q$10,DATA!$P$2:$R$196,3))","v":""},{"$f":"IF(CIC18=\"\",\"\",VLOOKUP($Q$10,DATA!$P$2:$R$196,3))","v":""},{"$f":"IF(CID18=\"\",\"\",VLOOKUP($Q$10,DATA!$P$2:$R$196,3))","v":""},{"$f":"IF(CIE18=\"\",\"\",VLOOKUP($Q$10,DATA!$P$2:$R$196,3))","v":""},{"$f":"IF(CIF18=\"\",\"\",VLOOKUP($Q$10,DATA!$P$2:$R$196,3))","v":""},{"$f":"IF(CIG18=\"\",\"\",VLOOKUP($Q$10,DATA!$P$2:$R$196,3))","v":""},{"$f":"IF(CIH18=\"\",\"\",VLOOKUP($Q$10,DATA!$P$2:$R$196,3))","v":""},{"$f":"IF(CII18=\"\",\"\",VLOOKUP($Q$10,DATA!$P$2:$R$196,3))","v":""},{"$f":"IF(CIJ18=\"\",\"\",VLOOKUP($Q$10,DATA!$P$2:$R$196,3))","v":""},{"$f":"IF(CIK18=\"\",\"\",VLOOKUP($Q$10,DATA!$P$2:$R$196,3))","v":""},{"$f":"IF(CIL18=\"\",\"\",VLOOKUP($Q$10,DATA!$P$2:$R$196,3))","v":""},{"$f":"IF(CIM18=\"\",\"\",VLOOKUP($Q$10,DATA!$P$2:$R$196,3))","v":""},{"$f":"IF(CIN18=\"\",\"\",VLOOKUP($Q$10,DATA!$P$2:$R$196,3))","v":""},{"$f":"IF(CIO18=\"\",\"\",VLOOKUP($Q$10,DATA!$P$2:$R$196,3))","v":""},{"$f":"IF(CIP18=\"\",\"\",VLOOKUP($Q$10,DATA!$P$2:$R$196,3))","v":""},{"$f":"IF(CIQ18=\"\",\"\",VLOOKUP($Q$10,DATA!$P$2:$R$196,3))","v":""},{"$f":"IF(CIR18=\"\",\"\",VLOOKUP($Q$10,DATA!$P$2:$R$196,3))","v":""},{"$f":"IF(CIS18=\"\",\"\",VLOOKUP($Q$10,DATA!$P$2:$R$196,3))","v":""},{"$f":"IF(CIT18=\"\",\"\",VLOOKUP($Q$10,DATA!$P$2:$R$196,3))","v":""},{"$f":"IF(CIU18=\"\",\"\",VLOOKUP($Q$10,DATA!$P$2:$R$196,3))","v":""},{"$f":"IF(CIV18=\"\",\"\",VLOOKUP($Q$10,DATA!$P$2:$R$196,3))","v":""},{"$f":"IF(CIW18=\"\",\"\",VLOOKUP($Q$10,DATA!$P$2:$R$196,3))","v":""},{"$f":"IF(CIX18=\"\",\"\",VLOOKUP($Q$10,DATA!$P$2:$R$196,3))","v":""},{"$f":"IF(CIY18=\"\",\"\",VLOOKUP($Q$10,DATA!$P$2:$R$196,3))","v":""},{"$f":"IF(CIZ18=\"\",\"\",VLOOKUP($Q$10,DATA!$P$2:$R$196,3))","v":""},{"$f":"IF(CJA18=\"\",\"\",VLOOKUP($Q$10,DATA!$P$2:$R$196,3))","v":""},{"$f":"IF(CJB18=\"\",\"\",VLOOKUP($Q$10,DATA!$P$2:$R$196,3))","v":""},{"$f":"IF(CJC18=\"\",\"\",VLOOKUP($Q$10,DATA!$P$2:$R$196,3))","v":""},{"$f":"IF(CJD18=\"\",\"\",VLOOKUP($Q$10,DATA!$P$2:$R$196,3))","v":""},{"$f":"IF(CJE18=\"\",\"\",VLOOKUP($Q$10,DATA!$P$2:$R$196,3))","v":""},{"$f":"IF(CJF18=\"\",\"\",VLOOKUP($Q$10,DATA!$P$2:$R$196,3))","v":""},{"$f":"IF(CJG18=\"\",\"\",VLOOKUP($Q$10,DATA!$P$2:$R$196,3))","v":""},{"$f":"IF(CJH18=\"\",\"\",VLOOKUP($Q$10,DATA!$P$2:$R$196,3))","v":""},{"$f":"IF(CJI18=\"\",\"\",VLOOKUP($Q$10,DATA!$P$2:$R$196,3))","v":""},{"$f":"IF(CJJ18=\"\",\"\",VLOOKUP($Q$10,DATA!$P$2:$R$196,3))","v":""},{"$f":"IF(CJK18=\"\",\"\",VLOOKUP($Q$10,DATA!$P$2:$R$196,3))","v":""},{"$f":"IF(CJL18=\"\",\"\",VLOOKUP($Q$10,DATA!$P$2:$R$196,3))","v":""},{"$f":"IF(CJM18=\"\",\"\",VLOOKUP($Q$10,DATA!$P$2:$R$196,3))","v":""},{"$f":"IF(CJN18=\"\",\"\",VLOOKUP($Q$10,DATA!$P$2:$R$196,3))","v":""},{"$f":"IF(CJO18=\"\",\"\",VLOOKUP($Q$10,DATA!$P$2:$R$196,3))","v":""},{"$f":"IF(CJP18=\"\",\"\",VLOOKUP($Q$10,DATA!$P$2:$R$196,3))","v":""},{"$f":"IF(CJQ18=\"\",\"\",VLOOKUP($Q$10,DATA!$P$2:$R$196,3))","v":""},{"$f":"IF(CJR18=\"\",\"\",VLOOKUP($Q$10,DATA!$P$2:$R$196,3))","v":""},{"$f":"IF(CJS18=\"\",\"\",VLOOKUP($Q$10,DATA!$P$2:$R$196,3))","v":""},{"$f":"IF(CJT18=\"\",\"\",VLOOKUP($Q$10,DATA!$P$2:$R$196,3))","v":""},{"$f":"IF(CJU18=\"\",\"\",VLOOKUP($Q$10,DATA!$P$2:$R$196,3))","v":""},{"$f":"IF(CJV18=\"\",\"\",VLOOKUP($Q$10,DATA!$P$2:$R$196,3))","v":""},{"$f":"IF(CJW18=\"\",\"\",VLOOKUP($Q$10,DATA!$P$2:$R$196,3))","v":""},{"$f":"IF(CJX18=\"\",\"\",VLOOKUP($Q$10,DATA!$P$2:$R$196,3))","v":""},{"$f":"IF(CJY18=\"\",\"\",VLOOKUP($Q$10,DATA!$P$2:$R$196,3))","v":""},{"$f":"IF(CJZ18=\"\",\"\",VLOOKUP($Q$10,DATA!$P$2:$R$196,3))","v":""},{"$f":"IF(CKA18=\"\",\"\",VLOOKUP($Q$10,DATA!$P$2:$R$196,3))","v":""},{"$f":"IF(CKB18=\"\",\"\",VLOOKUP($Q$10,DATA!$P$2:$R$196,3))","v":""},{"$f":"IF(CKC18=\"\",\"\",VLOOKUP($Q$10,DATA!$P$2:$R$196,3))","v":""},{"$f":"IF(CKD18=\"\",\"\",VLOOKUP($Q$10,DATA!$P$2:$R$196,3))","v":""},{"$f":"IF(CKE18=\"\",\"\",VLOOKUP($Q$10,DATA!$P$2:$R$196,3))","v":""},{"$f":"IF(CKF18=\"\",\"\",VLOOKUP($Q$10,DATA!$P$2:$R$196,3))","v":""},{"$f":"IF(CKG18=\"\",\"\",VLOOKUP($Q$10,DATA!$P$2:$R$196,3))","v":""},{"$f":"IF(CKH18=\"\",\"\",VLOOKUP($Q$10,DATA!$P$2:$R$196,3))","v":""},{"$f":"IF(CKI18=\"\",\"\",VLOOKUP($Q$10,DATA!$P$2:$R$196,3))","v":""},{"$f":"IF(CKJ18=\"\",\"\",VLOOKUP($Q$10,DATA!$P$2:$R$196,3))","v":""},{"$f":"IF(CKK18=\"\",\"\",VLOOKUP($Q$10,DATA!$P$2:$R$196,3))","v":""},{"$f":"IF(CKL18=\"\",\"\",VLOOKUP($Q$10,DATA!$P$2:$R$196,3))","v":""},{"$f":"IF(CKM18=\"\",\"\",VLOOKUP($Q$10,DATA!$P$2:$R$196,3))","v":""},{"$f":"IF(CKN18=\"\",\"\",VLOOKUP($Q$10,DATA!$P$2:$R$196,3))","v":""},{"$f":"IF(CKO18=\"\",\"\",VLOOKUP($Q$10,DATA!$P$2:$R$196,3))","v":""},{"$f":"IF(CKP18=\"\",\"\",VLOOKUP($Q$10,DATA!$P$2:$R$196,3))","v":""},{"$f":"IF(CKQ18=\"\",\"\",VLOOKUP($Q$10,DATA!$P$2:$R$196,3))","v":""},{"$f":"IF(CKR18=\"\",\"\",VLOOKUP($Q$10,DATA!$P$2:$R$196,3))","v":""},{"$f":"IF(CKS18=\"\",\"\",VLOOKUP($Q$10,DATA!$P$2:$R$196,3))","v":""},{"$f":"IF(CKT18=\"\",\"\",VLOOKUP($Q$10,DATA!$P$2:$R$196,3))","v":""},{"$f":"IF(CKU18=\"\",\"\",VLOOKUP($Q$10,DATA!$P$2:$R$196,3))","v":""},{"$f":"IF(CKV18=\"\",\"\",VLOOKUP($Q$10,DATA!$P$2:$R$196,3))","v":""},{"$f":"IF(CKW18=\"\",\"\",VLOOKUP($Q$10,DATA!$P$2:$R$196,3))","v":""},{"$f":"IF(CKX18=\"\",\"\",VLOOKUP($Q$10,DATA!$P$2:$R$196,3))","v":""},{"$f":"IF(CKY18=\"\",\"\",VLOOKUP($Q$10,DATA!$P$2:$R$196,3))","v":""},{"$f":"IF(CKZ18=\"\",\"\",VLOOKUP($Q$10,DATA!$P$2:$R$196,3))","v":""},{"$f":"IF(CLA18=\"\",\"\",VLOOKUP($Q$10,DATA!$P$2:$R$196,3))","v":""},{"$f":"IF(CLB18=\"\",\"\",VLOOKUP($Q$10,DATA!$P$2:$R$196,3))","v":""},{"$f":"IF(CLC18=\"\",\"\",VLOOKUP($Q$10,DATA!$P$2:$R$196,3))","v":""},{"$f":"IF(CLD18=\"\",\"\",VLOOKUP($Q$10,DATA!$P$2:$R$196,3))","v":""},{"$f":"IF(CLE18=\"\",\"\",VLOOKUP($Q$10,DATA!$P$2:$R$196,3))","v":""},{"$f":"IF(CLF18=\"\",\"\",VLOOKUP($Q$10,DATA!$P$2:$R$196,3))","v":""},{"$f":"IF(CLG18=\"\",\"\",VLOOKUP($Q$10,DATA!$P$2:$R$196,3))","v":""},{"$f":"IF(CLH18=\"\",\"\",VLOOKUP($Q$10,DATA!$P$2:$R$196,3))","v":""},{"$f":"IF(CLI18=\"\",\"\",VLOOKUP($Q$10,DATA!$P$2:$R$196,3))","v":""},{"$f":"IF(CLJ18=\"\",\"\",VLOOKUP($Q$10,DATA!$P$2:$R$196,3))","v":""},{"$f":"IF(CLK18=\"\",\"\",VLOOKUP($Q$10,DATA!$P$2:$R$196,3))","v":""},{"$f":"IF(CLL18=\"\",\"\",VLOOKUP($Q$10,DATA!$P$2:$R$196,3))","v":""},{"$f":"IF(CLM18=\"\",\"\",VLOOKUP($Q$10,DATA!$P$2:$R$196,3))","v":""},{"$f":"IF(CLN18=\"\",\"\",VLOOKUP($Q$10,DATA!$P$2:$R$196,3))","v":""},{"$f":"IF(CLO18=\"\",\"\",VLOOKUP($Q$10,DATA!$P$2:$R$196,3))","v":""},{"$f":"IF(CLP18=\"\",\"\",VLOOKUP($Q$10,DATA!$P$2:$R$196,3))","v":""},{"$f":"IF(CLQ18=\"\",\"\",VLOOKUP($Q$10,DATA!$P$2:$R$196,3))","v":""},{"$f":"IF(CLR18=\"\",\"\",VLOOKUP($Q$10,DATA!$P$2:$R$196,3))","v":""},{"$f":"IF(CLS18=\"\",\"\",VLOOKUP($Q$10,DATA!$P$2:$R$196,3))","v":""},{"$f":"IF(CLT18=\"\",\"\",VLOOKUP($Q$10,DATA!$P$2:$R$196,3))","v":""},{"$f":"IF(CLU18=\"\",\"\",VLOOKUP($Q$10,DATA!$P$2:$R$196,3))","v":""},{"$f":"IF(CLV18=\"\",\"\",VLOOKUP($Q$10,DATA!$P$2:$R$196,3))","v":""},{"$f":"IF(CLW18=\"\",\"\",VLOOKUP($Q$10,DATA!$P$2:$R$196,3))","v":""},{"$f":"IF(CLX18=\"\",\"\",VLOOKUP($Q$10,DATA!$P$2:$R$196,3))","v":""},{"$f":"IF(CLY18=\"\",\"\",VLOOKUP($Q$10,DATA!$P$2:$R$196,3))","v":""},{"$f":"IF(CLZ18=\"\",\"\",VLOOKUP($Q$10,DATA!$P$2:$R$196,3))","v":""},{"$f":"IF(CMA18=\"\",\"\",VLOOKUP($Q$10,DATA!$P$2:$R$196,3))","v":""},{"$f":"IF(CMB18=\"\",\"\",VLOOKUP($Q$10,DATA!$P$2:$R$196,3))","v":""},{"$f":"IF(CMC18=\"\",\"\",VLOOKUP($Q$10,DATA!$P$2:$R$196,3))","v":""},{"$f":"IF(CMD18=\"\",\"\",VLOOKUP($Q$10,DATA!$P$2:$R$196,3))","v":""},{"$f":"IF(CME18=\"\",\"\",VLOOKUP($Q$10,DATA!$P$2:$R$196,3))","v":""},{"$f":"IF(CMF18=\"\",\"\",VLOOKUP($Q$10,DATA!$P$2:$R$196,3))","v":""},{"$f":"IF(CMG18=\"\",\"\",VLOOKUP($Q$10,DATA!$P$2:$R$196,3))","v":""},{"$f":"IF(CMH18=\"\",\"\",VLOOKUP($Q$10,DATA!$P$2:$R$196,3))","v":""},{"$f":"IF(CMI18=\"\",\"\",VLOOKUP($Q$10,DATA!$P$2:$R$196,3))","v":""},{"$f":"IF(CMJ18=\"\",\"\",VLOOKUP($Q$10,DATA!$P$2:$R$196,3))","v":""},{"$f":"IF(CMK18=\"\",\"\",VLOOKUP($Q$10,DATA!$P$2:$R$196,3))","v":""},{"$f":"IF(CML18=\"\",\"\",VLOOKUP($Q$10,DATA!$P$2:$R$196,3))","v":""},{"$f":"IF(CMM18=\"\",\"\",VLOOKUP($Q$10,DATA!$P$2:$R$196,3))","v":""},{"$f":"IF(CMN18=\"\",\"\",VLOOKUP($Q$10,DATA!$P$2:$R$196,3))","v":""},{"$f":"IF(CMO18=\"\",\"\",VLOOKUP($Q$10,DATA!$P$2:$R$196,3))","v":""},{"$f":"IF(CMP18=\"\",\"\",VLOOKUP($Q$10,DATA!$P$2:$R$196,3))","v":""},{"$f":"IF(CMQ18=\"\",\"\",VLOOKUP($Q$10,DATA!$P$2:$R$196,3))","v":""},{"$f":"IF(CMR18=\"\",\"\",VLOOKUP($Q$10,DATA!$P$2:$R$196,3))","v":""},{"$f":"IF(CMS18=\"\",\"\",VLOOKUP($Q$10,DATA!$P$2:$R$196,3))","v":""},{"$f":"IF(CMT18=\"\",\"\",VLOOKUP($Q$10,DATA!$P$2:$R$196,3))","v":""},{"$f":"IF(CMU18=\"\",\"\",VLOOKUP($Q$10,DATA!$P$2:$R$196,3))","v":""},{"$f":"IF(CMV18=\"\",\"\",VLOOKUP($Q$10,DATA!$P$2:$R$196,3))","v":""},{"$f":"IF(CMW18=\"\",\"\",VLOOKUP($Q$10,DATA!$P$2:$R$196,3))","v":""},{"$f":"IF(CMX18=\"\",\"\",VLOOKUP($Q$10,DATA!$P$2:$R$196,3))","v":""},{"$f":"IF(CMY18=\"\",\"\",VLOOKUP($Q$10,DATA!$P$2:$R$196,3))","v":""},{"$f":"IF(CMZ18=\"\",\"\",VLOOKUP($Q$10,DATA!$P$2:$R$196,3))","v":""},{"$f":"IF(CNA18=\"\",\"\",VLOOKUP($Q$10,DATA!$P$2:$R$196,3))","v":""},{"$f":"IF(CNB18=\"\",\"\",VLOOKUP($Q$10,DATA!$P$2:$R$196,3))","v":""},{"$f":"IF(CNC18=\"\",\"\",VLOOKUP($Q$10,DATA!$P$2:$R$196,3))","v":""},{"$f":"IF(CND18=\"\",\"\",VLOOKUP($Q$10,DATA!$P$2:$R$196,3))","v":""},{"$f":"IF(CNE18=\"\",\"\",VLOOKUP($Q$10,DATA!$P$2:$R$196,3))","v":""},{"$f":"IF(CNF18=\"\",\"\",VLOOKUP($Q$10,DATA!$P$2:$R$196,3))","v":""},{"$f":"IF(CNG18=\"\",\"\",VLOOKUP($Q$10,DATA!$P$2:$R$196,3))","v":""},{"$f":"IF(CNH18=\"\",\"\",VLOOKUP($Q$10,DATA!$P$2:$R$196,3))","v":""},{"$f":"IF(CNI18=\"\",\"\",VLOOKUP($Q$10,DATA!$P$2:$R$196,3))","v":""},{"$f":"IF(CNJ18=\"\",\"\",VLOOKUP($Q$10,DATA!$P$2:$R$196,3))","v":""},{"$f":"IF(CNK18=\"\",\"\",VLOOKUP($Q$10,DATA!$P$2:$R$196,3))","v":""},{"$f":"IF(CNL18=\"\",\"\",VLOOKUP($Q$10,DATA!$P$2:$R$196,3))","v":""},{"$f":"IF(CNM18=\"\",\"\",VLOOKUP($Q$10,DATA!$P$2:$R$196,3))","v":""},{"$f":"IF(CNN18=\"\",\"\",VLOOKUP($Q$10,DATA!$P$2:$R$196,3))","v":""},{"$f":"IF(CNO18=\"\",\"\",VLOOKUP($Q$10,DATA!$P$2:$R$196,3))","v":""},{"$f":"IF(CNP18=\"\",\"\",VLOOKUP($Q$10,DATA!$P$2:$R$196,3))","v":""},{"$f":"IF(CNQ18=\"\",\"\",VLOOKUP($Q$10,DATA!$P$2:$R$196,3))","v":""},{"$f":"IF(CNR18=\"\",\"\",VLOOKUP($Q$10,DATA!$P$2:$R$196,3))","v":""},{"$f":"IF(CNS18=\"\",\"\",VLOOKUP($Q$10,DATA!$P$2:$R$196,3))","v":""},{"$f":"IF(CNT18=\"\",\"\",VLOOKUP($Q$10,DATA!$P$2:$R$196,3))","v":""},{"$f":"IF(CNU18=\"\",\"\",VLOOKUP($Q$10,DATA!$P$2:$R$196,3))","v":""},{"$f":"IF(CNV18=\"\",\"\",VLOOKUP($Q$10,DATA!$P$2:$R$196,3))","v":""},{"$f":"IF(CNW18=\"\",\"\",VLOOKUP($Q$10,DATA!$P$2:$R$196,3))","v":""},{"$f":"IF(CNX18=\"\",\"\",VLOOKUP($Q$10,DATA!$P$2:$R$196,3))","v":""},{"$f":"IF(CNY18=\"\",\"\",VLOOKUP($Q$10,DATA!$P$2:$R$196,3))","v":""},{"$f":"IF(CNZ18=\"\",\"\",VLOOKUP($Q$10,DATA!$P$2:$R$196,3))","v":""},{"$f":"IF(COA18=\"\",\"\",VLOOKUP($Q$10,DATA!$P$2:$R$196,3))","v":""},{"$f":"IF(COB18=\"\",\"\",VLOOKUP($Q$10,DATA!$P$2:$R$196,3))","v":""},{"$f":"IF(COC18=\"\",\"\",VLOOKUP($Q$10,DATA!$P$2:$R$196,3))","v":""},{"$f":"IF(COD18=\"\",\"\",VLOOKUP($Q$10,DATA!$P$2:$R$196,3))","v":""},{"$f":"IF(COE18=\"\",\"\",VLOOKUP($Q$10,DATA!$P$2:$R$196,3))","v":""},{"$f":"IF(COF18=\"\",\"\",VLOOKUP($Q$10,DATA!$P$2:$R$196,3))","v":""},{"$f":"IF(COG18=\"\",\"\",VLOOKUP($Q$10,DATA!$P$2:$R$196,3))","v":""},{"$f":"IF(COH18=\"\",\"\",VLOOKUP($Q$10,DATA!$P$2:$R$196,3))","v":""},{"$f":"IF(COI18=\"\",\"\",VLOOKUP($Q$10,DATA!$P$2:$R$196,3))","v":""},{"$f":"IF(COJ18=\"\",\"\",VLOOKUP($Q$10,DATA!$P$2:$R$196,3))","v":""},{"$f":"IF(COK18=\"\",\"\",VLOOKUP($Q$10,DATA!$P$2:$R$196,3))","v":""},{"$f":"IF(COL18=\"\",\"\",VLOOKUP($Q$10,DATA!$P$2:$R$196,3))","v":""},{"$f":"IF(COM18=\"\",\"\",VLOOKUP($Q$10,DATA!$P$2:$R$196,3))","v":""},{"$f":"IF(CON18=\"\",\"\",VLOOKUP($Q$10,DATA!$P$2:$R$196,3))","v":""},{"$f":"IF(COO18=\"\",\"\",VLOOKUP($Q$10,DATA!$P$2:$R$196,3))","v":""},{"$f":"IF(COP18=\"\",\"\",VLOOKUP($Q$10,DATA!$P$2:$R$196,3))","v":""},{"$f":"IF(COQ18=\"\",\"\",VLOOKUP($Q$10,DATA!$P$2:$R$196,3))","v":""},{"$f":"IF(COR18=\"\",\"\",VLOOKUP($Q$10,DATA!$P$2:$R$196,3))","v":""},{"$f":"IF(COS18=\"\",\"\",VLOOKUP($Q$10,DATA!$P$2:$R$196,3))","v":""},{"$f":"IF(COT18=\"\",\"\",VLOOKUP($Q$10,DATA!$P$2:$R$196,3))","v":""},{"$f":"IF(COU18=\"\",\"\",VLOOKUP($Q$10,DATA!$P$2:$R$196,3))","v":""},{"$f":"IF(COV18=\"\",\"\",VLOOKUP($Q$10,DATA!$P$2:$R$196,3))","v":""},{"$f":"IF(COW18=\"\",\"\",VLOOKUP($Q$10,DATA!$P$2:$R$196,3))","v":""},{"$f":"IF(COX18=\"\",\"\",VLOOKUP($Q$10,DATA!$P$2:$R$196,3))","v":""},{"$f":"IF(COY18=\"\",\"\",VLOOKUP($Q$10,DATA!$P$2:$R$196,3))","v":""},{"$f":"IF(COZ18=\"\",\"\",VLOOKUP($Q$10,DATA!$P$2:$R$196,3))","v":""},{"$f":"IF(CPA18=\"\",\"\",VLOOKUP($Q$10,DATA!$P$2:$R$196,3))","v":""},{"$f":"IF(CPB18=\"\",\"\",VLOOKUP($Q$10,DATA!$P$2:$R$196,3))","v":""},{"$f":"IF(CPC18=\"\",\"\",VLOOKUP($Q$10,DATA!$P$2:$R$196,3))","v":""},{"$f":"IF(CPD18=\"\",\"\",VLOOKUP($Q$10,DATA!$P$2:$R$196,3))","v":""},{"$f":"IF(CPE18=\"\",\"\",VLOOKUP($Q$10,DATA!$P$2:$R$196,3))","v":""},{"$f":"IF(CPF18=\"\",\"\",VLOOKUP($Q$10,DATA!$P$2:$R$196,3))","v":""},{"$f":"IF(CPG18=\"\",\"\",VLOOKUP($Q$10,DATA!$P$2:$R$196,3))","v":""},{"$f":"IF(CPH18=\"\",\"\",VLOOKUP($Q$10,DATA!$P$2:$R$196,3))","v":""},{"$f":"IF(CPI18=\"\",\"\",VLOOKUP($Q$10,DATA!$P$2:$R$196,3))","v":""},{"$f":"IF(CPJ18=\"\",\"\",VLOOKUP($Q$10,DATA!$P$2:$R$196,3))","v":""},{"$f":"IF(CPK18=\"\",\"\",VLOOKUP($Q$10,DATA!$P$2:$R$196,3))","v":""},{"$f":"IF(CPL18=\"\",\"\",VLOOKUP($Q$10,DATA!$P$2:$R$196,3))","v":""},{"$f":"IF(CPM18=\"\",\"\",VLOOKUP($Q$10,DATA!$P$2:$R$196,3))","v":""},{"$f":"IF(CPN18=\"\",\"\",VLOOKUP($Q$10,DATA!$P$2:$R$196,3))","v":""},{"$f":"IF(CPO18=\"\",\"\",VLOOKUP($Q$10,DATA!$P$2:$R$196,3))","v":""},{"$f":"IF(CPP18=\"\",\"\",VLOOKUP($Q$10,DATA!$P$2:$R$196,3))","v":""},{"$f":"IF(CPQ18=\"\",\"\",VLOOKUP($Q$10,DATA!$P$2:$R$196,3))","v":""},{"$f":"IF(CPR18=\"\",\"\",VLOOKUP($Q$10,DATA!$P$2:$R$196,3))","v":""},{"$f":"IF(CPS18=\"\",\"\",VLOOKUP($Q$10,DATA!$P$2:$R$196,3))","v":""},{"$f":"IF(CPT18=\"\",\"\",VLOOKUP($Q$10,DATA!$P$2:$R$196,3))","v":""},{"$f":"IF(CPU18=\"\",\"\",VLOOKUP($Q$10,DATA!$P$2:$R$196,3))","v":""},{"$f":"IF(CPV18=\"\",\"\",VLOOKUP($Q$10,DATA!$P$2:$R$196,3))","v":""},{"$f":"IF(CPW18=\"\",\"\",VLOOKUP($Q$10,DATA!$P$2:$R$196,3))","v":""},{"$f":"IF(CPX18=\"\",\"\",VLOOKUP($Q$10,DATA!$P$2:$R$196,3))","v":""},{"$f":"IF(CPY18=\"\",\"\",VLOOKUP($Q$10,DATA!$P$2:$R$196,3))","v":""},{"$f":"IF(CPZ18=\"\",\"\",VLOOKUP($Q$10,DATA!$P$2:$R$196,3))","v":""},{"$f":"IF(CQA18=\"\",\"\",VLOOKUP($Q$10,DATA!$P$2:$R$196,3))","v":""},{"$f":"IF(CQB18=\"\",\"\",VLOOKUP($Q$10,DATA!$P$2:$R$196,3))","v":""},{"$f":"IF(CQC18=\"\",\"\",VLOOKUP($Q$10,DATA!$P$2:$R$196,3))","v":""},{"$f":"IF(CQD18=\"\",\"\",VLOOKUP($Q$10,DATA!$P$2:$R$196,3))","v":""},{"$f":"IF(CQE18=\"\",\"\",VLOOKUP($Q$10,DATA!$P$2:$R$196,3))","v":""},{"$f":"IF(CQF18=\"\",\"\",VLOOKUP($Q$10,DATA!$P$2:$R$196,3))","v":""},{"$f":"IF(CQG18=\"\",\"\",VLOOKUP($Q$10,DATA!$P$2:$R$196,3))","v":""},{"$f":"IF(CQH18=\"\",\"\",VLOOKUP($Q$10,DATA!$P$2:$R$196,3))","v":""},{"$f":"IF(CQI18=\"\",\"\",VLOOKUP($Q$10,DATA!$P$2:$R$196,3))","v":""},{"$f":"IF(CQJ18=\"\",\"\",VLOOKUP($Q$10,DATA!$P$2:$R$196,3))","v":""},{"$f":"IF(CQK18=\"\",\"\",VLOOKUP($Q$10,DATA!$P$2:$R$196,3))","v":""},{"$f":"IF(CQL18=\"\",\"\",VLOOKUP($Q$10,DATA!$P$2:$R$196,3))","v":""},{"$f":"IF(CQM18=\"\",\"\",VLOOKUP($Q$10,DATA!$P$2:$R$196,3))","v":""},{"$f":"IF(CQN18=\"\",\"\",VLOOKUP($Q$10,DATA!$P$2:$R$196,3))","v":""},{"$f":"IF(CQO18=\"\",\"\",VLOOKUP($Q$10,DATA!$P$2:$R$196,3))","v":""},{"$f":"IF(CQP18=\"\",\"\",VLOOKUP($Q$10,DATA!$P$2:$R$196,3))","v":""},{"$f":"IF(CQQ18=\"\",\"\",VLOOKUP($Q$10,DATA!$P$2:$R$196,3))","v":""},{"$f":"IF(CQR18=\"\",\"\",VLOOKUP($Q$10,DATA!$P$2:$R$196,3))","v":""},{"$f":"IF(CQS18=\"\",\"\",VLOOKUP($Q$10,DATA!$P$2:$R$196,3))","v":""},{"$f":"IF(CQT18=\"\",\"\",VLOOKUP($Q$10,DATA!$P$2:$R$196,3))","v":""},{"$f":"IF(CQU18=\"\",\"\",VLOOKUP($Q$10,DATA!$P$2:$R$196,3))","v":""},{"$f":"IF(CQV18=\"\",\"\",VLOOKUP($Q$10,DATA!$P$2:$R$196,3))","v":""},{"$f":"IF(CQW18=\"\",\"\",VLOOKUP($Q$10,DATA!$P$2:$R$196,3))","v":""},{"$f":"IF(CQX18=\"\",\"\",VLOOKUP($Q$10,DATA!$P$2:$R$196,3))","v":""},{"$f":"IF(CQY18=\"\",\"\",VLOOKUP($Q$10,DATA!$P$2:$R$196,3))","v":""},{"$f":"IF(CQZ18=\"\",\"\",VLOOKUP($Q$10,DATA!$P$2:$R$196,3))","v":""},{"$f":"IF(CRA18=\"\",\"\",VLOOKUP($Q$10,DATA!$P$2:$R$196,3))","v":""},{"$f":"IF(CRB18=\"\",\"\",VLOOKUP($Q$10,DATA!$P$2:$R$196,3))","v":""},{"$f":"IF(CRC18=\"\",\"\",VLOOKUP($Q$10,DATA!$P$2:$R$196,3))","v":""},{"$f":"IF(CRD18=\"\",\"\",VLOOKUP($Q$10,DATA!$P$2:$R$196,3))","v":""},{"$f":"IF(CRE18=\"\",\"\",VLOOKUP($Q$10,DATA!$P$2:$R$196,3))","v":""},{"$f":"IF(CRF18=\"\",\"\",VLOOKUP($Q$10,DATA!$P$2:$R$196,3))","v":""},{"$f":"IF(CRG18=\"\",\"\",VLOOKUP($Q$10,DATA!$P$2:$R$196,3))","v":""},{"$f":"IF(CRH18=\"\",\"\",VLOOKUP($Q$10,DATA!$P$2:$R$196,3))","v":""},{"$f":"IF(CRI18=\"\",\"\",VLOOKUP($Q$10,DATA!$P$2:$R$196,3))","v":""},{"$f":"IF(CRJ18=\"\",\"\",VLOOKUP($Q$10,DATA!$P$2:$R$196,3))","v":""},{"$f":"IF(CRK18=\"\",\"\",VLOOKUP($Q$10,DATA!$P$2:$R$196,3))","v":""},{"$f":"IF(CRL18=\"\",\"\",VLOOKUP($Q$10,DATA!$P$2:$R$196,3))","v":""},{"$f":"IF(CRM18=\"\",\"\",VLOOKUP($Q$10,DATA!$P$2:$R$196,3))","v":""},{"$f":"IF(CRN18=\"\",\"\",VLOOKUP($Q$10,DATA!$P$2:$R$196,3))","v":""},{"$f":"IF(CRO18=\"\",\"\",VLOOKUP($Q$10,DATA!$P$2:$R$196,3))","v":""},{"$f":"IF(CRP18=\"\",\"\",VLOOKUP($Q$10,DATA!$P$2:$R$196,3))","v":""},{"$f":"IF(CRQ18=\"\",\"\",VLOOKUP($Q$10,DATA!$P$2:$R$196,3))","v":""},{"$f":"IF(CRR18=\"\",\"\",VLOOKUP($Q$10,DATA!$P$2:$R$196,3))","v":""},{"$f":"IF(CRS18=\"\",\"\",VLOOKUP($Q$10,DATA!$P$2:$R$196,3))","v":""},{"$f":"IF(CRT18=\"\",\"\",VLOOKUP($Q$10,DATA!$P$2:$R$196,3))","v":""},{"$f":"IF(CRU18=\"\",\"\",VLOOKUP($Q$10,DATA!$P$2:$R$196,3))","v":""},{"$f":"IF(CRV18=\"\",\"\",VLOOKUP($Q$10,DATA!$P$2:$R$196,3))","v":""},{"$f":"IF(CRW18=\"\",\"\",VLOOKUP($Q$10,DATA!$P$2:$R$196,3))","v":""},{"$f":"IF(CRX18=\"\",\"\",VLOOKUP($Q$10,DATA!$P$2:$R$196,3))","v":""},{"$f":"IF(CRY18=\"\",\"\",VLOOKUP($Q$10,DATA!$P$2:$R$196,3))","v":""},{"$f":"IF(CRZ18=\"\",\"\",VLOOKUP($Q$10,DATA!$P$2:$R$196,3))","v":""},{"$f":"IF(CSA18=\"\",\"\",VLOOKUP($Q$10,DATA!$P$2:$R$196,3))","v":""},{"$f":"IF(CSB18=\"\",\"\",VLOOKUP($Q$10,DATA!$P$2:$R$196,3))","v":""},{"$f":"IF(CSC18=\"\",\"\",VLOOKUP($Q$10,DATA!$P$2:$R$196,3))","v":""},{"$f":"IF(CSD18=\"\",\"\",VLOOKUP($Q$10,DATA!$P$2:$R$196,3))","v":""},{"$f":"IF(CSE18=\"\",\"\",VLOOKUP($Q$10,DATA!$P$2:$R$196,3))","v":""},{"$f":"IF(CSF18=\"\",\"\",VLOOKUP($Q$10,DATA!$P$2:$R$196,3))","v":""},{"$f":"IF(CSG18=\"\",\"\",VLOOKUP($Q$10,DATA!$P$2:$R$196,3))","v":""},{"$f":"IF(CSH18=\"\",\"\",VLOOKUP($Q$10,DATA!$P$2:$R$196,3))","v":""},{"$f":"IF(CSI18=\"\",\"\",VLOOKUP($Q$10,DATA!$P$2:$R$196,3))","v":""},{"$f":"IF(CSJ18=\"\",\"\",VLOOKUP($Q$10,DATA!$P$2:$R$196,3))","v":""},{"$f":"IF(CSK18=\"\",\"\",VLOOKUP($Q$10,DATA!$P$2:$R$196,3))","v":""},{"$f":"IF(CSL18=\"\",\"\",VLOOKUP($Q$10,DATA!$P$2:$R$196,3))","v":""},{"$f":"IF(CSM18=\"\",\"\",VLOOKUP($Q$10,DATA!$P$2:$R$196,3))","v":""},{"$f":"IF(CSN18=\"\",\"\",VLOOKUP($Q$10,DATA!$P$2:$R$196,3))","v":""},{"$f":"IF(CSO18=\"\",\"\",VLOOKUP($Q$10,DATA!$P$2:$R$196,3))","v":""},{"$f":"IF(CSP18=\"\",\"\",VLOOKUP($Q$10,DATA!$P$2:$R$196,3))","v":""},{"$f":"IF(CSQ18=\"\",\"\",VLOOKUP($Q$10,DATA!$P$2:$R$196,3))","v":""},{"$f":"IF(CSR18=\"\",\"\",VLOOKUP($Q$10,DATA!$P$2:$R$196,3))","v":""},{"$f":"IF(CSS18=\"\",\"\",VLOOKUP($Q$10,DATA!$P$2:$R$196,3))","v":""},{"$f":"IF(CST18=\"\",\"\",VLOOKUP($Q$10,DATA!$P$2:$R$196,3))","v":""},{"$f":"IF(CSU18=\"\",\"\",VLOOKUP($Q$10,DATA!$P$2:$R$196,3))","v":""},{"$f":"IF(CSV18=\"\",\"\",VLOOKUP($Q$10,DATA!$P$2:$R$196,3))","v":""},{"$f":"IF(CSW18=\"\",\"\",VLOOKUP($Q$10,DATA!$P$2:$R$196,3))","v":""},{"$f":"IF(CSX18=\"\",\"\",VLOOKUP($Q$10,DATA!$P$2:$R$196,3))","v":""},{"$f":"IF(CSY18=\"\",\"\",VLOOKUP($Q$10,DATA!$P$2:$R$196,3))","v":""},{"$f":"IF(CSZ18=\"\",\"\",VLOOKUP($Q$10,DATA!$P$2:$R$196,3))","v":""},{"$f":"IF(CTA18=\"\",\"\",VLOOKUP($Q$10,DATA!$P$2:$R$196,3))","v":""},{"$f":"IF(CTB18=\"\",\"\",VLOOKUP($Q$10,DATA!$P$2:$R$196,3))","v":""},{"$f":"IF(CTC18=\"\",\"\",VLOOKUP($Q$10,DATA!$P$2:$R$196,3))","v":""},{"$f":"IF(CTD18=\"\",\"\",VLOOKUP($Q$10,DATA!$P$2:$R$196,3))","v":""},{"$f":"IF(CTE18=\"\",\"\",VLOOKUP($Q$10,DATA!$P$2:$R$196,3))","v":""},{"$f":"IF(CTF18=\"\",\"\",VLOOKUP($Q$10,DATA!$P$2:$R$196,3))","v":""},{"$f":"IF(CTG18=\"\",\"\",VLOOKUP($Q$10,DATA!$P$2:$R$196,3))","v":""},{"$f":"IF(CTH18=\"\",\"\",VLOOKUP($Q$10,DATA!$P$2:$R$196,3))","v":""},{"$f":"IF(CTI18=\"\",\"\",VLOOKUP($Q$10,DATA!$P$2:$R$196,3))","v":""},{"$f":"IF(CTJ18=\"\",\"\",VLOOKUP($Q$10,DATA!$P$2:$R$196,3))","v":""},{"$f":"IF(CTK18=\"\",\"\",VLOOKUP($Q$10,DATA!$P$2:$R$196,3))","v":""},{"$f":"IF(CTL18=\"\",\"\",VLOOKUP($Q$10,DATA!$P$2:$R$196,3))","v":""},{"$f":"IF(CTM18=\"\",\"\",VLOOKUP($Q$10,DATA!$P$2:$R$196,3))","v":""},{"$f":"IF(CTN18=\"\",\"\",VLOOKUP($Q$10,DATA!$P$2:$R$196,3))","v":""},{"$f":"IF(CTO18=\"\",\"\",VLOOKUP($Q$10,DATA!$P$2:$R$196,3))","v":""},{"$f":"IF(CTP18=\"\",\"\",VLOOKUP($Q$10,DATA!$P$2:$R$196,3))","v":""},{"$f":"IF(CTQ18=\"\",\"\",VLOOKUP($Q$10,DATA!$P$2:$R$196,3))","v":""},{"$f":"IF(CTR18=\"\",\"\",VLOOKUP($Q$10,DATA!$P$2:$R$196,3))","v":""},{"$f":"IF(CTS18=\"\",\"\",VLOOKUP($Q$10,DATA!$P$2:$R$196,3))","v":""},{"$f":"IF(CTT18=\"\",\"\",VLOOKUP($Q$10,DATA!$P$2:$R$196,3))","v":""},{"$f":"IF(CTU18=\"\",\"\",VLOOKUP($Q$10,DATA!$P$2:$R$196,3))","v":""},{"$f":"IF(CTV18=\"\",\"\",VLOOKUP($Q$10,DATA!$P$2:$R$196,3))","v":""},{"$f":"IF(CTW18=\"\",\"\",VLOOKUP($Q$10,DATA!$P$2:$R$196,3))","v":""},{"$f":"IF(CTX18=\"\",\"\",VLOOKUP($Q$10,DATA!$P$2:$R$196,3))","v":""},{"$f":"IF(CTY18=\"\",\"\",VLOOKUP($Q$10,DATA!$P$2:$R$196,3))","v":""},{"$f":"IF(CTZ18=\"\",\"\",VLOOKUP($Q$10,DATA!$P$2:$R$196,3))","v":""},{"$f":"IF(CUA18=\"\",\"\",VLOOKUP($Q$10,DATA!$P$2:$R$196,3))","v":""},{"$f":"IF(CUB18=\"\",\"\",VLOOKUP($Q$10,DATA!$P$2:$R$196,3))","v":""},{"$f":"IF(CUC18=\"\",\"\",VLOOKUP($Q$10,DATA!$P$2:$R$196,3))","v":""},{"$f":"IF(CUD18=\"\",\"\",VLOOKUP($Q$10,DATA!$P$2:$R$196,3))","v":""},{"$f":"IF(CUE18=\"\",\"\",VLOOKUP($Q$10,DATA!$P$2:$R$196,3))","v":""},{"$f":"IF(CUF18=\"\",\"\",VLOOKUP($Q$10,DATA!$P$2:$R$196,3))","v":""},{"$f":"IF(CUG18=\"\",\"\",VLOOKUP($Q$10,DATA!$P$2:$R$196,3))","v":""},{"$f":"IF(CUH18=\"\",\"\",VLOOKUP($Q$10,DATA!$P$2:$R$196,3))","v":""},{"$f":"IF(CUI18=\"\",\"\",VLOOKUP($Q$10,DATA!$P$2:$R$196,3))","v":""},{"$f":"IF(CUJ18=\"\",\"\",VLOOKUP($Q$10,DATA!$P$2:$R$196,3))","v":""},{"$f":"IF(CUK18=\"\",\"\",VLOOKUP($Q$10,DATA!$P$2:$R$196,3))","v":""},{"$f":"IF(CUL18=\"\",\"\",VLOOKUP($Q$10,DATA!$P$2:$R$196,3))","v":""},{"$f":"IF(CUM18=\"\",\"\",VLOOKUP($Q$10,DATA!$P$2:$R$196,3))","v":""},{"$f":"IF(CUN18=\"\",\"\",VLOOKUP($Q$10,DATA!$P$2:$R$196,3))","v":""},{"$f":"IF(CUO18=\"\",\"\",VLOOKUP($Q$10,DATA!$P$2:$R$196,3))","v":""},{"$f":"IF(CUP18=\"\",\"\",VLOOKUP($Q$10,DATA!$P$2:$R$196,3))","v":""},{"$f":"IF(CUQ18=\"\",\"\",VLOOKUP($Q$10,DATA!$P$2:$R$196,3))","v":""},{"$f":"IF(CUR18=\"\",\"\",VLOOKUP($Q$10,DATA!$P$2:$R$196,3))","v":""},{"$f":"IF(CUS18=\"\",\"\",VLOOKUP($Q$10,DATA!$P$2:$R$196,3))","v":""},{"$f":"IF(CUT18=\"\",\"\",VLOOKUP($Q$10,DATA!$P$2:$R$196,3))","v":""},{"$f":"IF(CUU18=\"\",\"\",VLOOKUP($Q$10,DATA!$P$2:$R$196,3))","v":""},{"$f":"IF(CUV18=\"\",\"\",VLOOKUP($Q$10,DATA!$P$2:$R$196,3))","v":""},{"$f":"IF(CUW18=\"\",\"\",VLOOKUP($Q$10,DATA!$P$2:$R$196,3))","v":""},{"$f":"IF(CUX18=\"\",\"\",VLOOKUP($Q$10,DATA!$P$2:$R$196,3))","v":""},{"$f":"IF(CUY18=\"\",\"\",VLOOKUP($Q$10,DATA!$P$2:$R$196,3))","v":""},{"$f":"IF(CUZ18=\"\",\"\",VLOOKUP($Q$10,DATA!$P$2:$R$196,3))","v":""},{"$f":"IF(CVA18=\"\",\"\",VLOOKUP($Q$10,DATA!$P$2:$R$196,3))","v":""},{"$f":"IF(CVB18=\"\",\"\",VLOOKUP($Q$10,DATA!$P$2:$R$196,3))","v":""},{"$f":"IF(CVC18=\"\",\"\",VLOOKUP($Q$10,DATA!$P$2:$R$196,3))","v":""},{"$f":"IF(CVD18=\"\",\"\",VLOOKUP($Q$10,DATA!$P$2:$R$196,3))","v":""},{"$f":"IF(CVE18=\"\",\"\",VLOOKUP($Q$10,DATA!$P$2:$R$196,3))","v":""},{"$f":"IF(CVF18=\"\",\"\",VLOOKUP($Q$10,DATA!$P$2:$R$196,3))","v":""},{"$f":"IF(CVG18=\"\",\"\",VLOOKUP($Q$10,DATA!$P$2:$R$196,3))","v":""},{"$f":"IF(CVH18=\"\",\"\",VLOOKUP($Q$10,DATA!$P$2:$R$196,3))","v":""},{"$f":"IF(CVI18=\"\",\"\",VLOOKUP($Q$10,DATA!$P$2:$R$196,3))","v":""},{"$f":"IF(CVJ18=\"\",\"\",VLOOKUP($Q$10,DATA!$P$2:$R$196,3))","v":""},{"$f":"IF(CVK18=\"\",\"\",VLOOKUP($Q$10,DATA!$P$2:$R$196,3))","v":""},{"$f":"IF(CVL18=\"\",\"\",VLOOKUP($Q$10,DATA!$P$2:$R$196,3))","v":""},{"$f":"IF(CVM18=\"\",\"\",VLOOKUP($Q$10,DATA!$P$2:$R$196,3))","v":""},{"$f":"IF(CVN18=\"\",\"\",VLOOKUP($Q$10,DATA!$P$2:$R$196,3))","v":""},{"$f":"IF(CVO18=\"\",\"\",VLOOKUP($Q$10,DATA!$P$2:$R$196,3))","v":""},{"$f":"IF(CVP18=\"\",\"\",VLOOKUP($Q$10,DATA!$P$2:$R$196,3))","v":""},{"$f":"IF(CVQ18=\"\",\"\",VLOOKUP($Q$10,DATA!$P$2:$R$196,3))","v":""},{"$f":"IF(CVR18=\"\",\"\",VLOOKUP($Q$10,DATA!$P$2:$R$196,3))","v":""},{"$f":"IF(CVS18=\"\",\"\",VLOOKUP($Q$10,DATA!$P$2:$R$196,3))","v":""},{"$f":"IF(CVT18=\"\",\"\",VLOOKUP($Q$10,DATA!$P$2:$R$196,3))","v":""},{"$f":"IF(CVU18=\"\",\"\",VLOOKUP($Q$10,DATA!$P$2:$R$196,3))","v":""},{"$f":"IF(CVV18=\"\",\"\",VLOOKUP($Q$10,DATA!$P$2:$R$196,3))","v":""},{"$f":"IF(CVW18=\"\",\"\",VLOOKUP($Q$10,DATA!$P$2:$R$196,3))","v":""},{"$f":"IF(CVX18=\"\",\"\",VLOOKUP($Q$10,DATA!$P$2:$R$196,3))","v":""},{"$f":"IF(CVY18=\"\",\"\",VLOOKUP($Q$10,DATA!$P$2:$R$196,3))","v":""},{"$f":"IF(CVZ18=\"\",\"\",VLOOKUP($Q$10,DATA!$P$2:$R$196,3))","v":""},{"$f":"IF(CWA18=\"\",\"\",VLOOKUP($Q$10,DATA!$P$2:$R$196,3))","v":""},{"$f":"IF(CWB18=\"\",\"\",VLOOKUP($Q$10,DATA!$P$2:$R$196,3))","v":""},{"$f":"IF(CWC18=\"\",\"\",VLOOKUP($Q$10,DATA!$P$2:$R$196,3))","v":""},{"$f":"IF(CWD18=\"\",\"\",VLOOKUP($Q$10,DATA!$P$2:$R$196,3))","v":""},{"$f":"IF(CWE18=\"\",\"\",VLOOKUP($Q$10,DATA!$P$2:$R$196,3))","v":""},{"$f":"IF(CWF18=\"\",\"\",VLOOKUP($Q$10,DATA!$P$2:$R$196,3))","v":""},{"$f":"IF(CWG18=\"\",\"\",VLOOKUP($Q$10,DATA!$P$2:$R$196,3))","v":""},{"$f":"IF(CWH18=\"\",\"\",VLOOKUP($Q$10,DATA!$P$2:$R$196,3))","v":""},{"$f":"IF(CWI18=\"\",\"\",VLOOKUP($Q$10,DATA!$P$2:$R$196,3))","v":""},{"$f":"IF(CWJ18=\"\",\"\",VLOOKUP($Q$10,DATA!$P$2:$R$196,3))","v":""},{"$f":"IF(CWK18=\"\",\"\",VLOOKUP($Q$10,DATA!$P$2:$R$196,3))","v":""},{"$f":"IF(CWL18=\"\",\"\",VLOOKUP($Q$10,DATA!$P$2:$R$196,3))","v":""},{"$f":"IF(CWM18=\"\",\"\",VLOOKUP($Q$10,DATA!$P$2:$R$196,3))","v":""},{"$f":"IF(CWN18=\"\",\"\",VLOOKUP($Q$10,DATA!$P$2:$R$196,3))","v":""},{"$f":"IF(CWO18=\"\",\"\",VLOOKUP($Q$10,DATA!$P$2:$R$196,3))","v":""},{"$f":"IF(CWP18=\"\",\"\",VLOOKUP($Q$10,DATA!$P$2:$R$196,3))","v":""},{"$f":"IF(CWQ18=\"\",\"\",VLOOKUP($Q$10,DATA!$P$2:$R$196,3))","v":""},{"$f":"IF(CWR18=\"\",\"\",VLOOKUP($Q$10,DATA!$P$2:$R$196,3))","v":""},{"$f":"IF(CWS18=\"\",\"\",VLOOKUP($Q$10,DATA!$P$2:$R$196,3))","v":""},{"$f":"IF(CWT18=\"\",\"\",VLOOKUP($Q$10,DATA!$P$2:$R$196,3))","v":""},{"$f":"IF(CWU18=\"\",\"\",VLOOKUP($Q$10,DATA!$P$2:$R$196,3))","v":""},{"$f":"IF(CWV18=\"\",\"\",VLOOKUP($Q$10,DATA!$P$2:$R$196,3))","v":""},{"$f":"IF(CWW18=\"\",\"\",VLOOKUP($Q$10,DATA!$P$2:$R$196,3))","v":""},{"$f":"IF(CWX18=\"\",\"\",VLOOKUP($Q$10,DATA!$P$2:$R$196,3))","v":""},{"$f":"IF(CWY18=\"\",\"\",VLOOKUP($Q$10,DATA!$P$2:$R$196,3))","v":""},{"$f":"IF(CWZ18=\"\",\"\",VLOOKUP($Q$10,DATA!$P$2:$R$196,3))","v":""},{"$f":"IF(CXA18=\"\",\"\",VLOOKUP($Q$10,DATA!$P$2:$R$196,3))","v":""},{"$f":"IF(CXB18=\"\",\"\",VLOOKUP($Q$10,DATA!$P$2:$R$196,3))","v":""},{"$f":"IF(CXC18=\"\",\"\",VLOOKUP($Q$10,DATA!$P$2:$R$196,3))","v":""},{"$f":"IF(CXD18=\"\",\"\",VLOOKUP($Q$10,DATA!$P$2:$R$196,3))","v":""},{"$f":"IF(CXE18=\"\",\"\",VLOOKUP($Q$10,DATA!$P$2:$R$196,3))","v":""},{"$f":"IF(CXF18=\"\",\"\",VLOOKUP($Q$10,DATA!$P$2:$R$196,3))","v":""},{"$f":"IF(CXG18=\"\",\"\",VLOOKUP($Q$10,DATA!$P$2:$R$196,3))","v":""},{"$f":"IF(CXH18=\"\",\"\",VLOOKUP($Q$10,DATA!$P$2:$R$196,3))","v":""},{"$f":"IF(CXI18=\"\",\"\",VLOOKUP($Q$10,DATA!$P$2:$R$196,3))","v":""},{"$f":"IF(CXJ18=\"\",\"\",VLOOKUP($Q$10,DATA!$P$2:$R$196,3))","v":""},{"$f":"IF(CXK18=\"\",\"\",VLOOKUP($Q$10,DATA!$P$2:$R$196,3))","v":""},{"$f":"IF(CXL18=\"\",\"\",VLOOKUP($Q$10,DATA!$P$2:$R$196,3))","v":""},{"$f":"IF(CXM18=\"\",\"\",VLOOKUP($Q$10,DATA!$P$2:$R$196,3))","v":""},{"$f":"IF(CXN18=\"\",\"\",VLOOKUP($Q$10,DATA!$P$2:$R$196,3))","v":""},{"$f":"IF(CXO18=\"\",\"\",VLOOKUP($Q$10,DATA!$P$2:$R$196,3))","v":""},{"$f":"IF(CXP18=\"\",\"\",VLOOKUP($Q$10,DATA!$P$2:$R$196,3))","v":""},{"$f":"IF(CXQ18=\"\",\"\",VLOOKUP($Q$10,DATA!$P$2:$R$196,3))","v":""},{"$f":"IF(CXR18=\"\",\"\",VLOOKUP($Q$10,DATA!$P$2:$R$196,3))","v":""},{"$f":"IF(CXS18=\"\",\"\",VLOOKUP($Q$10,DATA!$P$2:$R$196,3))","v":""},{"$f":"IF(CXT18=\"\",\"\",VLOOKUP($Q$10,DATA!$P$2:$R$196,3))","v":""},{"$f":"IF(CXU18=\"\",\"\",VLOOKUP($Q$10,DATA!$P$2:$R$196,3))","v":""},{"$f":"IF(CXV18=\"\",\"\",VLOOKUP($Q$10,DATA!$P$2:$R$196,3))","v":""},{"$f":"IF(CXW18=\"\",\"\",VLOOKUP($Q$10,DATA!$P$2:$R$196,3))","v":""},{"$f":"IF(CXX18=\"\",\"\",VLOOKUP($Q$10,DATA!$P$2:$R$196,3))","v":""},{"$f":"IF(CXY18=\"\",\"\",VLOOKUP($Q$10,DATA!$P$2:$R$196,3))","v":""},{"$f":"IF(CXZ18=\"\",\"\",VLOOKUP($Q$10,DATA!$P$2:$R$196,3))","v":""},{"$f":"IF(CYA18=\"\",\"\",VLOOKUP($Q$10,DATA!$P$2:$R$196,3))","v":""},{"$f":"IF(CYB18=\"\",\"\",VLOOKUP($Q$10,DATA!$P$2:$R$196,3))","v":""},{"$f":"IF(CYC18=\"\",\"\",VLOOKUP($Q$10,DATA!$P$2:$R$196,3))","v":""},{"$f":"IF(CYD18=\"\",\"\",VLOOKUP($Q$10,DATA!$P$2:$R$196,3))","v":""},{"$f":"IF(CYE18=\"\",\"\",VLOOKUP($Q$10,DATA!$P$2:$R$196,3))","v":""},{"$f":"IF(CYF18=\"\",\"\",VLOOKUP($Q$10,DATA!$P$2:$R$196,3))","v":""},{"$f":"IF(CYG18=\"\",\"\",VLOOKUP($Q$10,DATA!$P$2:$R$196,3))","v":""},{"$f":"IF(CYH18=\"\",\"\",VLOOKUP($Q$10,DATA!$P$2:$R$196,3))","v":""},{"$f":"IF(CYI18=\"\",\"\",VLOOKUP($Q$10,DATA!$P$2:$R$196,3))","v":""},{"$f":"IF(CYJ18=\"\",\"\",VLOOKUP($Q$10,DATA!$P$2:$R$196,3))","v":""},{"$f":"IF(CYK18=\"\",\"\",VLOOKUP($Q$10,DATA!$P$2:$R$196,3))","v":""},{"$f":"IF(CYL18=\"\",\"\",VLOOKUP($Q$10,DATA!$P$2:$R$196,3))","v":""},{"$f":"IF(CYM18=\"\",\"\",VLOOKUP($Q$10,DATA!$P$2:$R$196,3))","v":""},{"$f":"IF(CYN18=\"\",\"\",VLOOKUP($Q$10,DATA!$P$2:$R$196,3))","v":""},{"$f":"IF(CYO18=\"\",\"\",VLOOKUP($Q$10,DATA!$P$2:$R$196,3))","v":""},{"$f":"IF(CYP18=\"\",\"\",VLOOKUP($Q$10,DATA!$P$2:$R$196,3))","v":""},{"$f":"IF(CYQ18=\"\",\"\",VLOOKUP($Q$10,DATA!$P$2:$R$196,3))","v":""},{"$f":"IF(CYR18=\"\",\"\",VLOOKUP($Q$10,DATA!$P$2:$R$196,3))","v":""},{"$f":"IF(CYS18=\"\",\"\",VLOOKUP($Q$10,DATA!$P$2:$R$196,3))","v":""},{"$f":"IF(CYT18=\"\",\"\",VLOOKUP($Q$10,DATA!$P$2:$R$196,3))","v":""},{"$f":"IF(CYU18=\"\",\"\",VLOOKUP($Q$10,DATA!$P$2:$R$196,3))","v":""},{"$f":"IF(CYV18=\"\",\"\",VLOOKUP($Q$10,DATA!$P$2:$R$196,3))","v":""},{"$f":"IF(CYW18=\"\",\"\",VLOOKUP($Q$10,DATA!$P$2:$R$196,3))","v":""},{"$f":"IF(CYX18=\"\",\"\",VLOOKUP($Q$10,DATA!$P$2:$R$196,3))","v":""},{"$f":"IF(CYY18=\"\",\"\",VLOOKUP($Q$10,DATA!$P$2:$R$196,3))","v":""},{"$f":"IF(CYZ18=\"\",\"\",VLOOKUP($Q$10,DATA!$P$2:$R$196,3))","v":""},{"$f":"IF(CZA18=\"\",\"\",VLOOKUP($Q$10,DATA!$P$2:$R$196,3))","v":""},{"$f":"IF(CZB18=\"\",\"\",VLOOKUP($Q$10,DATA!$P$2:$R$196,3))","v":""},{"$f":"IF(CZC18=\"\",\"\",VLOOKUP($Q$10,DATA!$P$2:$R$196,3))","v":""},{"$f":"IF(CZD18=\"\",\"\",VLOOKUP($Q$10,DATA!$P$2:$R$196,3))","v":""},{"$f":"IF(CZE18=\"\",\"\",VLOOKUP($Q$10,DATA!$P$2:$R$196,3))","v":""},{"$f":"IF(CZF18=\"\",\"\",VLOOKUP($Q$10,DATA!$P$2:$R$196,3))","v":""},{"$f":"IF(CZG18=\"\",\"\",VLOOKUP($Q$10,DATA!$P$2:$R$196,3))","v":""},{"$f":"IF(CZH18=\"\",\"\",VLOOKUP($Q$10,DATA!$P$2:$R$196,3))","v":""},{"$f":"IF(CZI18=\"\",\"\",VLOOKUP($Q$10,DATA!$P$2:$R$196,3))","v":""},{"$f":"IF(CZJ18=\"\",\"\",VLOOKUP($Q$10,DATA!$P$2:$R$196,3))","v":""},{"$f":"IF(CZK18=\"\",\"\",VLOOKUP($Q$10,DATA!$P$2:$R$196,3))","v":""},{"$f":"IF(CZL18=\"\",\"\",VLOOKUP($Q$10,DATA!$P$2:$R$196,3))","v":""},{"$f":"IF(CZM18=\"\",\"\",VLOOKUP($Q$10,DATA!$P$2:$R$196,3))","v":""},{"$f":"IF(CZN18=\"\",\"\",VLOOKUP($Q$10,DATA!$P$2:$R$196,3))","v":""},{"$f":"IF(CZO18=\"\",\"\",VLOOKUP($Q$10,DATA!$P$2:$R$196,3))","v":""},{"$f":"IF(CZP18=\"\",\"\",VLOOKUP($Q$10,DATA!$P$2:$R$196,3))","v":""},{"$f":"IF(CZQ18=\"\",\"\",VLOOKUP($Q$10,DATA!$P$2:$R$196,3))","v":""},{"$f":"IF(CZR18=\"\",\"\",VLOOKUP($Q$10,DATA!$P$2:$R$196,3))","v":""},{"$f":"IF(CZS18=\"\",\"\",VLOOKUP($Q$10,DATA!$P$2:$R$196,3))","v":""},{"$f":"IF(CZT18=\"\",\"\",VLOOKUP($Q$10,DATA!$P$2:$R$196,3))","v":""},{"$f":"IF(CZU18=\"\",\"\",VLOOKUP($Q$10,DATA!$P$2:$R$196,3))","v":""},{"$f":"IF(CZV18=\"\",\"\",VLOOKUP($Q$10,DATA!$P$2:$R$196,3))","v":""},{"$f":"IF(CZW18=\"\",\"\",VLOOKUP($Q$10,DATA!$P$2:$R$196,3))","v":""},{"$f":"IF(CZX18=\"\",\"\",VLOOKUP($Q$10,DATA!$P$2:$R$196,3))","v":""},{"$f":"IF(CZY18=\"\",\"\",VLOOKUP($Q$10,DATA!$P$2:$R$196,3))","v":""},{"$f":"IF(CZZ18=\"\",\"\",VLOOKUP($Q$10,DATA!$P$2:$R$196,3))","v":""},{"$f":"IF(DAA18=\"\",\"\",VLOOKUP($Q$10,DATA!$P$2:$R$196,3))","v":""},{"$f":"IF(DAB18=\"\",\"\",VLOOKUP($Q$10,DATA!$P$2:$R$196,3))","v":""},{"$f":"IF(DAC18=\"\",\"\",VLOOKUP($Q$10,DATA!$P$2:$R$196,3))","v":""},{"$f":"IF(DAD18=\"\",\"\",VLOOKUP($Q$10,DATA!$P$2:$R$196,3))","v":""},{"$f":"IF(DAE18=\"\",\"\",VLOOKUP($Q$10,DATA!$P$2:$R$196,3))","v":""},{"$f":"IF(DAF18=\"\",\"\",VLOOKUP($Q$10,DATA!$P$2:$R$196,3))","v":""},{"$f":"IF(DAG18=\"\",\"\",VLOOKUP($Q$10,DATA!$P$2:$R$196,3))","v":""},{"$f":"IF(DAH18=\"\",\"\",VLOOKUP($Q$10,DATA!$P$2:$R$196,3))","v":""},{"$f":"IF(DAI18=\"\",\"\",VLOOKUP($Q$10,DATA!$P$2:$R$196,3))","v":""},{"$f":"IF(DAJ18=\"\",\"\",VLOOKUP($Q$10,DATA!$P$2:$R$196,3))","v":""},{"$f":"IF(DAK18=\"\",\"\",VLOOKUP($Q$10,DATA!$P$2:$R$196,3))","v":""},{"$f":"IF(DAL18=\"\",\"\",VLOOKUP($Q$10,DATA!$P$2:$R$196,3))","v":""},{"$f":"IF(DAM18=\"\",\"\",VLOOKUP($Q$10,DATA!$P$2:$R$196,3))","v":""},{"$f":"IF(DAN18=\"\",\"\",VLOOKUP($Q$10,DATA!$P$2:$R$196,3))","v":""},{"$f":"IF(DAO18=\"\",\"\",VLOOKUP($Q$10,DATA!$P$2:$R$196,3))","v":""},{"$f":"IF(DAP18=\"\",\"\",VLOOKUP($Q$10,DATA!$P$2:$R$196,3))","v":""},{"$f":"IF(DAQ18=\"\",\"\",VLOOKUP($Q$10,DATA!$P$2:$R$196,3))","v":""},{"$f":"IF(DAR18=\"\",\"\",VLOOKUP($Q$10,DATA!$P$2:$R$196,3))","v":""},{"$f":"IF(DAS18=\"\",\"\",VLOOKUP($Q$10,DATA!$P$2:$R$196,3))","v":""},{"$f":"IF(DAT18=\"\",\"\",VLOOKUP($Q$10,DATA!$P$2:$R$196,3))","v":""},{"$f":"IF(DAU18=\"\",\"\",VLOOKUP($Q$10,DATA!$P$2:$R$196,3))","v":""},{"$f":"IF(DAV18=\"\",\"\",VLOOKUP($Q$10,DATA!$P$2:$R$196,3))","v":""},{"$f":"IF(DAW18=\"\",\"\",VLOOKUP($Q$10,DATA!$P$2:$R$196,3))","v":""},{"$f":"IF(DAX18=\"\",\"\",VLOOKUP($Q$10,DATA!$P$2:$R$196,3))","v":""},{"$f":"IF(DAY18=\"\",\"\",VLOOKUP($Q$10,DATA!$P$2:$R$196,3))","v":""},{"$f":"IF(DAZ18=\"\",\"\",VLOOKUP($Q$10,DATA!$P$2:$R$196,3))","v":""},{"$f":"IF(DBA18=\"\",\"\",VLOOKUP($Q$10,DATA!$P$2:$R$196,3))","v":""},{"$f":"IF(DBB18=\"\",\"\",VLOOKUP($Q$10,DATA!$P$2:$R$196,3))","v":""},{"$f":"IF(DBC18=\"\",\"\",VLOOKUP($Q$10,DATA!$P$2:$R$196,3))","v":""},{"$f":"IF(DBD18=\"\",\"\",VLOOKUP($Q$10,DATA!$P$2:$R$196,3))","v":""},{"$f":"IF(DBE18=\"\",\"\",VLOOKUP($Q$10,DATA!$P$2:$R$196,3))","v":""},{"$f":"IF(DBF18=\"\",\"\",VLOOKUP($Q$10,DATA!$P$2:$R$196,3))","v":""},{"$f":"IF(DBG18=\"\",\"\",VLOOKUP($Q$10,DATA!$P$2:$R$196,3))","v":""},{"$f":"IF(DBH18=\"\",\"\",VLOOKUP($Q$10,DATA!$P$2:$R$196,3))","v":""},{"$f":"IF(DBI18=\"\",\"\",VLOOKUP($Q$10,DATA!$P$2:$R$196,3))","v":""},{"$f":"IF(DBJ18=\"\",\"\",VLOOKUP($Q$10,DATA!$P$2:$R$196,3))","v":""},{"$f":"IF(DBK18=\"\",\"\",VLOOKUP($Q$10,DATA!$P$2:$R$196,3))","v":""},{"$f":"IF(DBL18=\"\",\"\",VLOOKUP($Q$10,DATA!$P$2:$R$196,3))","v":""},{"$f":"IF(DBM18=\"\",\"\",VLOOKUP($Q$10,DATA!$P$2:$R$196,3))","v":""},{"$f":"IF(DBN18=\"\",\"\",VLOOKUP($Q$10,DATA!$P$2:$R$196,3))","v":""},{"$f":"IF(DBO18=\"\",\"\",VLOOKUP($Q$10,DATA!$P$2:$R$196,3))","v":""},{"$f":"IF(DBP18=\"\",\"\",VLOOKUP($Q$10,DATA!$P$2:$R$196,3))","v":""},{"$f":"IF(DBQ18=\"\",\"\",VLOOKUP($Q$10,DATA!$P$2:$R$196,3))","v":""},{"$f":"IF(DBR18=\"\",\"\",VLOOKUP($Q$10,DATA!$P$2:$R$196,3))","v":""},{"$f":"IF(DBS18=\"\",\"\",VLOOKUP($Q$10,DATA!$P$2:$R$196,3))","v":""},{"$f":"IF(DBT18=\"\",\"\",VLOOKUP($Q$10,DATA!$P$2:$R$196,3))","v":""},{"$f":"IF(DBU18=\"\",\"\",VLOOKUP($Q$10,DATA!$P$2:$R$196,3))","v":""},{"$f":"IF(DBV18=\"\",\"\",VLOOKUP($Q$10,DATA!$P$2:$R$196,3))","v":""},{"$f":"IF(DBW18=\"\",\"\",VLOOKUP($Q$10,DATA!$P$2:$R$196,3))","v":""},{"$f":"IF(DBX18=\"\",\"\",VLOOKUP($Q$10,DATA!$P$2:$R$196,3))","v":""},{"$f":"IF(DBY18=\"\",\"\",VLOOKUP($Q$10,DATA!$P$2:$R$196,3))","v":""},{"$f":"IF(DBZ18=\"\",\"\",VLOOKUP($Q$10,DATA!$P$2:$R$196,3))","v":""},{"$f":"IF(DCA18=\"\",\"\",VLOOKUP($Q$10,DATA!$P$2:$R$196,3))","v":""},{"$f":"IF(DCB18=\"\",\"\",VLOOKUP($Q$10,DATA!$P$2:$R$196,3))","v":""},{"$f":"IF(DCC18=\"\",\"\",VLOOKUP($Q$10,DATA!$P$2:$R$196,3))","v":""},{"$f":"IF(DCD18=\"\",\"\",VLOOKUP($Q$10,DATA!$P$2:$R$196,3))","v":""},{"$f":"IF(DCE18=\"\",\"\",VLOOKUP($Q$10,DATA!$P$2:$R$196,3))","v":""},{"$f":"IF(DCF18=\"\",\"\",VLOOKUP($Q$10,DATA!$P$2:$R$196,3))","v":""},{"$f":"IF(DCG18=\"\",\"\",VLOOKUP($Q$10,DATA!$P$2:$R$196,3))","v":""},{"$f":"IF(DCH18=\"\",\"\",VLOOKUP($Q$10,DATA!$P$2:$R$196,3))","v":""},{"$f":"IF(DCI18=\"\",\"\",VLOOKUP($Q$10,DATA!$P$2:$R$196,3))","v":""},{"$f":"IF(DCJ18=\"\",\"\",VLOOKUP($Q$10,DATA!$P$2:$R$196,3))","v":""},{"$f":"IF(DCK18=\"\",\"\",VLOOKUP($Q$10,DATA!$P$2:$R$196,3))","v":""},{"$f":"IF(DCL18=\"\",\"\",VLOOKUP($Q$10,DATA!$P$2:$R$196,3))","v":""},{"$f":"IF(DCM18=\"\",\"\",VLOOKUP($Q$10,DATA!$P$2:$R$196,3))","v":""},{"$f":"IF(DCN18=\"\",\"\",VLOOKUP($Q$10,DATA!$P$2:$R$196,3))","v":""},{"$f":"IF(DCO18=\"\",\"\",VLOOKUP($Q$10,DATA!$P$2:$R$196,3))","v":""},{"$f":"IF(DCP18=\"\",\"\",VLOOKUP($Q$10,DATA!$P$2:$R$196,3))","v":""},{"$f":"IF(DCQ18=\"\",\"\",VLOOKUP($Q$10,DATA!$P$2:$R$196,3))","v":""},{"$f":"IF(DCR18=\"\",\"\",VLOOKUP($Q$10,DATA!$P$2:$R$196,3))","v":""},{"$f":"IF(DCS18=\"\",\"\",VLOOKUP($Q$10,DATA!$P$2:$R$196,3))","v":""},{"$f":"IF(DCT18=\"\",\"\",VLOOKUP($Q$10,DATA!$P$2:$R$196,3))","v":""},{"$f":"IF(DCU18=\"\",\"\",VLOOKUP($Q$10,DATA!$P$2:$R$196,3))","v":""},{"$f":"IF(DCV18=\"\",\"\",VLOOKUP($Q$10,DATA!$P$2:$R$196,3))","v":""},{"$f":"IF(DCW18=\"\",\"\",VLOOKUP($Q$10,DATA!$P$2:$R$196,3))","v":""},{"$f":"IF(DCX18=\"\",\"\",VLOOKUP($Q$10,DATA!$P$2:$R$196,3))","v":""},{"$f":"IF(DCY18=\"\",\"\",VLOOKUP($Q$10,DATA!$P$2:$R$196,3))","v":""},{"$f":"IF(DCZ18=\"\",\"\",VLOOKUP($Q$10,DATA!$P$2:$R$196,3))","v":""},{"$f":"IF(DDA18=\"\",\"\",VLOOKUP($Q$10,DATA!$P$2:$R$196,3))","v":""},{"$f":"IF(DDB18=\"\",\"\",VLOOKUP($Q$10,DATA!$P$2:$R$196,3))","v":""},{"$f":"IF(DDC18=\"\",\"\",VLOOKUP($Q$10,DATA!$P$2:$R$196,3))","v":""},{"$f":"IF(DDD18=\"\",\"\",VLOOKUP($Q$10,DATA!$P$2:$R$196,3))","v":""},{"$f":"IF(DDE18=\"\",\"\",VLOOKUP($Q$10,DATA!$P$2:$R$196,3))","v":""},{"$f":"IF(DDF18=\"\",\"\",VLOOKUP($Q$10,DATA!$P$2:$R$196,3))","v":""},{"$f":"IF(DDG18=\"\",\"\",VLOOKUP($Q$10,DATA!$P$2:$R$196,3))","v":""},{"$f":"IF(DDH18=\"\",\"\",VLOOKUP($Q$10,DATA!$P$2:$R$196,3))","v":""},{"$f":"IF(DDI18=\"\",\"\",VLOOKUP($Q$10,DATA!$P$2:$R$196,3))","v":""},{"$f":"IF(DDJ18=\"\",\"\",VLOOKUP($Q$10,DATA!$P$2:$R$196,3))","v":""},{"$f":"IF(DDK18=\"\",\"\",VLOOKUP($Q$10,DATA!$P$2:$R$196,3))","v":""},{"$f":"IF(DDL18=\"\",\"\",VLOOKUP($Q$10,DATA!$P$2:$R$196,3))","v":""},{"$f":"IF(DDM18=\"\",\"\",VLOOKUP($Q$10,DATA!$P$2:$R$196,3))","v":""},{"$f":"IF(DDN18=\"\",\"\",VLOOKUP($Q$10,DATA!$P$2:$R$196,3))","v":""},{"$f":"IF(DDO18=\"\",\"\",VLOOKUP($Q$10,DATA!$P$2:$R$196,3))","v":""},{"$f":"IF(DDP18=\"\",\"\",VLOOKUP($Q$10,DATA!$P$2:$R$196,3))","v":""},{"$f":"IF(DDQ18=\"\",\"\",VLOOKUP($Q$10,DATA!$P$2:$R$196,3))","v":""},{"$f":"IF(DDR18=\"\",\"\",VLOOKUP($Q$10,DATA!$P$2:$R$196,3))","v":""},{"$f":"IF(DDS18=\"\",\"\",VLOOKUP($Q$10,DATA!$P$2:$R$196,3))","v":""},{"$f":"IF(DDT18=\"\",\"\",VLOOKUP($Q$10,DATA!$P$2:$R$196,3))","v":""},{"$f":"IF(DDU18=\"\",\"\",VLOOKUP($Q$10,DATA!$P$2:$R$196,3))","v":""},{"$f":"IF(DDV18=\"\",\"\",VLOOKUP($Q$10,DATA!$P$2:$R$196,3))","v":""},{"$f":"IF(DDW18=\"\",\"\",VLOOKUP($Q$10,DATA!$P$2:$R$196,3))","v":""},{"$f":"IF(DDX18=\"\",\"\",VLOOKUP($Q$10,DATA!$P$2:$R$196,3))","v":""},{"$f":"IF(DDY18=\"\",\"\",VLOOKUP($Q$10,DATA!$P$2:$R$196,3))","v":""},{"$f":"IF(DDZ18=\"\",\"\",VLOOKUP($Q$10,DATA!$P$2:$R$196,3))","v":""},{"$f":"IF(DEA18=\"\",\"\",VLOOKUP($Q$10,DATA!$P$2:$R$196,3))","v":""},{"$f":"IF(DEB18=\"\",\"\",VLOOKUP($Q$10,DATA!$P$2:$R$196,3))","v":""},{"$f":"IF(DEC18=\"\",\"\",VLOOKUP($Q$10,DATA!$P$2:$R$196,3))","v":""},{"$f":"IF(DED18=\"\",\"\",VLOOKUP($Q$10,DATA!$P$2:$R$196,3))","v":""},{"$f":"IF(DEE18=\"\",\"\",VLOOKUP($Q$10,DATA!$P$2:$R$196,3))","v":""},{"$f":"IF(DEF18=\"\",\"\",VLOOKUP($Q$10,DATA!$P$2:$R$196,3))","v":""},{"$f":"IF(DEG18=\"\",\"\",VLOOKUP($Q$10,DATA!$P$2:$R$196,3))","v":""},{"$f":"IF(DEH18=\"\",\"\",VLOOKUP($Q$10,DATA!$P$2:$R$196,3))","v":""},{"$f":"IF(DEI18=\"\",\"\",VLOOKUP($Q$10,DATA!$P$2:$R$196,3))","v":""},{"$f":"IF(DEJ18=\"\",\"\",VLOOKUP($Q$10,DATA!$P$2:$R$196,3))","v":""},{"$f":"IF(DEK18=\"\",\"\",VLOOKUP($Q$10,DATA!$P$2:$R$196,3))","v":""},{"$f":"IF(DEL18=\"\",\"\",VLOOKUP($Q$10,DATA!$P$2:$R$196,3))","v":""},{"$f":"IF(DEM18=\"\",\"\",VLOOKUP($Q$10,DATA!$P$2:$R$196,3))","v":""},{"$f":"IF(DEN18=\"\",\"\",VLOOKUP($Q$10,DATA!$P$2:$R$196,3))","v":""},{"$f":"IF(DEO18=\"\",\"\",VLOOKUP($Q$10,DATA!$P$2:$R$196,3))","v":""},{"$f":"IF(DEP18=\"\",\"\",VLOOKUP($Q$10,DATA!$P$2:$R$196,3))","v":""},{"$f":"IF(DEQ18=\"\",\"\",VLOOKUP($Q$10,DATA!$P$2:$R$196,3))","v":""},{"$f":"IF(DER18=\"\",\"\",VLOOKUP($Q$10,DATA!$P$2:$R$196,3))","v":""},{"$f":"IF(DES18=\"\",\"\",VLOOKUP($Q$10,DATA!$P$2:$R$196,3))","v":""},{"$f":"IF(DET18=\"\",\"\",VLOOKUP($Q$10,DATA!$P$2:$R$196,3))","v":""},{"$f":"IF(DEU18=\"\",\"\",VLOOKUP($Q$10,DATA!$P$2:$R$196,3))","v":""},{"$f":"IF(DEV18=\"\",\"\",VLOOKUP($Q$10,DATA!$P$2:$R$196,3))","v":""},{"$f":"IF(DEW18=\"\",\"\",VLOOKUP($Q$10,DATA!$P$2:$R$196,3))","v":""},{"$f":"IF(DEX18=\"\",\"\",VLOOKUP($Q$10,DATA!$P$2:$R$196,3))","v":""},{"$f":"IF(DEY18=\"\",\"\",VLOOKUP($Q$10,DATA!$P$2:$R$196,3))","v":""},{"$f":"IF(DEZ18=\"\",\"\",VLOOKUP($Q$10,DATA!$P$2:$R$196,3))","v":""},{"$f":"IF(DFA18=\"\",\"\",VLOOKUP($Q$10,DATA!$P$2:$R$196,3))","v":""},{"$f":"IF(DFB18=\"\",\"\",VLOOKUP($Q$10,DATA!$P$2:$R$196,3))","v":""},{"$f":"IF(DFC18=\"\",\"\",VLOOKUP($Q$10,DATA!$P$2:$R$196,3))","v":""},{"$f":"IF(DFD18=\"\",\"\",VLOOKUP($Q$10,DATA!$P$2:$R$196,3))","v":""},{"$f":"IF(DFE18=\"\",\"\",VLOOKUP($Q$10,DATA!$P$2:$R$196,3))","v":""},{"$f":"IF(DFF18=\"\",\"\",VLOOKUP($Q$10,DATA!$P$2:$R$196,3))","v":""},{"$f":"IF(DFG18=\"\",\"\",VLOOKUP($Q$10,DATA!$P$2:$R$196,3))","v":""},{"$f":"IF(DFH18=\"\",\"\",VLOOKUP($Q$10,DATA!$P$2:$R$196,3))","v":""},{"$f":"IF(DFI18=\"\",\"\",VLOOKUP($Q$10,DATA!$P$2:$R$196,3))","v":""},{"$f":"IF(DFJ18=\"\",\"\",VLOOKUP($Q$10,DATA!$P$2:$R$196,3))","v":""},{"$f":"IF(DFK18=\"\",\"\",VLOOKUP($Q$10,DATA!$P$2:$R$196,3))","v":""},{"$f":"IF(DFL18=\"\",\"\",VLOOKUP($Q$10,DATA!$P$2:$R$196,3))","v":""},{"$f":"IF(DFM18=\"\",\"\",VLOOKUP($Q$10,DATA!$P$2:$R$196,3))","v":""},{"$f":"IF(DFN18=\"\",\"\",VLOOKUP($Q$10,DATA!$P$2:$R$196,3))","v":""},{"$f":"IF(DFO18=\"\",\"\",VLOOKUP($Q$10,DATA!$P$2:$R$196,3))","v":""},{"$f":"IF(DFP18=\"\",\"\",VLOOKUP($Q$10,DATA!$P$2:$R$196,3))","v":""},{"$f":"IF(DFQ18=\"\",\"\",VLOOKUP($Q$10,DATA!$P$2:$R$196,3))","v":""},{"$f":"IF(DFR18=\"\",\"\",VLOOKUP($Q$10,DATA!$P$2:$R$196,3))","v":""},{"$f":"IF(DFS18=\"\",\"\",VLOOKUP($Q$10,DATA!$P$2:$R$196,3))","v":""},{"$f":"IF(DFT18=\"\",\"\",VLOOKUP($Q$10,DATA!$P$2:$R$196,3))","v":""},{"$f":"IF(DFU18=\"\",\"\",VLOOKUP($Q$10,DATA!$P$2:$R$196,3))","v":""},{"$f":"IF(DFV18=\"\",\"\",VLOOKUP($Q$10,DATA!$P$2:$R$196,3))","v":""},{"$f":"IF(DFW18=\"\",\"\",VLOOKUP($Q$10,DATA!$P$2:$R$196,3))","v":""},{"$f":"IF(DFX18=\"\",\"\",VLOOKUP($Q$10,DATA!$P$2:$R$196,3))","v":""},{"$f":"IF(DFY18=\"\",\"\",VLOOKUP($Q$10,DATA!$P$2:$R$196,3))","v":""},{"$f":"IF(DFZ18=\"\",\"\",VLOOKUP($Q$10,DATA!$P$2:$R$196,3))","v":""},{"$f":"IF(DGA18=\"\",\"\",VLOOKUP($Q$10,DATA!$P$2:$R$196,3))","v":""},{"$f":"IF(DGB18=\"\",\"\",VLOOKUP($Q$10,DATA!$P$2:$R$196,3))","v":""},{"$f":"IF(DGC18=\"\",\"\",VLOOKUP($Q$10,DATA!$P$2:$R$196,3))","v":""},{"$f":"IF(DGD18=\"\",\"\",VLOOKUP($Q$10,DATA!$P$2:$R$196,3))","v":""},{"$f":"IF(DGE18=\"\",\"\",VLOOKUP($Q$10,DATA!$P$2:$R$196,3))","v":""},{"$f":"IF(DGF18=\"\",\"\",VLOOKUP($Q$10,DATA!$P$2:$R$196,3))","v":""},{"$f":"IF(DGG18=\"\",\"\",VLOOKUP($Q$10,DATA!$P$2:$R$196,3))","v":""},{"$f":"IF(DGH18=\"\",\"\",VLOOKUP($Q$10,DATA!$P$2:$R$196,3))","v":""},{"$f":"IF(DGI18=\"\",\"\",VLOOKUP($Q$10,DATA!$P$2:$R$196,3))","v":""},{"$f":"IF(DGJ18=\"\",\"\",VLOOKUP($Q$10,DATA!$P$2:$R$196,3))","v":""},{"$f":"IF(DGK18=\"\",\"\",VLOOKUP($Q$10,DATA!$P$2:$R$196,3))","v":""},{"$f":"IF(DGL18=\"\",\"\",VLOOKUP($Q$10,DATA!$P$2:$R$196,3))","v":""},{"$f":"IF(DGM18=\"\",\"\",VLOOKUP($Q$10,DATA!$P$2:$R$196,3))","v":""},{"$f":"IF(DGN18=\"\",\"\",VLOOKUP($Q$10,DATA!$P$2:$R$196,3))","v":""},{"$f":"IF(DGO18=\"\",\"\",VLOOKUP($Q$10,DATA!$P$2:$R$196,3))","v":""},{"$f":"IF(DGP18=\"\",\"\",VLOOKUP($Q$10,DATA!$P$2:$R$196,3))","v":""},{"$f":"IF(DGQ18=\"\",\"\",VLOOKUP($Q$10,DATA!$P$2:$R$196,3))","v":""},{"$f":"IF(DGR18=\"\",\"\",VLOOKUP($Q$10,DATA!$P$2:$R$196,3))","v":""},{"$f":"IF(DGS18=\"\",\"\",VLOOKUP($Q$10,DATA!$P$2:$R$196,3))","v":""},{"$f":"IF(DGT18=\"\",\"\",VLOOKUP($Q$10,DATA!$P$2:$R$196,3))","v":""},{"$f":"IF(DGU18=\"\",\"\",VLOOKUP($Q$10,DATA!$P$2:$R$196,3))","v":""},{"$f":"IF(DGV18=\"\",\"\",VLOOKUP($Q$10,DATA!$P$2:$R$196,3))","v":""},{"$f":"IF(DGW18=\"\",\"\",VLOOKUP($Q$10,DATA!$P$2:$R$196,3))","v":""},{"$f":"IF(DGX18=\"\",\"\",VLOOKUP($Q$10,DATA!$P$2:$R$196,3))","v":""},{"$f":"IF(DGY18=\"\",\"\",VLOOKUP($Q$10,DATA!$P$2:$R$196,3))","v":""},{"$f":"IF(DGZ18=\"\",\"\",VLOOKUP($Q$10,DATA!$P$2:$R$196,3))","v":""},{"$f":"IF(DHA18=\"\",\"\",VLOOKUP($Q$10,DATA!$P$2:$R$196,3))","v":""},{"$f":"IF(DHB18=\"\",\"\",VLOOKUP($Q$10,DATA!$P$2:$R$196,3))","v":""},{"$f":"IF(DHC18=\"\",\"\",VLOOKUP($Q$10,DATA!$P$2:$R$196,3))","v":""},{"$f":"IF(DHD18=\"\",\"\",VLOOKUP($Q$10,DATA!$P$2:$R$196,3))","v":""},{"$f":"IF(DHE18=\"\",\"\",VLOOKUP($Q$10,DATA!$P$2:$R$196,3))","v":""},{"$f":"IF(DHF18=\"\",\"\",VLOOKUP($Q$10,DATA!$P$2:$R$196,3))","v":""},{"$f":"IF(DHG18=\"\",\"\",VLOOKUP($Q$10,DATA!$P$2:$R$196,3))","v":""},{"$f":"IF(DHH18=\"\",\"\",VLOOKUP($Q$10,DATA!$P$2:$R$196,3))","v":""},{"$f":"IF(DHI18=\"\",\"\",VLOOKUP($Q$10,DATA!$P$2:$R$196,3))","v":""},{"$f":"IF(DHJ18=\"\",\"\",VLOOKUP($Q$10,DATA!$P$2:$R$196,3))","v":""},{"$f":"IF(DHK18=\"\",\"\",VLOOKUP($Q$10,DATA!$P$2:$R$196,3))","v":""},{"$f":"IF(DHL18=\"\",\"\",VLOOKUP($Q$10,DATA!$P$2:$R$196,3))","v":""},{"$f":"IF(DHM18=\"\",\"\",VLOOKUP($Q$10,DATA!$P$2:$R$196,3))","v":""},{"$f":"IF(DHN18=\"\",\"\",VLOOKUP($Q$10,DATA!$P$2:$R$196,3))","v":""},{"$f":"IF(DHO18=\"\",\"\",VLOOKUP($Q$10,DATA!$P$2:$R$196,3))","v":""},{"$f":"IF(DHP18=\"\",\"\",VLOOKUP($Q$10,DATA!$P$2:$R$196,3))","v":""},{"$f":"IF(DHQ18=\"\",\"\",VLOOKUP($Q$10,DATA!$P$2:$R$196,3))","v":""},{"$f":"IF(DHR18=\"\",\"\",VLOOKUP($Q$10,DATA!$P$2:$R$196,3))","v":""},{"$f":"IF(DHS18=\"\",\"\",VLOOKUP($Q$10,DATA!$P$2:$R$196,3))","v":""},{"$f":"IF(DHT18=\"\",\"\",VLOOKUP($Q$10,DATA!$P$2:$R$196,3))","v":""},{"$f":"IF(DHU18=\"\",\"\",VLOOKUP($Q$10,DATA!$P$2:$R$196,3))","v":""},{"$f":"IF(DHV18=\"\",\"\",VLOOKUP($Q$10,DATA!$P$2:$R$196,3))","v":""},{"$f":"IF(DHW18=\"\",\"\",VLOOKUP($Q$10,DATA!$P$2:$R$196,3))","v":""},{"$f":"IF(DHX18=\"\",\"\",VLOOKUP($Q$10,DATA!$P$2:$R$196,3))","v":""},{"$f":"IF(DHY18=\"\",\"\",VLOOKUP($Q$10,DATA!$P$2:$R$196,3))","v":""},{"$f":"IF(DHZ18=\"\",\"\",VLOOKUP($Q$10,DATA!$P$2:$R$196,3))","v":""},{"$f":"IF(DIA18=\"\",\"\",VLOOKUP($Q$10,DATA!$P$2:$R$196,3))","v":""},{"$f":"IF(DIB18=\"\",\"\",VLOOKUP($Q$10,DATA!$P$2:$R$196,3))","v":""},{"$f":"IF(DIC18=\"\",\"\",VLOOKUP($Q$10,DATA!$P$2:$R$196,3))","v":""},{"$f":"IF(DID18=\"\",\"\",VLOOKUP($Q$10,DATA!$P$2:$R$196,3))","v":""},{"$f":"IF(DIE18=\"\",\"\",VLOOKUP($Q$10,DATA!$P$2:$R$196,3))","v":""},{"$f":"IF(DIF18=\"\",\"\",VLOOKUP($Q$10,DATA!$P$2:$R$196,3))","v":""},{"$f":"IF(DIG18=\"\",\"\",VLOOKUP($Q$10,DATA!$P$2:$R$196,3))","v":""},{"$f":"IF(DIH18=\"\",\"\",VLOOKUP($Q$10,DATA!$P$2:$R$196,3))","v":""},{"$f":"IF(DII18=\"\",\"\",VLOOKUP($Q$10,DATA!$P$2:$R$196,3))","v":""},{"$f":"IF(DIJ18=\"\",\"\",VLOOKUP($Q$10,DATA!$P$2:$R$196,3))","v":""},{"$f":"IF(DIK18=\"\",\"\",VLOOKUP($Q$10,DATA!$P$2:$R$196,3))","v":""},{"$f":"IF(DIL18=\"\",\"\",VLOOKUP($Q$10,DATA!$P$2:$R$196,3))","v":""},{"$f":"IF(DIM18=\"\",\"\",VLOOKUP($Q$10,DATA!$P$2:$R$196,3))","v":""},{"$f":"IF(DIN18=\"\",\"\",VLOOKUP($Q$10,DATA!$P$2:$R$196,3))","v":""},{"$f":"IF(DIO18=\"\",\"\",VLOOKUP($Q$10,DATA!$P$2:$R$196,3))","v":""},{"$f":"IF(DIP18=\"\",\"\",VLOOKUP($Q$10,DATA!$P$2:$R$196,3))","v":""},{"$f":"IF(DIQ18=\"\",\"\",VLOOKUP($Q$10,DATA!$P$2:$R$196,3))","v":""},{"$f":"IF(DIR18=\"\",\"\",VLOOKUP($Q$10,DATA!$P$2:$R$196,3))","v":""},{"$f":"IF(DIS18=\"\",\"\",VLOOKUP($Q$10,DATA!$P$2:$R$196,3))","v":""},{"$f":"IF(DIT18=\"\",\"\",VLOOKUP($Q$10,DATA!$P$2:$R$196,3))","v":""},{"$f":"IF(DIU18=\"\",\"\",VLOOKUP($Q$10,DATA!$P$2:$R$196,3))","v":""},{"$f":"IF(DIV18=\"\",\"\",VLOOKUP($Q$10,DATA!$P$2:$R$196,3))","v":""},{"$f":"IF(DIW18=\"\",\"\",VLOOKUP($Q$10,DATA!$P$2:$R$196,3))","v":""},{"$f":"IF(DIX18=\"\",\"\",VLOOKUP($Q$10,DATA!$P$2:$R$196,3))","v":""},{"$f":"IF(DIY18=\"\",\"\",VLOOKUP($Q$10,DATA!$P$2:$R$196,3))","v":""},{"$f":"IF(DIZ18=\"\",\"\",VLOOKUP($Q$10,DATA!$P$2:$R$196,3))","v":""},{"$f":"IF(DJA18=\"\",\"\",VLOOKUP($Q$10,DATA!$P$2:$R$196,3))","v":""},{"$f":"IF(DJB18=\"\",\"\",VLOOKUP($Q$10,DATA!$P$2:$R$196,3))","v":""},{"$f":"IF(DJC18=\"\",\"\",VLOOKUP($Q$10,DATA!$P$2:$R$196,3))","v":""},{"$f":"IF(DJD18=\"\",\"\",VLOOKUP($Q$10,DATA!$P$2:$R$196,3))","v":""},{"$f":"IF(DJE18=\"\",\"\",VLOOKUP($Q$10,DATA!$P$2:$R$196,3))","v":""},{"$f":"IF(DJF18=\"\",\"\",VLOOKUP($Q$10,DATA!$P$2:$R$196,3))","v":""},{"$f":"IF(DJG18=\"\",\"\",VLOOKUP($Q$10,DATA!$P$2:$R$196,3))","v":""},{"$f":"IF(DJH18=\"\",\"\",VLOOKUP($Q$10,DATA!$P$2:$R$196,3))","v":""},{"$f":"IF(DJI18=\"\",\"\",VLOOKUP($Q$10,DATA!$P$2:$R$196,3))","v":""},{"$f":"IF(DJJ18=\"\",\"\",VLOOKUP($Q$10,DATA!$P$2:$R$196,3))","v":""},{"$f":"IF(DJK18=\"\",\"\",VLOOKUP($Q$10,DATA!$P$2:$R$196,3))","v":""},{"$f":"IF(DJL18=\"\",\"\",VLOOKUP($Q$10,DATA!$P$2:$R$196,3))","v":""},{"$f":"IF(DJM18=\"\",\"\",VLOOKUP($Q$10,DATA!$P$2:$R$196,3))","v":""},{"$f":"IF(DJN18=\"\",\"\",VLOOKUP($Q$10,DATA!$P$2:$R$196,3))","v":""},{"$f":"IF(DJO18=\"\",\"\",VLOOKUP($Q$10,DATA!$P$2:$R$196,3))","v":""},{"$f":"IF(DJP18=\"\",\"\",VLOOKUP($Q$10,DATA!$P$2:$R$196,3))","v":""},{"$f":"IF(DJQ18=\"\",\"\",VLOOKUP($Q$10,DATA!$P$2:$R$196,3))","v":""},{"$f":"IF(DJR18=\"\",\"\",VLOOKUP($Q$10,DATA!$P$2:$R$196,3))","v":""},{"$f":"IF(DJS18=\"\",\"\",VLOOKUP($Q$10,DATA!$P$2:$R$196,3))","v":""},{"$f":"IF(DJT18=\"\",\"\",VLOOKUP($Q$10,DATA!$P$2:$R$196,3))","v":""},{"$f":"IF(DJU18=\"\",\"\",VLOOKUP($Q$10,DATA!$P$2:$R$196,3))","v":""},{"$f":"IF(DJV18=\"\",\"\",VLOOKUP($Q$10,DATA!$P$2:$R$196,3))","v":""},{"$f":"IF(DJW18=\"\",\"\",VLOOKUP($Q$10,DATA!$P$2:$R$196,3))","v":""},{"$f":"IF(DJX18=\"\",\"\",VLOOKUP($Q$10,DATA!$P$2:$R$196,3))","v":""},{"$f":"IF(DJY18=\"\",\"\",VLOOKUP($Q$10,DATA!$P$2:$R$196,3))","v":""},{"$f":"IF(DJZ18=\"\",\"\",VLOOKUP($Q$10,DATA!$P$2:$R$196,3))","v":""},{"$f":"IF(DKA18=\"\",\"\",VLOOKUP($Q$10,DATA!$P$2:$R$196,3))","v":""},{"$f":"IF(DKB18=\"\",\"\",VLOOKUP($Q$10,DATA!$P$2:$R$196,3))","v":""},{"$f":"IF(DKC18=\"\",\"\",VLOOKUP($Q$10,DATA!$P$2:$R$196,3))","v":""},{"$f":"IF(DKD18=\"\",\"\",VLOOKUP($Q$10,DATA!$P$2:$R$196,3))","v":""},{"$f":"IF(DKE18=\"\",\"\",VLOOKUP($Q$10,DATA!$P$2:$R$196,3))","v":""},{"$f":"IF(DKF18=\"\",\"\",VLOOKUP($Q$10,DATA!$P$2:$R$196,3))","v":""},{"$f":"IF(DKG18=\"\",\"\",VLOOKUP($Q$10,DATA!$P$2:$R$196,3))","v":""},{"$f":"IF(DKH18=\"\",\"\",VLOOKUP($Q$10,DATA!$P$2:$R$196,3))","v":""},{"$f":"IF(DKI18=\"\",\"\",VLOOKUP($Q$10,DATA!$P$2:$R$196,3))","v":""},{"$f":"IF(DKJ18=\"\",\"\",VLOOKUP($Q$10,DATA!$P$2:$R$196,3))","v":""},{"$f":"IF(DKK18=\"\",\"\",VLOOKUP($Q$10,DATA!$P$2:$R$196,3))","v":""},{"$f":"IF(DKL18=\"\",\"\",VLOOKUP($Q$10,DATA!$P$2:$R$196,3))","v":""},{"$f":"IF(DKM18=\"\",\"\",VLOOKUP($Q$10,DATA!$P$2:$R$196,3))","v":""},{"$f":"IF(DKN18=\"\",\"\",VLOOKUP($Q$10,DATA!$P$2:$R$196,3))","v":""},{"$f":"IF(DKO18=\"\",\"\",VLOOKUP($Q$10,DATA!$P$2:$R$196,3))","v":""},{"$f":"IF(DKP18=\"\",\"\",VLOOKUP($Q$10,DATA!$P$2:$R$196,3))","v":""},{"$f":"IF(DKQ18=\"\",\"\",VLOOKUP($Q$10,DATA!$P$2:$R$196,3))","v":""},{"$f":"IF(DKR18=\"\",\"\",VLOOKUP($Q$10,DATA!$P$2:$R$196,3))","v":""},{"$f":"IF(DKS18=\"\",\"\",VLOOKUP($Q$10,DATA!$P$2:$R$196,3))","v":""},{"$f":"IF(DKT18=\"\",\"\",VLOOKUP($Q$10,DATA!$P$2:$R$196,3))","v":""},{"$f":"IF(DKU18=\"\",\"\",VLOOKUP($Q$10,DATA!$P$2:$R$196,3))","v":""},{"$f":"IF(DKV18=\"\",\"\",VLOOKUP($Q$10,DATA!$P$2:$R$196,3))","v":""},{"$f":"IF(DKW18=\"\",\"\",VLOOKUP($Q$10,DATA!$P$2:$R$196,3))","v":""},{"$f":"IF(DKX18=\"\",\"\",VLOOKUP($Q$10,DATA!$P$2:$R$196,3))","v":""},{"$f":"IF(DKY18=\"\",\"\",VLOOKUP($Q$10,DATA!$P$2:$R$196,3))","v":""},{"$f":"IF(DKZ18=\"\",\"\",VLOOKUP($Q$10,DATA!$P$2:$R$196,3))","v":""},{"$f":"IF(DLA18=\"\",\"\",VLOOKUP($Q$10,DATA!$P$2:$R$196,3))","v":""},{"$f":"IF(DLB18=\"\",\"\",VLOOKUP($Q$10,DATA!$P$2:$R$196,3))","v":""},{"$f":"IF(DLC18=\"\",\"\",VLOOKUP($Q$10,DATA!$P$2:$R$196,3))","v":""},{"$f":"IF(DLD18=\"\",\"\",VLOOKUP($Q$10,DATA!$P$2:$R$196,3))","v":""},{"$f":"IF(DLE18=\"\",\"\",VLOOKUP($Q$10,DATA!$P$2:$R$196,3))","v":""},{"$f":"IF(DLF18=\"\",\"\",VLOOKUP($Q$10,DATA!$P$2:$R$196,3))","v":""},{"$f":"IF(DLG18=\"\",\"\",VLOOKUP($Q$10,DATA!$P$2:$R$196,3))","v":""},{"$f":"IF(DLH18=\"\",\"\",VLOOKUP($Q$10,DATA!$P$2:$R$196,3))","v":""},{"$f":"IF(DLI18=\"\",\"\",VLOOKUP($Q$10,DATA!$P$2:$R$196,3))","v":""},{"$f":"IF(DLJ18=\"\",\"\",VLOOKUP($Q$10,DATA!$P$2:$R$196,3))","v":""},{"$f":"IF(DLK18=\"\",\"\",VLOOKUP($Q$10,DATA!$P$2:$R$196,3))","v":""},{"$f":"IF(DLL18=\"\",\"\",VLOOKUP($Q$10,DATA!$P$2:$R$196,3))","v":""},{"$f":"IF(DLM18=\"\",\"\",VLOOKUP($Q$10,DATA!$P$2:$R$196,3))","v":""},{"$f":"IF(DLN18=\"\",\"\",VLOOKUP($Q$10,DATA!$P$2:$R$196,3))","v":""},{"$f":"IF(DLO18=\"\",\"\",VLOOKUP($Q$10,DATA!$P$2:$R$196,3))","v":""},{"$f":"IF(DLP18=\"\",\"\",VLOOKUP($Q$10,DATA!$P$2:$R$196,3))","v":""},{"$f":"IF(DLQ18=\"\",\"\",VLOOKUP($Q$10,DATA!$P$2:$R$196,3))","v":""},{"$f":"IF(DLR18=\"\",\"\",VLOOKUP($Q$10,DATA!$P$2:$R$196,3))","v":""},{"$f":"IF(DLS18=\"\",\"\",VLOOKUP($Q$10,DATA!$P$2:$R$196,3))","v":""},{"$f":"IF(DLT18=\"\",\"\",VLOOKUP($Q$10,DATA!$P$2:$R$196,3))","v":""},{"$f":"IF(DLU18=\"\",\"\",VLOOKUP($Q$10,DATA!$P$2:$R$196,3))","v":""},{"$f":"IF(DLV18=\"\",\"\",VLOOKUP($Q$10,DATA!$P$2:$R$196,3))","v":""},{"$f":"IF(DLW18=\"\",\"\",VLOOKUP($Q$10,DATA!$P$2:$R$196,3))","v":""},{"$f":"IF(DLX18=\"\",\"\",VLOOKUP($Q$10,DATA!$P$2:$R$196,3))","v":""},{"$f":"IF(DLY18=\"\",\"\",VLOOKUP($Q$10,DATA!$P$2:$R$196,3))","v":""},{"$f":"IF(DLZ18=\"\",\"\",VLOOKUP($Q$10,DATA!$P$2:$R$196,3))","v":""},{"$f":"IF(DMA18=\"\",\"\",VLOOKUP($Q$10,DATA!$P$2:$R$196,3))","v":""},{"$f":"IF(DMB18=\"\",\"\",VLOOKUP($Q$10,DATA!$P$2:$R$196,3))","v":""},{"$f":"IF(DMC18=\"\",\"\",VLOOKUP($Q$10,DATA!$P$2:$R$196,3))","v":""},{"$f":"IF(DMD18=\"\",\"\",VLOOKUP($Q$10,DATA!$P$2:$R$196,3))","v":""},{"$f":"IF(DME18=\"\",\"\",VLOOKUP($Q$10,DATA!$P$2:$R$196,3))","v":""},{"$f":"IF(DMF18=\"\",\"\",VLOOKUP($Q$10,DATA!$P$2:$R$196,3))","v":""},{"$f":"IF(DMG18=\"\",\"\",VLOOKUP($Q$10,DATA!$P$2:$R$196,3))","v":""},{"$f":"IF(DMH18=\"\",\"\",VLOOKUP($Q$10,DATA!$P$2:$R$196,3))","v":""},{"$f":"IF(DMI18=\"\",\"\",VLOOKUP($Q$10,DATA!$P$2:$R$196,3))","v":""},{"$f":"IF(DMJ18=\"\",\"\",VLOOKUP($Q$10,DATA!$P$2:$R$196,3))","v":""},{"$f":"IF(DMK18=\"\",\"\",VLOOKUP($Q$10,DATA!$P$2:$R$196,3))","v":""},{"$f":"IF(DML18=\"\",\"\",VLOOKUP($Q$10,DATA!$P$2:$R$196,3))","v":""},{"$f":"IF(DMM18=\"\",\"\",VLOOKUP($Q$10,DATA!$P$2:$R$196,3))","v":""},{"$f":"IF(DMN18=\"\",\"\",VLOOKUP($Q$10,DATA!$P$2:$R$196,3))","v":""},{"$f":"IF(DMO18=\"\",\"\",VLOOKUP($Q$10,DATA!$P$2:$R$196,3))","v":""},{"$f":"IF(DMP18=\"\",\"\",VLOOKUP($Q$10,DATA!$P$2:$R$196,3))","v":""},{"$f":"IF(DMQ18=\"\",\"\",VLOOKUP($Q$10,DATA!$P$2:$R$196,3))","v":""},{"$f":"IF(DMR18=\"\",\"\",VLOOKUP($Q$10,DATA!$P$2:$R$196,3))","v":""},{"$f":"IF(DMS18=\"\",\"\",VLOOKUP($Q$10,DATA!$P$2:$R$196,3))","v":""},{"$f":"IF(DMT18=\"\",\"\",VLOOKUP($Q$10,DATA!$P$2:$R$196,3))","v":""},{"$f":"IF(DMU18=\"\",\"\",VLOOKUP($Q$10,DATA!$P$2:$R$196,3))","v":""},{"$f":"IF(DMV18=\"\",\"\",VLOOKUP($Q$10,DATA!$P$2:$R$196,3))","v":""},{"$f":"IF(DMW18=\"\",\"\",VLOOKUP($Q$10,DATA!$P$2:$R$196,3))","v":""},{"$f":"IF(DMX18=\"\",\"\",VLOOKUP($Q$10,DATA!$P$2:$R$196,3))","v":""},{"$f":"IF(DMY18=\"\",\"\",VLOOKUP($Q$10,DATA!$P$2:$R$196,3))","v":""},{"$f":"IF(DMZ18=\"\",\"\",VLOOKUP($Q$10,DATA!$P$2:$R$196,3))","v":""},{"$f":"IF(DNA18=\"\",\"\",VLOOKUP($Q$10,DATA!$P$2:$R$196,3))","v":""},{"$f":"IF(DNB18=\"\",\"\",VLOOKUP($Q$10,DATA!$P$2:$R$196,3))","v":""},{"$f":"IF(DNC18=\"\",\"\",VLOOKUP($Q$10,DATA!$P$2:$R$196,3))","v":""},{"$f":"IF(DND18=\"\",\"\",VLOOKUP($Q$10,DATA!$P$2:$R$196,3))","v":""},{"$f":"IF(DNE18=\"\",\"\",VLOOKUP($Q$10,DATA!$P$2:$R$196,3))","v":""},{"$f":"IF(DNF18=\"\",\"\",VLOOKUP($Q$10,DATA!$P$2:$R$196,3))","v":""},{"$f":"IF(DNG18=\"\",\"\",VLOOKUP($Q$10,DATA!$P$2:$R$196,3))","v":""},{"$f":"IF(DNH18=\"\",\"\",VLOOKUP($Q$10,DATA!$P$2:$R$196,3))","v":""},{"$f":"IF(DNI18=\"\",\"\",VLOOKUP($Q$10,DATA!$P$2:$R$196,3))","v":""},{"$f":"IF(DNJ18=\"\",\"\",VLOOKUP($Q$10,DATA!$P$2:$R$196,3))","v":""},{"$f":"IF(DNK18=\"\",\"\",VLOOKUP($Q$10,DATA!$P$2:$R$196,3))","v":""},{"$f":"IF(DNL18=\"\",\"\",VLOOKUP($Q$10,DATA!$P$2:$R$196,3))","v":""},{"$f":"IF(DNM18=\"\",\"\",VLOOKUP($Q$10,DATA!$P$2:$R$196,3))","v":""},{"$f":"IF(DNN18=\"\",\"\",VLOOKUP($Q$10,DATA!$P$2:$R$196,3))","v":""},{"$f":"IF(DNO18=\"\",\"\",VLOOKUP($Q$10,DATA!$P$2:$R$196,3))","v":""},{"$f":"IF(DNP18=\"\",\"\",VLOOKUP($Q$10,DATA!$P$2:$R$196,3))","v":""},{"$f":"IF(DNQ18=\"\",\"\",VLOOKUP($Q$10,DATA!$P$2:$R$196,3))","v":""},{"$f":"IF(DNR18=\"\",\"\",VLOOKUP($Q$10,DATA!$P$2:$R$196,3))","v":""},{"$f":"IF(DNS18=\"\",\"\",VLOOKUP($Q$10,DATA!$P$2:$R$196,3))","v":""},{"$f":"IF(DNT18=\"\",\"\",VLOOKUP($Q$10,DATA!$P$2:$R$196,3))","v":""},{"$f":"IF(DNU18=\"\",\"\",VLOOKUP($Q$10,DATA!$P$2:$R$196,3))","v":""},{"$f":"IF(DNV18=\"\",\"\",VLOOKUP($Q$10,DATA!$P$2:$R$196,3))","v":""},{"$f":"IF(DNW18=\"\",\"\",VLOOKUP($Q$10,DATA!$P$2:$R$196,3))","v":""},{"$f":"IF(DNX18=\"\",\"\",VLOOKUP($Q$10,DATA!$P$2:$R$196,3))","v":""},{"$f":"IF(DNY18=\"\",\"\",VLOOKUP($Q$10,DATA!$P$2:$R$196,3))","v":""},{"$f":"IF(DNZ18=\"\",\"\",VLOOKUP($Q$10,DATA!$P$2:$R$196,3))","v":""},{"$f":"IF(DOA18=\"\",\"\",VLOOKUP($Q$10,DATA!$P$2:$R$196,3))","v":""},{"$f":"IF(DOB18=\"\",\"\",VLOOKUP($Q$10,DATA!$P$2:$R$196,3))","v":""},{"$f":"IF(DOC18=\"\",\"\",VLOOKUP($Q$10,DATA!$P$2:$R$196,3))","v":""},{"$f":"IF(DOD18=\"\",\"\",VLOOKUP($Q$10,DATA!$P$2:$R$196,3))","v":""},{"$f":"IF(DOE18=\"\",\"\",VLOOKUP($Q$10,DATA!$P$2:$R$196,3))","v":""},{"$f":"IF(DOF18=\"\",\"\",VLOOKUP($Q$10,DATA!$P$2:$R$196,3))","v":""},{"$f":"IF(DOG18=\"\",\"\",VLOOKUP($Q$10,DATA!$P$2:$R$196,3))","v":""},{"$f":"IF(DOH18=\"\",\"\",VLOOKUP($Q$10,DATA!$P$2:$R$196,3))","v":""},{"$f":"IF(DOI18=\"\",\"\",VLOOKUP($Q$10,DATA!$P$2:$R$196,3))","v":""},{"$f":"IF(DOJ18=\"\",\"\",VLOOKUP($Q$10,DATA!$P$2:$R$196,3))","v":""},{"$f":"IF(DOK18=\"\",\"\",VLOOKUP($Q$10,DATA!$P$2:$R$196,3))","v":""},{"$f":"IF(DOL18=\"\",\"\",VLOOKUP($Q$10,DATA!$P$2:$R$196,3))","v":""},{"$f":"IF(DOM18=\"\",\"\",VLOOKUP($Q$10,DATA!$P$2:$R$196,3))","v":""},{"$f":"IF(DON18=\"\",\"\",VLOOKUP($Q$10,DATA!$P$2:$R$196,3))","v":""},{"$f":"IF(DOO18=\"\",\"\",VLOOKUP($Q$10,DATA!$P$2:$R$196,3))","v":""},{"$f":"IF(DOP18=\"\",\"\",VLOOKUP($Q$10,DATA!$P$2:$R$196,3))","v":""},{"$f":"IF(DOQ18=\"\",\"\",VLOOKUP($Q$10,DATA!$P$2:$R$196,3))","v":""},{"$f":"IF(DOR18=\"\",\"\",VLOOKUP($Q$10,DATA!$P$2:$R$196,3))","v":""},{"$f":"IF(DOS18=\"\",\"\",VLOOKUP($Q$10,DATA!$P$2:$R$196,3))","v":""},{"$f":"IF(DOT18=\"\",\"\",VLOOKUP($Q$10,DATA!$P$2:$R$196,3))","v":""},{"$f":"IF(DOU18=\"\",\"\",VLOOKUP($Q$10,DATA!$P$2:$R$196,3))","v":""},{"$f":"IF(DOV18=\"\",\"\",VLOOKUP($Q$10,DATA!$P$2:$R$196,3))","v":""},{"$f":"IF(DOW18=\"\",\"\",VLOOKUP($Q$10,DATA!$P$2:$R$196,3))","v":""},{"$f":"IF(DOX18=\"\",\"\",VLOOKUP($Q$10,DATA!$P$2:$R$196,3))","v":""},{"$f":"IF(DOY18=\"\",\"\",VLOOKUP($Q$10,DATA!$P$2:$R$196,3))","v":""},{"$f":"IF(DOZ18=\"\",\"\",VLOOKUP($Q$10,DATA!$P$2:$R$196,3))","v":""},{"$f":"IF(DPA18=\"\",\"\",VLOOKUP($Q$10,DATA!$P$2:$R$196,3))","v":""},{"$f":"IF(DPB18=\"\",\"\",VLOOKUP($Q$10,DATA!$P$2:$R$196,3))","v":""},{"$f":"IF(DPC18=\"\",\"\",VLOOKUP($Q$10,DATA!$P$2:$R$196,3))","v":""},{"$f":"IF(DPD18=\"\",\"\",VLOOKUP($Q$10,DATA!$P$2:$R$196,3))","v":""},{"$f":"IF(DPE18=\"\",\"\",VLOOKUP($Q$10,DATA!$P$2:$R$196,3))","v":""},{"$f":"IF(DPF18=\"\",\"\",VLOOKUP($Q$10,DATA!$P$2:$R$196,3))","v":""},{"$f":"IF(DPG18=\"\",\"\",VLOOKUP($Q$10,DATA!$P$2:$R$196,3))","v":""},{"$f":"IF(DPH18=\"\",\"\",VLOOKUP($Q$10,DATA!$P$2:$R$196,3))","v":""},{"$f":"IF(DPI18=\"\",\"\",VLOOKUP($Q$10,DATA!$P$2:$R$196,3))","v":""},{"$f":"IF(DPJ18=\"\",\"\",VLOOKUP($Q$10,DATA!$P$2:$R$196,3))","v":""},{"$f":"IF(DPK18=\"\",\"\",VLOOKUP($Q$10,DATA!$P$2:$R$196,3))","v":""},{"$f":"IF(DPL18=\"\",\"\",VLOOKUP($Q$10,DATA!$P$2:$R$196,3))","v":""},{"$f":"IF(DPM18=\"\",\"\",VLOOKUP($Q$10,DATA!$P$2:$R$196,3))","v":""},{"$f":"IF(DPN18=\"\",\"\",VLOOKUP($Q$10,DATA!$P$2:$R$196,3))","v":""},{"$f":"IF(DPO18=\"\",\"\",VLOOKUP($Q$10,DATA!$P$2:$R$196,3))","v":""},{"$f":"IF(DPP18=\"\",\"\",VLOOKUP($Q$10,DATA!$P$2:$R$196,3))","v":""},{"$f":"IF(DPQ18=\"\",\"\",VLOOKUP($Q$10,DATA!$P$2:$R$196,3))","v":""},{"$f":"IF(DPR18=\"\",\"\",VLOOKUP($Q$10,DATA!$P$2:$R$196,3))","v":""},{"$f":"IF(DPS18=\"\",\"\",VLOOKUP($Q$10,DATA!$P$2:$R$196,3))","v":""},{"$f":"IF(DPT18=\"\",\"\",VLOOKUP($Q$10,DATA!$P$2:$R$196,3))","v":""},{"$f":"IF(DPU18=\"\",\"\",VLOOKUP($Q$10,DATA!$P$2:$R$196,3))","v":""},{"$f":"IF(DPV18=\"\",\"\",VLOOKUP($Q$10,DATA!$P$2:$R$196,3))","v":""},{"$f":"IF(DPW18=\"\",\"\",VLOOKUP($Q$10,DATA!$P$2:$R$196,3))","v":""},{"$f":"IF(DPX18=\"\",\"\",VLOOKUP($Q$10,DATA!$P$2:$R$196,3))","v":""},{"$f":"IF(DPY18=\"\",\"\",VLOOKUP($Q$10,DATA!$P$2:$R$196,3))","v":""},{"$f":"IF(DPZ18=\"\",\"\",VLOOKUP($Q$10,DATA!$P$2:$R$196,3))","v":""},{"$f":"IF(DQA18=\"\",\"\",VLOOKUP($Q$10,DATA!$P$2:$R$196,3))","v":""},{"$f":"IF(DQB18=\"\",\"\",VLOOKUP($Q$10,DATA!$P$2:$R$196,3))","v":""},{"$f":"IF(DQC18=\"\",\"\",VLOOKUP($Q$10,DATA!$P$2:$R$196,3))","v":""},{"$f":"IF(DQD18=\"\",\"\",VLOOKUP($Q$10,DATA!$P$2:$R$196,3))","v":""},{"$f":"IF(DQE18=\"\",\"\",VLOOKUP($Q$10,DATA!$P$2:$R$196,3))","v":""},{"$f":"IF(DQF18=\"\",\"\",VLOOKUP($Q$10,DATA!$P$2:$R$196,3))","v":""},{"$f":"IF(DQG18=\"\",\"\",VLOOKUP($Q$10,DATA!$P$2:$R$196,3))","v":""},{"$f":"IF(DQH18=\"\",\"\",VLOOKUP($Q$10,DATA!$P$2:$R$196,3))","v":""},{"$f":"IF(DQI18=\"\",\"\",VLOOKUP($Q$10,DATA!$P$2:$R$196,3))","v":""},{"$f":"IF(DQJ18=\"\",\"\",VLOOKUP($Q$10,DATA!$P$2:$R$196,3))","v":""},{"$f":"IF(DQK18=\"\",\"\",VLOOKUP($Q$10,DATA!$P$2:$R$196,3))","v":""},{"$f":"IF(DQL18=\"\",\"\",VLOOKUP($Q$10,DATA!$P$2:$R$196,3))","v":""},{"$f":"IF(DQM18=\"\",\"\",VLOOKUP($Q$10,DATA!$P$2:$R$196,3))","v":""},{"$f":"IF(DQN18=\"\",\"\",VLOOKUP($Q$10,DATA!$P$2:$R$196,3))","v":""},{"$f":"IF(DQO18=\"\",\"\",VLOOKUP($Q$10,DATA!$P$2:$R$196,3))","v":""},{"$f":"IF(DQP18=\"\",\"\",VLOOKUP($Q$10,DATA!$P$2:$R$196,3))","v":""},{"$f":"IF(DQQ18=\"\",\"\",VLOOKUP($Q$10,DATA!$P$2:$R$196,3))","v":""},{"$f":"IF(DQR18=\"\",\"\",VLOOKUP($Q$10,DATA!$P$2:$R$196,3))","v":""},{"$f":"IF(DQS18=\"\",\"\",VLOOKUP($Q$10,DATA!$P$2:$R$196,3))","v":""},{"$f":"IF(DQT18=\"\",\"\",VLOOKUP($Q$10,DATA!$P$2:$R$196,3))","v":""},{"$f":"IF(DQU18=\"\",\"\",VLOOKUP($Q$10,DATA!$P$2:$R$196,3))","v":""},{"$f":"IF(DQV18=\"\",\"\",VLOOKUP($Q$10,DATA!$P$2:$R$196,3))","v":""},{"$f":"IF(DQW18=\"\",\"\",VLOOKUP($Q$10,DATA!$P$2:$R$196,3))","v":""},{"$f":"IF(DQX18=\"\",\"\",VLOOKUP($Q$10,DATA!$P$2:$R$196,3))","v":""},{"$f":"IF(DQY18=\"\",\"\",VLOOKUP($Q$10,DATA!$P$2:$R$196,3))","v":""},{"$f":"IF(DQZ18=\"\",\"\",VLOOKUP($Q$10,DATA!$P$2:$R$196,3))","v":""},{"$f":"IF(DRA18=\"\",\"\",VLOOKUP($Q$10,DATA!$P$2:$R$196,3))","v":""},{"$f":"IF(DRB18=\"\",\"\",VLOOKUP($Q$10,DATA!$P$2:$R$196,3))","v":""},{"$f":"IF(DRC18=\"\",\"\",VLOOKUP($Q$10,DATA!$P$2:$R$196,3))","v":""},{"$f":"IF(DRD18=\"\",\"\",VLOOKUP($Q$10,DATA!$P$2:$R$196,3))","v":""},{"$f":"IF(DRE18=\"\",\"\",VLOOKUP($Q$10,DATA!$P$2:$R$196,3))","v":""},{"$f":"IF(DRF18=\"\",\"\",VLOOKUP($Q$10,DATA!$P$2:$R$196,3))","v":""},{"$f":"IF(DRG18=\"\",\"\",VLOOKUP($Q$10,DATA!$P$2:$R$196,3))","v":""},{"$f":"IF(DRH18=\"\",\"\",VLOOKUP($Q$10,DATA!$P$2:$R$196,3))","v":""},{"$f":"IF(DRI18=\"\",\"\",VLOOKUP($Q$10,DATA!$P$2:$R$196,3))","v":""},{"$f":"IF(DRJ18=\"\",\"\",VLOOKUP($Q$10,DATA!$P$2:$R$196,3))","v":""},{"$f":"IF(DRK18=\"\",\"\",VLOOKUP($Q$10,DATA!$P$2:$R$196,3))","v":""},{"$f":"IF(DRL18=\"\",\"\",VLOOKUP($Q$10,DATA!$P$2:$R$196,3))","v":""},{"$f":"IF(DRM18=\"\",\"\",VLOOKUP($Q$10,DATA!$P$2:$R$196,3))","v":""},{"$f":"IF(DRN18=\"\",\"\",VLOOKUP($Q$10,DATA!$P$2:$R$196,3))","v":""},{"$f":"IF(DRO18=\"\",\"\",VLOOKUP($Q$10,DATA!$P$2:$R$196,3))","v":""},{"$f":"IF(DRP18=\"\",\"\",VLOOKUP($Q$10,DATA!$P$2:$R$196,3))","v":""},{"$f":"IF(DRQ18=\"\",\"\",VLOOKUP($Q$10,DATA!$P$2:$R$196,3))","v":""},{"$f":"IF(DRR18=\"\",\"\",VLOOKUP($Q$10,DATA!$P$2:$R$196,3))","v":""},{"$f":"IF(DRS18=\"\",\"\",VLOOKUP($Q$10,DATA!$P$2:$R$196,3))","v":""},{"$f":"IF(DRT18=\"\",\"\",VLOOKUP($Q$10,DATA!$P$2:$R$196,3))","v":""},{"$f":"IF(DRU18=\"\",\"\",VLOOKUP($Q$10,DATA!$P$2:$R$196,3))","v":""},{"$f":"IF(DRV18=\"\",\"\",VLOOKUP($Q$10,DATA!$P$2:$R$196,3))","v":""},{"$f":"IF(DRW18=\"\",\"\",VLOOKUP($Q$10,DATA!$P$2:$R$196,3))","v":""},{"$f":"IF(DRX18=\"\",\"\",VLOOKUP($Q$10,DATA!$P$2:$R$196,3))","v":""},{"$f":"IF(DRY18=\"\",\"\",VLOOKUP($Q$10,DATA!$P$2:$R$196,3))","v":""},{"$f":"IF(DRZ18=\"\",\"\",VLOOKUP($Q$10,DATA!$P$2:$R$196,3))","v":""},{"$f":"IF(DSA18=\"\",\"\",VLOOKUP($Q$10,DATA!$P$2:$R$196,3))","v":""},{"$f":"IF(DSB18=\"\",\"\",VLOOKUP($Q$10,DATA!$P$2:$R$196,3))","v":""},{"$f":"IF(DSC18=\"\",\"\",VLOOKUP($Q$10,DATA!$P$2:$R$196,3))","v":""},{"$f":"IF(DSD18=\"\",\"\",VLOOKUP($Q$10,DATA!$P$2:$R$196,3))","v":""},{"$f":"IF(DSE18=\"\",\"\",VLOOKUP($Q$10,DATA!$P$2:$R$196,3))","v":""},{"$f":"IF(DSF18=\"\",\"\",VLOOKUP($Q$10,DATA!$P$2:$R$196,3))","v":""},{"$f":"IF(DSG18=\"\",\"\",VLOOKUP($Q$10,DATA!$P$2:$R$196,3))","v":""},{"$f":"IF(DSH18=\"\",\"\",VLOOKUP($Q$10,DATA!$P$2:$R$196,3))","v":""},{"$f":"IF(DSI18=\"\",\"\",VLOOKUP($Q$10,DATA!$P$2:$R$196,3))","v":""},{"$f":"IF(DSJ18=\"\",\"\",VLOOKUP($Q$10,DATA!$P$2:$R$196,3))","v":""},{"$f":"IF(DSK18=\"\",\"\",VLOOKUP($Q$10,DATA!$P$2:$R$196,3))","v":""},{"$f":"IF(DSL18=\"\",\"\",VLOOKUP($Q$10,DATA!$P$2:$R$196,3))","v":""},{"$f":"IF(DSM18=\"\",\"\",VLOOKUP($Q$10,DATA!$P$2:$R$196,3))","v":""},{"$f":"IF(DSN18=\"\",\"\",VLOOKUP($Q$10,DATA!$P$2:$R$196,3))","v":""},{"$f":"IF(DSO18=\"\",\"\",VLOOKUP($Q$10,DATA!$P$2:$R$196,3))","v":""},{"$f":"IF(DSP18=\"\",\"\",VLOOKUP($Q$10,DATA!$P$2:$R$196,3))","v":""},{"$f":"IF(DSQ18=\"\",\"\",VLOOKUP($Q$10,DATA!$P$2:$R$196,3))","v":""},{"$f":"IF(DSR18=\"\",\"\",VLOOKUP($Q$10,DATA!$P$2:$R$196,3))","v":""},{"$f":"IF(DSS18=\"\",\"\",VLOOKUP($Q$10,DATA!$P$2:$R$196,3))","v":""},{"$f":"IF(DST18=\"\",\"\",VLOOKUP($Q$10,DATA!$P$2:$R$196,3))","v":""},{"$f":"IF(DSU18=\"\",\"\",VLOOKUP($Q$10,DATA!$P$2:$R$196,3))","v":""},{"$f":"IF(DSV18=\"\",\"\",VLOOKUP($Q$10,DATA!$P$2:$R$196,3))","v":""},{"$f":"IF(DSW18=\"\",\"\",VLOOKUP($Q$10,DATA!$P$2:$R$196,3))","v":""},{"$f":"IF(DSX18=\"\",\"\",VLOOKUP($Q$10,DATA!$P$2:$R$196,3))","v":""},{"$f":"IF(DSY18=\"\",\"\",VLOOKUP($Q$10,DATA!$P$2:$R$196,3))","v":""},{"$f":"IF(DSZ18=\"\",\"\",VLOOKUP($Q$10,DATA!$P$2:$R$196,3))","v":""},{"$f":"IF(DTA18=\"\",\"\",VLOOKUP($Q$10,DATA!$P$2:$R$196,3))","v":""},{"$f":"IF(DTB18=\"\",\"\",VLOOKUP($Q$10,DATA!$P$2:$R$196,3))","v":""},{"$f":"IF(DTC18=\"\",\"\",VLOOKUP($Q$10,DATA!$P$2:$R$196,3))","v":""},{"$f":"IF(DTD18=\"\",\"\",VLOOKUP($Q$10,DATA!$P$2:$R$196,3))","v":""},{"$f":"IF(DTE18=\"\",\"\",VLOOKUP($Q$10,DATA!$P$2:$R$196,3))","v":""},{"$f":"IF(DTF18=\"\",\"\",VLOOKUP($Q$10,DATA!$P$2:$R$196,3))","v":""},{"$f":"IF(DTG18=\"\",\"\",VLOOKUP($Q$10,DATA!$P$2:$R$196,3))","v":""},{"$f":"IF(DTH18=\"\",\"\",VLOOKUP($Q$10,DATA!$P$2:$R$196,3))","v":""},{"$f":"IF(DTI18=\"\",\"\",VLOOKUP($Q$10,DATA!$P$2:$R$196,3))","v":""},{"$f":"IF(DTJ18=\"\",\"\",VLOOKUP($Q$10,DATA!$P$2:$R$196,3))","v":""},{"$f":"IF(DTK18=\"\",\"\",VLOOKUP($Q$10,DATA!$P$2:$R$196,3))","v":""},{"$f":"IF(DTL18=\"\",\"\",VLOOKUP($Q$10,DATA!$P$2:$R$196,3))","v":""},{"$f":"IF(DTM18=\"\",\"\",VLOOKUP($Q$10,DATA!$P$2:$R$196,3))","v":""},{"$f":"IF(DTN18=\"\",\"\",VLOOKUP($Q$10,DATA!$P$2:$R$196,3))","v":""},{"$f":"IF(DTO18=\"\",\"\",VLOOKUP($Q$10,DATA!$P$2:$R$196,3))","v":""},{"$f":"IF(DTP18=\"\",\"\",VLOOKUP($Q$10,DATA!$P$2:$R$196,3))","v":""},{"$f":"IF(DTQ18=\"\",\"\",VLOOKUP($Q$10,DATA!$P$2:$R$196,3))","v":""},{"$f":"IF(DTR18=\"\",\"\",VLOOKUP($Q$10,DATA!$P$2:$R$196,3))","v":""},{"$f":"IF(DTS18=\"\",\"\",VLOOKUP($Q$10,DATA!$P$2:$R$196,3))","v":""},{"$f":"IF(DTT18=\"\",\"\",VLOOKUP($Q$10,DATA!$P$2:$R$196,3))","v":""},{"$f":"IF(DTU18=\"\",\"\",VLOOKUP($Q$10,DATA!$P$2:$R$196,3))","v":""},{"$f":"IF(DTV18=\"\",\"\",VLOOKUP($Q$10,DATA!$P$2:$R$196,3))","v":""},{"$f":"IF(DTW18=\"\",\"\",VLOOKUP($Q$10,DATA!$P$2:$R$196,3))","v":""},{"$f":"IF(DTX18=\"\",\"\",VLOOKUP($Q$10,DATA!$P$2:$R$196,3))","v":""},{"$f":"IF(DTY18=\"\",\"\",VLOOKUP($Q$10,DATA!$P$2:$R$196,3))","v":""},{"$f":"IF(DTZ18=\"\",\"\",VLOOKUP($Q$10,DATA!$P$2:$R$196,3))","v":""},{"$f":"IF(DUA18=\"\",\"\",VLOOKUP($Q$10,DATA!$P$2:$R$196,3))","v":""},{"$f":"IF(DUB18=\"\",\"\",VLOOKUP($Q$10,DATA!$P$2:$R$196,3))","v":""},{"$f":"IF(DUC18=\"\",\"\",VLOOKUP($Q$10,DATA!$P$2:$R$196,3))","v":""},{"$f":"IF(DUD18=\"\",\"\",VLOOKUP($Q$10,DATA!$P$2:$R$196,3))","v":""},{"$f":"IF(DUE18=\"\",\"\",VLOOKUP($Q$10,DATA!$P$2:$R$196,3))","v":""},{"$f":"IF(DUF18=\"\",\"\",VLOOKUP($Q$10,DATA!$P$2:$R$196,3))","v":""},{"$f":"IF(DUG18=\"\",\"\",VLOOKUP($Q$10,DATA!$P$2:$R$196,3))","v":""},{"$f":"IF(DUH18=\"\",\"\",VLOOKUP($Q$10,DATA!$P$2:$R$196,3))","v":""},{"$f":"IF(DUI18=\"\",\"\",VLOOKUP($Q$10,DATA!$P$2:$R$196,3))","v":""},{"$f":"IF(DUJ18=\"\",\"\",VLOOKUP($Q$10,DATA!$P$2:$R$196,3))","v":""},{"$f":"IF(DUK18=\"\",\"\",VLOOKUP($Q$10,DATA!$P$2:$R$196,3))","v":""},{"$f":"IF(DUL18=\"\",\"\",VLOOKUP($Q$10,DATA!$P$2:$R$196,3))","v":""},{"$f":"IF(DUM18=\"\",\"\",VLOOKUP($Q$10,DATA!$P$2:$R$196,3))","v":""},{"$f":"IF(DUN18=\"\",\"\",VLOOKUP($Q$10,DATA!$P$2:$R$196,3))","v":""},{"$f":"IF(DUO18=\"\",\"\",VLOOKUP($Q$10,DATA!$P$2:$R$196,3))","v":""},{"$f":"IF(DUP18=\"\",\"\",VLOOKUP($Q$10,DATA!$P$2:$R$196,3))","v":""},{"$f":"IF(DUQ18=\"\",\"\",VLOOKUP($Q$10,DATA!$P$2:$R$196,3))","v":""},{"$f":"IF(DUR18=\"\",\"\",VLOOKUP($Q$10,DATA!$P$2:$R$196,3))","v":""},{"$f":"IF(DUS18=\"\",\"\",VLOOKUP($Q$10,DATA!$P$2:$R$196,3))","v":""},{"$f":"IF(DUT18=\"\",\"\",VLOOKUP($Q$10,DATA!$P$2:$R$196,3))","v":""},{"$f":"IF(DUU18=\"\",\"\",VLOOKUP($Q$10,DATA!$P$2:$R$196,3))","v":""},{"$f":"IF(DUV18=\"\",\"\",VLOOKUP($Q$10,DATA!$P$2:$R$196,3))","v":""},{"$f":"IF(DUW18=\"\",\"\",VLOOKUP($Q$10,DATA!$P$2:$R$196,3))","v":""},{"$f":"IF(DUX18=\"\",\"\",VLOOKUP($Q$10,DATA!$P$2:$R$196,3))","v":""},{"$f":"IF(DUY18=\"\",\"\",VLOOKUP($Q$10,DATA!$P$2:$R$196,3))","v":""},{"$f":"IF(DUZ18=\"\",\"\",VLOOKUP($Q$10,DATA!$P$2:$R$196,3))","v":""},{"$f":"IF(DVA18=\"\",\"\",VLOOKUP($Q$10,DATA!$P$2:$R$196,3))","v":""},{"$f":"IF(DVB18=\"\",\"\",VLOOKUP($Q$10,DATA!$P$2:$R$196,3))","v":""},{"$f":"IF(DVC18=\"\",\"\",VLOOKUP($Q$10,DATA!$P$2:$R$196,3))","v":""},{"$f":"IF(DVD18=\"\",\"\",VLOOKUP($Q$10,DATA!$P$2:$R$196,3))","v":""},{"$f":"IF(DVE18=\"\",\"\",VLOOKUP($Q$10,DATA!$P$2:$R$196,3))","v":""},{"$f":"IF(DVF18=\"\",\"\",VLOOKUP($Q$10,DATA!$P$2:$R$196,3))","v":""},{"$f":"IF(DVG18=\"\",\"\",VLOOKUP($Q$10,DATA!$P$2:$R$196,3))","v":""},{"$f":"IF(DVH18=\"\",\"\",VLOOKUP($Q$10,DATA!$P$2:$R$196,3))","v":""},{"$f":"IF(DVI18=\"\",\"\",VLOOKUP($Q$10,DATA!$P$2:$R$196,3))","v":""},{"$f":"IF(DVJ18=\"\",\"\",VLOOKUP($Q$10,DATA!$P$2:$R$196,3))","v":""},{"$f":"IF(DVK18=\"\",\"\",VLOOKUP($Q$10,DATA!$P$2:$R$196,3))","v":""},{"$f":"IF(DVL18=\"\",\"\",VLOOKUP($Q$10,DATA!$P$2:$R$196,3))","v":""},{"$f":"IF(DVM18=\"\",\"\",VLOOKUP($Q$10,DATA!$P$2:$R$196,3))","v":""},{"$f":"IF(DVN18=\"\",\"\",VLOOKUP($Q$10,DATA!$P$2:$R$196,3))","v":""},{"$f":"IF(DVO18=\"\",\"\",VLOOKUP($Q$10,DATA!$P$2:$R$196,3))","v":""},{"$f":"IF(DVP18=\"\",\"\",VLOOKUP($Q$10,DATA!$P$2:$R$196,3))","v":""},{"$f":"IF(DVQ18=\"\",\"\",VLOOKUP($Q$10,DATA!$P$2:$R$196,3))","v":""},{"$f":"IF(DVR18=\"\",\"\",VLOOKUP($Q$10,DATA!$P$2:$R$196,3))","v":""},{"$f":"IF(DVS18=\"\",\"\",VLOOKUP($Q$10,DATA!$P$2:$R$196,3))","v":""},{"$f":"IF(DVT18=\"\",\"\",VLOOKUP($Q$10,DATA!$P$2:$R$196,3))","v":""},{"$f":"IF(DVU18=\"\",\"\",VLOOKUP($Q$10,DATA!$P$2:$R$196,3))","v":""},{"$f":"IF(DVV18=\"\",\"\",VLOOKUP($Q$10,DATA!$P$2:$R$196,3))","v":""},{"$f":"IF(DVW18=\"\",\"\",VLOOKUP($Q$10,DATA!$P$2:$R$196,3))","v":""},{"$f":"IF(DVX18=\"\",\"\",VLOOKUP($Q$10,DATA!$P$2:$R$196,3))","v":""},{"$f":"IF(DVY18=\"\",\"\",VLOOKUP($Q$10,DATA!$P$2:$R$196,3))","v":""},{"$f":"IF(DVZ18=\"\",\"\",VLOOKUP($Q$10,DATA!$P$2:$R$196,3))","v":""},{"$f":"IF(DWA18=\"\",\"\",VLOOKUP($Q$10,DATA!$P$2:$R$196,3))","v":""},{"$f":"IF(DWB18=\"\",\"\",VLOOKUP($Q$10,DATA!$P$2:$R$196,3))","v":""},{"$f":"IF(DWC18=\"\",\"\",VLOOKUP($Q$10,DATA!$P$2:$R$196,3))","v":""},{"$f":"IF(DWD18=\"\",\"\",VLOOKUP($Q$10,DATA!$P$2:$R$196,3))","v":""},{"$f":"IF(DWE18=\"\",\"\",VLOOKUP($Q$10,DATA!$P$2:$R$196,3))","v":""},{"$f":"IF(DWF18=\"\",\"\",VLOOKUP($Q$10,DATA!$P$2:$R$196,3))","v":""},{"$f":"IF(DWG18=\"\",\"\",VLOOKUP($Q$10,DATA!$P$2:$R$196,3))","v":""},{"$f":"IF(DWH18=\"\",\"\",VLOOKUP($Q$10,DATA!$P$2:$R$196,3))","v":""},{"$f":"IF(DWI18=\"\",\"\",VLOOKUP($Q$10,DATA!$P$2:$R$196,3))","v":""},{"$f":"IF(DWJ18=\"\",\"\",VLOOKUP($Q$10,DATA!$P$2:$R$196,3))","v":""},{"$f":"IF(DWK18=\"\",\"\",VLOOKUP($Q$10,DATA!$P$2:$R$196,3))","v":""},{"$f":"IF(DWL18=\"\",\"\",VLOOKUP($Q$10,DATA!$P$2:$R$196,3))","v":""},{"$f":"IF(DWM18=\"\",\"\",VLOOKUP($Q$10,DATA!$P$2:$R$196,3))","v":""},{"$f":"IF(DWN18=\"\",\"\",VLOOKUP($Q$10,DATA!$P$2:$R$196,3))","v":""},{"$f":"IF(DWO18=\"\",\"\",VLOOKUP($Q$10,DATA!$P$2:$R$196,3))","v":""},{"$f":"IF(DWP18=\"\",\"\",VLOOKUP($Q$10,DATA!$P$2:$R$196,3))","v":""},{"$f":"IF(DWQ18=\"\",\"\",VLOOKUP($Q$10,DATA!$P$2:$R$196,3))","v":""},{"$f":"IF(DWR18=\"\",\"\",VLOOKUP($Q$10,DATA!$P$2:$R$196,3))","v":""},{"$f":"IF(DWS18=\"\",\"\",VLOOKUP($Q$10,DATA!$P$2:$R$196,3))","v":""},{"$f":"IF(DWT18=\"\",\"\",VLOOKUP($Q$10,DATA!$P$2:$R$196,3))","v":""},{"$f":"IF(DWU18=\"\",\"\",VLOOKUP($Q$10,DATA!$P$2:$R$196,3))","v":""},{"$f":"IF(DWV18=\"\",\"\",VLOOKUP($Q$10,DATA!$P$2:$R$196,3))","v":""},{"$f":"IF(DWW18=\"\",\"\",VLOOKUP($Q$10,DATA!$P$2:$R$196,3))","v":""},{"$f":"IF(DWX18=\"\",\"\",VLOOKUP($Q$10,DATA!$P$2:$R$196,3))","v":""},{"$f":"IF(DWY18=\"\",\"\",VLOOKUP($Q$10,DATA!$P$2:$R$196,3))","v":""},{"$f":"IF(DWZ18=\"\",\"\",VLOOKUP($Q$10,DATA!$P$2:$R$196,3))","v":""},{"$f":"IF(DXA18=\"\",\"\",VLOOKUP($Q$10,DATA!$P$2:$R$196,3))","v":""},{"$f":"IF(DXB18=\"\",\"\",VLOOKUP($Q$10,DATA!$P$2:$R$196,3))","v":""},{"$f":"IF(DXC18=\"\",\"\",VLOOKUP($Q$10,DATA!$P$2:$R$196,3))","v":""},{"$f":"IF(DXD18=\"\",\"\",VLOOKUP($Q$10,DATA!$P$2:$R$196,3))","v":""},{"$f":"IF(DXE18=\"\",\"\",VLOOKUP($Q$10,DATA!$P$2:$R$196,3))","v":""},{"$f":"IF(DXF18=\"\",\"\",VLOOKUP($Q$10,DATA!$P$2:$R$196,3))","v":""},{"$f":"IF(DXG18=\"\",\"\",VLOOKUP($Q$10,DATA!$P$2:$R$196,3))","v":""},{"$f":"IF(DXH18=\"\",\"\",VLOOKUP($Q$10,DATA!$P$2:$R$196,3))","v":""},{"$f":"IF(DXI18=\"\",\"\",VLOOKUP($Q$10,DATA!$P$2:$R$196,3))","v":""},{"$f":"IF(DXJ18=\"\",\"\",VLOOKUP($Q$10,DATA!$P$2:$R$196,3))","v":""},{"$f":"IF(DXK18=\"\",\"\",VLOOKUP($Q$10,DATA!$P$2:$R$196,3))","v":""},{"$f":"IF(DXL18=\"\",\"\",VLOOKUP($Q$10,DATA!$P$2:$R$196,3))","v":""},{"$f":"IF(DXM18=\"\",\"\",VLOOKUP($Q$10,DATA!$P$2:$R$196,3))","v":""},{"$f":"IF(DXN18=\"\",\"\",VLOOKUP($Q$10,DATA!$P$2:$R$196,3))","v":""},{"$f":"IF(DXO18=\"\",\"\",VLOOKUP($Q$10,DATA!$P$2:$R$196,3))","v":""},{"$f":"IF(DXP18=\"\",\"\",VLOOKUP($Q$10,DATA!$P$2:$R$196,3))","v":""},{"$f":"IF(DXQ18=\"\",\"\",VLOOKUP($Q$10,DATA!$P$2:$R$196,3))","v":""},{"$f":"IF(DXR18=\"\",\"\",VLOOKUP($Q$10,DATA!$P$2:$R$196,3))","v":""},{"$f":"IF(DXS18=\"\",\"\",VLOOKUP($Q$10,DATA!$P$2:$R$196,3))","v":""},{"$f":"IF(DXT18=\"\",\"\",VLOOKUP($Q$10,DATA!$P$2:$R$196,3))","v":""},{"$f":"IF(DXU18=\"\",\"\",VLOOKUP($Q$10,DATA!$P$2:$R$196,3))","v":""},{"$f":"IF(DXV18=\"\",\"\",VLOOKUP($Q$10,DATA!$P$2:$R$196,3))","v":""},{"$f":"IF(DXW18=\"\",\"\",VLOOKUP($Q$10,DATA!$P$2:$R$196,3))","v":""},{"$f":"IF(DXX18=\"\",\"\",VLOOKUP($Q$10,DATA!$P$2:$R$196,3))","v":""},{"$f":"IF(DXY18=\"\",\"\",VLOOKUP($Q$10,DATA!$P$2:$R$196,3))","v":""},{"$f":"IF(DXZ18=\"\",\"\",VLOOKUP($Q$10,DATA!$P$2:$R$196,3))","v":""},{"$f":"IF(DYA18=\"\",\"\",VLOOKUP($Q$10,DATA!$P$2:$R$196,3))","v":""},{"$f":"IF(DYB18=\"\",\"\",VLOOKUP($Q$10,DATA!$P$2:$R$196,3))","v":""},{"$f":"IF(DYC18=\"\",\"\",VLOOKUP($Q$10,DATA!$P$2:$R$196,3))","v":""},{"$f":"IF(DYD18=\"\",\"\",VLOOKUP($Q$10,DATA!$P$2:$R$196,3))","v":""},{"$f":"IF(DYE18=\"\",\"\",VLOOKUP($Q$10,DATA!$P$2:$R$196,3))","v":""},{"$f":"IF(DYF18=\"\",\"\",VLOOKUP($Q$10,DATA!$P$2:$R$196,3))","v":""},{"$f":"IF(DYG18=\"\",\"\",VLOOKUP($Q$10,DATA!$P$2:$R$196,3))","v":""},{"$f":"IF(DYH18=\"\",\"\",VLOOKUP($Q$10,DATA!$P$2:$R$196,3))","v":""},{"$f":"IF(DYI18=\"\",\"\",VLOOKUP($Q$10,DATA!$P$2:$R$196,3))","v":""},{"$f":"IF(DYJ18=\"\",\"\",VLOOKUP($Q$10,DATA!$P$2:$R$196,3))","v":""},{"$f":"IF(DYK18=\"\",\"\",VLOOKUP($Q$10,DATA!$P$2:$R$196,3))","v":""},{"$f":"IF(DYL18=\"\",\"\",VLOOKUP($Q$10,DATA!$P$2:$R$196,3))","v":""},{"$f":"IF(DYM18=\"\",\"\",VLOOKUP($Q$10,DATA!$P$2:$R$196,3))","v":""},{"$f":"IF(DYN18=\"\",\"\",VLOOKUP($Q$10,DATA!$P$2:$R$196,3))","v":""},{"$f":"IF(DYO18=\"\",\"\",VLOOKUP($Q$10,DATA!$P$2:$R$196,3))","v":""},{"$f":"IF(DYP18=\"\",\"\",VLOOKUP($Q$10,DATA!$P$2:$R$196,3))","v":""},{"$f":"IF(DYQ18=\"\",\"\",VLOOKUP($Q$10,DATA!$P$2:$R$196,3))","v":""},{"$f":"IF(DYR18=\"\",\"\",VLOOKUP($Q$10,DATA!$P$2:$R$196,3))","v":""},{"$f":"IF(DYS18=\"\",\"\",VLOOKUP($Q$10,DATA!$P$2:$R$196,3))","v":""},{"$f":"IF(DYT18=\"\",\"\",VLOOKUP($Q$10,DATA!$P$2:$R$196,3))","v":""},{"$f":"IF(DYU18=\"\",\"\",VLOOKUP($Q$10,DATA!$P$2:$R$196,3))","v":""},{"$f":"IF(DYV18=\"\",\"\",VLOOKUP($Q$10,DATA!$P$2:$R$196,3))","v":""},{"$f":"IF(DYW18=\"\",\"\",VLOOKUP($Q$10,DATA!$P$2:$R$196,3))","v":""},{"$f":"IF(DYX18=\"\",\"\",VLOOKUP($Q$10,DATA!$P$2:$R$196,3))","v":""},{"$f":"IF(DYY18=\"\",\"\",VLOOKUP($Q$10,DATA!$P$2:$R$196,3))","v":""},{"$f":"IF(DYZ18=\"\",\"\",VLOOKUP($Q$10,DATA!$P$2:$R$196,3))","v":""},{"$f":"IF(DZA18=\"\",\"\",VLOOKUP($Q$10,DATA!$P$2:$R$196,3))","v":""},{"$f":"IF(DZB18=\"\",\"\",VLOOKUP($Q$10,DATA!$P$2:$R$196,3))","v":""},{"$f":"IF(DZC18=\"\",\"\",VLOOKUP($Q$10,DATA!$P$2:$R$196,3))","v":""},{"$f":"IF(DZD18=\"\",\"\",VLOOKUP($Q$10,DATA!$P$2:$R$196,3))","v":""},{"$f":"IF(DZE18=\"\",\"\",VLOOKUP($Q$10,DATA!$P$2:$R$196,3))","v":""},{"$f":"IF(DZF18=\"\",\"\",VLOOKUP($Q$10,DATA!$P$2:$R$196,3))","v":""},{"$f":"IF(DZG18=\"\",\"\",VLOOKUP($Q$10,DATA!$P$2:$R$196,3))","v":""},{"$f":"IF(DZH18=\"\",\"\",VLOOKUP($Q$10,DATA!$P$2:$R$196,3))","v":""},{"$f":"IF(DZI18=\"\",\"\",VLOOKUP($Q$10,DATA!$P$2:$R$196,3))","v":""},{"$f":"IF(DZJ18=\"\",\"\",VLOOKUP($Q$10,DATA!$P$2:$R$196,3))","v":""},{"$f":"IF(DZK18=\"\",\"\",VLOOKUP($Q$10,DATA!$P$2:$R$196,3))","v":""},{"$f":"IF(DZL18=\"\",\"\",VLOOKUP($Q$10,DATA!$P$2:$R$196,3))","v":""},{"$f":"IF(DZM18=\"\",\"\",VLOOKUP($Q$10,DATA!$P$2:$R$196,3))","v":""},{"$f":"IF(DZN18=\"\",\"\",VLOOKUP($Q$10,DATA!$P$2:$R$196,3))","v":""},{"$f":"IF(DZO18=\"\",\"\",VLOOKUP($Q$10,DATA!$P$2:$R$196,3))","v":""},{"$f":"IF(DZP18=\"\",\"\",VLOOKUP($Q$10,DATA!$P$2:$R$196,3))","v":""},{"$f":"IF(DZQ18=\"\",\"\",VLOOKUP($Q$10,DATA!$P$2:$R$196,3))","v":""},{"$f":"IF(DZR18=\"\",\"\",VLOOKUP($Q$10,DATA!$P$2:$R$196,3))","v":""},{"$f":"IF(DZS18=\"\",\"\",VLOOKUP($Q$10,DATA!$P$2:$R$196,3))","v":""},{"$f":"IF(DZT18=\"\",\"\",VLOOKUP($Q$10,DATA!$P$2:$R$196,3))","v":""},{"$f":"IF(DZU18=\"\",\"\",VLOOKUP($Q$10,DATA!$P$2:$R$196,3))","v":""},{"$f":"IF(DZV18=\"\",\"\",VLOOKUP($Q$10,DATA!$P$2:$R$196,3))","v":""},{"$f":"IF(DZW18=\"\",\"\",VLOOKUP($Q$10,DATA!$P$2:$R$196,3))","v":""},{"$f":"IF(DZX18=\"\",\"\",VLOOKUP($Q$10,DATA!$P$2:$R$196,3))","v":""},{"$f":"IF(DZY18=\"\",\"\",VLOOKUP($Q$10,DATA!$P$2:$R$196,3))","v":""},{"$f":"IF(DZZ18=\"\",\"\",VLOOKUP($Q$10,DATA!$P$2:$R$196,3))","v":""},{"$f":"IF(EAA18=\"\",\"\",VLOOKUP($Q$10,DATA!$P$2:$R$196,3))","v":""},{"$f":"IF(EAB18=\"\",\"\",VLOOKUP($Q$10,DATA!$P$2:$R$196,3))","v":""},{"$f":"IF(EAC18=\"\",\"\",VLOOKUP($Q$10,DATA!$P$2:$R$196,3))","v":""},{"$f":"IF(EAD18=\"\",\"\",VLOOKUP($Q$10,DATA!$P$2:$R$196,3))","v":""},{"$f":"IF(EAE18=\"\",\"\",VLOOKUP($Q$10,DATA!$P$2:$R$196,3))","v":""},{"$f":"IF(EAF18=\"\",\"\",VLOOKUP($Q$10,DATA!$P$2:$R$196,3))","v":""},{"$f":"IF(EAG18=\"\",\"\",VLOOKUP($Q$10,DATA!$P$2:$R$196,3))","v":""},{"$f":"IF(EAH18=\"\",\"\",VLOOKUP($Q$10,DATA!$P$2:$R$196,3))","v":""},{"$f":"IF(EAI18=\"\",\"\",VLOOKUP($Q$10,DATA!$P$2:$R$196,3))","v":""},{"$f":"IF(EAJ18=\"\",\"\",VLOOKUP($Q$10,DATA!$P$2:$R$196,3))","v":""},{"$f":"IF(EAK18=\"\",\"\",VLOOKUP($Q$10,DATA!$P$2:$R$196,3))","v":""},{"$f":"IF(EAL18=\"\",\"\",VLOOKUP($Q$10,DATA!$P$2:$R$196,3))","v":""},{"$f":"IF(EAM18=\"\",\"\",VLOOKUP($Q$10,DATA!$P$2:$R$196,3))","v":""},{"$f":"IF(EAN18=\"\",\"\",VLOOKUP($Q$10,DATA!$P$2:$R$196,3))","v":""},{"$f":"IF(EAO18=\"\",\"\",VLOOKUP($Q$10,DATA!$P$2:$R$196,3))","v":""},{"$f":"IF(EAP18=\"\",\"\",VLOOKUP($Q$10,DATA!$P$2:$R$196,3))","v":""},{"$f":"IF(EAQ18=\"\",\"\",VLOOKUP($Q$10,DATA!$P$2:$R$196,3))","v":""},{"$f":"IF(EAR18=\"\",\"\",VLOOKUP($Q$10,DATA!$P$2:$R$196,3))","v":""},{"$f":"IF(EAS18=\"\",\"\",VLOOKUP($Q$10,DATA!$P$2:$R$196,3))","v":""},{"$f":"IF(EAT18=\"\",\"\",VLOOKUP($Q$10,DATA!$P$2:$R$196,3))","v":""},{"$f":"IF(EAU18=\"\",\"\",VLOOKUP($Q$10,DATA!$P$2:$R$196,3))","v":""},{"$f":"IF(EAV18=\"\",\"\",VLOOKUP($Q$10,DATA!$P$2:$R$196,3))","v":""},{"$f":"IF(EAW18=\"\",\"\",VLOOKUP($Q$10,DATA!$P$2:$R$196,3))","v":""},{"$f":"IF(EAX18=\"\",\"\",VLOOKUP($Q$10,DATA!$P$2:$R$196,3))","v":""},{"$f":"IF(EAY18=\"\",\"\",VLOOKUP($Q$10,DATA!$P$2:$R$196,3))","v":""},{"$f":"IF(EAZ18=\"\",\"\",VLOOKUP($Q$10,DATA!$P$2:$R$196,3))","v":""},{"$f":"IF(EBA18=\"\",\"\",VLOOKUP($Q$10,DATA!$P$2:$R$196,3))","v":""},{"$f":"IF(EBB18=\"\",\"\",VLOOKUP($Q$10,DATA!$P$2:$R$196,3))","v":""},{"$f":"IF(EBC18=\"\",\"\",VLOOKUP($Q$10,DATA!$P$2:$R$196,3))","v":""},{"$f":"IF(EBD18=\"\",\"\",VLOOKUP($Q$10,DATA!$P$2:$R$196,3))","v":""},{"$f":"IF(EBE18=\"\",\"\",VLOOKUP($Q$10,DATA!$P$2:$R$196,3))","v":""},{"$f":"IF(EBF18=\"\",\"\",VLOOKUP($Q$10,DATA!$P$2:$R$196,3))","v":""},{"$f":"IF(EBG18=\"\",\"\",VLOOKUP($Q$10,DATA!$P$2:$R$196,3))","v":""},{"$f":"IF(EBH18=\"\",\"\",VLOOKUP($Q$10,DATA!$P$2:$R$196,3))","v":""},{"$f":"IF(EBI18=\"\",\"\",VLOOKUP($Q$10,DATA!$P$2:$R$196,3))","v":""},{"$f":"IF(EBJ18=\"\",\"\",VLOOKUP($Q$10,DATA!$P$2:$R$196,3))","v":""},{"$f":"IF(EBK18=\"\",\"\",VLOOKUP($Q$10,DATA!$P$2:$R$196,3))","v":""},{"$f":"IF(EBL18=\"\",\"\",VLOOKUP($Q$10,DATA!$P$2:$R$196,3))","v":""},{"$f":"IF(EBM18=\"\",\"\",VLOOKUP($Q$10,DATA!$P$2:$R$196,3))","v":""},{"$f":"IF(EBN18=\"\",\"\",VLOOKUP($Q$10,DATA!$P$2:$R$196,3))","v":""},{"$f":"IF(EBO18=\"\",\"\",VLOOKUP($Q$10,DATA!$P$2:$R$196,3))","v":""},{"$f":"IF(EBP18=\"\",\"\",VLOOKUP($Q$10,DATA!$P$2:$R$196,3))","v":""},{"$f":"IF(EBQ18=\"\",\"\",VLOOKUP($Q$10,DATA!$P$2:$R$196,3))","v":""},{"$f":"IF(EBR18=\"\",\"\",VLOOKUP($Q$10,DATA!$P$2:$R$196,3))","v":""},{"$f":"IF(EBS18=\"\",\"\",VLOOKUP($Q$10,DATA!$P$2:$R$196,3))","v":""},{"$f":"IF(EBT18=\"\",\"\",VLOOKUP($Q$10,DATA!$P$2:$R$196,3))","v":""},{"$f":"IF(EBU18=\"\",\"\",VLOOKUP($Q$10,DATA!$P$2:$R$196,3))","v":""},{"$f":"IF(EBV18=\"\",\"\",VLOOKUP($Q$10,DATA!$P$2:$R$196,3))","v":""},{"$f":"IF(EBW18=\"\",\"\",VLOOKUP($Q$10,DATA!$P$2:$R$196,3))","v":""},{"$f":"IF(EBX18=\"\",\"\",VLOOKUP($Q$10,DATA!$P$2:$R$196,3))","v":""},{"$f":"IF(EBY18=\"\",\"\",VLOOKUP($Q$10,DATA!$P$2:$R$196,3))","v":""},{"$f":"IF(EBZ18=\"\",\"\",VLOOKUP($Q$10,DATA!$P$2:$R$196,3))","v":""},{"$f":"IF(ECA18=\"\",\"\",VLOOKUP($Q$10,DATA!$P$2:$R$196,3))","v":""},{"$f":"IF(ECB18=\"\",\"\",VLOOKUP($Q$10,DATA!$P$2:$R$196,3))","v":""},{"$f":"IF(ECC18=\"\",\"\",VLOOKUP($Q$10,DATA!$P$2:$R$196,3))","v":""},{"$f":"IF(ECD18=\"\",\"\",VLOOKUP($Q$10,DATA!$P$2:$R$196,3))","v":""},{"$f":"IF(ECE18=\"\",\"\",VLOOKUP($Q$10,DATA!$P$2:$R$196,3))","v":""},{"$f":"IF(ECF18=\"\",\"\",VLOOKUP($Q$10,DATA!$P$2:$R$196,3))","v":""},{"$f":"IF(ECG18=\"\",\"\",VLOOKUP($Q$10,DATA!$P$2:$R$196,3))","v":""},{"$f":"IF(ECH18=\"\",\"\",VLOOKUP($Q$10,DATA!$P$2:$R$196,3))","v":""},{"$f":"IF(ECI18=\"\",\"\",VLOOKUP($Q$10,DATA!$P$2:$R$196,3))","v":""},{"$f":"IF(ECJ18=\"\",\"\",VLOOKUP($Q$10,DATA!$P$2:$R$196,3))","v":""},{"$f":"IF(ECK18=\"\",\"\",VLOOKUP($Q$10,DATA!$P$2:$R$196,3))","v":""},{"$f":"IF(ECL18=\"\",\"\",VLOOKUP($Q$10,DATA!$P$2:$R$196,3))","v":""},{"$f":"IF(ECM18=\"\",\"\",VLOOKUP($Q$10,DATA!$P$2:$R$196,3))","v":""},{"$f":"IF(ECN18=\"\",\"\",VLOOKUP($Q$10,DATA!$P$2:$R$196,3))","v":""},{"$f":"IF(ECO18=\"\",\"\",VLOOKUP($Q$10,DATA!$P$2:$R$196,3))","v":""},{"$f":"IF(ECP18=\"\",\"\",VLOOKUP($Q$10,DATA!$P$2:$R$196,3))","v":""},{"$f":"IF(ECQ18=\"\",\"\",VLOOKUP($Q$10,DATA!$P$2:$R$196,3))","v":""},{"$f":"IF(ECR18=\"\",\"\",VLOOKUP($Q$10,DATA!$P$2:$R$196,3))","v":""},{"$f":"IF(ECS18=\"\",\"\",VLOOKUP($Q$10,DATA!$P$2:$R$196,3))","v":""},{"$f":"IF(ECT18=\"\",\"\",VLOOKUP($Q$10,DATA!$P$2:$R$196,3))","v":""},{"$f":"IF(ECU18=\"\",\"\",VLOOKUP($Q$10,DATA!$P$2:$R$196,3))","v":""},{"$f":"IF(ECV18=\"\",\"\",VLOOKUP($Q$10,DATA!$P$2:$R$196,3))","v":""},{"$f":"IF(ECW18=\"\",\"\",VLOOKUP($Q$10,DATA!$P$2:$R$196,3))","v":""},{"$f":"IF(ECX18=\"\",\"\",VLOOKUP($Q$10,DATA!$P$2:$R$196,3))","v":""},{"$f":"IF(ECY18=\"\",\"\",VLOOKUP($Q$10,DATA!$P$2:$R$196,3))","v":""},{"$f":"IF(ECZ18=\"\",\"\",VLOOKUP($Q$10,DATA!$P$2:$R$196,3))","v":""},{"$f":"IF(EDA18=\"\",\"\",VLOOKUP($Q$10,DATA!$P$2:$R$196,3))","v":""},{"$f":"IF(EDB18=\"\",\"\",VLOOKUP($Q$10,DATA!$P$2:$R$196,3))","v":""},{"$f":"IF(EDC18=\"\",\"\",VLOOKUP($Q$10,DATA!$P$2:$R$196,3))","v":""},{"$f":"IF(EDD18=\"\",\"\",VLOOKUP($Q$10,DATA!$P$2:$R$196,3))","v":""},{"$f":"IF(EDE18=\"\",\"\",VLOOKUP($Q$10,DATA!$P$2:$R$196,3))","v":""},{"$f":"IF(EDF18=\"\",\"\",VLOOKUP($Q$10,DATA!$P$2:$R$196,3))","v":""},{"$f":"IF(EDG18=\"\",\"\",VLOOKUP($Q$10,DATA!$P$2:$R$196,3))","v":""},{"$f":"IF(EDH18=\"\",\"\",VLOOKUP($Q$10,DATA!$P$2:$R$196,3))","v":""},{"$f":"IF(EDI18=\"\",\"\",VLOOKUP($Q$10,DATA!$P$2:$R$196,3))","v":""},{"$f":"IF(EDJ18=\"\",\"\",VLOOKUP($Q$10,DATA!$P$2:$R$196,3))","v":""},{"$f":"IF(EDK18=\"\",\"\",VLOOKUP($Q$10,DATA!$P$2:$R$196,3))","v":""},{"$f":"IF(EDL18=\"\",\"\",VLOOKUP($Q$10,DATA!$P$2:$R$196,3))","v":""},{"$f":"IF(EDM18=\"\",\"\",VLOOKUP($Q$10,DATA!$P$2:$R$196,3))","v":""},{"$f":"IF(EDN18=\"\",\"\",VLOOKUP($Q$10,DATA!$P$2:$R$196,3))","v":""},{"$f":"IF(EDO18=\"\",\"\",VLOOKUP($Q$10,DATA!$P$2:$R$196,3))","v":""},{"$f":"IF(EDP18=\"\",\"\",VLOOKUP($Q$10,DATA!$P$2:$R$196,3))","v":""},{"$f":"IF(EDQ18=\"\",\"\",VLOOKUP($Q$10,DATA!$P$2:$R$196,3))","v":""},{"$f":"IF(EDR18=\"\",\"\",VLOOKUP($Q$10,DATA!$P$2:$R$196,3))","v":""},{"$f":"IF(EDS18=\"\",\"\",VLOOKUP($Q$10,DATA!$P$2:$R$196,3))","v":""},{"$f":"IF(EDT18=\"\",\"\",VLOOKUP($Q$10,DATA!$P$2:$R$196,3))","v":""},{"$f":"IF(EDU18=\"\",\"\",VLOOKUP($Q$10,DATA!$P$2:$R$196,3))","v":""},{"$f":"IF(EDV18=\"\",\"\",VLOOKUP($Q$10,DATA!$P$2:$R$196,3))","v":""},{"$f":"IF(EDW18=\"\",\"\",VLOOKUP($Q$10,DATA!$P$2:$R$196,3))","v":""},{"$f":"IF(EDX18=\"\",\"\",VLOOKUP($Q$10,DATA!$P$2:$R$196,3))","v":""},{"$f":"IF(EDY18=\"\",\"\",VLOOKUP($Q$10,DATA!$P$2:$R$196,3))","v":""},{"$f":"IF(EDZ18=\"\",\"\",VLOOKUP($Q$10,DATA!$P$2:$R$196,3))","v":""},{"$f":"IF(EEA18=\"\",\"\",VLOOKUP($Q$10,DATA!$P$2:$R$196,3))","v":""},{"$f":"IF(EEB18=\"\",\"\",VLOOKUP($Q$10,DATA!$P$2:$R$196,3))","v":""},{"$f":"IF(EEC18=\"\",\"\",VLOOKUP($Q$10,DATA!$P$2:$R$196,3))","v":""},{"$f":"IF(EED18=\"\",\"\",VLOOKUP($Q$10,DATA!$P$2:$R$196,3))","v":""},{"$f":"IF(EEE18=\"\",\"\",VLOOKUP($Q$10,DATA!$P$2:$R$196,3))","v":""},{"$f":"IF(EEF18=\"\",\"\",VLOOKUP($Q$10,DATA!$P$2:$R$196,3))","v":""},{"$f":"IF(EEG18=\"\",\"\",VLOOKUP($Q$10,DATA!$P$2:$R$196,3))","v":""},{"$f":"IF(EEH18=\"\",\"\",VLOOKUP($Q$10,DATA!$P$2:$R$196,3))","v":""},{"$f":"IF(EEI18=\"\",\"\",VLOOKUP($Q$10,DATA!$P$2:$R$196,3))","v":""},{"$f":"IF(EEJ18=\"\",\"\",VLOOKUP($Q$10,DATA!$P$2:$R$196,3))","v":""},{"$f":"IF(EEK18=\"\",\"\",VLOOKUP($Q$10,DATA!$P$2:$R$196,3))","v":""},{"$f":"IF(EEL18=\"\",\"\",VLOOKUP($Q$10,DATA!$P$2:$R$196,3))","v":""},{"$f":"IF(EEM18=\"\",\"\",VLOOKUP($Q$10,DATA!$P$2:$R$196,3))","v":""},{"$f":"IF(EEN18=\"\",\"\",VLOOKUP($Q$10,DATA!$P$2:$R$196,3))","v":""},{"$f":"IF(EEO18=\"\",\"\",VLOOKUP($Q$10,DATA!$P$2:$R$196,3))","v":""},{"$f":"IF(EEP18=\"\",\"\",VLOOKUP($Q$10,DATA!$P$2:$R$196,3))","v":""},{"$f":"IF(EEQ18=\"\",\"\",VLOOKUP($Q$10,DATA!$P$2:$R$196,3))","v":""},{"$f":"IF(EER18=\"\",\"\",VLOOKUP($Q$10,DATA!$P$2:$R$196,3))","v":""},{"$f":"IF(EES18=\"\",\"\",VLOOKUP($Q$10,DATA!$P$2:$R$196,3))","v":""},{"$f":"IF(EET18=\"\",\"\",VLOOKUP($Q$10,DATA!$P$2:$R$196,3))","v":""},{"$f":"IF(EEU18=\"\",\"\",VLOOKUP($Q$10,DATA!$P$2:$R$196,3))","v":""},{"$f":"IF(EEV18=\"\",\"\",VLOOKUP($Q$10,DATA!$P$2:$R$196,3))","v":""},{"$f":"IF(EEW18=\"\",\"\",VLOOKUP($Q$10,DATA!$P$2:$R$196,3))","v":""},{"$f":"IF(EEX18=\"\",\"\",VLOOKUP($Q$10,DATA!$P$2:$R$196,3))","v":""},{"$f":"IF(EEY18=\"\",\"\",VLOOKUP($Q$10,DATA!$P$2:$R$196,3))","v":""},{"$f":"IF(EEZ18=\"\",\"\",VLOOKUP($Q$10,DATA!$P$2:$R$196,3))","v":""},{"$f":"IF(EFA18=\"\",\"\",VLOOKUP($Q$10,DATA!$P$2:$R$196,3))","v":""},{"$f":"IF(EFB18=\"\",\"\",VLOOKUP($Q$10,DATA!$P$2:$R$196,3))","v":""},{"$f":"IF(EFC18=\"\",\"\",VLOOKUP($Q$10,DATA!$P$2:$R$196,3))","v":""},{"$f":"IF(EFD18=\"\",\"\",VLOOKUP($Q$10,DATA!$P$2:$R$196,3))","v":""},{"$f":"IF(EFE18=\"\",\"\",VLOOKUP($Q$10,DATA!$P$2:$R$196,3))","v":""},{"$f":"IF(EFF18=\"\",\"\",VLOOKUP($Q$10,DATA!$P$2:$R$196,3))","v":""},{"$f":"IF(EFG18=\"\",\"\",VLOOKUP($Q$10,DATA!$P$2:$R$196,3))","v":""},{"$f":"IF(EFH18=\"\",\"\",VLOOKUP($Q$10,DATA!$P$2:$R$196,3))","v":""},{"$f":"IF(EFI18=\"\",\"\",VLOOKUP($Q$10,DATA!$P$2:$R$196,3))","v":""},{"$f":"IF(EFJ18=\"\",\"\",VLOOKUP($Q$10,DATA!$P$2:$R$196,3))","v":""},{"$f":"IF(EFK18=\"\",\"\",VLOOKUP($Q$10,DATA!$P$2:$R$196,3))","v":""},{"$f":"IF(EFL18=\"\",\"\",VLOOKUP($Q$10,DATA!$P$2:$R$196,3))","v":""},{"$f":"IF(EFM18=\"\",\"\",VLOOKUP($Q$10,DATA!$P$2:$R$196,3))","v":""},{"$f":"IF(EFN18=\"\",\"\",VLOOKUP($Q$10,DATA!$P$2:$R$196,3))","v":""},{"$f":"IF(EFO18=\"\",\"\",VLOOKUP($Q$10,DATA!$P$2:$R$196,3))","v":""},{"$f":"IF(EFP18=\"\",\"\",VLOOKUP($Q$10,DATA!$P$2:$R$196,3))","v":""},{"$f":"IF(EFQ18=\"\",\"\",VLOOKUP($Q$10,DATA!$P$2:$R$196,3))","v":""},{"$f":"IF(EFR18=\"\",\"\",VLOOKUP($Q$10,DATA!$P$2:$R$196,3))","v":""},{"$f":"IF(EFS18=\"\",\"\",VLOOKUP($Q$10,DATA!$P$2:$R$196,3))","v":""},{"$f":"IF(EFT18=\"\",\"\",VLOOKUP($Q$10,DATA!$P$2:$R$196,3))","v":""},{"$f":"IF(EFU18=\"\",\"\",VLOOKUP($Q$10,DATA!$P$2:$R$196,3))","v":""},{"$f":"IF(EFV18=\"\",\"\",VLOOKUP($Q$10,DATA!$P$2:$R$196,3))","v":""},{"$f":"IF(EFW18=\"\",\"\",VLOOKUP($Q$10,DATA!$P$2:$R$196,3))","v":""},{"$f":"IF(EFX18=\"\",\"\",VLOOKUP($Q$10,DATA!$P$2:$R$196,3))","v":""},{"$f":"IF(EFY18=\"\",\"\",VLOOKUP($Q$10,DATA!$P$2:$R$196,3))","v":""},{"$f":"IF(EFZ18=\"\",\"\",VLOOKUP($Q$10,DATA!$P$2:$R$196,3))","v":""},{"$f":"IF(EGA18=\"\",\"\",VLOOKUP($Q$10,DATA!$P$2:$R$196,3))","v":""},{"$f":"IF(EGB18=\"\",\"\",VLOOKUP($Q$10,DATA!$P$2:$R$196,3))","v":""},{"$f":"IF(EGC18=\"\",\"\",VLOOKUP($Q$10,DATA!$P$2:$R$196,3))","v":""},{"$f":"IF(EGD18=\"\",\"\",VLOOKUP($Q$10,DATA!$P$2:$R$196,3))","v":""},{"$f":"IF(EGE18=\"\",\"\",VLOOKUP($Q$10,DATA!$P$2:$R$196,3))","v":""},{"$f":"IF(EGF18=\"\",\"\",VLOOKUP($Q$10,DATA!$P$2:$R$196,3))","v":""},{"$f":"IF(EGG18=\"\",\"\",VLOOKUP($Q$10,DATA!$P$2:$R$196,3))","v":""},{"$f":"IF(EGH18=\"\",\"\",VLOOKUP($Q$10,DATA!$P$2:$R$196,3))","v":""},{"$f":"IF(EGI18=\"\",\"\",VLOOKUP($Q$10,DATA!$P$2:$R$196,3))","v":""},{"$f":"IF(EGJ18=\"\",\"\",VLOOKUP($Q$10,DATA!$P$2:$R$196,3))","v":""},{"$f":"IF(EGK18=\"\",\"\",VLOOKUP($Q$10,DATA!$P$2:$R$196,3))","v":""},{"$f":"IF(EGL18=\"\",\"\",VLOOKUP($Q$10,DATA!$P$2:$R$196,3))","v":""},{"$f":"IF(EGM18=\"\",\"\",VLOOKUP($Q$10,DATA!$P$2:$R$196,3))","v":""},{"$f":"IF(EGN18=\"\",\"\",VLOOKUP($Q$10,DATA!$P$2:$R$196,3))","v":""},{"$f":"IF(EGO18=\"\",\"\",VLOOKUP($Q$10,DATA!$P$2:$R$196,3))","v":""},{"$f":"IF(EGP18=\"\",\"\",VLOOKUP($Q$10,DATA!$P$2:$R$196,3))","v":""},{"$f":"IF(EGQ18=\"\",\"\",VLOOKUP($Q$10,DATA!$P$2:$R$196,3))","v":""},{"$f":"IF(EGR18=\"\",\"\",VLOOKUP($Q$10,DATA!$P$2:$R$196,3))","v":""},{"$f":"IF(EGS18=\"\",\"\",VLOOKUP($Q$10,DATA!$P$2:$R$196,3))","v":""},{"$f":"IF(EGT18=\"\",\"\",VLOOKUP($Q$10,DATA!$P$2:$R$196,3))","v":""},{"$f":"IF(EGU18=\"\",\"\",VLOOKUP($Q$10,DATA!$P$2:$R$196,3))","v":""},{"$f":"IF(EGV18=\"\",\"\",VLOOKUP($Q$10,DATA!$P$2:$R$196,3))","v":""},{"$f":"IF(EGW18=\"\",\"\",VLOOKUP($Q$10,DATA!$P$2:$R$196,3))","v":""},{"$f":"IF(EGX18=\"\",\"\",VLOOKUP($Q$10,DATA!$P$2:$R$196,3))","v":""},{"$f":"IF(EGY18=\"\",\"\",VLOOKUP($Q$10,DATA!$P$2:$R$196,3))","v":""},{"$f":"IF(EGZ18=\"\",\"\",VLOOKUP($Q$10,DATA!$P$2:$R$196,3))","v":""},{"$f":"IF(EHA18=\"\",\"\",VLOOKUP($Q$10,DATA!$P$2:$R$196,3))","v":""},{"$f":"IF(EHB18=\"\",\"\",VLOOKUP($Q$10,DATA!$P$2:$R$196,3))","v":""},{"$f":"IF(EHC18=\"\",\"\",VLOOKUP($Q$10,DATA!$P$2:$R$196,3))","v":""},{"$f":"IF(EHD18=\"\",\"\",VLOOKUP($Q$10,DATA!$P$2:$R$196,3))","v":""},{"$f":"IF(EHE18=\"\",\"\",VLOOKUP($Q$10,DATA!$P$2:$R$196,3))","v":""},{"$f":"IF(EHF18=\"\",\"\",VLOOKUP($Q$10,DATA!$P$2:$R$196,3))","v":""},{"$f":"IF(EHG18=\"\",\"\",VLOOKUP($Q$10,DATA!$P$2:$R$196,3))","v":""},{"$f":"IF(EHH18=\"\",\"\",VLOOKUP($Q$10,DATA!$P$2:$R$196,3))","v":""},{"$f":"IF(EHI18=\"\",\"\",VLOOKUP($Q$10,DATA!$P$2:$R$196,3))","v":""},{"$f":"IF(EHJ18=\"\",\"\",VLOOKUP($Q$10,DATA!$P$2:$R$196,3))","v":""},{"$f":"IF(EHK18=\"\",\"\",VLOOKUP($Q$10,DATA!$P$2:$R$196,3))","v":""},{"$f":"IF(EHL18=\"\",\"\",VLOOKUP($Q$10,DATA!$P$2:$R$196,3))","v":""},{"$f":"IF(EHM18=\"\",\"\",VLOOKUP($Q$10,DATA!$P$2:$R$196,3))","v":""},{"$f":"IF(EHN18=\"\",\"\",VLOOKUP($Q$10,DATA!$P$2:$R$196,3))","v":""},{"$f":"IF(EHO18=\"\",\"\",VLOOKUP($Q$10,DATA!$P$2:$R$196,3))","v":""},{"$f":"IF(EHP18=\"\",\"\",VLOOKUP($Q$10,DATA!$P$2:$R$196,3))","v":""},{"$f":"IF(EHQ18=\"\",\"\",VLOOKUP($Q$10,DATA!$P$2:$R$196,3))","v":""},{"$f":"IF(EHR18=\"\",\"\",VLOOKUP($Q$10,DATA!$P$2:$R$196,3))","v":""},{"$f":"IF(EHS18=\"\",\"\",VLOOKUP($Q$10,DATA!$P$2:$R$196,3))","v":""},{"$f":"IF(EHT18=\"\",\"\",VLOOKUP($Q$10,DATA!$P$2:$R$196,3))","v":""},{"$f":"IF(EHU18=\"\",\"\",VLOOKUP($Q$10,DATA!$P$2:$R$196,3))","v":""},{"$f":"IF(EHV18=\"\",\"\",VLOOKUP($Q$10,DATA!$P$2:$R$196,3))","v":""},{"$f":"IF(EHW18=\"\",\"\",VLOOKUP($Q$10,DATA!$P$2:$R$196,3))","v":""},{"$f":"IF(EHX18=\"\",\"\",VLOOKUP($Q$10,DATA!$P$2:$R$196,3))","v":""},{"$f":"IF(EHY18=\"\",\"\",VLOOKUP($Q$10,DATA!$P$2:$R$196,3))","v":""},{"$f":"IF(EHZ18=\"\",\"\",VLOOKUP($Q$10,DATA!$P$2:$R$196,3))","v":""},{"$f":"IF(EIA18=\"\",\"\",VLOOKUP($Q$10,DATA!$P$2:$R$196,3))","v":""},{"$f":"IF(EIB18=\"\",\"\",VLOOKUP($Q$10,DATA!$P$2:$R$196,3))","v":""},{"$f":"IF(EIC18=\"\",\"\",VLOOKUP($Q$10,DATA!$P$2:$R$196,3))","v":""},{"$f":"IF(EID18=\"\",\"\",VLOOKUP($Q$10,DATA!$P$2:$R$196,3))","v":""},{"$f":"IF(EIE18=\"\",\"\",VLOOKUP($Q$10,DATA!$P$2:$R$196,3))","v":""},{"$f":"IF(EIF18=\"\",\"\",VLOOKUP($Q$10,DATA!$P$2:$R$196,3))","v":""},{"$f":"IF(EIG18=\"\",\"\",VLOOKUP($Q$10,DATA!$P$2:$R$196,3))","v":""},{"$f":"IF(EIH18=\"\",\"\",VLOOKUP($Q$10,DATA!$P$2:$R$196,3))","v":""},{"$f":"IF(EII18=\"\",\"\",VLOOKUP($Q$10,DATA!$P$2:$R$196,3))","v":""},{"$f":"IF(EIJ18=\"\",\"\",VLOOKUP($Q$10,DATA!$P$2:$R$196,3))","v":""},{"$f":"IF(EIK18=\"\",\"\",VLOOKUP($Q$10,DATA!$P$2:$R$196,3))","v":""},{"$f":"IF(EIL18=\"\",\"\",VLOOKUP($Q$10,DATA!$P$2:$R$196,3))","v":""},{"$f":"IF(EIM18=\"\",\"\",VLOOKUP($Q$10,DATA!$P$2:$R$196,3))","v":""},{"$f":"IF(EIN18=\"\",\"\",VLOOKUP($Q$10,DATA!$P$2:$R$196,3))","v":""},{"$f":"IF(EIO18=\"\",\"\",VLOOKUP($Q$10,DATA!$P$2:$R$196,3))","v":""},{"$f":"IF(EIP18=\"\",\"\",VLOOKUP($Q$10,DATA!$P$2:$R$196,3))","v":""},{"$f":"IF(EIQ18=\"\",\"\",VLOOKUP($Q$10,DATA!$P$2:$R$196,3))","v":""},{"$f":"IF(EIR18=\"\",\"\",VLOOKUP($Q$10,DATA!$P$2:$R$196,3))","v":""},{"$f":"IF(EIS18=\"\",\"\",VLOOKUP($Q$10,DATA!$P$2:$R$196,3))","v":""},{"$f":"IF(EIT18=\"\",\"\",VLOOKUP($Q$10,DATA!$P$2:$R$196,3))","v":""},{"$f":"IF(EIU18=\"\",\"\",VLOOKUP($Q$10,DATA!$P$2:$R$196,3))","v":""},{"$f":"IF(EIV18=\"\",\"\",VLOOKUP($Q$10,DATA!$P$2:$R$196,3))","v":""},{"$f":"IF(EIW18=\"\",\"\",VLOOKUP($Q$10,DATA!$P$2:$R$196,3))","v":""},{"$f":"IF(EIX18=\"\",\"\",VLOOKUP($Q$10,DATA!$P$2:$R$196,3))","v":""},{"$f":"IF(EIY18=\"\",\"\",VLOOKUP($Q$10,DATA!$P$2:$R$196,3))","v":""},{"$f":"IF(EIZ18=\"\",\"\",VLOOKUP($Q$10,DATA!$P$2:$R$196,3))","v":""},{"$f":"IF(EJA18=\"\",\"\",VLOOKUP($Q$10,DATA!$P$2:$R$196,3))","v":""},{"$f":"IF(EJB18=\"\",\"\",VLOOKUP($Q$10,DATA!$P$2:$R$196,3))","v":""},{"$f":"IF(EJC18=\"\",\"\",VLOOKUP($Q$10,DATA!$P$2:$R$196,3))","v":""},{"$f":"IF(EJD18=\"\",\"\",VLOOKUP($Q$10,DATA!$P$2:$R$196,3))","v":""},{"$f":"IF(EJE18=\"\",\"\",VLOOKUP($Q$10,DATA!$P$2:$R$196,3))","v":""},{"$f":"IF(EJF18=\"\",\"\",VLOOKUP($Q$10,DATA!$P$2:$R$196,3))","v":""},{"$f":"IF(EJG18=\"\",\"\",VLOOKUP($Q$10,DATA!$P$2:$R$196,3))","v":""},{"$f":"IF(EJH18=\"\",\"\",VLOOKUP($Q$10,DATA!$P$2:$R$196,3))","v":""},{"$f":"IF(EJI18=\"\",\"\",VLOOKUP($Q$10,DATA!$P$2:$R$196,3))","v":""},{"$f":"IF(EJJ18=\"\",\"\",VLOOKUP($Q$10,DATA!$P$2:$R$196,3))","v":""},{"$f":"IF(EJK18=\"\",\"\",VLOOKUP($Q$10,DATA!$P$2:$R$196,3))","v":""},{"$f":"IF(EJL18=\"\",\"\",VLOOKUP($Q$10,DATA!$P$2:$R$196,3))","v":""},{"$f":"IF(EJM18=\"\",\"\",VLOOKUP($Q$10,DATA!$P$2:$R$196,3))","v":""},{"$f":"IF(EJN18=\"\",\"\",VLOOKUP($Q$10,DATA!$P$2:$R$196,3))","v":""},{"$f":"IF(EJO18=\"\",\"\",VLOOKUP($Q$10,DATA!$P$2:$R$196,3))","v":""},{"$f":"IF(EJP18=\"\",\"\",VLOOKUP($Q$10,DATA!$P$2:$R$196,3))","v":""},{"$f":"IF(EJQ18=\"\",\"\",VLOOKUP($Q$10,DATA!$P$2:$R$196,3))","v":""},{"$f":"IF(EJR18=\"\",\"\",VLOOKUP($Q$10,DATA!$P$2:$R$196,3))","v":""},{"$f":"IF(EJS18=\"\",\"\",VLOOKUP($Q$10,DATA!$P$2:$R$196,3))","v":""},{"$f":"IF(EJT18=\"\",\"\",VLOOKUP($Q$10,DATA!$P$2:$R$196,3))","v":""},{"$f":"IF(EJU18=\"\",\"\",VLOOKUP($Q$10,DATA!$P$2:$R$196,3))","v":""},{"$f":"IF(EJV18=\"\",\"\",VLOOKUP($Q$10,DATA!$P$2:$R$196,3))","v":""},{"$f":"IF(EJW18=\"\",\"\",VLOOKUP($Q$10,DATA!$P$2:$R$196,3))","v":""},{"$f":"IF(EJX18=\"\",\"\",VLOOKUP($Q$10,DATA!$P$2:$R$196,3))","v":""},{"$f":"IF(EJY18=\"\",\"\",VLOOKUP($Q$10,DATA!$P$2:$R$196,3))","v":""},{"$f":"IF(EJZ18=\"\",\"\",VLOOKUP($Q$10,DATA!$P$2:$R$196,3))","v":""},{"$f":"IF(EKA18=\"\",\"\",VLOOKUP($Q$10,DATA!$P$2:$R$196,3))","v":""},{"$f":"IF(EKB18=\"\",\"\",VLOOKUP($Q$10,DATA!$P$2:$R$196,3))","v":""},{"$f":"IF(EKC18=\"\",\"\",VLOOKUP($Q$10,DATA!$P$2:$R$196,3))","v":""},{"$f":"IF(EKD18=\"\",\"\",VLOOKUP($Q$10,DATA!$P$2:$R$196,3))","v":""},{"$f":"IF(EKE18=\"\",\"\",VLOOKUP($Q$10,DATA!$P$2:$R$196,3))","v":""},{"$f":"IF(EKF18=\"\",\"\",VLOOKUP($Q$10,DATA!$P$2:$R$196,3))","v":""},{"$f":"IF(EKG18=\"\",\"\",VLOOKUP($Q$10,DATA!$P$2:$R$196,3))","v":""},{"$f":"IF(EKH18=\"\",\"\",VLOOKUP($Q$10,DATA!$P$2:$R$196,3))","v":""},{"$f":"IF(EKI18=\"\",\"\",VLOOKUP($Q$10,DATA!$P$2:$R$196,3))","v":""},{"$f":"IF(EKJ18=\"\",\"\",VLOOKUP($Q$10,DATA!$P$2:$R$196,3))","v":""},{"$f":"IF(EKK18=\"\",\"\",VLOOKUP($Q$10,DATA!$P$2:$R$196,3))","v":""},{"$f":"IF(EKL18=\"\",\"\",VLOOKUP($Q$10,DATA!$P$2:$R$196,3))","v":""},{"$f":"IF(EKM18=\"\",\"\",VLOOKUP($Q$10,DATA!$P$2:$R$196,3))","v":""},{"$f":"IF(EKN18=\"\",\"\",VLOOKUP($Q$10,DATA!$P$2:$R$196,3))","v":""},{"$f":"IF(EKO18=\"\",\"\",VLOOKUP($Q$10,DATA!$P$2:$R$196,3))","v":""},{"$f":"IF(EKP18=\"\",\"\",VLOOKUP($Q$10,DATA!$P$2:$R$196,3))","v":""},{"$f":"IF(EKQ18=\"\",\"\",VLOOKUP($Q$10,DATA!$P$2:$R$196,3))","v":""},{"$f":"IF(EKR18=\"\",\"\",VLOOKUP($Q$10,DATA!$P$2:$R$196,3))","v":""},{"$f":"IF(EKS18=\"\",\"\",VLOOKUP($Q$10,DATA!$P$2:$R$196,3))","v":""},{"$f":"IF(EKT18=\"\",\"\",VLOOKUP($Q$10,DATA!$P$2:$R$196,3))","v":""},{"$f":"IF(EKU18=\"\",\"\",VLOOKUP($Q$10,DATA!$P$2:$R$196,3))","v":""},{"$f":"IF(EKV18=\"\",\"\",VLOOKUP($Q$10,DATA!$P$2:$R$196,3))","v":""},{"$f":"IF(EKW18=\"\",\"\",VLOOKUP($Q$10,DATA!$P$2:$R$196,3))","v":""},{"$f":"IF(EKX18=\"\",\"\",VLOOKUP($Q$10,DATA!$P$2:$R$196,3))","v":""},{"$f":"IF(EKY18=\"\",\"\",VLOOKUP($Q$10,DATA!$P$2:$R$196,3))","v":""},{"$f":"IF(EKZ18=\"\",\"\",VLOOKUP($Q$10,DATA!$P$2:$R$196,3))","v":""},{"$f":"IF(ELA18=\"\",\"\",VLOOKUP($Q$10,DATA!$P$2:$R$196,3))","v":""},{"$f":"IF(ELB18=\"\",\"\",VLOOKUP($Q$10,DATA!$P$2:$R$196,3))","v":""},{"$f":"IF(ELC18=\"\",\"\",VLOOKUP($Q$10,DATA!$P$2:$R$196,3))","v":""},{"$f":"IF(ELD18=\"\",\"\",VLOOKUP($Q$10,DATA!$P$2:$R$196,3))","v":""},{"$f":"IF(ELE18=\"\",\"\",VLOOKUP($Q$10,DATA!$P$2:$R$196,3))","v":""},{"$f":"IF(ELF18=\"\",\"\",VLOOKUP($Q$10,DATA!$P$2:$R$196,3))","v":""},{"$f":"IF(ELG18=\"\",\"\",VLOOKUP($Q$10,DATA!$P$2:$R$196,3))","v":""},{"$f":"IF(ELH18=\"\",\"\",VLOOKUP($Q$10,DATA!$P$2:$R$196,3))","v":""},{"$f":"IF(ELI18=\"\",\"\",VLOOKUP($Q$10,DATA!$P$2:$R$196,3))","v":""},{"$f":"IF(ELJ18=\"\",\"\",VLOOKUP($Q$10,DATA!$P$2:$R$196,3))","v":""},{"$f":"IF(ELK18=\"\",\"\",VLOOKUP($Q$10,DATA!$P$2:$R$196,3))","v":""},{"$f":"IF(ELL18=\"\",\"\",VLOOKUP($Q$10,DATA!$P$2:$R$196,3))","v":""},{"$f":"IF(ELM18=\"\",\"\",VLOOKUP($Q$10,DATA!$P$2:$R$196,3))","v":""},{"$f":"IF(ELN18=\"\",\"\",VLOOKUP($Q$10,DATA!$P$2:$R$196,3))","v":""},{"$f":"IF(ELO18=\"\",\"\",VLOOKUP($Q$10,DATA!$P$2:$R$196,3))","v":""},{"$f":"IF(ELP18=\"\",\"\",VLOOKUP($Q$10,DATA!$P$2:$R$196,3))","v":""},{"$f":"IF(ELQ18=\"\",\"\",VLOOKUP($Q$10,DATA!$P$2:$R$196,3))","v":""},{"$f":"IF(ELR18=\"\",\"\",VLOOKUP($Q$10,DATA!$P$2:$R$196,3))","v":""},{"$f":"IF(ELS18=\"\",\"\",VLOOKUP($Q$10,DATA!$P$2:$R$196,3))","v":""},{"$f":"IF(ELT18=\"\",\"\",VLOOKUP($Q$10,DATA!$P$2:$R$196,3))","v":""},{"$f":"IF(ELU18=\"\",\"\",VLOOKUP($Q$10,DATA!$P$2:$R$196,3))","v":""},{"$f":"IF(ELV18=\"\",\"\",VLOOKUP($Q$10,DATA!$P$2:$R$196,3))","v":""},{"$f":"IF(ELW18=\"\",\"\",VLOOKUP($Q$10,DATA!$P$2:$R$196,3))","v":""},{"$f":"IF(ELX18=\"\",\"\",VLOOKUP($Q$10,DATA!$P$2:$R$196,3))","v":""},{"$f":"IF(ELY18=\"\",\"\",VLOOKUP($Q$10,DATA!$P$2:$R$196,3))","v":""},{"$f":"IF(ELZ18=\"\",\"\",VLOOKUP($Q$10,DATA!$P$2:$R$196,3))","v":""},{"$f":"IF(EMA18=\"\",\"\",VLOOKUP($Q$10,DATA!$P$2:$R$196,3))","v":""},{"$f":"IF(EMB18=\"\",\"\",VLOOKUP($Q$10,DATA!$P$2:$R$196,3))","v":""},{"$f":"IF(EMC18=\"\",\"\",VLOOKUP($Q$10,DATA!$P$2:$R$196,3))","v":""},{"$f":"IF(EMD18=\"\",\"\",VLOOKUP($Q$10,DATA!$P$2:$R$196,3))","v":""},{"$f":"IF(EME18=\"\",\"\",VLOOKUP($Q$10,DATA!$P$2:$R$196,3))","v":""},{"$f":"IF(EMF18=\"\",\"\",VLOOKUP($Q$10,DATA!$P$2:$R$196,3))","v":""},{"$f":"IF(EMG18=\"\",\"\",VLOOKUP($Q$10,DATA!$P$2:$R$196,3))","v":""},{"$f":"IF(EMH18=\"\",\"\",VLOOKUP($Q$10,DATA!$P$2:$R$196,3))","v":""},{"$f":"IF(EMI18=\"\",\"\",VLOOKUP($Q$10,DATA!$P$2:$R$196,3))","v":""},{"$f":"IF(EMJ18=\"\",\"\",VLOOKUP($Q$10,DATA!$P$2:$R$196,3))","v":""},{"$f":"IF(EMK18=\"\",\"\",VLOOKUP($Q$10,DATA!$P$2:$R$196,3))","v":""},{"$f":"IF(EML18=\"\",\"\",VLOOKUP($Q$10,DATA!$P$2:$R$196,3))","v":""},{"$f":"IF(EMM18=\"\",\"\",VLOOKUP($Q$10,DATA!$P$2:$R$196,3))","v":""},{"$f":"IF(EMN18=\"\",\"\",VLOOKUP($Q$10,DATA!$P$2:$R$196,3))","v":""},{"$f":"IF(EMO18=\"\",\"\",VLOOKUP($Q$10,DATA!$P$2:$R$196,3))","v":""},{"$f":"IF(EMP18=\"\",\"\",VLOOKUP($Q$10,DATA!$P$2:$R$196,3))","v":""},{"$f":"IF(EMQ18=\"\",\"\",VLOOKUP($Q$10,DATA!$P$2:$R$196,3))","v":""},{"$f":"IF(EMR18=\"\",\"\",VLOOKUP($Q$10,DATA!$P$2:$R$196,3))","v":""},{"$f":"IF(EMS18=\"\",\"\",VLOOKUP($Q$10,DATA!$P$2:$R$196,3))","v":""},{"$f":"IF(EMT18=\"\",\"\",VLOOKUP($Q$10,DATA!$P$2:$R$196,3))","v":""},{"$f":"IF(EMU18=\"\",\"\",VLOOKUP($Q$10,DATA!$P$2:$R$196,3))","v":""},{"$f":"IF(EMV18=\"\",\"\",VLOOKUP($Q$10,DATA!$P$2:$R$196,3))","v":""},{"$f":"IF(EMW18=\"\",\"\",VLOOKUP($Q$10,DATA!$P$2:$R$196,3))","v":""},{"$f":"IF(EMX18=\"\",\"\",VLOOKUP($Q$10,DATA!$P$2:$R$196,3))","v":""},{"$f":"IF(EMY18=\"\",\"\",VLOOKUP($Q$10,DATA!$P$2:$R$196,3))","v":""},{"$f":"IF(EMZ18=\"\",\"\",VLOOKUP($Q$10,DATA!$P$2:$R$196,3))","v":""},{"$f":"IF(ENA18=\"\",\"\",VLOOKUP($Q$10,DATA!$P$2:$R$196,3))","v":""},{"$f":"IF(ENB18=\"\",\"\",VLOOKUP($Q$10,DATA!$P$2:$R$196,3))","v":""},{"$f":"IF(ENC18=\"\",\"\",VLOOKUP($Q$10,DATA!$P$2:$R$196,3))","v":""},{"$f":"IF(END18=\"\",\"\",VLOOKUP($Q$10,DATA!$P$2:$R$196,3))","v":""},{"$f":"IF(ENE18=\"\",\"\",VLOOKUP($Q$10,DATA!$P$2:$R$196,3))","v":""},{"$f":"IF(ENF18=\"\",\"\",VLOOKUP($Q$10,DATA!$P$2:$R$196,3))","v":""},{"$f":"IF(ENG18=\"\",\"\",VLOOKUP($Q$10,DATA!$P$2:$R$196,3))","v":""},{"$f":"IF(ENH18=\"\",\"\",VLOOKUP($Q$10,DATA!$P$2:$R$196,3))","v":""},{"$f":"IF(ENI18=\"\",\"\",VLOOKUP($Q$10,DATA!$P$2:$R$196,3))","v":""},{"$f":"IF(ENJ18=\"\",\"\",VLOOKUP($Q$10,DATA!$P$2:$R$196,3))","v":""},{"$f":"IF(ENK18=\"\",\"\",VLOOKUP($Q$10,DATA!$P$2:$R$196,3))","v":""},{"$f":"IF(ENL18=\"\",\"\",VLOOKUP($Q$10,DATA!$P$2:$R$196,3))","v":""},{"$f":"IF(ENM18=\"\",\"\",VLOOKUP($Q$10,DATA!$P$2:$R$196,3))","v":""},{"$f":"IF(ENN18=\"\",\"\",VLOOKUP($Q$10,DATA!$P$2:$R$196,3))","v":""},{"$f":"IF(ENO18=\"\",\"\",VLOOKUP($Q$10,DATA!$P$2:$R$196,3))","v":""},{"$f":"IF(ENP18=\"\",\"\",VLOOKUP($Q$10,DATA!$P$2:$R$196,3))","v":""},{"$f":"IF(ENQ18=\"\",\"\",VLOOKUP($Q$10,DATA!$P$2:$R$196,3))","v":""},{"$f":"IF(ENR18=\"\",\"\",VLOOKUP($Q$10,DATA!$P$2:$R$196,3))","v":""},{"$f":"IF(ENS18=\"\",\"\",VLOOKUP($Q$10,DATA!$P$2:$R$196,3))","v":""},{"$f":"IF(ENT18=\"\",\"\",VLOOKUP($Q$10,DATA!$P$2:$R$196,3))","v":""},{"$f":"IF(ENU18=\"\",\"\",VLOOKUP($Q$10,DATA!$P$2:$R$196,3))","v":""},{"$f":"IF(ENV18=\"\",\"\",VLOOKUP($Q$10,DATA!$P$2:$R$196,3))","v":""},{"$f":"IF(ENW18=\"\",\"\",VLOOKUP($Q$10,DATA!$P$2:$R$196,3))","v":""},{"$f":"IF(ENX18=\"\",\"\",VLOOKUP($Q$10,DATA!$P$2:$R$196,3))","v":""},{"$f":"IF(ENY18=\"\",\"\",VLOOKUP($Q$10,DATA!$P$2:$R$196,3))","v":""},{"$f":"IF(ENZ18=\"\",\"\",VLOOKUP($Q$10,DATA!$P$2:$R$196,3))","v":""},{"$f":"IF(EOA18=\"\",\"\",VLOOKUP($Q$10,DATA!$P$2:$R$196,3))","v":""},{"$f":"IF(EOB18=\"\",\"\",VLOOKUP($Q$10,DATA!$P$2:$R$196,3))","v":""},{"$f":"IF(EOC18=\"\",\"\",VLOOKUP($Q$10,DATA!$P$2:$R$196,3))","v":""},{"$f":"IF(EOD18=\"\",\"\",VLOOKUP($Q$10,DATA!$P$2:$R$196,3))","v":""},{"$f":"IF(EOE18=\"\",\"\",VLOOKUP($Q$10,DATA!$P$2:$R$196,3))","v":""},{"$f":"IF(EOF18=\"\",\"\",VLOOKUP($Q$10,DATA!$P$2:$R$196,3))","v":""},{"$f":"IF(EOG18=\"\",\"\",VLOOKUP($Q$10,DATA!$P$2:$R$196,3))","v":""},{"$f":"IF(EOH18=\"\",\"\",VLOOKUP($Q$10,DATA!$P$2:$R$196,3))","v":""},{"$f":"IF(EOI18=\"\",\"\",VLOOKUP($Q$10,DATA!$P$2:$R$196,3))","v":""},{"$f":"IF(EOJ18=\"\",\"\",VLOOKUP($Q$10,DATA!$P$2:$R$196,3))","v":""},{"$f":"IF(EOK18=\"\",\"\",VLOOKUP($Q$10,DATA!$P$2:$R$196,3))","v":""},{"$f":"IF(EOL18=\"\",\"\",VLOOKUP($Q$10,DATA!$P$2:$R$196,3))","v":""},{"$f":"IF(EOM18=\"\",\"\",VLOOKUP($Q$10,DATA!$P$2:$R$196,3))","v":""},{"$f":"IF(EON18=\"\",\"\",VLOOKUP($Q$10,DATA!$P$2:$R$196,3))","v":""},{"$f":"IF(EOO18=\"\",\"\",VLOOKUP($Q$10,DATA!$P$2:$R$196,3))","v":""},{"$f":"IF(EOP18=\"\",\"\",VLOOKUP($Q$10,DATA!$P$2:$R$196,3))","v":""},{"$f":"IF(EOQ18=\"\",\"\",VLOOKUP($Q$10,DATA!$P$2:$R$196,3))","v":""},{"$f":"IF(EOR18=\"\",\"\",VLOOKUP($Q$10,DATA!$P$2:$R$196,3))","v":""},{"$f":"IF(EOS18=\"\",\"\",VLOOKUP($Q$10,DATA!$P$2:$R$196,3))","v":""},{"$f":"IF(EOT18=\"\",\"\",VLOOKUP($Q$10,DATA!$P$2:$R$196,3))","v":""},{"$f":"IF(EOU18=\"\",\"\",VLOOKUP($Q$10,DATA!$P$2:$R$196,3))","v":""},{"$f":"IF(EOV18=\"\",\"\",VLOOKUP($Q$10,DATA!$P$2:$R$196,3))","v":""},{"$f":"IF(EOW18=\"\",\"\",VLOOKUP($Q$10,DATA!$P$2:$R$196,3))","v":""},{"$f":"IF(EOX18=\"\",\"\",VLOOKUP($Q$10,DATA!$P$2:$R$196,3))","v":""},{"$f":"IF(EOY18=\"\",\"\",VLOOKUP($Q$10,DATA!$P$2:$R$196,3))","v":""},{"$f":"IF(EOZ18=\"\",\"\",VLOOKUP($Q$10,DATA!$P$2:$R$196,3))","v":""},{"$f":"IF(EPA18=\"\",\"\",VLOOKUP($Q$10,DATA!$P$2:$R$196,3))","v":""},{"$f":"IF(EPB18=\"\",\"\",VLOOKUP($Q$10,DATA!$P$2:$R$196,3))","v":""},{"$f":"IF(EPC18=\"\",\"\",VLOOKUP($Q$10,DATA!$P$2:$R$196,3))","v":""},{"$f":"IF(EPD18=\"\",\"\",VLOOKUP($Q$10,DATA!$P$2:$R$196,3))","v":""},{"$f":"IF(EPE18=\"\",\"\",VLOOKUP($Q$10,DATA!$P$2:$R$196,3))","v":""},{"$f":"IF(EPF18=\"\",\"\",VLOOKUP($Q$10,DATA!$P$2:$R$196,3))","v":""},{"$f":"IF(EPG18=\"\",\"\",VLOOKUP($Q$10,DATA!$P$2:$R$196,3))","v":""},{"$f":"IF(EPH18=\"\",\"\",VLOOKUP($Q$10,DATA!$P$2:$R$196,3))","v":""},{"$f":"IF(EPI18=\"\",\"\",VLOOKUP($Q$10,DATA!$P$2:$R$196,3))","v":""},{"$f":"IF(EPJ18=\"\",\"\",VLOOKUP($Q$10,DATA!$P$2:$R$196,3))","v":""},{"$f":"IF(EPK18=\"\",\"\",VLOOKUP($Q$10,DATA!$P$2:$R$196,3))","v":""},{"$f":"IF(EPL18=\"\",\"\",VLOOKUP($Q$10,DATA!$P$2:$R$196,3))","v":""},{"$f":"IF(EPM18=\"\",\"\",VLOOKUP($Q$10,DATA!$P$2:$R$196,3))","v":""},{"$f":"IF(EPN18=\"\",\"\",VLOOKUP($Q$10,DATA!$P$2:$R$196,3))","v":""},{"$f":"IF(EPO18=\"\",\"\",VLOOKUP($Q$10,DATA!$P$2:$R$196,3))","v":""},{"$f":"IF(EPP18=\"\",\"\",VLOOKUP($Q$10,DATA!$P$2:$R$196,3))","v":""},{"$f":"IF(EPQ18=\"\",\"\",VLOOKUP($Q$10,DATA!$P$2:$R$196,3))","v":""},{"$f":"IF(EPR18=\"\",\"\",VLOOKUP($Q$10,DATA!$P$2:$R$196,3))","v":""},{"$f":"IF(EPS18=\"\",\"\",VLOOKUP($Q$10,DATA!$P$2:$R$196,3))","v":""},{"$f":"IF(EPT18=\"\",\"\",VLOOKUP($Q$10,DATA!$P$2:$R$196,3))","v":""},{"$f":"IF(EPU18=\"\",\"\",VLOOKUP($Q$10,DATA!$P$2:$R$196,3))","v":""},{"$f":"IF(EPV18=\"\",\"\",VLOOKUP($Q$10,DATA!$P$2:$R$196,3))","v":""},{"$f":"IF(EPW18=\"\",\"\",VLOOKUP($Q$10,DATA!$P$2:$R$196,3))","v":""},{"$f":"IF(EPX18=\"\",\"\",VLOOKUP($Q$10,DATA!$P$2:$R$196,3))","v":""},{"$f":"IF(EPY18=\"\",\"\",VLOOKUP($Q$10,DATA!$P$2:$R$196,3))","v":""},{"$f":"IF(EPZ18=\"\",\"\",VLOOKUP($Q$10,DATA!$P$2:$R$196,3))","v":""},{"$f":"IF(EQA18=\"\",\"\",VLOOKUP($Q$10,DATA!$P$2:$R$196,3))","v":""},{"$f":"IF(EQB18=\"\",\"\",VLOOKUP($Q$10,DATA!$P$2:$R$196,3))","v":""},{"$f":"IF(EQC18=\"\",\"\",VLOOKUP($Q$10,DATA!$P$2:$R$196,3))","v":""},{"$f":"IF(EQD18=\"\",\"\",VLOOKUP($Q$10,DATA!$P$2:$R$196,3))","v":""},{"$f":"IF(EQE18=\"\",\"\",VLOOKUP($Q$10,DATA!$P$2:$R$196,3))","v":""},{"$f":"IF(EQF18=\"\",\"\",VLOOKUP($Q$10,DATA!$P$2:$R$196,3))","v":""},{"$f":"IF(EQG18=\"\",\"\",VLOOKUP($Q$10,DATA!$P$2:$R$196,3))","v":""},{"$f":"IF(EQH18=\"\",\"\",VLOOKUP($Q$10,DATA!$P$2:$R$196,3))","v":""},{"$f":"IF(EQI18=\"\",\"\",VLOOKUP($Q$10,DATA!$P$2:$R$196,3))","v":""},{"$f":"IF(EQJ18=\"\",\"\",VLOOKUP($Q$10,DATA!$P$2:$R$196,3))","v":""},{"$f":"IF(EQK18=\"\",\"\",VLOOKUP($Q$10,DATA!$P$2:$R$196,3))","v":""},{"$f":"IF(EQL18=\"\",\"\",VLOOKUP($Q$10,DATA!$P$2:$R$196,3))","v":""},{"$f":"IF(EQM18=\"\",\"\",VLOOKUP($Q$10,DATA!$P$2:$R$196,3))","v":""},{"$f":"IF(EQN18=\"\",\"\",VLOOKUP($Q$10,DATA!$P$2:$R$196,3))","v":""},{"$f":"IF(EQO18=\"\",\"\",VLOOKUP($Q$10,DATA!$P$2:$R$196,3))","v":""},{"$f":"IF(EQP18=\"\",\"\",VLOOKUP($Q$10,DATA!$P$2:$R$196,3))","v":""},{"$f":"IF(EQQ18=\"\",\"\",VLOOKUP($Q$10,DATA!$P$2:$R$196,3))","v":""},{"$f":"IF(EQR18=\"\",\"\",VLOOKUP($Q$10,DATA!$P$2:$R$196,3))","v":""},{"$f":"IF(EQS18=\"\",\"\",VLOOKUP($Q$10,DATA!$P$2:$R$196,3))","v":""},{"$f":"IF(EQT18=\"\",\"\",VLOOKUP($Q$10,DATA!$P$2:$R$196,3))","v":""},{"$f":"IF(EQU18=\"\",\"\",VLOOKUP($Q$10,DATA!$P$2:$R$196,3))","v":""},{"$f":"IF(EQV18=\"\",\"\",VLOOKUP($Q$10,DATA!$P$2:$R$196,3))","v":""},{"$f":"IF(EQW18=\"\",\"\",VLOOKUP($Q$10,DATA!$P$2:$R$196,3))","v":""},{"$f":"IF(EQX18=\"\",\"\",VLOOKUP($Q$10,DATA!$P$2:$R$196,3))","v":""},{"$f":"IF(EQY18=\"\",\"\",VLOOKUP($Q$10,DATA!$P$2:$R$196,3))","v":""},{"$f":"IF(EQZ18=\"\",\"\",VLOOKUP($Q$10,DATA!$P$2:$R$196,3))","v":""},{"$f":"IF(ERA18=\"\",\"\",VLOOKUP($Q$10,DATA!$P$2:$R$196,3))","v":""},{"$f":"IF(ERB18=\"\",\"\",VLOOKUP($Q$10,DATA!$P$2:$R$196,3))","v":""},{"$f":"IF(ERC18=\"\",\"\",VLOOKUP($Q$10,DATA!$P$2:$R$196,3))","v":""},{"$f":"IF(ERD18=\"\",\"\",VLOOKUP($Q$10,DATA!$P$2:$R$196,3))","v":""},{"$f":"IF(ERE18=\"\",\"\",VLOOKUP($Q$10,DATA!$P$2:$R$196,3))","v":""},{"$f":"IF(ERF18=\"\",\"\",VLOOKUP($Q$10,DATA!$P$2:$R$196,3))","v":""},{"$f":"IF(ERG18=\"\",\"\",VLOOKUP($Q$10,DATA!$P$2:$R$196,3))","v":""},{"$f":"IF(ERH18=\"\",\"\",VLOOKUP($Q$10,DATA!$P$2:$R$196,3))","v":""},{"$f":"IF(ERI18=\"\",\"\",VLOOKUP($Q$10,DATA!$P$2:$R$196,3))","v":""},{"$f":"IF(ERJ18=\"\",\"\",VLOOKUP($Q$10,DATA!$P$2:$R$196,3))","v":""},{"$f":"IF(ERK18=\"\",\"\",VLOOKUP($Q$10,DATA!$P$2:$R$196,3))","v":""},{"$f":"IF(ERL18=\"\",\"\",VLOOKUP($Q$10,DATA!$P$2:$R$196,3))","v":""},{"$f":"IF(ERM18=\"\",\"\",VLOOKUP($Q$10,DATA!$P$2:$R$196,3))","v":""},{"$f":"IF(ERN18=\"\",\"\",VLOOKUP($Q$10,DATA!$P$2:$R$196,3))","v":""},{"$f":"IF(ERO18=\"\",\"\",VLOOKUP($Q$10,DATA!$P$2:$R$196,3))","v":""},{"$f":"IF(ERP18=\"\",\"\",VLOOKUP($Q$10,DATA!$P$2:$R$196,3))","v":""},{"$f":"IF(ERQ18=\"\",\"\",VLOOKUP($Q$10,DATA!$P$2:$R$196,3))","v":""},{"$f":"IF(ERR18=\"\",\"\",VLOOKUP($Q$10,DATA!$P$2:$R$196,3))","v":""},{"$f":"IF(ERS18=\"\",\"\",VLOOKUP($Q$10,DATA!$P$2:$R$196,3))","v":""},{"$f":"IF(ERT18=\"\",\"\",VLOOKUP($Q$10,DATA!$P$2:$R$196,3))","v":""},{"$f":"IF(ERU18=\"\",\"\",VLOOKUP($Q$10,DATA!$P$2:$R$196,3))","v":""},{"$f":"IF(ERV18=\"\",\"\",VLOOKUP($Q$10,DATA!$P$2:$R$196,3))","v":""},{"$f":"IF(ERW18=\"\",\"\",VLOOKUP($Q$10,DATA!$P$2:$R$196,3))","v":""},{"$f":"IF(ERX18=\"\",\"\",VLOOKUP($Q$10,DATA!$P$2:$R$196,3))","v":""},{"$f":"IF(ERY18=\"\",\"\",VLOOKUP($Q$10,DATA!$P$2:$R$196,3))","v":""},{"$f":"IF(ERZ18=\"\",\"\",VLOOKUP($Q$10,DATA!$P$2:$R$196,3))","v":""},{"$f":"IF(ESA18=\"\",\"\",VLOOKUP($Q$10,DATA!$P$2:$R$196,3))","v":""},{"$f":"IF(ESB18=\"\",\"\",VLOOKUP($Q$10,DATA!$P$2:$R$196,3))","v":""},{"$f":"IF(ESC18=\"\",\"\",VLOOKUP($Q$10,DATA!$P$2:$R$196,3))","v":""},{"$f":"IF(ESD18=\"\",\"\",VLOOKUP($Q$10,DATA!$P$2:$R$196,3))","v":""},{"$f":"IF(ESE18=\"\",\"\",VLOOKUP($Q$10,DATA!$P$2:$R$196,3))","v":""},{"$f":"IF(ESF18=\"\",\"\",VLOOKUP($Q$10,DATA!$P$2:$R$196,3))","v":""},{"$f":"IF(ESG18=\"\",\"\",VLOOKUP($Q$10,DATA!$P$2:$R$196,3))","v":""},{"$f":"IF(ESH18=\"\",\"\",VLOOKUP($Q$10,DATA!$P$2:$R$196,3))","v":""},{"$f":"IF(ESI18=\"\",\"\",VLOOKUP($Q$10,DATA!$P$2:$R$196,3))","v":""},{"$f":"IF(ESJ18=\"\",\"\",VLOOKUP($Q$10,DATA!$P$2:$R$196,3))","v":""},{"$f":"IF(ESK18=\"\",\"\",VLOOKUP($Q$10,DATA!$P$2:$R$196,3))","v":""},{"$f":"IF(ESL18=\"\",\"\",VLOOKUP($Q$10,DATA!$P$2:$R$196,3))","v":""},{"$f":"IF(ESM18=\"\",\"\",VLOOKUP($Q$10,DATA!$P$2:$R$196,3))","v":""},{"$f":"IF(ESN18=\"\",\"\",VLOOKUP($Q$10,DATA!$P$2:$R$196,3))","v":""},{"$f":"IF(ESO18=\"\",\"\",VLOOKUP($Q$10,DATA!$P$2:$R$196,3))","v":""},{"$f":"IF(ESP18=\"\",\"\",VLOOKUP($Q$10,DATA!$P$2:$R$196,3))","v":""},{"$f":"IF(ESQ18=\"\",\"\",VLOOKUP($Q$10,DATA!$P$2:$R$196,3))","v":""},{"$f":"IF(ESR18=\"\",\"\",VLOOKUP($Q$10,DATA!$P$2:$R$196,3))","v":""},{"$f":"IF(ESS18=\"\",\"\",VLOOKUP($Q$10,DATA!$P$2:$R$196,3))","v":""},{"$f":"IF(EST18=\"\",\"\",VLOOKUP($Q$10,DATA!$P$2:$R$196,3))","v":""},{"$f":"IF(ESU18=\"\",\"\",VLOOKUP($Q$10,DATA!$P$2:$R$196,3))","v":""},{"$f":"IF(ESV18=\"\",\"\",VLOOKUP($Q$10,DATA!$P$2:$R$196,3))","v":""},{"$f":"IF(ESW18=\"\",\"\",VLOOKUP($Q$10,DATA!$P$2:$R$196,3))","v":""},{"$f":"IF(ESX18=\"\",\"\",VLOOKUP($Q$10,DATA!$P$2:$R$196,3))","v":""},{"$f":"IF(ESY18=\"\",\"\",VLOOKUP($Q$10,DATA!$P$2:$R$196,3))","v":""},{"$f":"IF(ESZ18=\"\",\"\",VLOOKUP($Q$10,DATA!$P$2:$R$196,3))","v":""},{"$f":"IF(ETA18=\"\",\"\",VLOOKUP($Q$10,DATA!$P$2:$R$196,3))","v":""},{"$f":"IF(ETB18=\"\",\"\",VLOOKUP($Q$10,DATA!$P$2:$R$196,3))","v":""},{"$f":"IF(ETC18=\"\",\"\",VLOOKUP($Q$10,DATA!$P$2:$R$196,3))","v":""},{"$f":"IF(ETD18=\"\",\"\",VLOOKUP($Q$10,DATA!$P$2:$R$196,3))","v":""},{"$f":"IF(ETE18=\"\",\"\",VLOOKUP($Q$10,DATA!$P$2:$R$196,3))","v":""},{"$f":"IF(ETF18=\"\",\"\",VLOOKUP($Q$10,DATA!$P$2:$R$196,3))","v":""},{"$f":"IF(ETG18=\"\",\"\",VLOOKUP($Q$10,DATA!$P$2:$R$196,3))","v":""},{"$f":"IF(ETH18=\"\",\"\",VLOOKUP($Q$10,DATA!$P$2:$R$196,3))","v":""},{"$f":"IF(ETI18=\"\",\"\",VLOOKUP($Q$10,DATA!$P$2:$R$196,3))","v":""},{"$f":"IF(ETJ18=\"\",\"\",VLOOKUP($Q$10,DATA!$P$2:$R$196,3))","v":""},{"$f":"IF(ETK18=\"\",\"\",VLOOKUP($Q$10,DATA!$P$2:$R$196,3))","v":""},{"$f":"IF(ETL18=\"\",\"\",VLOOKUP($Q$10,DATA!$P$2:$R$196,3))","v":""},{"$f":"IF(ETM18=\"\",\"\",VLOOKUP($Q$10,DATA!$P$2:$R$196,3))","v":""},{"$f":"IF(ETN18=\"\",\"\",VLOOKUP($Q$10,DATA!$P$2:$R$196,3))","v":""},{"$f":"IF(ETO18=\"\",\"\",VLOOKUP($Q$10,DATA!$P$2:$R$196,3))","v":""},{"$f":"IF(ETP18=\"\",\"\",VLOOKUP($Q$10,DATA!$P$2:$R$196,3))","v":""},{"$f":"IF(ETQ18=\"\",\"\",VLOOKUP($Q$10,DATA!$P$2:$R$196,3))","v":""},{"$f":"IF(ETR18=\"\",\"\",VLOOKUP($Q$10,DATA!$P$2:$R$196,3))","v":""},{"$f":"IF(ETS18=\"\",\"\",VLOOKUP($Q$10,DATA!$P$2:$R$196,3))","v":""},{"$f":"IF(ETT18=\"\",\"\",VLOOKUP($Q$10,DATA!$P$2:$R$196,3))","v":""},{"$f":"IF(ETU18=\"\",\"\",VLOOKUP($Q$10,DATA!$P$2:$R$196,3))","v":""},{"$f":"IF(ETV18=\"\",\"\",VLOOKUP($Q$10,DATA!$P$2:$R$196,3))","v":""},{"$f":"IF(ETW18=\"\",\"\",VLOOKUP($Q$10,DATA!$P$2:$R$196,3))","v":""},{"$f":"IF(ETX18=\"\",\"\",VLOOKUP($Q$10,DATA!$P$2:$R$196,3))","v":""},{"$f":"IF(ETY18=\"\",\"\",VLOOKUP($Q$10,DATA!$P$2:$R$196,3))","v":""},{"$f":"IF(ETZ18=\"\",\"\",VLOOKUP($Q$10,DATA!$P$2:$R$196,3))","v":""},{"$f":"IF(EUA18=\"\",\"\",VLOOKUP($Q$10,DATA!$P$2:$R$196,3))","v":""},{"$f":"IF(EUB18=\"\",\"\",VLOOKUP($Q$10,DATA!$P$2:$R$196,3))","v":""},{"$f":"IF(EUC18=\"\",\"\",VLOOKUP($Q$10,DATA!$P$2:$R$196,3))","v":""},{"$f":"IF(EUD18=\"\",\"\",VLOOKUP($Q$10,DATA!$P$2:$R$196,3))","v":""},{"$f":"IF(EUE18=\"\",\"\",VLOOKUP($Q$10,DATA!$P$2:$R$196,3))","v":""},{"$f":"IF(EUF18=\"\",\"\",VLOOKUP($Q$10,DATA!$P$2:$R$196,3))","v":""},{"$f":"IF(EUG18=\"\",\"\",VLOOKUP($Q$10,DATA!$P$2:$R$196,3))","v":""},{"$f":"IF(EUH18=\"\",\"\",VLOOKUP($Q$10,DATA!$P$2:$R$196,3))","v":""},{"$f":"IF(EUI18=\"\",\"\",VLOOKUP($Q$10,DATA!$P$2:$R$196,3))","v":""},{"$f":"IF(EUJ18=\"\",\"\",VLOOKUP($Q$10,DATA!$P$2:$R$196,3))","v":""},{"$f":"IF(EUK18=\"\",\"\",VLOOKUP($Q$10,DATA!$P$2:$R$196,3))","v":""},{"$f":"IF(EUL18=\"\",\"\",VLOOKUP($Q$10,DATA!$P$2:$R$196,3))","v":""},{"$f":"IF(EUM18=\"\",\"\",VLOOKUP($Q$10,DATA!$P$2:$R$196,3))","v":""},{"$f":"IF(EUN18=\"\",\"\",VLOOKUP($Q$10,DATA!$P$2:$R$196,3))","v":""},{"$f":"IF(EUO18=\"\",\"\",VLOOKUP($Q$10,DATA!$P$2:$R$196,3))","v":""},{"$f":"IF(EUP18=\"\",\"\",VLOOKUP($Q$10,DATA!$P$2:$R$196,3))","v":""},{"$f":"IF(EUQ18=\"\",\"\",VLOOKUP($Q$10,DATA!$P$2:$R$196,3))","v":""},{"$f":"IF(EUR18=\"\",\"\",VLOOKUP($Q$10,DATA!$P$2:$R$196,3))","v":""},{"$f":"IF(EUS18=\"\",\"\",VLOOKUP($Q$10,DATA!$P$2:$R$196,3))","v":""},{"$f":"IF(EUT18=\"\",\"\",VLOOKUP($Q$10,DATA!$P$2:$R$196,3))","v":""},{"$f":"IF(EUU18=\"\",\"\",VLOOKUP($Q$10,DATA!$P$2:$R$196,3))","v":""},{"$f":"IF(EUV18=\"\",\"\",VLOOKUP($Q$10,DATA!$P$2:$R$196,3))","v":""},{"$f":"IF(EUW18=\"\",\"\",VLOOKUP($Q$10,DATA!$P$2:$R$196,3))","v":""},{"$f":"IF(EUX18=\"\",\"\",VLOOKUP($Q$10,DATA!$P$2:$R$196,3))","v":""},{"$f":"IF(EUY18=\"\",\"\",VLOOKUP($Q$10,DATA!$P$2:$R$196,3))","v":""},{"$f":"IF(EUZ18=\"\",\"\",VLOOKUP($Q$10,DATA!$P$2:$R$196,3))","v":""},{"$f":"IF(EVA18=\"\",\"\",VLOOKUP($Q$10,DATA!$P$2:$R$196,3))","v":""},{"$f":"IF(EVB18=\"\",\"\",VLOOKUP($Q$10,DATA!$P$2:$R$196,3))","v":""},{"$f":"IF(EVC18=\"\",\"\",VLOOKUP($Q$10,DATA!$P$2:$R$196,3))","v":""},{"$f":"IF(EVD18=\"\",\"\",VLOOKUP($Q$10,DATA!$P$2:$R$196,3))","v":""},{"$f":"IF(EVE18=\"\",\"\",VLOOKUP($Q$10,DATA!$P$2:$R$196,3))","v":""},{"$f":"IF(EVF18=\"\",\"\",VLOOKUP($Q$10,DATA!$P$2:$R$196,3))","v":""},{"$f":"IF(EVG18=\"\",\"\",VLOOKUP($Q$10,DATA!$P$2:$R$196,3))","v":""},{"$f":"IF(EVH18=\"\",\"\",VLOOKUP($Q$10,DATA!$P$2:$R$196,3))","v":""},{"$f":"IF(EVI18=\"\",\"\",VLOOKUP($Q$10,DATA!$P$2:$R$196,3))","v":""},{"$f":"IF(EVJ18=\"\",\"\",VLOOKUP($Q$10,DATA!$P$2:$R$196,3))","v":""},{"$f":"IF(EVK18=\"\",\"\",VLOOKUP($Q$10,DATA!$P$2:$R$196,3))","v":""},{"$f":"IF(EVL18=\"\",\"\",VLOOKUP($Q$10,DATA!$P$2:$R$196,3))","v":""},{"$f":"IF(EVM18=\"\",\"\",VLOOKUP($Q$10,DATA!$P$2:$R$196,3))","v":""},{"$f":"IF(EVN18=\"\",\"\",VLOOKUP($Q$10,DATA!$P$2:$R$196,3))","v":""},{"$f":"IF(EVO18=\"\",\"\",VLOOKUP($Q$10,DATA!$P$2:$R$196,3))","v":""},{"$f":"IF(EVP18=\"\",\"\",VLOOKUP($Q$10,DATA!$P$2:$R$196,3))","v":""},{"$f":"IF(EVQ18=\"\",\"\",VLOOKUP($Q$10,DATA!$P$2:$R$196,3))","v":""},{"$f":"IF(EVR18=\"\",\"\",VLOOKUP($Q$10,DATA!$P$2:$R$196,3))","v":""},{"$f":"IF(EVS18=\"\",\"\",VLOOKUP($Q$10,DATA!$P$2:$R$196,3))","v":""},{"$f":"IF(EVT18=\"\",\"\",VLOOKUP($Q$10,DATA!$P$2:$R$196,3))","v":""},{"$f":"IF(EVU18=\"\",\"\",VLOOKUP($Q$10,DATA!$P$2:$R$196,3))","v":""},{"$f":"IF(EVV18=\"\",\"\",VLOOKUP($Q$10,DATA!$P$2:$R$196,3))","v":""},{"$f":"IF(EVW18=\"\",\"\",VLOOKUP($Q$10,DATA!$P$2:$R$196,3))","v":""},{"$f":"IF(EVX18=\"\",\"\",VLOOKUP($Q$10,DATA!$P$2:$R$196,3))","v":""},{"$f":"IF(EVY18=\"\",\"\",VLOOKUP($Q$10,DATA!$P$2:$R$196,3))","v":""},{"$f":"IF(EVZ18=\"\",\"\",VLOOKUP($Q$10,DATA!$P$2:$R$196,3))","v":""},{"$f":"IF(EWA18=\"\",\"\",VLOOKUP($Q$10,DATA!$P$2:$R$196,3))","v":""},{"$f":"IF(EWB18=\"\",\"\",VLOOKUP($Q$10,DATA!$P$2:$R$196,3))","v":""},{"$f":"IF(EWC18=\"\",\"\",VLOOKUP($Q$10,DATA!$P$2:$R$196,3))","v":""},{"$f":"IF(EWD18=\"\",\"\",VLOOKUP($Q$10,DATA!$P$2:$R$196,3))","v":""},{"$f":"IF(EWE18=\"\",\"\",VLOOKUP($Q$10,DATA!$P$2:$R$196,3))","v":""},{"$f":"IF(EWF18=\"\",\"\",VLOOKUP($Q$10,DATA!$P$2:$R$196,3))","v":""},{"$f":"IF(EWG18=\"\",\"\",VLOOKUP($Q$10,DATA!$P$2:$R$196,3))","v":""},{"$f":"IF(EWH18=\"\",\"\",VLOOKUP($Q$10,DATA!$P$2:$R$196,3))","v":""},{"$f":"IF(EWI18=\"\",\"\",VLOOKUP($Q$10,DATA!$P$2:$R$196,3))","v":""},{"$f":"IF(EWJ18=\"\",\"\",VLOOKUP($Q$10,DATA!$P$2:$R$196,3))","v":""},{"$f":"IF(EWK18=\"\",\"\",VLOOKUP($Q$10,DATA!$P$2:$R$196,3))","v":""},{"$f":"IF(EWL18=\"\",\"\",VLOOKUP($Q$10,DATA!$P$2:$R$196,3))","v":""},{"$f":"IF(EWM18=\"\",\"\",VLOOKUP($Q$10,DATA!$P$2:$R$196,3))","v":""},{"$f":"IF(EWN18=\"\",\"\",VLOOKUP($Q$10,DATA!$P$2:$R$196,3))","v":""},{"$f":"IF(EWO18=\"\",\"\",VLOOKUP($Q$10,DATA!$P$2:$R$196,3))","v":""},{"$f":"IF(EWP18=\"\",\"\",VLOOKUP($Q$10,DATA!$P$2:$R$196,3))","v":""},{"$f":"IF(EWQ18=\"\",\"\",VLOOKUP($Q$10,DATA!$P$2:$R$196,3))","v":""},{"$f":"IF(EWR18=\"\",\"\",VLOOKUP($Q$10,DATA!$P$2:$R$196,3))","v":""},{"$f":"IF(EWS18=\"\",\"\",VLOOKUP($Q$10,DATA!$P$2:$R$196,3))","v":""},{"$f":"IF(EWT18=\"\",\"\",VLOOKUP($Q$10,DATA!$P$2:$R$196,3))","v":""},{"$f":"IF(EWU18=\"\",\"\",VLOOKUP($Q$10,DATA!$P$2:$R$196,3))","v":""},{"$f":"IF(EWV18=\"\",\"\",VLOOKUP($Q$10,DATA!$P$2:$R$196,3))","v":""},{"$f":"IF(EWW18=\"\",\"\",VLOOKUP($Q$10,DATA!$P$2:$R$196,3))","v":""},{"$f":"IF(EWX18=\"\",\"\",VLOOKUP($Q$10,DATA!$P$2:$R$196,3))","v":""},{"$f":"IF(EWY18=\"\",\"\",VLOOKUP($Q$10,DATA!$P$2:$R$196,3))","v":""},{"$f":"IF(EWZ18=\"\",\"\",VLOOKUP($Q$10,DATA!$P$2:$R$196,3))","v":""},{"$f":"IF(EXA18=\"\",\"\",VLOOKUP($Q$10,DATA!$P$2:$R$196,3))","v":""},{"$f":"IF(EXB18=\"\",\"\",VLOOKUP($Q$10,DATA!$P$2:$R$196,3))","v":""},{"$f":"IF(EXC18=\"\",\"\",VLOOKUP($Q$10,DATA!$P$2:$R$196,3))","v":""},{"$f":"IF(EXD18=\"\",\"\",VLOOKUP($Q$10,DATA!$P$2:$R$196,3))","v":""},{"$f":"IF(EXE18=\"\",\"\",VLOOKUP($Q$10,DATA!$P$2:$R$196,3))","v":""},{"$f":"IF(EXF18=\"\",\"\",VLOOKUP($Q$10,DATA!$P$2:$R$196,3))","v":""},{"$f":"IF(EXG18=\"\",\"\",VLOOKUP($Q$10,DATA!$P$2:$R$196,3))","v":""},{"$f":"IF(EXH18=\"\",\"\",VLOOKUP($Q$10,DATA!$P$2:$R$196,3))","v":""},{"$f":"IF(EXI18=\"\",\"\",VLOOKUP($Q$10,DATA!$P$2:$R$196,3))","v":""},{"$f":"IF(EXJ18=\"\",\"\",VLOOKUP($Q$10,DATA!$P$2:$R$196,3))","v":""},{"$f":"IF(EXK18=\"\",\"\",VLOOKUP($Q$10,DATA!$P$2:$R$196,3))","v":""},{"$f":"IF(EXL18=\"\",\"\",VLOOKUP($Q$10,DATA!$P$2:$R$196,3))","v":""},{"$f":"IF(EXM18=\"\",\"\",VLOOKUP($Q$10,DATA!$P$2:$R$196,3))","v":""},{"$f":"IF(EXN18=\"\",\"\",VLOOKUP($Q$10,DATA!$P$2:$R$196,3))","v":""},{"$f":"IF(EXO18=\"\",\"\",VLOOKUP($Q$10,DATA!$P$2:$R$196,3))","v":""},{"$f":"IF(EXP18=\"\",\"\",VLOOKUP($Q$10,DATA!$P$2:$R$196,3))","v":""},{"$f":"IF(EXQ18=\"\",\"\",VLOOKUP($Q$10,DATA!$P$2:$R$196,3))","v":""},{"$f":"IF(EXR18=\"\",\"\",VLOOKUP($Q$10,DATA!$P$2:$R$196,3))","v":""},{"$f":"IF(EXS18=\"\",\"\",VLOOKUP($Q$10,DATA!$P$2:$R$196,3))","v":""},{"$f":"IF(EXT18=\"\",\"\",VLOOKUP($Q$10,DATA!$P$2:$R$196,3))","v":""},{"$f":"IF(EXU18=\"\",\"\",VLOOKUP($Q$10,DATA!$P$2:$R$196,3))","v":""},{"$f":"IF(EXV18=\"\",\"\",VLOOKUP($Q$10,DATA!$P$2:$R$196,3))","v":""},{"$f":"IF(EXW18=\"\",\"\",VLOOKUP($Q$10,DATA!$P$2:$R$196,3))","v":""},{"$f":"IF(EXX18=\"\",\"\",VLOOKUP($Q$10,DATA!$P$2:$R$196,3))","v":""},{"$f":"IF(EXY18=\"\",\"\",VLOOKUP($Q$10,DATA!$P$2:$R$196,3))","v":""},{"$f":"IF(EXZ18=\"\",\"\",VLOOKUP($Q$10,DATA!$P$2:$R$196,3))","v":""},{"$f":"IF(EYA18=\"\",\"\",VLOOKUP($Q$10,DATA!$P$2:$R$196,3))","v":""},{"$f":"IF(EYB18=\"\",\"\",VLOOKUP($Q$10,DATA!$P$2:$R$196,3))","v":""},{"$f":"IF(EYC18=\"\",\"\",VLOOKUP($Q$10,DATA!$P$2:$R$196,3))","v":""},{"$f":"IF(EYD18=\"\",\"\",VLOOKUP($Q$10,DATA!$P$2:$R$196,3))","v":""},{"$f":"IF(EYE18=\"\",\"\",VLOOKUP($Q$10,DATA!$P$2:$R$196,3))","v":""},{"$f":"IF(EYF18=\"\",\"\",VLOOKUP($Q$10,DATA!$P$2:$R$196,3))","v":""},{"$f":"IF(EYG18=\"\",\"\",VLOOKUP($Q$10,DATA!$P$2:$R$196,3))","v":""},{"$f":"IF(EYH18=\"\",\"\",VLOOKUP($Q$10,DATA!$P$2:$R$196,3))","v":""},{"$f":"IF(EYI18=\"\",\"\",VLOOKUP($Q$10,DATA!$P$2:$R$196,3))","v":""},{"$f":"IF(EYJ18=\"\",\"\",VLOOKUP($Q$10,DATA!$P$2:$R$196,3))","v":""},{"$f":"IF(EYK18=\"\",\"\",VLOOKUP($Q$10,DATA!$P$2:$R$196,3))","v":""},{"$f":"IF(EYL18=\"\",\"\",VLOOKUP($Q$10,DATA!$P$2:$R$196,3))","v":""},{"$f":"IF(EYM18=\"\",\"\",VLOOKUP($Q$10,DATA!$P$2:$R$196,3))","v":""},{"$f":"IF(EYN18=\"\",\"\",VLOOKUP($Q$10,DATA!$P$2:$R$196,3))","v":""},{"$f":"IF(EYO18=\"\",\"\",VLOOKUP($Q$10,DATA!$P$2:$R$196,3))","v":""},{"$f":"IF(EYP18=\"\",\"\",VLOOKUP($Q$10,DATA!$P$2:$R$196,3))","v":""},{"$f":"IF(EYQ18=\"\",\"\",VLOOKUP($Q$10,DATA!$P$2:$R$196,3))","v":""},{"$f":"IF(EYR18=\"\",\"\",VLOOKUP($Q$10,DATA!$P$2:$R$196,3))","v":""},{"$f":"IF(EYS18=\"\",\"\",VLOOKUP($Q$10,DATA!$P$2:$R$196,3))","v":""},{"$f":"IF(EYT18=\"\",\"\",VLOOKUP($Q$10,DATA!$P$2:$R$196,3))","v":""},{"$f":"IF(EYU18=\"\",\"\",VLOOKUP($Q$10,DATA!$P$2:$R$196,3))","v":""},{"$f":"IF(EYV18=\"\",\"\",VLOOKUP($Q$10,DATA!$P$2:$R$196,3))","v":""},{"$f":"IF(EYW18=\"\",\"\",VLOOKUP($Q$10,DATA!$P$2:$R$196,3))","v":""},{"$f":"IF(EYX18=\"\",\"\",VLOOKUP($Q$10,DATA!$P$2:$R$196,3))","v":""},{"$f":"IF(EYY18=\"\",\"\",VLOOKUP($Q$10,DATA!$P$2:$R$196,3))","v":""},{"$f":"IF(EYZ18=\"\",\"\",VLOOKUP($Q$10,DATA!$P$2:$R$196,3))","v":""},{"$f":"IF(EZA18=\"\",\"\",VLOOKUP($Q$10,DATA!$P$2:$R$196,3))","v":""},{"$f":"IF(EZB18=\"\",\"\",VLOOKUP($Q$10,DATA!$P$2:$R$196,3))","v":""},{"$f":"IF(EZC18=\"\",\"\",VLOOKUP($Q$10,DATA!$P$2:$R$196,3))","v":""},{"$f":"IF(EZD18=\"\",\"\",VLOOKUP($Q$10,DATA!$P$2:$R$196,3))","v":""},{"$f":"IF(EZE18=\"\",\"\",VLOOKUP($Q$10,DATA!$P$2:$R$196,3))","v":""},{"$f":"IF(EZF18=\"\",\"\",VLOOKUP($Q$10,DATA!$P$2:$R$196,3))","v":""},{"$f":"IF(EZG18=\"\",\"\",VLOOKUP($Q$10,DATA!$P$2:$R$196,3))","v":""},{"$f":"IF(EZH18=\"\",\"\",VLOOKUP($Q$10,DATA!$P$2:$R$196,3))","v":""},{"$f":"IF(EZI18=\"\",\"\",VLOOKUP($Q$10,DATA!$P$2:$R$196,3))","v":""},{"$f":"IF(EZJ18=\"\",\"\",VLOOKUP($Q$10,DATA!$P$2:$R$196,3))","v":""},{"$f":"IF(EZK18=\"\",\"\",VLOOKUP($Q$10,DATA!$P$2:$R$196,3))","v":""},{"$f":"IF(EZL18=\"\",\"\",VLOOKUP($Q$10,DATA!$P$2:$R$196,3))","v":""},{"$f":"IF(EZM18=\"\",\"\",VLOOKUP($Q$10,DATA!$P$2:$R$196,3))","v":""},{"$f":"IF(EZN18=\"\",\"\",VLOOKUP($Q$10,DATA!$P$2:$R$196,3))","v":""},{"$f":"IF(EZO18=\"\",\"\",VLOOKUP($Q$10,DATA!$P$2:$R$196,3))","v":""},{"$f":"IF(EZP18=\"\",\"\",VLOOKUP($Q$10,DATA!$P$2:$R$196,3))","v":""},{"$f":"IF(EZQ18=\"\",\"\",VLOOKUP($Q$10,DATA!$P$2:$R$196,3))","v":""},{"$f":"IF(EZR18=\"\",\"\",VLOOKUP($Q$10,DATA!$P$2:$R$196,3))","v":""},{"$f":"IF(EZS18=\"\",\"\",VLOOKUP($Q$10,DATA!$P$2:$R$196,3))","v":""},{"$f":"IF(EZT18=\"\",\"\",VLOOKUP($Q$10,DATA!$P$2:$R$196,3))","v":""},{"$f":"IF(EZU18=\"\",\"\",VLOOKUP($Q$10,DATA!$P$2:$R$196,3))","v":""},{"$f":"IF(EZV18=\"\",\"\",VLOOKUP($Q$10,DATA!$P$2:$R$196,3))","v":""},{"$f":"IF(EZW18=\"\",\"\",VLOOKUP($Q$10,DATA!$P$2:$R$196,3))","v":""},{"$f":"IF(EZX18=\"\",\"\",VLOOKUP($Q$10,DATA!$P$2:$R$196,3))","v":""},{"$f":"IF(EZY18=\"\",\"\",VLOOKUP($Q$10,DATA!$P$2:$R$196,3))","v":""},{"$f":"IF(EZZ18=\"\",\"\",VLOOKUP($Q$10,DATA!$P$2:$R$196,3))","v":""},{"$f":"IF(FAA18=\"\",\"\",VLOOKUP($Q$10,DATA!$P$2:$R$196,3))","v":""},{"$f":"IF(FAB18=\"\",\"\",VLOOKUP($Q$10,DATA!$P$2:$R$196,3))","v":""},{"$f":"IF(FAC18=\"\",\"\",VLOOKUP($Q$10,DATA!$P$2:$R$196,3))","v":""},{"$f":"IF(FAD18=\"\",\"\",VLOOKUP($Q$10,DATA!$P$2:$R$196,3))","v":""},{"$f":"IF(FAE18=\"\",\"\",VLOOKUP($Q$10,DATA!$P$2:$R$196,3))","v":""},{"$f":"IF(FAF18=\"\",\"\",VLOOKUP($Q$10,DATA!$P$2:$R$196,3))","v":""},{"$f":"IF(FAG18=\"\",\"\",VLOOKUP($Q$10,DATA!$P$2:$R$196,3))","v":""},{"$f":"IF(FAH18=\"\",\"\",VLOOKUP($Q$10,DATA!$P$2:$R$196,3))","v":""},{"$f":"IF(FAI18=\"\",\"\",VLOOKUP($Q$10,DATA!$P$2:$R$196,3))","v":""},{"$f":"IF(FAJ18=\"\",\"\",VLOOKUP($Q$10,DATA!$P$2:$R$196,3))","v":""},{"$f":"IF(FAK18=\"\",\"\",VLOOKUP($Q$10,DATA!$P$2:$R$196,3))","v":""},{"$f":"IF(FAL18=\"\",\"\",VLOOKUP($Q$10,DATA!$P$2:$R$196,3))","v":""},{"$f":"IF(FAM18=\"\",\"\",VLOOKUP($Q$10,DATA!$P$2:$R$196,3))","v":""},{"$f":"IF(FAN18=\"\",\"\",VLOOKUP($Q$10,DATA!$P$2:$R$196,3))","v":""},{"$f":"IF(FAO18=\"\",\"\",VLOOKUP($Q$10,DATA!$P$2:$R$196,3))","v":""},{"$f":"IF(FAP18=\"\",\"\",VLOOKUP($Q$10,DATA!$P$2:$R$196,3))","v":""},{"$f":"IF(FAQ18=\"\",\"\",VLOOKUP($Q$10,DATA!$P$2:$R$196,3))","v":""},{"$f":"IF(FAR18=\"\",\"\",VLOOKUP($Q$10,DATA!$P$2:$R$196,3))","v":""},{"$f":"IF(FAS18=\"\",\"\",VLOOKUP($Q$10,DATA!$P$2:$R$196,3))","v":""},{"$f":"IF(FAT18=\"\",\"\",VLOOKUP($Q$10,DATA!$P$2:$R$196,3))","v":""},{"$f":"IF(FAU18=\"\",\"\",VLOOKUP($Q$10,DATA!$P$2:$R$196,3))","v":""},{"$f":"IF(FAV18=\"\",\"\",VLOOKUP($Q$10,DATA!$P$2:$R$196,3))","v":""},{"$f":"IF(FAW18=\"\",\"\",VLOOKUP($Q$10,DATA!$P$2:$R$196,3))","v":""},{"$f":"IF(FAX18=\"\",\"\",VLOOKUP($Q$10,DATA!$P$2:$R$196,3))","v":""},{"$f":"IF(FAY18=\"\",\"\",VLOOKUP($Q$10,DATA!$P$2:$R$196,3))","v":""},{"$f":"IF(FAZ18=\"\",\"\",VLOOKUP($Q$10,DATA!$P$2:$R$196,3))","v":""},{"$f":"IF(FBA18=\"\",\"\",VLOOKUP($Q$10,DATA!$P$2:$R$196,3))","v":""},{"$f":"IF(FBB18=\"\",\"\",VLOOKUP($Q$10,DATA!$P$2:$R$196,3))","v":""},{"$f":"IF(FBC18=\"\",\"\",VLOOKUP($Q$10,DATA!$P$2:$R$196,3))","v":""},{"$f":"IF(FBD18=\"\",\"\",VLOOKUP($Q$10,DATA!$P$2:$R$196,3))","v":""},{"$f":"IF(FBE18=\"\",\"\",VLOOKUP($Q$10,DATA!$P$2:$R$196,3))","v":""},{"$f":"IF(FBF18=\"\",\"\",VLOOKUP($Q$10,DATA!$P$2:$R$196,3))","v":""},{"$f":"IF(FBG18=\"\",\"\",VLOOKUP($Q$10,DATA!$P$2:$R$196,3))","v":""},{"$f":"IF(FBH18=\"\",\"\",VLOOKUP($Q$10,DATA!$P$2:$R$196,3))","v":""},{"$f":"IF(FBI18=\"\",\"\",VLOOKUP($Q$10,DATA!$P$2:$R$196,3))","v":""},{"$f":"IF(FBJ18=\"\",\"\",VLOOKUP($Q$10,DATA!$P$2:$R$196,3))","v":""},{"$f":"IF(FBK18=\"\",\"\",VLOOKUP($Q$10,DATA!$P$2:$R$196,3))","v":""},{"$f":"IF(FBL18=\"\",\"\",VLOOKUP($Q$10,DATA!$P$2:$R$196,3))","v":""},{"$f":"IF(FBM18=\"\",\"\",VLOOKUP($Q$10,DATA!$P$2:$R$196,3))","v":""},{"$f":"IF(FBN18=\"\",\"\",VLOOKUP($Q$10,DATA!$P$2:$R$196,3))","v":""},{"$f":"IF(FBO18=\"\",\"\",VLOOKUP($Q$10,DATA!$P$2:$R$196,3))","v":""},{"$f":"IF(FBP18=\"\",\"\",VLOOKUP($Q$10,DATA!$P$2:$R$196,3))","v":""},{"$f":"IF(FBQ18=\"\",\"\",VLOOKUP($Q$10,DATA!$P$2:$R$196,3))","v":""},{"$f":"IF(FBR18=\"\",\"\",VLOOKUP($Q$10,DATA!$P$2:$R$196,3))","v":""},{"$f":"IF(FBS18=\"\",\"\",VLOOKUP($Q$10,DATA!$P$2:$R$196,3))","v":""},{"$f":"IF(FBT18=\"\",\"\",VLOOKUP($Q$10,DATA!$P$2:$R$196,3))","v":""},{"$f":"IF(FBU18=\"\",\"\",VLOOKUP($Q$10,DATA!$P$2:$R$196,3))","v":""},{"$f":"IF(FBV18=\"\",\"\",VLOOKUP($Q$10,DATA!$P$2:$R$196,3))","v":""},{"$f":"IF(FBW18=\"\",\"\",VLOOKUP($Q$10,DATA!$P$2:$R$196,3))","v":""},{"$f":"IF(FBX18=\"\",\"\",VLOOKUP($Q$10,DATA!$P$2:$R$196,3))","v":""},{"$f":"IF(FBY18=\"\",\"\",VLOOKUP($Q$10,DATA!$P$2:$R$196,3))","v":""},{"$f":"IF(FBZ18=\"\",\"\",VLOOKUP($Q$10,DATA!$P$2:$R$196,3))","v":""},{"$f":"IF(FCA18=\"\",\"\",VLOOKUP($Q$10,DATA!$P$2:$R$196,3))","v":""},{"$f":"IF(FCB18=\"\",\"\",VLOOKUP($Q$10,DATA!$P$2:$R$196,3))","v":""},{"$f":"IF(FCC18=\"\",\"\",VLOOKUP($Q$10,DATA!$P$2:$R$196,3))","v":""},{"$f":"IF(FCD18=\"\",\"\",VLOOKUP($Q$10,DATA!$P$2:$R$196,3))","v":""},{"$f":"IF(FCE18=\"\",\"\",VLOOKUP($Q$10,DATA!$P$2:$R$196,3))","v":""},{"$f":"IF(FCF18=\"\",\"\",VLOOKUP($Q$10,DATA!$P$2:$R$196,3))","v":""},{"$f":"IF(FCG18=\"\",\"\",VLOOKUP($Q$10,DATA!$P$2:$R$196,3))","v":""},{"$f":"IF(FCH18=\"\",\"\",VLOOKUP($Q$10,DATA!$P$2:$R$196,3))","v":""},{"$f":"IF(FCI18=\"\",\"\",VLOOKUP($Q$10,DATA!$P$2:$R$196,3))","v":""},{"$f":"IF(FCJ18=\"\",\"\",VLOOKUP($Q$10,DATA!$P$2:$R$196,3))","v":""},{"$f":"IF(FCK18=\"\",\"\",VLOOKUP($Q$10,DATA!$P$2:$R$196,3))","v":""},{"$f":"IF(FCL18=\"\",\"\",VLOOKUP($Q$10,DATA!$P$2:$R$196,3))","v":""},{"$f":"IF(FCM18=\"\",\"\",VLOOKUP($Q$10,DATA!$P$2:$R$196,3))","v":""},{"$f":"IF(FCN18=\"\",\"\",VLOOKUP($Q$10,DATA!$P$2:$R$196,3))","v":""},{"$f":"IF(FCO18=\"\",\"\",VLOOKUP($Q$10,DATA!$P$2:$R$196,3))","v":""},{"$f":"IF(FCP18=\"\",\"\",VLOOKUP($Q$10,DATA!$P$2:$R$196,3))","v":""},{"$f":"IF(FCQ18=\"\",\"\",VLOOKUP($Q$10,DATA!$P$2:$R$196,3))","v":""},{"$f":"IF(FCR18=\"\",\"\",VLOOKUP($Q$10,DATA!$P$2:$R$196,3))","v":""},{"$f":"IF(FCS18=\"\",\"\",VLOOKUP($Q$10,DATA!$P$2:$R$196,3))","v":""},{"$f":"IF(FCT18=\"\",\"\",VLOOKUP($Q$10,DATA!$P$2:$R$196,3))","v":""},{"$f":"IF(FCU18=\"\",\"\",VLOOKUP($Q$10,DATA!$P$2:$R$196,3))","v":""},{"$f":"IF(FCV18=\"\",\"\",VLOOKUP($Q$10,DATA!$P$2:$R$196,3))","v":""},{"$f":"IF(FCW18=\"\",\"\",VLOOKUP($Q$10,DATA!$P$2:$R$196,3))","v":""},{"$f":"IF(FCX18=\"\",\"\",VLOOKUP($Q$10,DATA!$P$2:$R$196,3))","v":""},{"$f":"IF(FCY18=\"\",\"\",VLOOKUP($Q$10,DATA!$P$2:$R$196,3))","v":""},{"$f":"IF(FCZ18=\"\",\"\",VLOOKUP($Q$10,DATA!$P$2:$R$196,3))","v":""},{"$f":"IF(FDA18=\"\",\"\",VLOOKUP($Q$10,DATA!$P$2:$R$196,3))","v":""},{"$f":"IF(FDB18=\"\",\"\",VLOOKUP($Q$10,DATA!$P$2:$R$196,3))","v":""},{"$f":"IF(FDC18=\"\",\"\",VLOOKUP($Q$10,DATA!$P$2:$R$196,3))","v":""},{"$f":"IF(FDD18=\"\",\"\",VLOOKUP($Q$10,DATA!$P$2:$R$196,3))","v":""},{"$f":"IF(FDE18=\"\",\"\",VLOOKUP($Q$10,DATA!$P$2:$R$196,3))","v":""},{"$f":"IF(FDF18=\"\",\"\",VLOOKUP($Q$10,DATA!$P$2:$R$196,3))","v":""},{"$f":"IF(FDG18=\"\",\"\",VLOOKUP($Q$10,DATA!$P$2:$R$196,3))","v":""},{"$f":"IF(FDH18=\"\",\"\",VLOOKUP($Q$10,DATA!$P$2:$R$196,3))","v":""},{"$f":"IF(FDI18=\"\",\"\",VLOOKUP($Q$10,DATA!$P$2:$R$196,3))","v":""},{"$f":"IF(FDJ18=\"\",\"\",VLOOKUP($Q$10,DATA!$P$2:$R$196,3))","v":""},{"$f":"IF(FDK18=\"\",\"\",VLOOKUP($Q$10,DATA!$P$2:$R$196,3))","v":""},{"$f":"IF(FDL18=\"\",\"\",VLOOKUP($Q$10,DATA!$P$2:$R$196,3))","v":""},{"$f":"IF(FDM18=\"\",\"\",VLOOKUP($Q$10,DATA!$P$2:$R$196,3))","v":""},{"$f":"IF(FDN18=\"\",\"\",VLOOKUP($Q$10,DATA!$P$2:$R$196,3))","v":""},{"$f":"IF(FDO18=\"\",\"\",VLOOKUP($Q$10,DATA!$P$2:$R$196,3))","v":""},{"$f":"IF(FDP18=\"\",\"\",VLOOKUP($Q$10,DATA!$P$2:$R$196,3))","v":""},{"$f":"IF(FDQ18=\"\",\"\",VLOOKUP($Q$10,DATA!$P$2:$R$196,3))","v":""},{"$f":"IF(FDR18=\"\",\"\",VLOOKUP($Q$10,DATA!$P$2:$R$196,3))","v":""},{"$f":"IF(FDS18=\"\",\"\",VLOOKUP($Q$10,DATA!$P$2:$R$196,3))","v":""},{"$f":"IF(FDT18=\"\",\"\",VLOOKUP($Q$10,DATA!$P$2:$R$196,3))","v":""},{"$f":"IF(FDU18=\"\",\"\",VLOOKUP($Q$10,DATA!$P$2:$R$196,3))","v":""},{"$f":"IF(FDV18=\"\",\"\",VLOOKUP($Q$10,DATA!$P$2:$R$196,3))","v":""},{"$f":"IF(FDW18=\"\",\"\",VLOOKUP($Q$10,DATA!$P$2:$R$196,3))","v":""},{"$f":"IF(FDX18=\"\",\"\",VLOOKUP($Q$10,DATA!$P$2:$R$196,3))","v":""},{"$f":"IF(FDY18=\"\",\"\",VLOOKUP($Q$10,DATA!$P$2:$R$196,3))","v":""},{"$f":"IF(FDZ18=\"\",\"\",VLOOKUP($Q$10,DATA!$P$2:$R$196,3))","v":""},{"$f":"IF(FEA18=\"\",\"\",VLOOKUP($Q$10,DATA!$P$2:$R$196,3))","v":""},{"$f":"IF(FEB18=\"\",\"\",VLOOKUP($Q$10,DATA!$P$2:$R$196,3))","v":""},{"$f":"IF(FEC18=\"\",\"\",VLOOKUP($Q$10,DATA!$P$2:$R$196,3))","v":""},{"$f":"IF(FED18=\"\",\"\",VLOOKUP($Q$10,DATA!$P$2:$R$196,3))","v":""},{"$f":"IF(FEE18=\"\",\"\",VLOOKUP($Q$10,DATA!$P$2:$R$196,3))","v":""},{"$f":"IF(FEF18=\"\",\"\",VLOOKUP($Q$10,DATA!$P$2:$R$196,3))","v":""},{"$f":"IF(FEG18=\"\",\"\",VLOOKUP($Q$10,DATA!$P$2:$R$196,3))","v":""},{"$f":"IF(FEH18=\"\",\"\",VLOOKUP($Q$10,DATA!$P$2:$R$196,3))","v":""},{"$f":"IF(FEI18=\"\",\"\",VLOOKUP($Q$10,DATA!$P$2:$R$196,3))","v":""},{"$f":"IF(FEJ18=\"\",\"\",VLOOKUP($Q$10,DATA!$P$2:$R$196,3))","v":""},{"$f":"IF(FEK18=\"\",\"\",VLOOKUP($Q$10,DATA!$P$2:$R$196,3))","v":""},{"$f":"IF(FEL18=\"\",\"\",VLOOKUP($Q$10,DATA!$P$2:$R$196,3))","v":""},{"$f":"IF(FEM18=\"\",\"\",VLOOKUP($Q$10,DATA!$P$2:$R$196,3))","v":""},{"$f":"IF(FEN18=\"\",\"\",VLOOKUP($Q$10,DATA!$P$2:$R$196,3))","v":""},{"$f":"IF(FEO18=\"\",\"\",VLOOKUP($Q$10,DATA!$P$2:$R$196,3))","v":""},{"$f":"IF(FEP18=\"\",\"\",VLOOKUP($Q$10,DATA!$P$2:$R$196,3))","v":""},{"$f":"IF(FEQ18=\"\",\"\",VLOOKUP($Q$10,DATA!$P$2:$R$196,3))","v":""},{"$f":"IF(FER18=\"\",\"\",VLOOKUP($Q$10,DATA!$P$2:$R$196,3))","v":""},{"$f":"IF(FES18=\"\",\"\",VLOOKUP($Q$10,DATA!$P$2:$R$196,3))","v":""},{"$f":"IF(FET18=\"\",\"\",VLOOKUP($Q$10,DATA!$P$2:$R$196,3))","v":""},{"$f":"IF(FEU18=\"\",\"\",VLOOKUP($Q$10,DATA!$P$2:$R$196,3))","v":""},{"$f":"IF(FEV18=\"\",\"\",VLOOKUP($Q$10,DATA!$P$2:$R$196,3))","v":""},{"$f":"IF(FEW18=\"\",\"\",VLOOKUP($Q$10,DATA!$P$2:$R$196,3))","v":""},{"$f":"IF(FEX18=\"\",\"\",VLOOKUP($Q$10,DATA!$P$2:$R$196,3))","v":""},{"$f":"IF(FEY18=\"\",\"\",VLOOKUP($Q$10,DATA!$P$2:$R$196,3))","v":""},{"$f":"IF(FEZ18=\"\",\"\",VLOOKUP($Q$10,DATA!$P$2:$R$196,3))","v":""},{"$f":"IF(FFA18=\"\",\"\",VLOOKUP($Q$10,DATA!$P$2:$R$196,3))","v":""},{"$f":"IF(FFB18=\"\",\"\",VLOOKUP($Q$10,DATA!$P$2:$R$196,3))","v":""},{"$f":"IF(FFC18=\"\",\"\",VLOOKUP($Q$10,DATA!$P$2:$R$196,3))","v":""},{"$f":"IF(FFD18=\"\",\"\",VLOOKUP($Q$10,DATA!$P$2:$R$196,3))","v":""},{"$f":"IF(FFE18=\"\",\"\",VLOOKUP($Q$10,DATA!$P$2:$R$196,3))","v":""},{"$f":"IF(FFF18=\"\",\"\",VLOOKUP($Q$10,DATA!$P$2:$R$196,3))","v":""},{"$f":"IF(FFG18=\"\",\"\",VLOOKUP($Q$10,DATA!$P$2:$R$196,3))","v":""},{"$f":"IF(FFH18=\"\",\"\",VLOOKUP($Q$10,DATA!$P$2:$R$196,3))","v":""},{"$f":"IF(FFI18=\"\",\"\",VLOOKUP($Q$10,DATA!$P$2:$R$196,3))","v":""},{"$f":"IF(FFJ18=\"\",\"\",VLOOKUP($Q$10,DATA!$P$2:$R$196,3))","v":""},{"$f":"IF(FFK18=\"\",\"\",VLOOKUP($Q$10,DATA!$P$2:$R$196,3))","v":""},{"$f":"IF(FFL18=\"\",\"\",VLOOKUP($Q$10,DATA!$P$2:$R$196,3))","v":""},{"$f":"IF(FFM18=\"\",\"\",VLOOKUP($Q$10,DATA!$P$2:$R$196,3))","v":""},{"$f":"IF(FFN18=\"\",\"\",VLOOKUP($Q$10,DATA!$P$2:$R$196,3))","v":""},{"$f":"IF(FFO18=\"\",\"\",VLOOKUP($Q$10,DATA!$P$2:$R$196,3))","v":""},{"$f":"IF(FFP18=\"\",\"\",VLOOKUP($Q$10,DATA!$P$2:$R$196,3))","v":""},{"$f":"IF(FFQ18=\"\",\"\",VLOOKUP($Q$10,DATA!$P$2:$R$196,3))","v":""},{"$f":"IF(FFR18=\"\",\"\",VLOOKUP($Q$10,DATA!$P$2:$R$196,3))","v":""},{"$f":"IF(FFS18=\"\",\"\",VLOOKUP($Q$10,DATA!$P$2:$R$196,3))","v":""},{"$f":"IF(FFT18=\"\",\"\",VLOOKUP($Q$10,DATA!$P$2:$R$196,3))","v":""},{"$f":"IF(FFU18=\"\",\"\",VLOOKUP($Q$10,DATA!$P$2:$R$196,3))","v":""},{"$f":"IF(FFV18=\"\",\"\",VLOOKUP($Q$10,DATA!$P$2:$R$196,3))","v":""},{"$f":"IF(FFW18=\"\",\"\",VLOOKUP($Q$10,DATA!$P$2:$R$196,3))","v":""},{"$f":"IF(FFX18=\"\",\"\",VLOOKUP($Q$10,DATA!$P$2:$R$196,3))","v":""},{"$f":"IF(FFY18=\"\",\"\",VLOOKUP($Q$10,DATA!$P$2:$R$196,3))","v":""},{"$f":"IF(FFZ18=\"\",\"\",VLOOKUP($Q$10,DATA!$P$2:$R$196,3))","v":""},{"$f":"IF(FGA18=\"\",\"\",VLOOKUP($Q$10,DATA!$P$2:$R$196,3))","v":""},{"$f":"IF(FGB18=\"\",\"\",VLOOKUP($Q$10,DATA!$P$2:$R$196,3))","v":""},{"$f":"IF(FGC18=\"\",\"\",VLOOKUP($Q$10,DATA!$P$2:$R$196,3))","v":""},{"$f":"IF(FGD18=\"\",\"\",VLOOKUP($Q$10,DATA!$P$2:$R$196,3))","v":""},{"$f":"IF(FGE18=\"\",\"\",VLOOKUP($Q$10,DATA!$P$2:$R$196,3))","v":""},{"$f":"IF(FGF18=\"\",\"\",VLOOKUP($Q$10,DATA!$P$2:$R$196,3))","v":""},{"$f":"IF(FGG18=\"\",\"\",VLOOKUP($Q$10,DATA!$P$2:$R$196,3))","v":""},{"$f":"IF(FGH18=\"\",\"\",VLOOKUP($Q$10,DATA!$P$2:$R$196,3))","v":""},{"$f":"IF(FGI18=\"\",\"\",VLOOKUP($Q$10,DATA!$P$2:$R$196,3))","v":""},{"$f":"IF(FGJ18=\"\",\"\",VLOOKUP($Q$10,DATA!$P$2:$R$196,3))","v":""},{"$f":"IF(FGK18=\"\",\"\",VLOOKUP($Q$10,DATA!$P$2:$R$196,3))","v":""},{"$f":"IF(FGL18=\"\",\"\",VLOOKUP($Q$10,DATA!$P$2:$R$196,3))","v":""},{"$f":"IF(FGM18=\"\",\"\",VLOOKUP($Q$10,DATA!$P$2:$R$196,3))","v":""},{"$f":"IF(FGN18=\"\",\"\",VLOOKUP($Q$10,DATA!$P$2:$R$196,3))","v":""},{"$f":"IF(FGO18=\"\",\"\",VLOOKUP($Q$10,DATA!$P$2:$R$196,3))","v":""},{"$f":"IF(FGP18=\"\",\"\",VLOOKUP($Q$10,DATA!$P$2:$R$196,3))","v":""},{"$f":"IF(FGQ18=\"\",\"\",VLOOKUP($Q$10,DATA!$P$2:$R$196,3))","v":""},{"$f":"IF(FGR18=\"\",\"\",VLOOKUP($Q$10,DATA!$P$2:$R$196,3))","v":""},{"$f":"IF(FGS18=\"\",\"\",VLOOKUP($Q$10,DATA!$P$2:$R$196,3))","v":""},{"$f":"IF(FGT18=\"\",\"\",VLOOKUP($Q$10,DATA!$P$2:$R$196,3))","v":""},{"$f":"IF(FGU18=\"\",\"\",VLOOKUP($Q$10,DATA!$P$2:$R$196,3))","v":""},{"$f":"IF(FGV18=\"\",\"\",VLOOKUP($Q$10,DATA!$P$2:$R$196,3))","v":""},{"$f":"IF(FGW18=\"\",\"\",VLOOKUP($Q$10,DATA!$P$2:$R$196,3))","v":""},{"$f":"IF(FGX18=\"\",\"\",VLOOKUP($Q$10,DATA!$P$2:$R$196,3))","v":""},{"$f":"IF(FGY18=\"\",\"\",VLOOKUP($Q$10,DATA!$P$2:$R$196,3))","v":""},{"$f":"IF(FGZ18=\"\",\"\",VLOOKUP($Q$10,DATA!$P$2:$R$196,3))","v":""},{"$f":"IF(FHA18=\"\",\"\",VLOOKUP($Q$10,DATA!$P$2:$R$196,3))","v":""},{"$f":"IF(FHB18=\"\",\"\",VLOOKUP($Q$10,DATA!$P$2:$R$196,3))","v":""},{"$f":"IF(FHC18=\"\",\"\",VLOOKUP($Q$10,DATA!$P$2:$R$196,3))","v":""},{"$f":"IF(FHD18=\"\",\"\",VLOOKUP($Q$10,DATA!$P$2:$R$196,3))","v":""},{"$f":"IF(FHE18=\"\",\"\",VLOOKUP($Q$10,DATA!$P$2:$R$196,3))","v":""},{"$f":"IF(FHF18=\"\",\"\",VLOOKUP($Q$10,DATA!$P$2:$R$196,3))","v":""},{"$f":"IF(FHG18=\"\",\"\",VLOOKUP($Q$10,DATA!$P$2:$R$196,3))","v":""},{"$f":"IF(FHH18=\"\",\"\",VLOOKUP($Q$10,DATA!$P$2:$R$196,3))","v":""},{"$f":"IF(FHI18=\"\",\"\",VLOOKUP($Q$10,DATA!$P$2:$R$196,3))","v":""},{"$f":"IF(FHJ18=\"\",\"\",VLOOKUP($Q$10,DATA!$P$2:$R$196,3))","v":""},{"$f":"IF(FHK18=\"\",\"\",VLOOKUP($Q$10,DATA!$P$2:$R$196,3))","v":""},{"$f":"IF(FHL18=\"\",\"\",VLOOKUP($Q$10,DATA!$P$2:$R$196,3))","v":""},{"$f":"IF(FHM18=\"\",\"\",VLOOKUP($Q$10,DATA!$P$2:$R$196,3))","v":""},{"$f":"IF(FHN18=\"\",\"\",VLOOKUP($Q$10,DATA!$P$2:$R$196,3))","v":""},{"$f":"IF(FHO18=\"\",\"\",VLOOKUP($Q$10,DATA!$P$2:$R$196,3))","v":""},{"$f":"IF(FHP18=\"\",\"\",VLOOKUP($Q$10,DATA!$P$2:$R$196,3))","v":""},{"$f":"IF(FHQ18=\"\",\"\",VLOOKUP($Q$10,DATA!$P$2:$R$196,3))","v":""},{"$f":"IF(FHR18=\"\",\"\",VLOOKUP($Q$10,DATA!$P$2:$R$196,3))","v":""},{"$f":"IF(FHS18=\"\",\"\",VLOOKUP($Q$10,DATA!$P$2:$R$196,3))","v":""},{"$f":"IF(FHT18=\"\",\"\",VLOOKUP($Q$10,DATA!$P$2:$R$196,3))","v":""},{"$f":"IF(FHU18=\"\",\"\",VLOOKUP($Q$10,DATA!$P$2:$R$196,3))","v":""},{"$f":"IF(FHV18=\"\",\"\",VLOOKUP($Q$10,DATA!$P$2:$R$196,3))","v":""},{"$f":"IF(FHW18=\"\",\"\",VLOOKUP($Q$10,DATA!$P$2:$R$196,3))","v":""},{"$f":"IF(FHX18=\"\",\"\",VLOOKUP($Q$10,DATA!$P$2:$R$196,3))","v":""},{"$f":"IF(FHY18=\"\",\"\",VLOOKUP($Q$10,DATA!$P$2:$R$196,3))","v":""},{"$f":"IF(FHZ18=\"\",\"\",VLOOKUP($Q$10,DATA!$P$2:$R$196,3))","v":""},{"$f":"IF(FIA18=\"\",\"\",VLOOKUP($Q$10,DATA!$P$2:$R$196,3))","v":""},{"$f":"IF(FIB18=\"\",\"\",VLOOKUP($Q$10,DATA!$P$2:$R$196,3))","v":""},{"$f":"IF(FIC18=\"\",\"\",VLOOKUP($Q$10,DATA!$P$2:$R$196,3))","v":""},{"$f":"IF(FID18=\"\",\"\",VLOOKUP($Q$10,DATA!$P$2:$R$196,3))","v":""},{"$f":"IF(FIE18=\"\",\"\",VLOOKUP($Q$10,DATA!$P$2:$R$196,3))","v":""},{"$f":"IF(FIF18=\"\",\"\",VLOOKUP($Q$10,DATA!$P$2:$R$196,3))","v":""},{"$f":"IF(FIG18=\"\",\"\",VLOOKUP($Q$10,DATA!$P$2:$R$196,3))","v":""},{"$f":"IF(FIH18=\"\",\"\",VLOOKUP($Q$10,DATA!$P$2:$R$196,3))","v":""},{"$f":"IF(FII18=\"\",\"\",VLOOKUP($Q$10,DATA!$P$2:$R$196,3))","v":""},{"$f":"IF(FIJ18=\"\",\"\",VLOOKUP($Q$10,DATA!$P$2:$R$196,3))","v":""},{"$f":"IF(FIK18=\"\",\"\",VLOOKUP($Q$10,DATA!$P$2:$R$196,3))","v":""},{"$f":"IF(FIL18=\"\",\"\",VLOOKUP($Q$10,DATA!$P$2:$R$196,3))","v":""},{"$f":"IF(FIM18=\"\",\"\",VLOOKUP($Q$10,DATA!$P$2:$R$196,3))","v":""},{"$f":"IF(FIN18=\"\",\"\",VLOOKUP($Q$10,DATA!$P$2:$R$196,3))","v":""},{"$f":"IF(FIO18=\"\",\"\",VLOOKUP($Q$10,DATA!$P$2:$R$196,3))","v":""},{"$f":"IF(FIP18=\"\",\"\",VLOOKUP($Q$10,DATA!$P$2:$R$196,3))","v":""},{"$f":"IF(FIQ18=\"\",\"\",VLOOKUP($Q$10,DATA!$P$2:$R$196,3))","v":""},{"$f":"IF(FIR18=\"\",\"\",VLOOKUP($Q$10,DATA!$P$2:$R$196,3))","v":""},{"$f":"IF(FIS18=\"\",\"\",VLOOKUP($Q$10,DATA!$P$2:$R$196,3))","v":""},{"$f":"IF(FIT18=\"\",\"\",VLOOKUP($Q$10,DATA!$P$2:$R$196,3))","v":""},{"$f":"IF(FIU18=\"\",\"\",VLOOKUP($Q$10,DATA!$P$2:$R$196,3))","v":""},{"$f":"IF(FIV18=\"\",\"\",VLOOKUP($Q$10,DATA!$P$2:$R$196,3))","v":""},{"$f":"IF(FIW18=\"\",\"\",VLOOKUP($Q$10,DATA!$P$2:$R$196,3))","v":""},{"$f":"IF(FIX18=\"\",\"\",VLOOKUP($Q$10,DATA!$P$2:$R$196,3))","v":""},{"$f":"IF(FIY18=\"\",\"\",VLOOKUP($Q$10,DATA!$P$2:$R$196,3))","v":""},{"$f":"IF(FIZ18=\"\",\"\",VLOOKUP($Q$10,DATA!$P$2:$R$196,3))","v":""},{"$f":"IF(FJA18=\"\",\"\",VLOOKUP($Q$10,DATA!$P$2:$R$196,3))","v":""},{"$f":"IF(FJB18=\"\",\"\",VLOOKUP($Q$10,DATA!$P$2:$R$196,3))","v":""},{"$f":"IF(FJC18=\"\",\"\",VLOOKUP($Q$10,DATA!$P$2:$R$196,3))","v":""},{"$f":"IF(FJD18=\"\",\"\",VLOOKUP($Q$10,DATA!$P$2:$R$196,3))","v":""},{"$f":"IF(FJE18=\"\",\"\",VLOOKUP($Q$10,DATA!$P$2:$R$196,3))","v":""},{"$f":"IF(FJF18=\"\",\"\",VLOOKUP($Q$10,DATA!$P$2:$R$196,3))","v":""},{"$f":"IF(FJG18=\"\",\"\",VLOOKUP($Q$10,DATA!$P$2:$R$196,3))","v":""},{"$f":"IF(FJH18=\"\",\"\",VLOOKUP($Q$10,DATA!$P$2:$R$196,3))","v":""},{"$f":"IF(FJI18=\"\",\"\",VLOOKUP($Q$10,DATA!$P$2:$R$196,3))","v":""},{"$f":"IF(FJJ18=\"\",\"\",VLOOKUP($Q$10,DATA!$P$2:$R$196,3))","v":""},{"$f":"IF(FJK18=\"\",\"\",VLOOKUP($Q$10,DATA!$P$2:$R$196,3))","v":""},{"$f":"IF(FJL18=\"\",\"\",VLOOKUP($Q$10,DATA!$P$2:$R$196,3))","v":""},{"$f":"IF(FJM18=\"\",\"\",VLOOKUP($Q$10,DATA!$P$2:$R$196,3))","v":""},{"$f":"IF(FJN18=\"\",\"\",VLOOKUP($Q$10,DATA!$P$2:$R$196,3))","v":""},{"$f":"IF(FJO18=\"\",\"\",VLOOKUP($Q$10,DATA!$P$2:$R$196,3))","v":""},{"$f":"IF(FJP18=\"\",\"\",VLOOKUP($Q$10,DATA!$P$2:$R$196,3))","v":""},{"$f":"IF(FJQ18=\"\",\"\",VLOOKUP($Q$10,DATA!$P$2:$R$196,3))","v":""},{"$f":"IF(FJR18=\"\",\"\",VLOOKUP($Q$10,DATA!$P$2:$R$196,3))","v":""},{"$f":"IF(FJS18=\"\",\"\",VLOOKUP($Q$10,DATA!$P$2:$R$196,3))","v":""},{"$f":"IF(FJT18=\"\",\"\",VLOOKUP($Q$10,DATA!$P$2:$R$196,3))","v":""},{"$f":"IF(FJU18=\"\",\"\",VLOOKUP($Q$10,DATA!$P$2:$R$196,3))","v":""},{"$f":"IF(FJV18=\"\",\"\",VLOOKUP($Q$10,DATA!$P$2:$R$196,3))","v":""},{"$f":"IF(FJW18=\"\",\"\",VLOOKUP($Q$10,DATA!$P$2:$R$196,3))","v":""},{"$f":"IF(FJX18=\"\",\"\",VLOOKUP($Q$10,DATA!$P$2:$R$196,3))","v":""},{"$f":"IF(FJY18=\"\",\"\",VLOOKUP($Q$10,DATA!$P$2:$R$196,3))","v":""},{"$f":"IF(FJZ18=\"\",\"\",VLOOKUP($Q$10,DATA!$P$2:$R$196,3))","v":""},{"$f":"IF(FKA18=\"\",\"\",VLOOKUP($Q$10,DATA!$P$2:$R$196,3))","v":""},{"$f":"IF(FKB18=\"\",\"\",VLOOKUP($Q$10,DATA!$P$2:$R$196,3))","v":""},{"$f":"IF(FKC18=\"\",\"\",VLOOKUP($Q$10,DATA!$P$2:$R$196,3))","v":""},{"$f":"IF(FKD18=\"\",\"\",VLOOKUP($Q$10,DATA!$P$2:$R$196,3))","v":""},{"$f":"IF(FKE18=\"\",\"\",VLOOKUP($Q$10,DATA!$P$2:$R$196,3))","v":""},{"$f":"IF(FKF18=\"\",\"\",VLOOKUP($Q$10,DATA!$P$2:$R$196,3))","v":""},{"$f":"IF(FKG18=\"\",\"\",VLOOKUP($Q$10,DATA!$P$2:$R$196,3))","v":""},{"$f":"IF(FKH18=\"\",\"\",VLOOKUP($Q$10,DATA!$P$2:$R$196,3))","v":""},{"$f":"IF(FKI18=\"\",\"\",VLOOKUP($Q$10,DATA!$P$2:$R$196,3))","v":""},{"$f":"IF(FKJ18=\"\",\"\",VLOOKUP($Q$10,DATA!$P$2:$R$196,3))","v":""},{"$f":"IF(FKK18=\"\",\"\",VLOOKUP($Q$10,DATA!$P$2:$R$196,3))","v":""},{"$f":"IF(FKL18=\"\",\"\",VLOOKUP($Q$10,DATA!$P$2:$R$196,3))","v":""},{"$f":"IF(FKM18=\"\",\"\",VLOOKUP($Q$10,DATA!$P$2:$R$196,3))","v":""},{"$f":"IF(FKN18=\"\",\"\",VLOOKUP($Q$10,DATA!$P$2:$R$196,3))","v":""},{"$f":"IF(FKO18=\"\",\"\",VLOOKUP($Q$10,DATA!$P$2:$R$196,3))","v":""},{"$f":"IF(FKP18=\"\",\"\",VLOOKUP($Q$10,DATA!$P$2:$R$196,3))","v":""},{"$f":"IF(FKQ18=\"\",\"\",VLOOKUP($Q$10,DATA!$P$2:$R$196,3))","v":""},{"$f":"IF(FKR18=\"\",\"\",VLOOKUP($Q$10,DATA!$P$2:$R$196,3))","v":""},{"$f":"IF(FKS18=\"\",\"\",VLOOKUP($Q$10,DATA!$P$2:$R$196,3))","v":""},{"$f":"IF(FKT18=\"\",\"\",VLOOKUP($Q$10,DATA!$P$2:$R$196,3))","v":""},{"$f":"IF(FKU18=\"\",\"\",VLOOKUP($Q$10,DATA!$P$2:$R$196,3))","v":""},{"$f":"IF(FKV18=\"\",\"\",VLOOKUP($Q$10,DATA!$P$2:$R$196,3))","v":""},{"$f":"IF(FKW18=\"\",\"\",VLOOKUP($Q$10,DATA!$P$2:$R$196,3))","v":""},{"$f":"IF(FKX18=\"\",\"\",VLOOKUP($Q$10,DATA!$P$2:$R$196,3))","v":""},{"$f":"IF(FKY18=\"\",\"\",VLOOKUP($Q$10,DATA!$P$2:$R$196,3))","v":""},{"$f":"IF(FKZ18=\"\",\"\",VLOOKUP($Q$10,DATA!$P$2:$R$196,3))","v":""},{"$f":"IF(FLA18=\"\",\"\",VLOOKUP($Q$10,DATA!$P$2:$R$196,3))","v":""},{"$f":"IF(FLB18=\"\",\"\",VLOOKUP($Q$10,DATA!$P$2:$R$196,3))","v":""},{"$f":"IF(FLC18=\"\",\"\",VLOOKUP($Q$10,DATA!$P$2:$R$196,3))","v":""},{"$f":"IF(FLD18=\"\",\"\",VLOOKUP($Q$10,DATA!$P$2:$R$196,3))","v":""},{"$f":"IF(FLE18=\"\",\"\",VLOOKUP($Q$10,DATA!$P$2:$R$196,3))","v":""},{"$f":"IF(FLF18=\"\",\"\",VLOOKUP($Q$10,DATA!$P$2:$R$196,3))","v":""},{"$f":"IF(FLG18=\"\",\"\",VLOOKUP($Q$10,DATA!$P$2:$R$196,3))","v":""},{"$f":"IF(FLH18=\"\",\"\",VLOOKUP($Q$10,DATA!$P$2:$R$196,3))","v":""},{"$f":"IF(FLI18=\"\",\"\",VLOOKUP($Q$10,DATA!$P$2:$R$196,3))","v":""},{"$f":"IF(FLJ18=\"\",\"\",VLOOKUP($Q$10,DATA!$P$2:$R$196,3))","v":""},{"$f":"IF(FLK18=\"\",\"\",VLOOKUP($Q$10,DATA!$P$2:$R$196,3))","v":""},{"$f":"IF(FLL18=\"\",\"\",VLOOKUP($Q$10,DATA!$P$2:$R$196,3))","v":""},{"$f":"IF(FLM18=\"\",\"\",VLOOKUP($Q$10,DATA!$P$2:$R$196,3))","v":""},{"$f":"IF(FLN18=\"\",\"\",VLOOKUP($Q$10,DATA!$P$2:$R$196,3))","v":""},{"$f":"IF(FLO18=\"\",\"\",VLOOKUP($Q$10,DATA!$P$2:$R$196,3))","v":""},{"$f":"IF(FLP18=\"\",\"\",VLOOKUP($Q$10,DATA!$P$2:$R$196,3))","v":""},{"$f":"IF(FLQ18=\"\",\"\",VLOOKUP($Q$10,DATA!$P$2:$R$196,3))","v":""},{"$f":"IF(FLR18=\"\",\"\",VLOOKUP($Q$10,DATA!$P$2:$R$196,3))","v":""},{"$f":"IF(FLS18=\"\",\"\",VLOOKUP($Q$10,DATA!$P$2:$R$196,3))","v":""},{"$f":"IF(FLT18=\"\",\"\",VLOOKUP($Q$10,DATA!$P$2:$R$196,3))","v":""},{"$f":"IF(FLU18=\"\",\"\",VLOOKUP($Q$10,DATA!$P$2:$R$196,3))","v":""},{"$f":"IF(FLV18=\"\",\"\",VLOOKUP($Q$10,DATA!$P$2:$R$196,3))","v":""},{"$f":"IF(FLW18=\"\",\"\",VLOOKUP($Q$10,DATA!$P$2:$R$196,3))","v":""},{"$f":"IF(FLX18=\"\",\"\",VLOOKUP($Q$10,DATA!$P$2:$R$196,3))","v":""},{"$f":"IF(FLY18=\"\",\"\",VLOOKUP($Q$10,DATA!$P$2:$R$196,3))","v":""},{"$f":"IF(FLZ18=\"\",\"\",VLOOKUP($Q$10,DATA!$P$2:$R$196,3))","v":""},{"$f":"IF(FMA18=\"\",\"\",VLOOKUP($Q$10,DATA!$P$2:$R$196,3))","v":""},{"$f":"IF(FMB18=\"\",\"\",VLOOKUP($Q$10,DATA!$P$2:$R$196,3))","v":""},{"$f":"IF(FMC18=\"\",\"\",VLOOKUP($Q$10,DATA!$P$2:$R$196,3))","v":""},{"$f":"IF(FMD18=\"\",\"\",VLOOKUP($Q$10,DATA!$P$2:$R$196,3))","v":""},{"$f":"IF(FME18=\"\",\"\",VLOOKUP($Q$10,DATA!$P$2:$R$196,3))","v":""},{"$f":"IF(FMF18=\"\",\"\",VLOOKUP($Q$10,DATA!$P$2:$R$196,3))","v":""},{"$f":"IF(FMG18=\"\",\"\",VLOOKUP($Q$10,DATA!$P$2:$R$196,3))","v":""},{"$f":"IF(FMH18=\"\",\"\",VLOOKUP($Q$10,DATA!$P$2:$R$196,3))","v":""},{"$f":"IF(FMI18=\"\",\"\",VLOOKUP($Q$10,DATA!$P$2:$R$196,3))","v":""},{"$f":"IF(FMJ18=\"\",\"\",VLOOKUP($Q$10,DATA!$P$2:$R$196,3))","v":""},{"$f":"IF(FMK18=\"\",\"\",VLOOKUP($Q$10,DATA!$P$2:$R$196,3))","v":""},{"$f":"IF(FML18=\"\",\"\",VLOOKUP($Q$10,DATA!$P$2:$R$196,3))","v":""},{"$f":"IF(FMM18=\"\",\"\",VLOOKUP($Q$10,DATA!$P$2:$R$196,3))","v":""},{"$f":"IF(FMN18=\"\",\"\",VLOOKUP($Q$10,DATA!$P$2:$R$196,3))","v":""},{"$f":"IF(FMO18=\"\",\"\",VLOOKUP($Q$10,DATA!$P$2:$R$196,3))","v":""},{"$f":"IF(FMP18=\"\",\"\",VLOOKUP($Q$10,DATA!$P$2:$R$196,3))","v":""},{"$f":"IF(FMQ18=\"\",\"\",VLOOKUP($Q$10,DATA!$P$2:$R$196,3))","v":""},{"$f":"IF(FMR18=\"\",\"\",VLOOKUP($Q$10,DATA!$P$2:$R$196,3))","v":""},{"$f":"IF(FMS18=\"\",\"\",VLOOKUP($Q$10,DATA!$P$2:$R$196,3))","v":""},{"$f":"IF(FMT18=\"\",\"\",VLOOKUP($Q$10,DATA!$P$2:$R$196,3))","v":""},{"$f":"IF(FMU18=\"\",\"\",VLOOKUP($Q$10,DATA!$P$2:$R$196,3))","v":""},{"$f":"IF(FMV18=\"\",\"\",VLOOKUP($Q$10,DATA!$P$2:$R$196,3))","v":""},{"$f":"IF(FMW18=\"\",\"\",VLOOKUP($Q$10,DATA!$P$2:$R$196,3))","v":""},{"$f":"IF(FMX18=\"\",\"\",VLOOKUP($Q$10,DATA!$P$2:$R$196,3))","v":""},{"$f":"IF(FMY18=\"\",\"\",VLOOKUP($Q$10,DATA!$P$2:$R$196,3))","v":""},{"$f":"IF(FMZ18=\"\",\"\",VLOOKUP($Q$10,DATA!$P$2:$R$196,3))","v":""},{"$f":"IF(FNA18=\"\",\"\",VLOOKUP($Q$10,DATA!$P$2:$R$196,3))","v":""},{"$f":"IF(FNB18=\"\",\"\",VLOOKUP($Q$10,DATA!$P$2:$R$196,3))","v":""},{"$f":"IF(FNC18=\"\",\"\",VLOOKUP($Q$10,DATA!$P$2:$R$196,3))","v":""},{"$f":"IF(FND18=\"\",\"\",VLOOKUP($Q$10,DATA!$P$2:$R$196,3))","v":""},{"$f":"IF(FNE18=\"\",\"\",VLOOKUP($Q$10,DATA!$P$2:$R$196,3))","v":""},{"$f":"IF(FNF18=\"\",\"\",VLOOKUP($Q$10,DATA!$P$2:$R$196,3))","v":""},{"$f":"IF(FNG18=\"\",\"\",VLOOKUP($Q$10,DATA!$P$2:$R$196,3))","v":""},{"$f":"IF(FNH18=\"\",\"\",VLOOKUP($Q$10,DATA!$P$2:$R$196,3))","v":""},{"$f":"IF(FNI18=\"\",\"\",VLOOKUP($Q$10,DATA!$P$2:$R$196,3))","v":""},{"$f":"IF(FNJ18=\"\",\"\",VLOOKUP($Q$10,DATA!$P$2:$R$196,3))","v":""},{"$f":"IF(FNK18=\"\",\"\",VLOOKUP($Q$10,DATA!$P$2:$R$196,3))","v":""},{"$f":"IF(FNL18=\"\",\"\",VLOOKUP($Q$10,DATA!$P$2:$R$196,3))","v":""},{"$f":"IF(FNM18=\"\",\"\",VLOOKUP($Q$10,DATA!$P$2:$R$196,3))","v":""},{"$f":"IF(FNN18=\"\",\"\",VLOOKUP($Q$10,DATA!$P$2:$R$196,3))","v":""},{"$f":"IF(FNO18=\"\",\"\",VLOOKUP($Q$10,DATA!$P$2:$R$196,3))","v":""},{"$f":"IF(FNP18=\"\",\"\",VLOOKUP($Q$10,DATA!$P$2:$R$196,3))","v":""},{"$f":"IF(FNQ18=\"\",\"\",VLOOKUP($Q$10,DATA!$P$2:$R$196,3))","v":""},{"$f":"IF(FNR18=\"\",\"\",VLOOKUP($Q$10,DATA!$P$2:$R$196,3))","v":""},{"$f":"IF(FNS18=\"\",\"\",VLOOKUP($Q$10,DATA!$P$2:$R$196,3))","v":""},{"$f":"IF(FNT18=\"\",\"\",VLOOKUP($Q$10,DATA!$P$2:$R$196,3))","v":""},{"$f":"IF(FNU18=\"\",\"\",VLOOKUP($Q$10,DATA!$P$2:$R$196,3))","v":""},{"$f":"IF(FNV18=\"\",\"\",VLOOKUP($Q$10,DATA!$P$2:$R$196,3))","v":""},{"$f":"IF(FNW18=\"\",\"\",VLOOKUP($Q$10,DATA!$P$2:$R$196,3))","v":""},{"$f":"IF(FNX18=\"\",\"\",VLOOKUP($Q$10,DATA!$P$2:$R$196,3))","v":""},{"$f":"IF(FNY18=\"\",\"\",VLOOKUP($Q$10,DATA!$P$2:$R$196,3))","v":""},{"$f":"IF(FNZ18=\"\",\"\",VLOOKUP($Q$10,DATA!$P$2:$R$196,3))","v":""},{"$f":"IF(FOA18=\"\",\"\",VLOOKUP($Q$10,DATA!$P$2:$R$196,3))","v":""},{"$f":"IF(FOB18=\"\",\"\",VLOOKUP($Q$10,DATA!$P$2:$R$196,3))","v":""},{"$f":"IF(FOC18=\"\",\"\",VLOOKUP($Q$10,DATA!$P$2:$R$196,3))","v":""},{"$f":"IF(FOD18=\"\",\"\",VLOOKUP($Q$10,DATA!$P$2:$R$196,3))","v":""},{"$f":"IF(FOE18=\"\",\"\",VLOOKUP($Q$10,DATA!$P$2:$R$196,3))","v":""},{"$f":"IF(FOF18=\"\",\"\",VLOOKUP($Q$10,DATA!$P$2:$R$196,3))","v":""},{"$f":"IF(FOG18=\"\",\"\",VLOOKUP($Q$10,DATA!$P$2:$R$196,3))","v":""},{"$f":"IF(FOH18=\"\",\"\",VLOOKUP($Q$10,DATA!$P$2:$R$196,3))","v":""},{"$f":"IF(FOI18=\"\",\"\",VLOOKUP($Q$10,DATA!$P$2:$R$196,3))","v":""},{"$f":"IF(FOJ18=\"\",\"\",VLOOKUP($Q$10,DATA!$P$2:$R$196,3))","v":""},{"$f":"IF(FOK18=\"\",\"\",VLOOKUP($Q$10,DATA!$P$2:$R$196,3))","v":""},{"$f":"IF(FOL18=\"\",\"\",VLOOKUP($Q$10,DATA!$P$2:$R$196,3))","v":""},{"$f":"IF(FOM18=\"\",\"\",VLOOKUP($Q$10,DATA!$P$2:$R$196,3))","v":""},{"$f":"IF(FON18=\"\",\"\",VLOOKUP($Q$10,DATA!$P$2:$R$196,3))","v":""},{"$f":"IF(FOO18=\"\",\"\",VLOOKUP($Q$10,DATA!$P$2:$R$196,3))","v":""},{"$f":"IF(FOP18=\"\",\"\",VLOOKUP($Q$10,DATA!$P$2:$R$196,3))","v":""},{"$f":"IF(FOQ18=\"\",\"\",VLOOKUP($Q$10,DATA!$P$2:$R$196,3))","v":""},{"$f":"IF(FOR18=\"\",\"\",VLOOKUP($Q$10,DATA!$P$2:$R$196,3))","v":""},{"$f":"IF(FOS18=\"\",\"\",VLOOKUP($Q$10,DATA!$P$2:$R$196,3))","v":""},{"$f":"IF(FOT18=\"\",\"\",VLOOKUP($Q$10,DATA!$P$2:$R$196,3))","v":""},{"$f":"IF(FOU18=\"\",\"\",VLOOKUP($Q$10,DATA!$P$2:$R$196,3))","v":""},{"$f":"IF(FOV18=\"\",\"\",VLOOKUP($Q$10,DATA!$P$2:$R$196,3))","v":""},{"$f":"IF(FOW18=\"\",\"\",VLOOKUP($Q$10,DATA!$P$2:$R$196,3))","v":""},{"$f":"IF(FOX18=\"\",\"\",VLOOKUP($Q$10,DATA!$P$2:$R$196,3))","v":""},{"$f":"IF(FOY18=\"\",\"\",VLOOKUP($Q$10,DATA!$P$2:$R$196,3))","v":""},{"$f":"IF(FOZ18=\"\",\"\",VLOOKUP($Q$10,DATA!$P$2:$R$196,3))","v":""},{"$f":"IF(FPA18=\"\",\"\",VLOOKUP($Q$10,DATA!$P$2:$R$196,3))","v":""},{"$f":"IF(FPB18=\"\",\"\",VLOOKUP($Q$10,DATA!$P$2:$R$196,3))","v":""},{"$f":"IF(FPC18=\"\",\"\",VLOOKUP($Q$10,DATA!$P$2:$R$196,3))","v":""},{"$f":"IF(FPD18=\"\",\"\",VLOOKUP($Q$10,DATA!$P$2:$R$196,3))","v":""},{"$f":"IF(FPE18=\"\",\"\",VLOOKUP($Q$10,DATA!$P$2:$R$196,3))","v":""},{"$f":"IF(FPF18=\"\",\"\",VLOOKUP($Q$10,DATA!$P$2:$R$196,3))","v":""},{"$f":"IF(FPG18=\"\",\"\",VLOOKUP($Q$10,DATA!$P$2:$R$196,3))","v":""},{"$f":"IF(FPH18=\"\",\"\",VLOOKUP($Q$10,DATA!$P$2:$R$196,3))","v":""},{"$f":"IF(FPI18=\"\",\"\",VLOOKUP($Q$10,DATA!$P$2:$R$196,3))","v":""},{"$f":"IF(FPJ18=\"\",\"\",VLOOKUP($Q$10,DATA!$P$2:$R$196,3))","v":""},{"$f":"IF(FPK18=\"\",\"\",VLOOKUP($Q$10,DATA!$P$2:$R$196,3))","v":""},{"$f":"IF(FPL18=\"\",\"\",VLOOKUP($Q$10,DATA!$P$2:$R$196,3))","v":""},{"$f":"IF(FPM18=\"\",\"\",VLOOKUP($Q$10,DATA!$P$2:$R$196,3))","v":""},{"$f":"IF(FPN18=\"\",\"\",VLOOKUP($Q$10,DATA!$P$2:$R$196,3))","v":""},{"$f":"IF(FPO18=\"\",\"\",VLOOKUP($Q$10,DATA!$P$2:$R$196,3))","v":""},{"$f":"IF(FPP18=\"\",\"\",VLOOKUP($Q$10,DATA!$P$2:$R$196,3))","v":""},{"$f":"IF(FPQ18=\"\",\"\",VLOOKUP($Q$10,DATA!$P$2:$R$196,3))","v":""},{"$f":"IF(FPR18=\"\",\"\",VLOOKUP($Q$10,DATA!$P$2:$R$196,3))","v":""},{"$f":"IF(FPS18=\"\",\"\",VLOOKUP($Q$10,DATA!$P$2:$R$196,3))","v":""},{"$f":"IF(FPT18=\"\",\"\",VLOOKUP($Q$10,DATA!$P$2:$R$196,3))","v":""},{"$f":"IF(FPU18=\"\",\"\",VLOOKUP($Q$10,DATA!$P$2:$R$196,3))","v":""},{"$f":"IF(FPV18=\"\",\"\",VLOOKUP($Q$10,DATA!$P$2:$R$196,3))","v":""},{"$f":"IF(FPW18=\"\",\"\",VLOOKUP($Q$10,DATA!$P$2:$R$196,3))","v":""},{"$f":"IF(FPX18=\"\",\"\",VLOOKUP($Q$10,DATA!$P$2:$R$196,3))","v":""},{"$f":"IF(FPY18=\"\",\"\",VLOOKUP($Q$10,DATA!$P$2:$R$196,3))","v":""},{"$f":"IF(FPZ18=\"\",\"\",VLOOKUP($Q$10,DATA!$P$2:$R$196,3))","v":""},{"$f":"IF(FQA18=\"\",\"\",VLOOKUP($Q$10,DATA!$P$2:$R$196,3))","v":""},{"$f":"IF(FQB18=\"\",\"\",VLOOKUP($Q$10,DATA!$P$2:$R$196,3))","v":""},{"$f":"IF(FQC18=\"\",\"\",VLOOKUP($Q$10,DATA!$P$2:$R$196,3))","v":""},{"$f":"IF(FQD18=\"\",\"\",VLOOKUP($Q$10,DATA!$P$2:$R$196,3))","v":""},{"$f":"IF(FQE18=\"\",\"\",VLOOKUP($Q$10,DATA!$P$2:$R$196,3))","v":""},{"$f":"IF(FQF18=\"\",\"\",VLOOKUP($Q$10,DATA!$P$2:$R$196,3))","v":""},{"$f":"IF(FQG18=\"\",\"\",VLOOKUP($Q$10,DATA!$P$2:$R$196,3))","v":""},{"$f":"IF(FQH18=\"\",\"\",VLOOKUP($Q$10,DATA!$P$2:$R$196,3))","v":""},{"$f":"IF(FQI18=\"\",\"\",VLOOKUP($Q$10,DATA!$P$2:$R$196,3))","v":""},{"$f":"IF(FQJ18=\"\",\"\",VLOOKUP($Q$10,DATA!$P$2:$R$196,3))","v":""},{"$f":"IF(FQK18=\"\",\"\",VLOOKUP($Q$10,DATA!$P$2:$R$196,3))","v":""},{"$f":"IF(FQL18=\"\",\"\",VLOOKUP($Q$10,DATA!$P$2:$R$196,3))","v":""},{"$f":"IF(FQM18=\"\",\"\",VLOOKUP($Q$10,DATA!$P$2:$R$196,3))","v":""},{"$f":"IF(FQN18=\"\",\"\",VLOOKUP($Q$10,DATA!$P$2:$R$196,3))","v":""},{"$f":"IF(FQO18=\"\",\"\",VLOOKUP($Q$10,DATA!$P$2:$R$196,3))","v":""},{"$f":"IF(FQP18=\"\",\"\",VLOOKUP($Q$10,DATA!$P$2:$R$196,3))","v":""},{"$f":"IF(FQQ18=\"\",\"\",VLOOKUP($Q$10,DATA!$P$2:$R$196,3))","v":""},{"$f":"IF(FQR18=\"\",\"\",VLOOKUP($Q$10,DATA!$P$2:$R$196,3))","v":""},{"$f":"IF(FQS18=\"\",\"\",VLOOKUP($Q$10,DATA!$P$2:$R$196,3))","v":""},{"$f":"IF(FQT18=\"\",\"\",VLOOKUP($Q$10,DATA!$P$2:$R$196,3))","v":""},{"$f":"IF(FQU18=\"\",\"\",VLOOKUP($Q$10,DATA!$P$2:$R$196,3))","v":""},{"$f":"IF(FQV18=\"\",\"\",VLOOKUP($Q$10,DATA!$P$2:$R$196,3))","v":""},{"$f":"IF(FQW18=\"\",\"\",VLOOKUP($Q$10,DATA!$P$2:$R$196,3))","v":""},{"$f":"IF(FQX18=\"\",\"\",VLOOKUP($Q$10,DATA!$P$2:$R$196,3))","v":""},{"$f":"IF(FQY18=\"\",\"\",VLOOKUP($Q$10,DATA!$P$2:$R$196,3))","v":""},{"$f":"IF(FQZ18=\"\",\"\",VLOOKUP($Q$10,DATA!$P$2:$R$196,3))","v":""},{"$f":"IF(FRA18=\"\",\"\",VLOOKUP($Q$10,DATA!$P$2:$R$196,3))","v":""},{"$f":"IF(FRB18=\"\",\"\",VLOOKUP($Q$10,DATA!$P$2:$R$196,3))","v":""},{"$f":"IF(FRC18=\"\",\"\",VLOOKUP($Q$10,DATA!$P$2:$R$196,3))","v":""},{"$f":"IF(FRD18=\"\",\"\",VLOOKUP($Q$10,DATA!$P$2:$R$196,3))","v":""},{"$f":"IF(FRE18=\"\",\"\",VLOOKUP($Q$10,DATA!$P$2:$R$196,3))","v":""},{"$f":"IF(FRF18=\"\",\"\",VLOOKUP($Q$10,DATA!$P$2:$R$196,3))","v":""},{"$f":"IF(FRG18=\"\",\"\",VLOOKUP($Q$10,DATA!$P$2:$R$196,3))","v":""},{"$f":"IF(FRH18=\"\",\"\",VLOOKUP($Q$10,DATA!$P$2:$R$196,3))","v":""},{"$f":"IF(FRI18=\"\",\"\",VLOOKUP($Q$10,DATA!$P$2:$R$196,3))","v":""},{"$f":"IF(FRJ18=\"\",\"\",VLOOKUP($Q$10,DATA!$P$2:$R$196,3))","v":""},{"$f":"IF(FRK18=\"\",\"\",VLOOKUP($Q$10,DATA!$P$2:$R$196,3))","v":""},{"$f":"IF(FRL18=\"\",\"\",VLOOKUP($Q$10,DATA!$P$2:$R$196,3))","v":""},{"$f":"IF(FRM18=\"\",\"\",VLOOKUP($Q$10,DATA!$P$2:$R$196,3))","v":""},{"$f":"IF(FRN18=\"\",\"\",VLOOKUP($Q$10,DATA!$P$2:$R$196,3))","v":""},{"$f":"IF(FRO18=\"\",\"\",VLOOKUP($Q$10,DATA!$P$2:$R$196,3))","v":""},{"$f":"IF(FRP18=\"\",\"\",VLOOKUP($Q$10,DATA!$P$2:$R$196,3))","v":""},{"$f":"IF(FRQ18=\"\",\"\",VLOOKUP($Q$10,DATA!$P$2:$R$196,3))","v":""},{"$f":"IF(FRR18=\"\",\"\",VLOOKUP($Q$10,DATA!$P$2:$R$196,3))","v":""},{"$f":"IF(FRS18=\"\",\"\",VLOOKUP($Q$10,DATA!$P$2:$R$196,3))","v":""},{"$f":"IF(FRT18=\"\",\"\",VLOOKUP($Q$10,DATA!$P$2:$R$196,3))","v":""},{"$f":"IF(FRU18=\"\",\"\",VLOOKUP($Q$10,DATA!$P$2:$R$196,3))","v":""},{"$f":"IF(FRV18=\"\",\"\",VLOOKUP($Q$10,DATA!$P$2:$R$196,3))","v":""},{"$f":"IF(FRW18=\"\",\"\",VLOOKUP($Q$10,DATA!$P$2:$R$196,3))","v":""},{"$f":"IF(FRX18=\"\",\"\",VLOOKUP($Q$10,DATA!$P$2:$R$196,3))","v":""},{"$f":"IF(FRY18=\"\",\"\",VLOOKUP($Q$10,DATA!$P$2:$R$196,3))","v":""},{"$f":"IF(FRZ18=\"\",\"\",VLOOKUP($Q$10,DATA!$P$2:$R$196,3))","v":""},{"$f":"IF(FSA18=\"\",\"\",VLOOKUP($Q$10,DATA!$P$2:$R$196,3))","v":""},{"$f":"IF(FSB18=\"\",\"\",VLOOKUP($Q$10,DATA!$P$2:$R$196,3))","v":""},{"$f":"IF(FSC18=\"\",\"\",VLOOKUP($Q$10,DATA!$P$2:$R$196,3))","v":""},{"$f":"IF(FSD18=\"\",\"\",VLOOKUP($Q$10,DATA!$P$2:$R$196,3))","v":""},{"$f":"IF(FSE18=\"\",\"\",VLOOKUP($Q$10,DATA!$P$2:$R$196,3))","v":""},{"$f":"IF(FSF18=\"\",\"\",VLOOKUP($Q$10,DATA!$P$2:$R$196,3))","v":""},{"$f":"IF(FSG18=\"\",\"\",VLOOKUP($Q$10,DATA!$P$2:$R$196,3))","v":""},{"$f":"IF(FSH18=\"\",\"\",VLOOKUP($Q$10,DATA!$P$2:$R$196,3))","v":""},{"$f":"IF(FSI18=\"\",\"\",VLOOKUP($Q$10,DATA!$P$2:$R$196,3))","v":""},{"$f":"IF(FSJ18=\"\",\"\",VLOOKUP($Q$10,DATA!$P$2:$R$196,3))","v":""},{"$f":"IF(FSK18=\"\",\"\",VLOOKUP($Q$10,DATA!$P$2:$R$196,3))","v":""},{"$f":"IF(FSL18=\"\",\"\",VLOOKUP($Q$10,DATA!$P$2:$R$196,3))","v":""},{"$f":"IF(FSM18=\"\",\"\",VLOOKUP($Q$10,DATA!$P$2:$R$196,3))","v":""},{"$f":"IF(FSN18=\"\",\"\",VLOOKUP($Q$10,DATA!$P$2:$R$196,3))","v":""},{"$f":"IF(FSO18=\"\",\"\",VLOOKUP($Q$10,DATA!$P$2:$R$196,3))","v":""},{"$f":"IF(FSP18=\"\",\"\",VLOOKUP($Q$10,DATA!$P$2:$R$196,3))","v":""},{"$f":"IF(FSQ18=\"\",\"\",VLOOKUP($Q$10,DATA!$P$2:$R$196,3))","v":""},{"$f":"IF(FSR18=\"\",\"\",VLOOKUP($Q$10,DATA!$P$2:$R$196,3))","v":""},{"$f":"IF(FSS18=\"\",\"\",VLOOKUP($Q$10,DATA!$P$2:$R$196,3))","v":""},{"$f":"IF(FST18=\"\",\"\",VLOOKUP($Q$10,DATA!$P$2:$R$196,3))","v":""},{"$f":"IF(FSU18=\"\",\"\",VLOOKUP($Q$10,DATA!$P$2:$R$196,3))","v":""},{"$f":"IF(FSV18=\"\",\"\",VLOOKUP($Q$10,DATA!$P$2:$R$196,3))","v":""},{"$f":"IF(FSW18=\"\",\"\",VLOOKUP($Q$10,DATA!$P$2:$R$196,3))","v":""},{"$f":"IF(FSX18=\"\",\"\",VLOOKUP($Q$10,DATA!$P$2:$R$196,3))","v":""},{"$f":"IF(FSY18=\"\",\"\",VLOOKUP($Q$10,DATA!$P$2:$R$196,3))","v":""},{"$f":"IF(FSZ18=\"\",\"\",VLOOKUP($Q$10,DATA!$P$2:$R$196,3))","v":""},{"$f":"IF(FTA18=\"\",\"\",VLOOKUP($Q$10,DATA!$P$2:$R$196,3))","v":""},{"$f":"IF(FTB18=\"\",\"\",VLOOKUP($Q$10,DATA!$P$2:$R$196,3))","v":""},{"$f":"IF(FTC18=\"\",\"\",VLOOKUP($Q$10,DATA!$P$2:$R$196,3))","v":""},{"$f":"IF(FTD18=\"\",\"\",VLOOKUP($Q$10,DATA!$P$2:$R$196,3))","v":""},{"$f":"IF(FTE18=\"\",\"\",VLOOKUP($Q$10,DATA!$P$2:$R$196,3))","v":""},{"$f":"IF(FTF18=\"\",\"\",VLOOKUP($Q$10,DATA!$P$2:$R$196,3))","v":""},{"$f":"IF(FTG18=\"\",\"\",VLOOKUP($Q$10,DATA!$P$2:$R$196,3))","v":""},{"$f":"IF(FTH18=\"\",\"\",VLOOKUP($Q$10,DATA!$P$2:$R$196,3))","v":""},{"$f":"IF(FTI18=\"\",\"\",VLOOKUP($Q$10,DATA!$P$2:$R$196,3))","v":""},{"$f":"IF(FTJ18=\"\",\"\",VLOOKUP($Q$10,DATA!$P$2:$R$196,3))","v":""},{"$f":"IF(FTK18=\"\",\"\",VLOOKUP($Q$10,DATA!$P$2:$R$196,3))","v":""},{"$f":"IF(FTL18=\"\",\"\",VLOOKUP($Q$10,DATA!$P$2:$R$196,3))","v":""},{"$f":"IF(FTM18=\"\",\"\",VLOOKUP($Q$10,DATA!$P$2:$R$196,3))","v":""},{"$f":"IF(FTN18=\"\",\"\",VLOOKUP($Q$10,DATA!$P$2:$R$196,3))","v":""},{"$f":"IF(FTO18=\"\",\"\",VLOOKUP($Q$10,DATA!$P$2:$R$196,3))","v":""},{"$f":"IF(FTP18=\"\",\"\",VLOOKUP($Q$10,DATA!$P$2:$R$196,3))","v":""},{"$f":"IF(FTQ18=\"\",\"\",VLOOKUP($Q$10,DATA!$P$2:$R$196,3))","v":""},{"$f":"IF(FTR18=\"\",\"\",VLOOKUP($Q$10,DATA!$P$2:$R$196,3))","v":""},{"$f":"IF(FTS18=\"\",\"\",VLOOKUP($Q$10,DATA!$P$2:$R$196,3))","v":""},{"$f":"IF(FTT18=\"\",\"\",VLOOKUP($Q$10,DATA!$P$2:$R$196,3))","v":""},{"$f":"IF(FTU18=\"\",\"\",VLOOKUP($Q$10,DATA!$P$2:$R$196,3))","v":""},{"$f":"IF(FTV18=\"\",\"\",VLOOKUP($Q$10,DATA!$P$2:$R$196,3))","v":""},{"$f":"IF(FTW18=\"\",\"\",VLOOKUP($Q$10,DATA!$P$2:$R$196,3))","v":""},{"$f":"IF(FTX18=\"\",\"\",VLOOKUP($Q$10,DATA!$P$2:$R$196,3))","v":""},{"$f":"IF(FTY18=\"\",\"\",VLOOKUP($Q$10,DATA!$P$2:$R$196,3))","v":""},{"$f":"IF(FTZ18=\"\",\"\",VLOOKUP($Q$10,DATA!$P$2:$R$196,3))","v":""},{"$f":"IF(FUA18=\"\",\"\",VLOOKUP($Q$10,DATA!$P$2:$R$196,3))","v":""},{"$f":"IF(FUB18=\"\",\"\",VLOOKUP($Q$10,DATA!$P$2:$R$196,3))","v":""},{"$f":"IF(FUC18=\"\",\"\",VLOOKUP($Q$10,DATA!$P$2:$R$196,3))","v":""},{"$f":"IF(FUD18=\"\",\"\",VLOOKUP($Q$10,DATA!$P$2:$R$196,3))","v":""},{"$f":"IF(FUE18=\"\",\"\",VLOOKUP($Q$10,DATA!$P$2:$R$196,3))","v":""},{"$f":"IF(FUF18=\"\",\"\",VLOOKUP($Q$10,DATA!$P$2:$R$196,3))","v":""},{"$f":"IF(FUG18=\"\",\"\",VLOOKUP($Q$10,DATA!$P$2:$R$196,3))","v":""},{"$f":"IF(FUH18=\"\",\"\",VLOOKUP($Q$10,DATA!$P$2:$R$196,3))","v":""},{"$f":"IF(FUI18=\"\",\"\",VLOOKUP($Q$10,DATA!$P$2:$R$196,3))","v":""},{"$f":"IF(FUJ18=\"\",\"\",VLOOKUP($Q$10,DATA!$P$2:$R$196,3))","v":""},{"$f":"IF(FUK18=\"\",\"\",VLOOKUP($Q$10,DATA!$P$2:$R$196,3))","v":""},{"$f":"IF(FUL18=\"\",\"\",VLOOKUP($Q$10,DATA!$P$2:$R$196,3))","v":""},{"$f":"IF(FUM18=\"\",\"\",VLOOKUP($Q$10,DATA!$P$2:$R$196,3))","v":""},{"$f":"IF(FUN18=\"\",\"\",VLOOKUP($Q$10,DATA!$P$2:$R$196,3))","v":""},{"$f":"IF(FUO18=\"\",\"\",VLOOKUP($Q$10,DATA!$P$2:$R$196,3))","v":""},{"$f":"IF(FUP18=\"\",\"\",VLOOKUP($Q$10,DATA!$P$2:$R$196,3))","v":""},{"$f":"IF(FUQ18=\"\",\"\",VLOOKUP($Q$10,DATA!$P$2:$R$196,3))","v":""},{"$f":"IF(FUR18=\"\",\"\",VLOOKUP($Q$10,DATA!$P$2:$R$196,3))","v":""},{"$f":"IF(FUS18=\"\",\"\",VLOOKUP($Q$10,DATA!$P$2:$R$196,3))","v":""},{"$f":"IF(FUT18=\"\",\"\",VLOOKUP($Q$10,DATA!$P$2:$R$196,3))","v":""},{"$f":"IF(FUU18=\"\",\"\",VLOOKUP($Q$10,DATA!$P$2:$R$196,3))","v":""},{"$f":"IF(FUV18=\"\",\"\",VLOOKUP($Q$10,DATA!$P$2:$R$196,3))","v":""},{"$f":"IF(FUW18=\"\",\"\",VLOOKUP($Q$10,DATA!$P$2:$R$196,3))","v":""},{"$f":"IF(FUX18=\"\",\"\",VLOOKUP($Q$10,DATA!$P$2:$R$196,3))","v":""},{"$f":"IF(FUY18=\"\",\"\",VLOOKUP($Q$10,DATA!$P$2:$R$196,3))","v":""},{"$f":"IF(FUZ18=\"\",\"\",VLOOKUP($Q$10,DATA!$P$2:$R$196,3))","v":""},{"$f":"IF(FVA18=\"\",\"\",VLOOKUP($Q$10,DATA!$P$2:$R$196,3))","v":""},{"$f":"IF(FVB18=\"\",\"\",VLOOKUP($Q$10,DATA!$P$2:$R$196,3))","v":""},{"$f":"IF(FVC18=\"\",\"\",VLOOKUP($Q$10,DATA!$P$2:$R$196,3))","v":""},{"$f":"IF(FVD18=\"\",\"\",VLOOKUP($Q$10,DATA!$P$2:$R$196,3))","v":""},{"$f":"IF(FVE18=\"\",\"\",VLOOKUP($Q$10,DATA!$P$2:$R$196,3))","v":""},{"$f":"IF(FVF18=\"\",\"\",VLOOKUP($Q$10,DATA!$P$2:$R$196,3))","v":""},{"$f":"IF(FVG18=\"\",\"\",VLOOKUP($Q$10,DATA!$P$2:$R$196,3))","v":""},{"$f":"IF(FVH18=\"\",\"\",VLOOKUP($Q$10,DATA!$P$2:$R$196,3))","v":""},{"$f":"IF(FVI18=\"\",\"\",VLOOKUP($Q$10,DATA!$P$2:$R$196,3))","v":""},{"$f":"IF(FVJ18=\"\",\"\",VLOOKUP($Q$10,DATA!$P$2:$R$196,3))","v":""},{"$f":"IF(FVK18=\"\",\"\",VLOOKUP($Q$10,DATA!$P$2:$R$196,3))","v":""},{"$f":"IF(FVL18=\"\",\"\",VLOOKUP($Q$10,DATA!$P$2:$R$196,3))","v":""},{"$f":"IF(FVM18=\"\",\"\",VLOOKUP($Q$10,DATA!$P$2:$R$196,3))","v":""},{"$f":"IF(FVN18=\"\",\"\",VLOOKUP($Q$10,DATA!$P$2:$R$196,3))","v":""},{"$f":"IF(FVO18=\"\",\"\",VLOOKUP($Q$10,DATA!$P$2:$R$196,3))","v":""},{"$f":"IF(FVP18=\"\",\"\",VLOOKUP($Q$10,DATA!$P$2:$R$196,3))","v":""},{"$f":"IF(FVQ18=\"\",\"\",VLOOKUP($Q$10,DATA!$P$2:$R$196,3))","v":""},{"$f":"IF(FVR18=\"\",\"\",VLOOKUP($Q$10,DATA!$P$2:$R$196,3))","v":""},{"$f":"IF(FVS18=\"\",\"\",VLOOKUP($Q$10,DATA!$P$2:$R$196,3))","v":""},{"$f":"IF(FVT18=\"\",\"\",VLOOKUP($Q$10,DATA!$P$2:$R$196,3))","v":""},{"$f":"IF(FVU18=\"\",\"\",VLOOKUP($Q$10,DATA!$P$2:$R$196,3))","v":""},{"$f":"IF(FVV18=\"\",\"\",VLOOKUP($Q$10,DATA!$P$2:$R$196,3))","v":""},{"$f":"IF(FVW18=\"\",\"\",VLOOKUP($Q$10,DATA!$P$2:$R$196,3))","v":""},{"$f":"IF(FVX18=\"\",\"\",VLOOKUP($Q$10,DATA!$P$2:$R$196,3))","v":""},{"$f":"IF(FVY18=\"\",\"\",VLOOKUP($Q$10,DATA!$P$2:$R$196,3))","v":""},{"$f":"IF(FVZ18=\"\",\"\",VLOOKUP($Q$10,DATA!$P$2:$R$196,3))","v":""},{"$f":"IF(FWA18=\"\",\"\",VLOOKUP($Q$10,DATA!$P$2:$R$196,3))","v":""},{"$f":"IF(FWB18=\"\",\"\",VLOOKUP($Q$10,DATA!$P$2:$R$196,3))","v":""},{"$f":"IF(FWC18=\"\",\"\",VLOOKUP($Q$10,DATA!$P$2:$R$196,3))","v":""},{"$f":"IF(FWD18=\"\",\"\",VLOOKUP($Q$10,DATA!$P$2:$R$196,3))","v":""},{"$f":"IF(FWE18=\"\",\"\",VLOOKUP($Q$10,DATA!$P$2:$R$196,3))","v":""},{"$f":"IF(FWF18=\"\",\"\",VLOOKUP($Q$10,DATA!$P$2:$R$196,3))","v":""},{"$f":"IF(FWG18=\"\",\"\",VLOOKUP($Q$10,DATA!$P$2:$R$196,3))","v":""},{"$f":"IF(FWH18=\"\",\"\",VLOOKUP($Q$10,DATA!$P$2:$R$196,3))","v":""},{"$f":"IF(FWI18=\"\",\"\",VLOOKUP($Q$10,DATA!$P$2:$R$196,3))","v":""},{"$f":"IF(FWJ18=\"\",\"\",VLOOKUP($Q$10,DATA!$P$2:$R$196,3))","v":""},{"$f":"IF(FWK18=\"\",\"\",VLOOKUP($Q$10,DATA!$P$2:$R$196,3))","v":""},{"$f":"IF(FWL18=\"\",\"\",VLOOKUP($Q$10,DATA!$P$2:$R$196,3))","v":""},{"$f":"IF(FWM18=\"\",\"\",VLOOKUP($Q$10,DATA!$P$2:$R$196,3))","v":""},{"$f":"IF(FWN18=\"\",\"\",VLOOKUP($Q$10,DATA!$P$2:$R$196,3))","v":""},{"$f":"IF(FWO18=\"\",\"\",VLOOKUP($Q$10,DATA!$P$2:$R$196,3))","v":""},{"$f":"IF(FWP18=\"\",\"\",VLOOKUP($Q$10,DATA!$P$2:$R$196,3))","v":""},{"$f":"IF(FWQ18=\"\",\"\",VLOOKUP($Q$10,DATA!$P$2:$R$196,3))","v":""},{"$f":"IF(FWR18=\"\",\"\",VLOOKUP($Q$10,DATA!$P$2:$R$196,3))","v":""},{"$f":"IF(FWS18=\"\",\"\",VLOOKUP($Q$10,DATA!$P$2:$R$196,3))","v":""},{"$f":"IF(FWT18=\"\",\"\",VLOOKUP($Q$10,DATA!$P$2:$R$196,3))","v":""},{"$f":"IF(FWU18=\"\",\"\",VLOOKUP($Q$10,DATA!$P$2:$R$196,3))","v":""},{"$f":"IF(FWV18=\"\",\"\",VLOOKUP($Q$10,DATA!$P$2:$R$196,3))","v":""},{"$f":"IF(FWW18=\"\",\"\",VLOOKUP($Q$10,DATA!$P$2:$R$196,3))","v":""},{"$f":"IF(FWX18=\"\",\"\",VLOOKUP($Q$10,DATA!$P$2:$R$196,3))","v":""},{"$f":"IF(FWY18=\"\",\"\",VLOOKUP($Q$10,DATA!$P$2:$R$196,3))","v":""},{"$f":"IF(FWZ18=\"\",\"\",VLOOKUP($Q$10,DATA!$P$2:$R$196,3))","v":""},{"$f":"IF(FXA18=\"\",\"\",VLOOKUP($Q$10,DATA!$P$2:$R$196,3))","v":""},{"$f":"IF(FXB18=\"\",\"\",VLOOKUP($Q$10,DATA!$P$2:$R$196,3))","v":""},{"$f":"IF(FXC18=\"\",\"\",VLOOKUP($Q$10,DATA!$P$2:$R$196,3))","v":""},{"$f":"IF(FXD18=\"\",\"\",VLOOKUP($Q$10,DATA!$P$2:$R$196,3))","v":""},{"$f":"IF(FXE18=\"\",\"\",VLOOKUP($Q$10,DATA!$P$2:$R$196,3))","v":""},{"$f":"IF(FXF18=\"\",\"\",VLOOKUP($Q$10,DATA!$P$2:$R$196,3))","v":""},{"$f":"IF(FXG18=\"\",\"\",VLOOKUP($Q$10,DATA!$P$2:$R$196,3))","v":""},{"$f":"IF(FXH18=\"\",\"\",VLOOKUP($Q$10,DATA!$P$2:$R$196,3))","v":""},{"$f":"IF(FXI18=\"\",\"\",VLOOKUP($Q$10,DATA!$P$2:$R$196,3))","v":""},{"$f":"IF(FXJ18=\"\",\"\",VLOOKUP($Q$10,DATA!$P$2:$R$196,3))","v":""},{"$f":"IF(FXK18=\"\",\"\",VLOOKUP($Q$10,DATA!$P$2:$R$196,3))","v":""},{"$f":"IF(FXL18=\"\",\"\",VLOOKUP($Q$10,DATA!$P$2:$R$196,3))","v":""},{"$f":"IF(FXM18=\"\",\"\",VLOOKUP($Q$10,DATA!$P$2:$R$196,3))","v":""},{"$f":"IF(FXN18=\"\",\"\",VLOOKUP($Q$10,DATA!$P$2:$R$196,3))","v":""},{"$f":"IF(FXO18=\"\",\"\",VLOOKUP($Q$10,DATA!$P$2:$R$196,3))","v":""},{"$f":"IF(FXP18=\"\",\"\",VLOOKUP($Q$10,DATA!$P$2:$R$196,3))","v":""},{"$f":"IF(FXQ18=\"\",\"\",VLOOKUP($Q$10,DATA!$P$2:$R$196,3))","v":""},{"$f":"IF(FXR18=\"\",\"\",VLOOKUP($Q$10,DATA!$P$2:$R$196,3))","v":""},{"$f":"IF(FXS18=\"\",\"\",VLOOKUP($Q$10,DATA!$P$2:$R$196,3))","v":""},{"$f":"IF(FXT18=\"\",\"\",VLOOKUP($Q$10,DATA!$P$2:$R$196,3))","v":""},{"$f":"IF(FXU18=\"\",\"\",VLOOKUP($Q$10,DATA!$P$2:$R$196,3))","v":""},{"$f":"IF(FXV18=\"\",\"\",VLOOKUP($Q$10,DATA!$P$2:$R$196,3))","v":""},{"$f":"IF(FXW18=\"\",\"\",VLOOKUP($Q$10,DATA!$P$2:$R$196,3))","v":""},{"$f":"IF(FXX18=\"\",\"\",VLOOKUP($Q$10,DATA!$P$2:$R$196,3))","v":""},{"$f":"IF(FXY18=\"\",\"\",VLOOKUP($Q$10,DATA!$P$2:$R$196,3))","v":""},{"$f":"IF(FXZ18=\"\",\"\",VLOOKUP($Q$10,DATA!$P$2:$R$196,3))","v":""},{"$f":"IF(FYA18=\"\",\"\",VLOOKUP($Q$10,DATA!$P$2:$R$196,3))","v":""},{"$f":"IF(FYB18=\"\",\"\",VLOOKUP($Q$10,DATA!$P$2:$R$196,3))","v":""},{"$f":"IF(FYC18=\"\",\"\",VLOOKUP($Q$10,DATA!$P$2:$R$196,3))","v":""},{"$f":"IF(FYD18=\"\",\"\",VLOOKUP($Q$10,DATA!$P$2:$R$196,3))","v":""},{"$f":"IF(FYE18=\"\",\"\",VLOOKUP($Q$10,DATA!$P$2:$R$196,3))","v":""},{"$f":"IF(FYF18=\"\",\"\",VLOOKUP($Q$10,DATA!$P$2:$R$196,3))","v":""},{"$f":"IF(FYG18=\"\",\"\",VLOOKUP($Q$10,DATA!$P$2:$R$196,3))","v":""},{"$f":"IF(FYH18=\"\",\"\",VLOOKUP($Q$10,DATA!$P$2:$R$196,3))","v":""},{"$f":"IF(FYI18=\"\",\"\",VLOOKUP($Q$10,DATA!$P$2:$R$196,3))","v":""},{"$f":"IF(FYJ18=\"\",\"\",VLOOKUP($Q$10,DATA!$P$2:$R$196,3))","v":""},{"$f":"IF(FYK18=\"\",\"\",VLOOKUP($Q$10,DATA!$P$2:$R$196,3))","v":""},{"$f":"IF(FYL18=\"\",\"\",VLOOKUP($Q$10,DATA!$P$2:$R$196,3))","v":""},{"$f":"IF(FYM18=\"\",\"\",VLOOKUP($Q$10,DATA!$P$2:$R$196,3))","v":""},{"$f":"IF(FYN18=\"\",\"\",VLOOKUP($Q$10,DATA!$P$2:$R$196,3))","v":""},{"$f":"IF(FYO18=\"\",\"\",VLOOKUP($Q$10,DATA!$P$2:$R$196,3))","v":""},{"$f":"IF(FYP18=\"\",\"\",VLOOKUP($Q$10,DATA!$P$2:$R$196,3))","v":""},{"$f":"IF(FYQ18=\"\",\"\",VLOOKUP($Q$10,DATA!$P$2:$R$196,3))","v":""},{"$f":"IF(FYR18=\"\",\"\",VLOOKUP($Q$10,DATA!$P$2:$R$196,3))","v":""},{"$f":"IF(FYS18=\"\",\"\",VLOOKUP($Q$10,DATA!$P$2:$R$196,3))","v":""},{"$f":"IF(FYT18=\"\",\"\",VLOOKUP($Q$10,DATA!$P$2:$R$196,3))","v":""},{"$f":"IF(FYU18=\"\",\"\",VLOOKUP($Q$10,DATA!$P$2:$R$196,3))","v":""},{"$f":"IF(FYV18=\"\",\"\",VLOOKUP($Q$10,DATA!$P$2:$R$196,3))","v":""},{"$f":"IF(FYW18=\"\",\"\",VLOOKUP($Q$10,DATA!$P$2:$R$196,3))","v":""},{"$f":"IF(FYX18=\"\",\"\",VLOOKUP($Q$10,DATA!$P$2:$R$196,3))","v":""},{"$f":"IF(FYY18=\"\",\"\",VLOOKUP($Q$10,DATA!$P$2:$R$196,3))","v":""},{"$f":"IF(FYZ18=\"\",\"\",VLOOKUP($Q$10,DATA!$P$2:$R$196,3))","v":""},{"$f":"IF(FZA18=\"\",\"\",VLOOKUP($Q$10,DATA!$P$2:$R$196,3))","v":""},{"$f":"IF(FZB18=\"\",\"\",VLOOKUP($Q$10,DATA!$P$2:$R$196,3))","v":""},{"$f":"IF(FZC18=\"\",\"\",VLOOKUP($Q$10,DATA!$P$2:$R$196,3))","v":""},{"$f":"IF(FZD18=\"\",\"\",VLOOKUP($Q$10,DATA!$P$2:$R$196,3))","v":""},{"$f":"IF(FZE18=\"\",\"\",VLOOKUP($Q$10,DATA!$P$2:$R$196,3))","v":""},{"$f":"IF(FZF18=\"\",\"\",VLOOKUP($Q$10,DATA!$P$2:$R$196,3))","v":""},{"$f":"IF(FZG18=\"\",\"\",VLOOKUP($Q$10,DATA!$P$2:$R$196,3))","v":""},{"$f":"IF(FZH18=\"\",\"\",VLOOKUP($Q$10,DATA!$P$2:$R$196,3))","v":""},{"$f":"IF(FZI18=\"\",\"\",VLOOKUP($Q$10,DATA!$P$2:$R$196,3))","v":""},{"$f":"IF(FZJ18=\"\",\"\",VLOOKUP($Q$10,DATA!$P$2:$R$196,3))","v":""},{"$f":"IF(FZK18=\"\",\"\",VLOOKUP($Q$10,DATA!$P$2:$R$196,3))","v":""},{"$f":"IF(FZL18=\"\",\"\",VLOOKUP($Q$10,DATA!$P$2:$R$196,3))","v":""},{"$f":"IF(FZM18=\"\",\"\",VLOOKUP($Q$10,DATA!$P$2:$R$196,3))","v":""},{"$f":"IF(FZN18=\"\",\"\",VLOOKUP($Q$10,DATA!$P$2:$R$196,3))","v":""},{"$f":"IF(FZO18=\"\",\"\",VLOOKUP($Q$10,DATA!$P$2:$R$196,3))","v":""},{"$f":"IF(FZP18=\"\",\"\",VLOOKUP($Q$10,DATA!$P$2:$R$196,3))","v":""},{"$f":"IF(FZQ18=\"\",\"\",VLOOKUP($Q$10,DATA!$P$2:$R$196,3))","v":""},{"$f":"IF(FZR18=\"\",\"\",VLOOKUP($Q$10,DATA!$P$2:$R$196,3))","v":""},{"$f":"IF(FZS18=\"\",\"\",VLOOKUP($Q$10,DATA!$P$2:$R$196,3))","v":""},{"$f":"IF(FZT18=\"\",\"\",VLOOKUP($Q$10,DATA!$P$2:$R$196,3))","v":""},{"$f":"IF(FZU18=\"\",\"\",VLOOKUP($Q$10,DATA!$P$2:$R$196,3))","v":""},{"$f":"IF(FZV18=\"\",\"\",VLOOKUP($Q$10,DATA!$P$2:$R$196,3))","v":""},{"$f":"IF(FZW18=\"\",\"\",VLOOKUP($Q$10,DATA!$P$2:$R$196,3))","v":""},{"$f":"IF(FZX18=\"\",\"\",VLOOKUP($Q$10,DATA!$P$2:$R$196,3))","v":""},{"$f":"IF(FZY18=\"\",\"\",VLOOKUP($Q$10,DATA!$P$2:$R$196,3))","v":""},{"$f":"IF(FZZ18=\"\",\"\",VLOOKUP($Q$10,DATA!$P$2:$R$196,3))","v":""},{"$f":"IF(GAA18=\"\",\"\",VLOOKUP($Q$10,DATA!$P$2:$R$196,3))","v":""},{"$f":"IF(GAB18=\"\",\"\",VLOOKUP($Q$10,DATA!$P$2:$R$196,3))","v":""},{"$f":"IF(GAC18=\"\",\"\",VLOOKUP($Q$10,DATA!$P$2:$R$196,3))","v":""},{"$f":"IF(GAD18=\"\",\"\",VLOOKUP($Q$10,DATA!$P$2:$R$196,3))","v":""},{"$f":"IF(GAE18=\"\",\"\",VLOOKUP($Q$10,DATA!$P$2:$R$196,3))","v":""},{"$f":"IF(GAF18=\"\",\"\",VLOOKUP($Q$10,DATA!$P$2:$R$196,3))","v":""},{"$f":"IF(GAG18=\"\",\"\",VLOOKUP($Q$10,DATA!$P$2:$R$196,3))","v":""},{"$f":"IF(GAH18=\"\",\"\",VLOOKUP($Q$10,DATA!$P$2:$R$196,3))","v":""},{"$f":"IF(GAI18=\"\",\"\",VLOOKUP($Q$10,DATA!$P$2:$R$196,3))","v":""},{"$f":"IF(GAJ18=\"\",\"\",VLOOKUP($Q$10,DATA!$P$2:$R$196,3))","v":""},{"$f":"IF(GAK18=\"\",\"\",VLOOKUP($Q$10,DATA!$P$2:$R$196,3))","v":""},{"$f":"IF(GAL18=\"\",\"\",VLOOKUP($Q$10,DATA!$P$2:$R$196,3))","v":""},{"$f":"IF(GAM18=\"\",\"\",VLOOKUP($Q$10,DATA!$P$2:$R$196,3))","v":""},{"$f":"IF(GAN18=\"\",\"\",VLOOKUP($Q$10,DATA!$P$2:$R$196,3))","v":""},{"$f":"IF(GAO18=\"\",\"\",VLOOKUP($Q$10,DATA!$P$2:$R$196,3))","v":""},{"$f":"IF(GAP18=\"\",\"\",VLOOKUP($Q$10,DATA!$P$2:$R$196,3))","v":""},{"$f":"IF(GAQ18=\"\",\"\",VLOOKUP($Q$10,DATA!$P$2:$R$196,3))","v":""},{"$f":"IF(GAR18=\"\",\"\",VLOOKUP($Q$10,DATA!$P$2:$R$196,3))","v":""},{"$f":"IF(GAS18=\"\",\"\",VLOOKUP($Q$10,DATA!$P$2:$R$196,3))","v":""},{"$f":"IF(GAT18=\"\",\"\",VLOOKUP($Q$10,DATA!$P$2:$R$196,3))","v":""},{"$f":"IF(GAU18=\"\",\"\",VLOOKUP($Q$10,DATA!$P$2:$R$196,3))","v":""},{"$f":"IF(GAV18=\"\",\"\",VLOOKUP($Q$10,DATA!$P$2:$R$196,3))","v":""},{"$f":"IF(GAW18=\"\",\"\",VLOOKUP($Q$10,DATA!$P$2:$R$196,3))","v":""},{"$f":"IF(GAX18=\"\",\"\",VLOOKUP($Q$10,DATA!$P$2:$R$196,3))","v":""},{"$f":"IF(GAY18=\"\",\"\",VLOOKUP($Q$10,DATA!$P$2:$R$196,3))","v":""},{"$f":"IF(GAZ18=\"\",\"\",VLOOKUP($Q$10,DATA!$P$2:$R$196,3))","v":""},{"$f":"IF(GBA18=\"\",\"\",VLOOKUP($Q$10,DATA!$P$2:$R$196,3))","v":""},{"$f":"IF(GBB18=\"\",\"\",VLOOKUP($Q$10,DATA!$P$2:$R$196,3))","v":""},{"$f":"IF(GBC18=\"\",\"\",VLOOKUP($Q$10,DATA!$P$2:$R$196,3))","v":""},{"$f":"IF(GBD18=\"\",\"\",VLOOKUP($Q$10,DATA!$P$2:$R$196,3))","v":""},{"$f":"IF(GBE18=\"\",\"\",VLOOKUP($Q$10,DATA!$P$2:$R$196,3))","v":""},{"$f":"IF(GBF18=\"\",\"\",VLOOKUP($Q$10,DATA!$P$2:$R$196,3))","v":""},{"$f":"IF(GBG18=\"\",\"\",VLOOKUP($Q$10,DATA!$P$2:$R$196,3))","v":""},{"$f":"IF(GBH18=\"\",\"\",VLOOKUP($Q$10,DATA!$P$2:$R$196,3))","v":""},{"$f":"IF(GBI18=\"\",\"\",VLOOKUP($Q$10,DATA!$P$2:$R$196,3))","v":""},{"$f":"IF(GBJ18=\"\",\"\",VLOOKUP($Q$10,DATA!$P$2:$R$196,3))","v":""},{"$f":"IF(GBK18=\"\",\"\",VLOOKUP($Q$10,DATA!$P$2:$R$196,3))","v":""},{"$f":"IF(GBL18=\"\",\"\",VLOOKUP($Q$10,DATA!$P$2:$R$196,3))","v":""},{"$f":"IF(GBM18=\"\",\"\",VLOOKUP($Q$10,DATA!$P$2:$R$196,3))","v":""},{"$f":"IF(GBN18=\"\",\"\",VLOOKUP($Q$10,DATA!$P$2:$R$196,3))","v":""},{"$f":"IF(GBO18=\"\",\"\",VLOOKUP($Q$10,DATA!$P$2:$R$196,3))","v":""},{"$f":"IF(GBP18=\"\",\"\",VLOOKUP($Q$10,DATA!$P$2:$R$196,3))","v":""},{"$f":"IF(GBQ18=\"\",\"\",VLOOKUP($Q$10,DATA!$P$2:$R$196,3))","v":""},{"$f":"IF(GBR18=\"\",\"\",VLOOKUP($Q$10,DATA!$P$2:$R$196,3))","v":""},{"$f":"IF(GBS18=\"\",\"\",VLOOKUP($Q$10,DATA!$P$2:$R$196,3))","v":""},{"$f":"IF(GBT18=\"\",\"\",VLOOKUP($Q$10,DATA!$P$2:$R$196,3))","v":""},{"$f":"IF(GBU18=\"\",\"\",VLOOKUP($Q$10,DATA!$P$2:$R$196,3))","v":""},{"$f":"IF(GBV18=\"\",\"\",VLOOKUP($Q$10,DATA!$P$2:$R$196,3))","v":""},{"$f":"IF(GBW18=\"\",\"\",VLOOKUP($Q$10,DATA!$P$2:$R$196,3))","v":""},{"$f":"IF(GBX18=\"\",\"\",VLOOKUP($Q$10,DATA!$P$2:$R$196,3))","v":""},{"$f":"IF(GBY18=\"\",\"\",VLOOKUP($Q$10,DATA!$P$2:$R$196,3))","v":""},{"$f":"IF(GBZ18=\"\",\"\",VLOOKUP($Q$10,DATA!$P$2:$R$196,3))","v":""},{"$f":"IF(GCA18=\"\",\"\",VLOOKUP($Q$10,DATA!$P$2:$R$196,3))","v":""},{"$f":"IF(GCB18=\"\",\"\",VLOOKUP($Q$10,DATA!$P$2:$R$196,3))","v":""},{"$f":"IF(GCC18=\"\",\"\",VLOOKUP($Q$10,DATA!$P$2:$R$196,3))","v":""},{"$f":"IF(GCD18=\"\",\"\",VLOOKUP($Q$10,DATA!$P$2:$R$196,3))","v":""},{"$f":"IF(GCE18=\"\",\"\",VLOOKUP($Q$10,DATA!$P$2:$R$196,3))","v":""},{"$f":"IF(GCF18=\"\",\"\",VLOOKUP($Q$10,DATA!$P$2:$R$196,3))","v":""},{"$f":"IF(GCG18=\"\",\"\",VLOOKUP($Q$10,DATA!$P$2:$R$196,3))","v":""},{"$f":"IF(GCH18=\"\",\"\",VLOOKUP($Q$10,DATA!$P$2:$R$196,3))","v":""},{"$f":"IF(GCI18=\"\",\"\",VLOOKUP($Q$10,DATA!$P$2:$R$196,3))","v":""},{"$f":"IF(GCJ18=\"\",\"\",VLOOKUP($Q$10,DATA!$P$2:$R$196,3))","v":""},{"$f":"IF(GCK18=\"\",\"\",VLOOKUP($Q$10,DATA!$P$2:$R$196,3))","v":""},{"$f":"IF(GCL18=\"\",\"\",VLOOKUP($Q$10,DATA!$P$2:$R$196,3))","v":""},{"$f":"IF(GCM18=\"\",\"\",VLOOKUP($Q$10,DATA!$P$2:$R$196,3))","v":""},{"$f":"IF(GCN18=\"\",\"\",VLOOKUP($Q$10,DATA!$P$2:$R$196,3))","v":""},{"$f":"IF(GCO18=\"\",\"\",VLOOKUP($Q$10,DATA!$P$2:$R$196,3))","v":""},{"$f":"IF(GCP18=\"\",\"\",VLOOKUP($Q$10,DATA!$P$2:$R$196,3))","v":""},{"$f":"IF(GCQ18=\"\",\"\",VLOOKUP($Q$10,DATA!$P$2:$R$196,3))","v":""},{"$f":"IF(GCR18=\"\",\"\",VLOOKUP($Q$10,DATA!$P$2:$R$196,3))","v":""},{"$f":"IF(GCS18=\"\",\"\",VLOOKUP($Q$10,DATA!$P$2:$R$196,3))","v":""},{"$f":"IF(GCT18=\"\",\"\",VLOOKUP($Q$10,DATA!$P$2:$R$196,3))","v":""},{"$f":"IF(GCU18=\"\",\"\",VLOOKUP($Q$10,DATA!$P$2:$R$196,3))","v":""},{"$f":"IF(GCV18=\"\",\"\",VLOOKUP($Q$10,DATA!$P$2:$R$196,3))","v":""},{"$f":"IF(GCW18=\"\",\"\",VLOOKUP($Q$10,DATA!$P$2:$R$196,3))","v":""},{"$f":"IF(GCX18=\"\",\"\",VLOOKUP($Q$10,DATA!$P$2:$R$196,3))","v":""},{"$f":"IF(GCY18=\"\",\"\",VLOOKUP($Q$10,DATA!$P$2:$R$196,3))","v":""},{"$f":"IF(GCZ18=\"\",\"\",VLOOKUP($Q$10,DATA!$P$2:$R$196,3))","v":""},{"$f":"IF(GDA18=\"\",\"\",VLOOKUP($Q$10,DATA!$P$2:$R$196,3))","v":""},{"$f":"IF(GDB18=\"\",\"\",VLOOKUP($Q$10,DATA!$P$2:$R$196,3))","v":""},{"$f":"IF(GDC18=\"\",\"\",VLOOKUP($Q$10,DATA!$P$2:$R$196,3))","v":""},{"$f":"IF(GDD18=\"\",\"\",VLOOKUP($Q$10,DATA!$P$2:$R$196,3))","v":""},{"$f":"IF(GDE18=\"\",\"\",VLOOKUP($Q$10,DATA!$P$2:$R$196,3))","v":""},{"$f":"IF(GDF18=\"\",\"\",VLOOKUP($Q$10,DATA!$P$2:$R$196,3))","v":""},{"$f":"IF(GDG18=\"\",\"\",VLOOKUP($Q$10,DATA!$P$2:$R$196,3))","v":""},{"$f":"IF(GDH18=\"\",\"\",VLOOKUP($Q$10,DATA!$P$2:$R$196,3))","v":""},{"$f":"IF(GDI18=\"\",\"\",VLOOKUP($Q$10,DATA!$P$2:$R$196,3))","v":""},{"$f":"IF(GDJ18=\"\",\"\",VLOOKUP($Q$10,DATA!$P$2:$R$196,3))","v":""},{"$f":"IF(GDK18=\"\",\"\",VLOOKUP($Q$10,DATA!$P$2:$R$196,3))","v":""},{"$f":"IF(GDL18=\"\",\"\",VLOOKUP($Q$10,DATA!$P$2:$R$196,3))","v":""},{"$f":"IF(GDM18=\"\",\"\",VLOOKUP($Q$10,DATA!$P$2:$R$196,3))","v":""},{"$f":"IF(GDN18=\"\",\"\",VLOOKUP($Q$10,DATA!$P$2:$R$196,3))","v":""},{"$f":"IF(GDO18=\"\",\"\",VLOOKUP($Q$10,DATA!$P$2:$R$196,3))","v":""},{"$f":"IF(GDP18=\"\",\"\",VLOOKUP($Q$10,DATA!$P$2:$R$196,3))","v":""},{"$f":"IF(GDQ18=\"\",\"\",VLOOKUP($Q$10,DATA!$P$2:$R$196,3))","v":""},{"$f":"IF(GDR18=\"\",\"\",VLOOKUP($Q$10,DATA!$P$2:$R$196,3))","v":""},{"$f":"IF(GDS18=\"\",\"\",VLOOKUP($Q$10,DATA!$P$2:$R$196,3))","v":""},{"$f":"IF(GDT18=\"\",\"\",VLOOKUP($Q$10,DATA!$P$2:$R$196,3))","v":""},{"$f":"IF(GDU18=\"\",\"\",VLOOKUP($Q$10,DATA!$P$2:$R$196,3))","v":""},{"$f":"IF(GDV18=\"\",\"\",VLOOKUP($Q$10,DATA!$P$2:$R$196,3))","v":""},{"$f":"IF(GDW18=\"\",\"\",VLOOKUP($Q$10,DATA!$P$2:$R$196,3))","v":""},{"$f":"IF(GDX18=\"\",\"\",VLOOKUP($Q$10,DATA!$P$2:$R$196,3))","v":""},{"$f":"IF(GDY18=\"\",\"\",VLOOKUP($Q$10,DATA!$P$2:$R$196,3))","v":""},{"$f":"IF(GDZ18=\"\",\"\",VLOOKUP($Q$10,DATA!$P$2:$R$196,3))","v":""},{"$f":"IF(GEA18=\"\",\"\",VLOOKUP($Q$10,DATA!$P$2:$R$196,3))","v":""},{"$f":"IF(GEB18=\"\",\"\",VLOOKUP($Q$10,DATA!$P$2:$R$196,3))","v":""},{"$f":"IF(GEC18=\"\",\"\",VLOOKUP($Q$10,DATA!$P$2:$R$196,3))","v":""},{"$f":"IF(GED18=\"\",\"\",VLOOKUP($Q$10,DATA!$P$2:$R$196,3))","v":""},{"$f":"IF(GEE18=\"\",\"\",VLOOKUP($Q$10,DATA!$P$2:$R$196,3))","v":""},{"$f":"IF(GEF18=\"\",\"\",VLOOKUP($Q$10,DATA!$P$2:$R$196,3))","v":""},{"$f":"IF(GEG18=\"\",\"\",VLOOKUP($Q$10,DATA!$P$2:$R$196,3))","v":""},{"$f":"IF(GEH18=\"\",\"\",VLOOKUP($Q$10,DATA!$P$2:$R$196,3))","v":""},{"$f":"IF(GEI18=\"\",\"\",VLOOKUP($Q$10,DATA!$P$2:$R$196,3))","v":""},{"$f":"IF(GEJ18=\"\",\"\",VLOOKUP($Q$10,DATA!$P$2:$R$196,3))","v":""},{"$f":"IF(GEK18=\"\",\"\",VLOOKUP($Q$10,DATA!$P$2:$R$196,3))","v":""},{"$f":"IF(GEL18=\"\",\"\",VLOOKUP($Q$10,DATA!$P$2:$R$196,3))","v":""},{"$f":"IF(GEM18=\"\",\"\",VLOOKUP($Q$10,DATA!$P$2:$R$196,3))","v":""},{"$f":"IF(GEN18=\"\",\"\",VLOOKUP($Q$10,DATA!$P$2:$R$196,3))","v":""},{"$f":"IF(GEO18=\"\",\"\",VLOOKUP($Q$10,DATA!$P$2:$R$196,3))","v":""},{"$f":"IF(GEP18=\"\",\"\",VLOOKUP($Q$10,DATA!$P$2:$R$196,3))","v":""},{"$f":"IF(GEQ18=\"\",\"\",VLOOKUP($Q$10,DATA!$P$2:$R$196,3))","v":""},{"$f":"IF(GER18=\"\",\"\",VLOOKUP($Q$10,DATA!$P$2:$R$196,3))","v":""},{"$f":"IF(GES18=\"\",\"\",VLOOKUP($Q$10,DATA!$P$2:$R$196,3))","v":""},{"$f":"IF(GET18=\"\",\"\",VLOOKUP($Q$10,DATA!$P$2:$R$196,3))","v":""},{"$f":"IF(GEU18=\"\",\"\",VLOOKUP($Q$10,DATA!$P$2:$R$196,3))","v":""},{"$f":"IF(GEV18=\"\",\"\",VLOOKUP($Q$10,DATA!$P$2:$R$196,3))","v":""},{"$f":"IF(GEW18=\"\",\"\",VLOOKUP($Q$10,DATA!$P$2:$R$196,3))","v":""},{"$f":"IF(GEX18=\"\",\"\",VLOOKUP($Q$10,DATA!$P$2:$R$196,3))","v":""},{"$f":"IF(GEY18=\"\",\"\",VLOOKUP($Q$10,DATA!$P$2:$R$196,3))","v":""},{"$f":"IF(GEZ18=\"\",\"\",VLOOKUP($Q$10,DATA!$P$2:$R$196,3))","v":""},{"$f":"IF(GFA18=\"\",\"\",VLOOKUP($Q$10,DATA!$P$2:$R$196,3))","v":""},{"$f":"IF(GFB18=\"\",\"\",VLOOKUP($Q$10,DATA!$P$2:$R$196,3))","v":""},{"$f":"IF(GFC18=\"\",\"\",VLOOKUP($Q$10,DATA!$P$2:$R$196,3))","v":""},{"$f":"IF(GFD18=\"\",\"\",VLOOKUP($Q$10,DATA!$P$2:$R$196,3))","v":""},{"$f":"IF(GFE18=\"\",\"\",VLOOKUP($Q$10,DATA!$P$2:$R$196,3))","v":""},{"$f":"IF(GFF18=\"\",\"\",VLOOKUP($Q$10,DATA!$P$2:$R$196,3))","v":""},{"$f":"IF(GFG18=\"\",\"\",VLOOKUP($Q$10,DATA!$P$2:$R$196,3))","v":""},{"$f":"IF(GFH18=\"\",\"\",VLOOKUP($Q$10,DATA!$P$2:$R$196,3))","v":""},{"$f":"IF(GFI18=\"\",\"\",VLOOKUP($Q$10,DATA!$P$2:$R$196,3))","v":""},{"$f":"IF(GFJ18=\"\",\"\",VLOOKUP($Q$10,DATA!$P$2:$R$196,3))","v":""},{"$f":"IF(GFK18=\"\",\"\",VLOOKUP($Q$10,DATA!$P$2:$R$196,3))","v":""},{"$f":"IF(GFL18=\"\",\"\",VLOOKUP($Q$10,DATA!$P$2:$R$196,3))","v":""},{"$f":"IF(GFM18=\"\",\"\",VLOOKUP($Q$10,DATA!$P$2:$R$196,3))","v":""},{"$f":"IF(GFN18=\"\",\"\",VLOOKUP($Q$10,DATA!$P$2:$R$196,3))","v":""},{"$f":"IF(GFO18=\"\",\"\",VLOOKUP($Q$10,DATA!$P$2:$R$196,3))","v":""},{"$f":"IF(GFP18=\"\",\"\",VLOOKUP($Q$10,DATA!$P$2:$R$196,3))","v":""},{"$f":"IF(GFQ18=\"\",\"\",VLOOKUP($Q$10,DATA!$P$2:$R$196,3))","v":""},{"$f":"IF(GFR18=\"\",\"\",VLOOKUP($Q$10,DATA!$P$2:$R$196,3))","v":""},{"$f":"IF(GFS18=\"\",\"\",VLOOKUP($Q$10,DATA!$P$2:$R$196,3))","v":""},{"$f":"IF(GFT18=\"\",\"\",VLOOKUP($Q$10,DATA!$P$2:$R$196,3))","v":""},{"$f":"IF(GFU18=\"\",\"\",VLOOKUP($Q$10,DATA!$P$2:$R$196,3))","v":""},{"$f":"IF(GFV18=\"\",\"\",VLOOKUP($Q$10,DATA!$P$2:$R$196,3))","v":""},{"$f":"IF(GFW18=\"\",\"\",VLOOKUP($Q$10,DATA!$P$2:$R$196,3))","v":""},{"$f":"IF(GFX18=\"\",\"\",VLOOKUP($Q$10,DATA!$P$2:$R$196,3))","v":""},{"$f":"IF(GFY18=\"\",\"\",VLOOKUP($Q$10,DATA!$P$2:$R$196,3))","v":""},{"$f":"IF(GFZ18=\"\",\"\",VLOOKUP($Q$10,DATA!$P$2:$R$196,3))","v":""},{"$f":"IF(GGA18=\"\",\"\",VLOOKUP($Q$10,DATA!$P$2:$R$196,3))","v":""},{"$f":"IF(GGB18=\"\",\"\",VLOOKUP($Q$10,DATA!$P$2:$R$196,3))","v":""},{"$f":"IF(GGC18=\"\",\"\",VLOOKUP($Q$10,DATA!$P$2:$R$196,3))","v":""},{"$f":"IF(GGD18=\"\",\"\",VLOOKUP($Q$10,DATA!$P$2:$R$196,3))","v":""},{"$f":"IF(GGE18=\"\",\"\",VLOOKUP($Q$10,DATA!$P$2:$R$196,3))","v":""},{"$f":"IF(GGF18=\"\",\"\",VLOOKUP($Q$10,DATA!$P$2:$R$196,3))","v":""},{"$f":"IF(GGG18=\"\",\"\",VLOOKUP($Q$10,DATA!$P$2:$R$196,3))","v":""},{"$f":"IF(GGH18=\"\",\"\",VLOOKUP($Q$10,DATA!$P$2:$R$196,3))","v":""},{"$f":"IF(GGI18=\"\",\"\",VLOOKUP($Q$10,DATA!$P$2:$R$196,3))","v":""},{"$f":"IF(GGJ18=\"\",\"\",VLOOKUP($Q$10,DATA!$P$2:$R$196,3))","v":""},{"$f":"IF(GGK18=\"\",\"\",VLOOKUP($Q$10,DATA!$P$2:$R$196,3))","v":""},{"$f":"IF(GGL18=\"\",\"\",VLOOKUP($Q$10,DATA!$P$2:$R$196,3))","v":""},{"$f":"IF(GGM18=\"\",\"\",VLOOKUP($Q$10,DATA!$P$2:$R$196,3))","v":""},{"$f":"IF(GGN18=\"\",\"\",VLOOKUP($Q$10,DATA!$P$2:$R$196,3))","v":""},{"$f":"IF(GGO18=\"\",\"\",VLOOKUP($Q$10,DATA!$P$2:$R$196,3))","v":""},{"$f":"IF(GGP18=\"\",\"\",VLOOKUP($Q$10,DATA!$P$2:$R$196,3))","v":""},{"$f":"IF(GGQ18=\"\",\"\",VLOOKUP($Q$10,DATA!$P$2:$R$196,3))","v":""},{"$f":"IF(GGR18=\"\",\"\",VLOOKUP($Q$10,DATA!$P$2:$R$196,3))","v":""},{"$f":"IF(GGS18=\"\",\"\",VLOOKUP($Q$10,DATA!$P$2:$R$196,3))","v":""},{"$f":"IF(GGT18=\"\",\"\",VLOOKUP($Q$10,DATA!$P$2:$R$196,3))","v":""},{"$f":"IF(GGU18=\"\",\"\",VLOOKUP($Q$10,DATA!$P$2:$R$196,3))","v":""},{"$f":"IF(GGV18=\"\",\"\",VLOOKUP($Q$10,DATA!$P$2:$R$196,3))","v":""},{"$f":"IF(GGW18=\"\",\"\",VLOOKUP($Q$10,DATA!$P$2:$R$196,3))","v":""},{"$f":"IF(GGX18=\"\",\"\",VLOOKUP($Q$10,DATA!$P$2:$R$196,3))","v":""},{"$f":"IF(GGY18=\"\",\"\",VLOOKUP($Q$10,DATA!$P$2:$R$196,3))","v":""},{"$f":"IF(GGZ18=\"\",\"\",VLOOKUP($Q$10,DATA!$P$2:$R$196,3))","v":""},{"$f":"IF(GHA18=\"\",\"\",VLOOKUP($Q$10,DATA!$P$2:$R$196,3))","v":""},{"$f":"IF(GHB18=\"\",\"\",VLOOKUP($Q$10,DATA!$P$2:$R$196,3))","v":""},{"$f":"IF(GHC18=\"\",\"\",VLOOKUP($Q$10,DATA!$P$2:$R$196,3))","v":""},{"$f":"IF(GHD18=\"\",\"\",VLOOKUP($Q$10,DATA!$P$2:$R$196,3))","v":""},{"$f":"IF(GHE18=\"\",\"\",VLOOKUP($Q$10,DATA!$P$2:$R$196,3))","v":""},{"$f":"IF(GHF18=\"\",\"\",VLOOKUP($Q$10,DATA!$P$2:$R$196,3))","v":""},{"$f":"IF(GHG18=\"\",\"\",VLOOKUP($Q$10,DATA!$P$2:$R$196,3))","v":""},{"$f":"IF(GHH18=\"\",\"\",VLOOKUP($Q$10,DATA!$P$2:$R$196,3))","v":""},{"$f":"IF(GHI18=\"\",\"\",VLOOKUP($Q$10,DATA!$P$2:$R$196,3))","v":""},{"$f":"IF(GHJ18=\"\",\"\",VLOOKUP($Q$10,DATA!$P$2:$R$196,3))","v":""},{"$f":"IF(GHK18=\"\",\"\",VLOOKUP($Q$10,DATA!$P$2:$R$196,3))","v":""},{"$f":"IF(GHL18=\"\",\"\",VLOOKUP($Q$10,DATA!$P$2:$R$196,3))","v":""},{"$f":"IF(GHM18=\"\",\"\",VLOOKUP($Q$10,DATA!$P$2:$R$196,3))","v":""},{"$f":"IF(GHN18=\"\",\"\",VLOOKUP($Q$10,DATA!$P$2:$R$196,3))","v":""},{"$f":"IF(GHO18=\"\",\"\",VLOOKUP($Q$10,DATA!$P$2:$R$196,3))","v":""},{"$f":"IF(GHP18=\"\",\"\",VLOOKUP($Q$10,DATA!$P$2:$R$196,3))","v":""},{"$f":"IF(GHQ18=\"\",\"\",VLOOKUP($Q$10,DATA!$P$2:$R$196,3))","v":""},{"$f":"IF(GHR18=\"\",\"\",VLOOKUP($Q$10,DATA!$P$2:$R$196,3))","v":""},{"$f":"IF(GHS18=\"\",\"\",VLOOKUP($Q$10,DATA!$P$2:$R$196,3))","v":""},{"$f":"IF(GHT18=\"\",\"\",VLOOKUP($Q$10,DATA!$P$2:$R$196,3))","v":""},{"$f":"IF(GHU18=\"\",\"\",VLOOKUP($Q$10,DATA!$P$2:$R$196,3))","v":""},{"$f":"IF(GHV18=\"\",\"\",VLOOKUP($Q$10,DATA!$P$2:$R$196,3))","v":""},{"$f":"IF(GHW18=\"\",\"\",VLOOKUP($Q$10,DATA!$P$2:$R$196,3))","v":""},{"$f":"IF(GHX18=\"\",\"\",VLOOKUP($Q$10,DATA!$P$2:$R$196,3))","v":""},{"$f":"IF(GHY18=\"\",\"\",VLOOKUP($Q$10,DATA!$P$2:$R$196,3))","v":""},{"$f":"IF(GHZ18=\"\",\"\",VLOOKUP($Q$10,DATA!$P$2:$R$196,3))","v":""},{"$f":"IF(GIA18=\"\",\"\",VLOOKUP($Q$10,DATA!$P$2:$R$196,3))","v":""},{"$f":"IF(GIB18=\"\",\"\",VLOOKUP($Q$10,DATA!$P$2:$R$196,3))","v":""},{"$f":"IF(GIC18=\"\",\"\",VLOOKUP($Q$10,DATA!$P$2:$R$196,3))","v":""},{"$f":"IF(GID18=\"\",\"\",VLOOKUP($Q$10,DATA!$P$2:$R$196,3))","v":""},{"$f":"IF(GIE18=\"\",\"\",VLOOKUP($Q$10,DATA!$P$2:$R$196,3))","v":""},{"$f":"IF(GIF18=\"\",\"\",VLOOKUP($Q$10,DATA!$P$2:$R$196,3))","v":""},{"$f":"IF(GIG18=\"\",\"\",VLOOKUP($Q$10,DATA!$P$2:$R$196,3))","v":""},{"$f":"IF(GIH18=\"\",\"\",VLOOKUP($Q$10,DATA!$P$2:$R$196,3))","v":""},{"$f":"IF(GII18=\"\",\"\",VLOOKUP($Q$10,DATA!$P$2:$R$196,3))","v":""},{"$f":"IF(GIJ18=\"\",\"\",VLOOKUP($Q$10,DATA!$P$2:$R$196,3))","v":""},{"$f":"IF(GIK18=\"\",\"\",VLOOKUP($Q$10,DATA!$P$2:$R$196,3))","v":""},{"$f":"IF(GIL18=\"\",\"\",VLOOKUP($Q$10,DATA!$P$2:$R$196,3))","v":""},{"$f":"IF(GIM18=\"\",\"\",VLOOKUP($Q$10,DATA!$P$2:$R$196,3))","v":""},{"$f":"IF(GIN18=\"\",\"\",VLOOKUP($Q$10,DATA!$P$2:$R$196,3))","v":""},{"$f":"IF(GIO18=\"\",\"\",VLOOKUP($Q$10,DATA!$P$2:$R$196,3))","v":""},{"$f":"IF(GIP18=\"\",\"\",VLOOKUP($Q$10,DATA!$P$2:$R$196,3))","v":""},{"$f":"IF(GIQ18=\"\",\"\",VLOOKUP($Q$10,DATA!$P$2:$R$196,3))","v":""},{"$f":"IF(GIR18=\"\",\"\",VLOOKUP($Q$10,DATA!$P$2:$R$196,3))","v":""},{"$f":"IF(GIS18=\"\",\"\",VLOOKUP($Q$10,DATA!$P$2:$R$196,3))","v":""},{"$f":"IF(GIT18=\"\",\"\",VLOOKUP($Q$10,DATA!$P$2:$R$196,3))","v":""},{"$f":"IF(GIU18=\"\",\"\",VLOOKUP($Q$10,DATA!$P$2:$R$196,3))","v":""},{"$f":"IF(GIV18=\"\",\"\",VLOOKUP($Q$10,DATA!$P$2:$R$196,3))","v":""},{"$f":"IF(GIW18=\"\",\"\",VLOOKUP($Q$10,DATA!$P$2:$R$196,3))","v":""},{"$f":"IF(GIX18=\"\",\"\",VLOOKUP($Q$10,DATA!$P$2:$R$196,3))","v":""},{"$f":"IF(GIY18=\"\",\"\",VLOOKUP($Q$10,DATA!$P$2:$R$196,3))","v":""},{"$f":"IF(GIZ18=\"\",\"\",VLOOKUP($Q$10,DATA!$P$2:$R$196,3))","v":""},{"$f":"IF(GJA18=\"\",\"\",VLOOKUP($Q$10,DATA!$P$2:$R$196,3))","v":""},{"$f":"IF(GJB18=\"\",\"\",VLOOKUP($Q$10,DATA!$P$2:$R$196,3))","v":""},{"$f":"IF(GJC18=\"\",\"\",VLOOKUP($Q$10,DATA!$P$2:$R$196,3))","v":""},{"$f":"IF(GJD18=\"\",\"\",VLOOKUP($Q$10,DATA!$P$2:$R$196,3))","v":""},{"$f":"IF(GJE18=\"\",\"\",VLOOKUP($Q$10,DATA!$P$2:$R$196,3))","v":""},{"$f":"IF(GJF18=\"\",\"\",VLOOKUP($Q$10,DATA!$P$2:$R$196,3))","v":""},{"$f":"IF(GJG18=\"\",\"\",VLOOKUP($Q$10,DATA!$P$2:$R$196,3))","v":""},{"$f":"IF(GJH18=\"\",\"\",VLOOKUP($Q$10,DATA!$P$2:$R$196,3))","v":""},{"$f":"IF(GJI18=\"\",\"\",VLOOKUP($Q$10,DATA!$P$2:$R$196,3))","v":""},{"$f":"IF(GJJ18=\"\",\"\",VLOOKUP($Q$10,DATA!$P$2:$R$196,3))","v":""},{"$f":"IF(GJK18=\"\",\"\",VLOOKUP($Q$10,DATA!$P$2:$R$196,3))","v":""},{"$f":"IF(GJL18=\"\",\"\",VLOOKUP($Q$10,DATA!$P$2:$R$196,3))","v":""},{"$f":"IF(GJM18=\"\",\"\",VLOOKUP($Q$10,DATA!$P$2:$R$196,3))","v":""},{"$f":"IF(GJN18=\"\",\"\",VLOOKUP($Q$10,DATA!$P$2:$R$196,3))","v":""},{"$f":"IF(GJO18=\"\",\"\",VLOOKUP($Q$10,DATA!$P$2:$R$196,3))","v":""},{"$f":"IF(GJP18=\"\",\"\",VLOOKUP($Q$10,DATA!$P$2:$R$196,3))","v":""},{"$f":"IF(GJQ18=\"\",\"\",VLOOKUP($Q$10,DATA!$P$2:$R$196,3))","v":""},{"$f":"IF(GJR18=\"\",\"\",VLOOKUP($Q$10,DATA!$P$2:$R$196,3))","v":""},{"$f":"IF(GJS18=\"\",\"\",VLOOKUP($Q$10,DATA!$P$2:$R$196,3))","v":""},{"$f":"IF(GJT18=\"\",\"\",VLOOKUP($Q$10,DATA!$P$2:$R$196,3))","v":""},{"$f":"IF(GJU18=\"\",\"\",VLOOKUP($Q$10,DATA!$P$2:$R$196,3))","v":""},{"$f":"IF(GJV18=\"\",\"\",VLOOKUP($Q$10,DATA!$P$2:$R$196,3))","v":""},{"$f":"IF(GJW18=\"\",\"\",VLOOKUP($Q$10,DATA!$P$2:$R$196,3))","v":""},{"$f":"IF(GJX18=\"\",\"\",VLOOKUP($Q$10,DATA!$P$2:$R$196,3))","v":""},{"$f":"IF(GJY18=\"\",\"\",VLOOKUP($Q$10,DATA!$P$2:$R$196,3))","v":""},{"$f":"IF(GJZ18=\"\",\"\",VLOOKUP($Q$10,DATA!$P$2:$R$196,3))","v":""},{"$f":"IF(GKA18=\"\",\"\",VLOOKUP($Q$10,DATA!$P$2:$R$196,3))","v":""},{"$f":"IF(GKB18=\"\",\"\",VLOOKUP($Q$10,DATA!$P$2:$R$196,3))","v":""},{"$f":"IF(GKC18=\"\",\"\",VLOOKUP($Q$10,DATA!$P$2:$R$196,3))","v":""},{"$f":"IF(GKD18=\"\",\"\",VLOOKUP($Q$10,DATA!$P$2:$R$196,3))","v":""},{"$f":"IF(GKE18=\"\",\"\",VLOOKUP($Q$10,DATA!$P$2:$R$196,3))","v":""},{"$f":"IF(GKF18=\"\",\"\",VLOOKUP($Q$10,DATA!$P$2:$R$196,3))","v":""},{"$f":"IF(GKG18=\"\",\"\",VLOOKUP($Q$10,DATA!$P$2:$R$196,3))","v":""},{"$f":"IF(GKH18=\"\",\"\",VLOOKUP($Q$10,DATA!$P$2:$R$196,3))","v":""},{"$f":"IF(GKI18=\"\",\"\",VLOOKUP($Q$10,DATA!$P$2:$R$196,3))","v":""},{"$f":"IF(GKJ18=\"\",\"\",VLOOKUP($Q$10,DATA!$P$2:$R$196,3))","v":""},{"$f":"IF(GKK18=\"\",\"\",VLOOKUP($Q$10,DATA!$P$2:$R$196,3))","v":""},{"$f":"IF(GKL18=\"\",\"\",VLOOKUP($Q$10,DATA!$P$2:$R$196,3))","v":""},{"$f":"IF(GKM18=\"\",\"\",VLOOKUP($Q$10,DATA!$P$2:$R$196,3))","v":""},{"$f":"IF(GKN18=\"\",\"\",VLOOKUP($Q$10,DATA!$P$2:$R$196,3))","v":""},{"$f":"IF(GKO18=\"\",\"\",VLOOKUP($Q$10,DATA!$P$2:$R$196,3))","v":""},{"$f":"IF(GKP18=\"\",\"\",VLOOKUP($Q$10,DATA!$P$2:$R$196,3))","v":""},{"$f":"IF(GKQ18=\"\",\"\",VLOOKUP($Q$10,DATA!$P$2:$R$196,3))","v":""},{"$f":"IF(GKR18=\"\",\"\",VLOOKUP($Q$10,DATA!$P$2:$R$196,3))","v":""},{"$f":"IF(GKS18=\"\",\"\",VLOOKUP($Q$10,DATA!$P$2:$R$196,3))","v":""},{"$f":"IF(GKT18=\"\",\"\",VLOOKUP($Q$10,DATA!$P$2:$R$196,3))","v":""},{"$f":"IF(GKU18=\"\",\"\",VLOOKUP($Q$10,DATA!$P$2:$R$196,3))","v":""},{"$f":"IF(GKV18=\"\",\"\",VLOOKUP($Q$10,DATA!$P$2:$R$196,3))","v":""},{"$f":"IF(GKW18=\"\",\"\",VLOOKUP($Q$10,DATA!$P$2:$R$196,3))","v":""},{"$f":"IF(GKX18=\"\",\"\",VLOOKUP($Q$10,DATA!$P$2:$R$196,3))","v":""},{"$f":"IF(GKY18=\"\",\"\",VLOOKUP($Q$10,DATA!$P$2:$R$196,3))","v":""},{"$f":"IF(GKZ18=\"\",\"\",VLOOKUP($Q$10,DATA!$P$2:$R$196,3))","v":""},{"$f":"IF(GLA18=\"\",\"\",VLOOKUP($Q$10,DATA!$P$2:$R$196,3))","v":""},{"$f":"IF(GLB18=\"\",\"\",VLOOKUP($Q$10,DATA!$P$2:$R$196,3))","v":""},{"$f":"IF(GLC18=\"\",\"\",VLOOKUP($Q$10,DATA!$P$2:$R$196,3))","v":""},{"$f":"IF(GLD18=\"\",\"\",VLOOKUP($Q$10,DATA!$P$2:$R$196,3))","v":""},{"$f":"IF(GLE18=\"\",\"\",VLOOKUP($Q$10,DATA!$P$2:$R$196,3))","v":""},{"$f":"IF(GLF18=\"\",\"\",VLOOKUP($Q$10,DATA!$P$2:$R$196,3))","v":""},{"$f":"IF(GLG18=\"\",\"\",VLOOKUP($Q$10,DATA!$P$2:$R$196,3))","v":""},{"$f":"IF(GLH18=\"\",\"\",VLOOKUP($Q$10,DATA!$P$2:$R$196,3))","v":""},{"$f":"IF(GLI18=\"\",\"\",VLOOKUP($Q$10,DATA!$P$2:$R$196,3))","v":""},{"$f":"IF(GLJ18=\"\",\"\",VLOOKUP($Q$10,DATA!$P$2:$R$196,3))","v":""},{"$f":"IF(GLK18=\"\",\"\",VLOOKUP($Q$10,DATA!$P$2:$R$196,3))","v":""},{"$f":"IF(GLL18=\"\",\"\",VLOOKUP($Q$10,DATA!$P$2:$R$196,3))","v":""},{"$f":"IF(GLM18=\"\",\"\",VLOOKUP($Q$10,DATA!$P$2:$R$196,3))","v":""},{"$f":"IF(GLN18=\"\",\"\",VLOOKUP($Q$10,DATA!$P$2:$R$196,3))","v":""},{"$f":"IF(GLO18=\"\",\"\",VLOOKUP($Q$10,DATA!$P$2:$R$196,3))","v":""},{"$f":"IF(GLP18=\"\",\"\",VLOOKUP($Q$10,DATA!$P$2:$R$196,3))","v":""},{"$f":"IF(GLQ18=\"\",\"\",VLOOKUP($Q$10,DATA!$P$2:$R$196,3))","v":""},{"$f":"IF(GLR18=\"\",\"\",VLOOKUP($Q$10,DATA!$P$2:$R$196,3))","v":""},{"$f":"IF(GLS18=\"\",\"\",VLOOKUP($Q$10,DATA!$P$2:$R$196,3))","v":""},{"$f":"IF(GLT18=\"\",\"\",VLOOKUP($Q$10,DATA!$P$2:$R$196,3))","v":""},{"$f":"IF(GLU18=\"\",\"\",VLOOKUP($Q$10,DATA!$P$2:$R$196,3))","v":""},{"$f":"IF(GLV18=\"\",\"\",VLOOKUP($Q$10,DATA!$P$2:$R$196,3))","v":""},{"$f":"IF(GLW18=\"\",\"\",VLOOKUP($Q$10,DATA!$P$2:$R$196,3))","v":""},{"$f":"IF(GLX18=\"\",\"\",VLOOKUP($Q$10,DATA!$P$2:$R$196,3))","v":""},{"$f":"IF(GLY18=\"\",\"\",VLOOKUP($Q$10,DATA!$P$2:$R$196,3))","v":""},{"$f":"IF(GLZ18=\"\",\"\",VLOOKUP($Q$10,DATA!$P$2:$R$196,3))","v":""},{"$f":"IF(GMA18=\"\",\"\",VLOOKUP($Q$10,DATA!$P$2:$R$196,3))","v":""},{"$f":"IF(GMB18=\"\",\"\",VLOOKUP($Q$10,DATA!$P$2:$R$196,3))","v":""},{"$f":"IF(GMC18=\"\",\"\",VLOOKUP($Q$10,DATA!$P$2:$R$196,3))","v":""},{"$f":"IF(GMD18=\"\",\"\",VLOOKUP($Q$10,DATA!$P$2:$R$196,3))","v":""},{"$f":"IF(GME18=\"\",\"\",VLOOKUP($Q$10,DATA!$P$2:$R$196,3))","v":""},{"$f":"IF(GMF18=\"\",\"\",VLOOKUP($Q$10,DATA!$P$2:$R$196,3))","v":""},{"$f":"IF(GMG18=\"\",\"\",VLOOKUP($Q$10,DATA!$P$2:$R$196,3))","v":""},{"$f":"IF(GMH18=\"\",\"\",VLOOKUP($Q$10,DATA!$P$2:$R$196,3))","v":""},{"$f":"IF(GMI18=\"\",\"\",VLOOKUP($Q$10,DATA!$P$2:$R$196,3))","v":""},{"$f":"IF(GMJ18=\"\",\"\",VLOOKUP($Q$10,DATA!$P$2:$R$196,3))","v":""},{"$f":"IF(GMK18=\"\",\"\",VLOOKUP($Q$10,DATA!$P$2:$R$196,3))","v":""},{"$f":"IF(GML18=\"\",\"\",VLOOKUP($Q$10,DATA!$P$2:$R$196,3))","v":""},{"$f":"IF(GMM18=\"\",\"\",VLOOKUP($Q$10,DATA!$P$2:$R$196,3))","v":""},{"$f":"IF(GMN18=\"\",\"\",VLOOKUP($Q$10,DATA!$P$2:$R$196,3))","v":""},{"$f":"IF(GMO18=\"\",\"\",VLOOKUP($Q$10,DATA!$P$2:$R$196,3))","v":""},{"$f":"IF(GMP18=\"\",\"\",VLOOKUP($Q$10,DATA!$P$2:$R$196,3))","v":""},{"$f":"IF(GMQ18=\"\",\"\",VLOOKUP($Q$10,DATA!$P$2:$R$196,3))","v":""},{"$f":"IF(GMR18=\"\",\"\",VLOOKUP($Q$10,DATA!$P$2:$R$196,3))","v":""},{"$f":"IF(GMS18=\"\",\"\",VLOOKUP($Q$10,DATA!$P$2:$R$196,3))","v":""},{"$f":"IF(GMT18=\"\",\"\",VLOOKUP($Q$10,DATA!$P$2:$R$196,3))","v":""},{"$f":"IF(GMU18=\"\",\"\",VLOOKUP($Q$10,DATA!$P$2:$R$196,3))","v":""},{"$f":"IF(GMV18=\"\",\"\",VLOOKUP($Q$10,DATA!$P$2:$R$196,3))","v":""},{"$f":"IF(GMW18=\"\",\"\",VLOOKUP($Q$10,DATA!$P$2:$R$196,3))","v":""},{"$f":"IF(GMX18=\"\",\"\",VLOOKUP($Q$10,DATA!$P$2:$R$196,3))","v":""},{"$f":"IF(GMY18=\"\",\"\",VLOOKUP($Q$10,DATA!$P$2:$R$196,3))","v":""},{"$f":"IF(GMZ18=\"\",\"\",VLOOKUP($Q$10,DATA!$P$2:$R$196,3))","v":""},{"$f":"IF(GNA18=\"\",\"\",VLOOKUP($Q$10,DATA!$P$2:$R$196,3))","v":""},{"$f":"IF(GNB18=\"\",\"\",VLOOKUP($Q$10,DATA!$P$2:$R$196,3))","v":""},{"$f":"IF(GNC18=\"\",\"\",VLOOKUP($Q$10,DATA!$P$2:$R$196,3))","v":""},{"$f":"IF(GND18=\"\",\"\",VLOOKUP($Q$10,DATA!$P$2:$R$196,3))","v":""},{"$f":"IF(GNE18=\"\",\"\",VLOOKUP($Q$10,DATA!$P$2:$R$196,3))","v":""},{"$f":"IF(GNF18=\"\",\"\",VLOOKUP($Q$10,DATA!$P$2:$R$196,3))","v":""},{"$f":"IF(GNG18=\"\",\"\",VLOOKUP($Q$10,DATA!$P$2:$R$196,3))","v":""},{"$f":"IF(GNH18=\"\",\"\",VLOOKUP($Q$10,DATA!$P$2:$R$196,3))","v":""},{"$f":"IF(GNI18=\"\",\"\",VLOOKUP($Q$10,DATA!$P$2:$R$196,3))","v":""},{"$f":"IF(GNJ18=\"\",\"\",VLOOKUP($Q$10,DATA!$P$2:$R$196,3))","v":""},{"$f":"IF(GNK18=\"\",\"\",VLOOKUP($Q$10,DATA!$P$2:$R$196,3))","v":""},{"$f":"IF(GNL18=\"\",\"\",VLOOKUP($Q$10,DATA!$P$2:$R$196,3))","v":""},{"$f":"IF(GNM18=\"\",\"\",VLOOKUP($Q$10,DATA!$P$2:$R$196,3))","v":""},{"$f":"IF(GNN18=\"\",\"\",VLOOKUP($Q$10,DATA!$P$2:$R$196,3))","v":""},{"$f":"IF(GNO18=\"\",\"\",VLOOKUP($Q$10,DATA!$P$2:$R$196,3))","v":""},{"$f":"IF(GNP18=\"\",\"\",VLOOKUP($Q$10,DATA!$P$2:$R$196,3))","v":""},{"$f":"IF(GNQ18=\"\",\"\",VLOOKUP($Q$10,DATA!$P$2:$R$196,3))","v":""},{"$f":"IF(GNR18=\"\",\"\",VLOOKUP($Q$10,DATA!$P$2:$R$196,3))","v":""},{"$f":"IF(GNS18=\"\",\"\",VLOOKUP($Q$10,DATA!$P$2:$R$196,3))","v":""},{"$f":"IF(GNT18=\"\",\"\",VLOOKUP($Q$10,DATA!$P$2:$R$196,3))","v":""},{"$f":"IF(GNU18=\"\",\"\",VLOOKUP($Q$10,DATA!$P$2:$R$196,3))","v":""},{"$f":"IF(GNV18=\"\",\"\",VLOOKUP($Q$10,DATA!$P$2:$R$196,3))","v":""},{"$f":"IF(GNW18=\"\",\"\",VLOOKUP($Q$10,DATA!$P$2:$R$196,3))","v":""},{"$f":"IF(GNX18=\"\",\"\",VLOOKUP($Q$10,DATA!$P$2:$R$196,3))","v":""},{"$f":"IF(GNY18=\"\",\"\",VLOOKUP($Q$10,DATA!$P$2:$R$196,3))","v":""},{"$f":"IF(GNZ18=\"\",\"\",VLOOKUP($Q$10,DATA!$P$2:$R$196,3))","v":""},{"$f":"IF(GOA18=\"\",\"\",VLOOKUP($Q$10,DATA!$P$2:$R$196,3))","v":""},{"$f":"IF(GOB18=\"\",\"\",VLOOKUP($Q$10,DATA!$P$2:$R$196,3))","v":""},{"$f":"IF(GOC18=\"\",\"\",VLOOKUP($Q$10,DATA!$P$2:$R$196,3))","v":""},{"$f":"IF(GOD18=\"\",\"\",VLOOKUP($Q$10,DATA!$P$2:$R$196,3))","v":""},{"$f":"IF(GOE18=\"\",\"\",VLOOKUP($Q$10,DATA!$P$2:$R$196,3))","v":""},{"$f":"IF(GOF18=\"\",\"\",VLOOKUP($Q$10,DATA!$P$2:$R$196,3))","v":""},{"$f":"IF(GOG18=\"\",\"\",VLOOKUP($Q$10,DATA!$P$2:$R$196,3))","v":""},{"$f":"IF(GOH18=\"\",\"\",VLOOKUP($Q$10,DATA!$P$2:$R$196,3))","v":""},{"$f":"IF(GOI18=\"\",\"\",VLOOKUP($Q$10,DATA!$P$2:$R$196,3))","v":""},{"$f":"IF(GOJ18=\"\",\"\",VLOOKUP($Q$10,DATA!$P$2:$R$196,3))","v":""},{"$f":"IF(GOK18=\"\",\"\",VLOOKUP($Q$10,DATA!$P$2:$R$196,3))","v":""},{"$f":"IF(GOL18=\"\",\"\",VLOOKUP($Q$10,DATA!$P$2:$R$196,3))","v":""},{"$f":"IF(GOM18=\"\",\"\",VLOOKUP($Q$10,DATA!$P$2:$R$196,3))","v":""},{"$f":"IF(GON18=\"\",\"\",VLOOKUP($Q$10,DATA!$P$2:$R$196,3))","v":""},{"$f":"IF(GOO18=\"\",\"\",VLOOKUP($Q$10,DATA!$P$2:$R$196,3))","v":""},{"$f":"IF(GOP18=\"\",\"\",VLOOKUP($Q$10,DATA!$P$2:$R$196,3))","v":""},{"$f":"IF(GOQ18=\"\",\"\",VLOOKUP($Q$10,DATA!$P$2:$R$196,3))","v":""},{"$f":"IF(GOR18=\"\",\"\",VLOOKUP($Q$10,DATA!$P$2:$R$196,3))","v":""},{"$f":"IF(GOS18=\"\",\"\",VLOOKUP($Q$10,DATA!$P$2:$R$196,3))","v":""},{"$f":"IF(GOT18=\"\",\"\",VLOOKUP($Q$10,DATA!$P$2:$R$196,3))","v":""},{"$f":"IF(GOU18=\"\",\"\",VLOOKUP($Q$10,DATA!$P$2:$R$196,3))","v":""},{"$f":"IF(GOV18=\"\",\"\",VLOOKUP($Q$10,DATA!$P$2:$R$196,3))","v":""},{"$f":"IF(GOW18=\"\",\"\",VLOOKUP($Q$10,DATA!$P$2:$R$196,3))","v":""},{"$f":"IF(GOX18=\"\",\"\",VLOOKUP($Q$10,DATA!$P$2:$R$196,3))","v":""},{"$f":"IF(GOY18=\"\",\"\",VLOOKUP($Q$10,DATA!$P$2:$R$196,3))","v":""},{"$f":"IF(GOZ18=\"\",\"\",VLOOKUP($Q$10,DATA!$P$2:$R$196,3))","v":""},{"$f":"IF(GPA18=\"\",\"\",VLOOKUP($Q$10,DATA!$P$2:$R$196,3))","v":""},{"$f":"IF(GPB18=\"\",\"\",VLOOKUP($Q$10,DATA!$P$2:$R$196,3))","v":""},{"$f":"IF(GPC18=\"\",\"\",VLOOKUP($Q$10,DATA!$P$2:$R$196,3))","v":""},{"$f":"IF(GPD18=\"\",\"\",VLOOKUP($Q$10,DATA!$P$2:$R$196,3))","v":""},{"$f":"IF(GPE18=\"\",\"\",VLOOKUP($Q$10,DATA!$P$2:$R$196,3))","v":""},{"$f":"IF(GPF18=\"\",\"\",VLOOKUP($Q$10,DATA!$P$2:$R$196,3))","v":""},{"$f":"IF(GPG18=\"\",\"\",VLOOKUP($Q$10,DATA!$P$2:$R$196,3))","v":""},{"$f":"IF(GPH18=\"\",\"\",VLOOKUP($Q$10,DATA!$P$2:$R$196,3))","v":""},{"$f":"IF(GPI18=\"\",\"\",VLOOKUP($Q$10,DATA!$P$2:$R$196,3))","v":""},{"$f":"IF(GPJ18=\"\",\"\",VLOOKUP($Q$10,DATA!$P$2:$R$196,3))","v":""},{"$f":"IF(GPK18=\"\",\"\",VLOOKUP($Q$10,DATA!$P$2:$R$196,3))","v":""},{"$f":"IF(GPL18=\"\",\"\",VLOOKUP($Q$10,DATA!$P$2:$R$196,3))","v":""},{"$f":"IF(GPM18=\"\",\"\",VLOOKUP($Q$10,DATA!$P$2:$R$196,3))","v":""},{"$f":"IF(GPN18=\"\",\"\",VLOOKUP($Q$10,DATA!$P$2:$R$196,3))","v":""},{"$f":"IF(GPO18=\"\",\"\",VLOOKUP($Q$10,DATA!$P$2:$R$196,3))","v":""},{"$f":"IF(GPP18=\"\",\"\",VLOOKUP($Q$10,DATA!$P$2:$R$196,3))","v":""},{"$f":"IF(GPQ18=\"\",\"\",VLOOKUP($Q$10,DATA!$P$2:$R$196,3))","v":""},{"$f":"IF(GPR18=\"\",\"\",VLOOKUP($Q$10,DATA!$P$2:$R$196,3))","v":""},{"$f":"IF(GPS18=\"\",\"\",VLOOKUP($Q$10,DATA!$P$2:$R$196,3))","v":""},{"$f":"IF(GPT18=\"\",\"\",VLOOKUP($Q$10,DATA!$P$2:$R$196,3))","v":""},{"$f":"IF(GPU18=\"\",\"\",VLOOKUP($Q$10,DATA!$P$2:$R$196,3))","v":""},{"$f":"IF(GPV18=\"\",\"\",VLOOKUP($Q$10,DATA!$P$2:$R$196,3))","v":""},{"$f":"IF(GPW18=\"\",\"\",VLOOKUP($Q$10,DATA!$P$2:$R$196,3))","v":""},{"$f":"IF(GPX18=\"\",\"\",VLOOKUP($Q$10,DATA!$P$2:$R$196,3))","v":""},{"$f":"IF(GPY18=\"\",\"\",VLOOKUP($Q$10,DATA!$P$2:$R$196,3))","v":""},{"$f":"IF(GPZ18=\"\",\"\",VLOOKUP($Q$10,DATA!$P$2:$R$196,3))","v":""},{"$f":"IF(GQA18=\"\",\"\",VLOOKUP($Q$10,DATA!$P$2:$R$196,3))","v":""},{"$f":"IF(GQB18=\"\",\"\",VLOOKUP($Q$10,DATA!$P$2:$R$196,3))","v":""},{"$f":"IF(GQC18=\"\",\"\",VLOOKUP($Q$10,DATA!$P$2:$R$196,3))","v":""},{"$f":"IF(GQD18=\"\",\"\",VLOOKUP($Q$10,DATA!$P$2:$R$196,3))","v":""},{"$f":"IF(GQE18=\"\",\"\",VLOOKUP($Q$10,DATA!$P$2:$R$196,3))","v":""},{"$f":"IF(GQF18=\"\",\"\",VLOOKUP($Q$10,DATA!$P$2:$R$196,3))","v":""},{"$f":"IF(GQG18=\"\",\"\",VLOOKUP($Q$10,DATA!$P$2:$R$196,3))","v":""},{"$f":"IF(GQH18=\"\",\"\",VLOOKUP($Q$10,DATA!$P$2:$R$196,3))","v":""},{"$f":"IF(GQI18=\"\",\"\",VLOOKUP($Q$10,DATA!$P$2:$R$196,3))","v":""},{"$f":"IF(GQJ18=\"\",\"\",VLOOKUP($Q$10,DATA!$P$2:$R$196,3))","v":""},{"$f":"IF(GQK18=\"\",\"\",VLOOKUP($Q$10,DATA!$P$2:$R$196,3))","v":""},{"$f":"IF(GQL18=\"\",\"\",VLOOKUP($Q$10,DATA!$P$2:$R$196,3))","v":""},{"$f":"IF(GQM18=\"\",\"\",VLOOKUP($Q$10,DATA!$P$2:$R$196,3))","v":""},{"$f":"IF(GQN18=\"\",\"\",VLOOKUP($Q$10,DATA!$P$2:$R$196,3))","v":""},{"$f":"IF(GQO18=\"\",\"\",VLOOKUP($Q$10,DATA!$P$2:$R$196,3))","v":""},{"$f":"IF(GQP18=\"\",\"\",VLOOKUP($Q$10,DATA!$P$2:$R$196,3))","v":""},{"$f":"IF(GQQ18=\"\",\"\",VLOOKUP($Q$10,DATA!$P$2:$R$196,3))","v":""},{"$f":"IF(GQR18=\"\",\"\",VLOOKUP($Q$10,DATA!$P$2:$R$196,3))","v":""},{"$f":"IF(GQS18=\"\",\"\",VLOOKUP($Q$10,DATA!$P$2:$R$196,3))","v":""},{"$f":"IF(GQT18=\"\",\"\",VLOOKUP($Q$10,DATA!$P$2:$R$196,3))","v":""},{"$f":"IF(GQU18=\"\",\"\",VLOOKUP($Q$10,DATA!$P$2:$R$196,3))","v":""},{"$f":"IF(GQV18=\"\",\"\",VLOOKUP($Q$10,DATA!$P$2:$R$196,3))","v":""},{"$f":"IF(GQW18=\"\",\"\",VLOOKUP($Q$10,DATA!$P$2:$R$196,3))","v":""},{"$f":"IF(GQX18=\"\",\"\",VLOOKUP($Q$10,DATA!$P$2:$R$196,3))","v":""},{"$f":"IF(GQY18=\"\",\"\",VLOOKUP($Q$10,DATA!$P$2:$R$196,3))","v":""},{"$f":"IF(GQZ18=\"\",\"\",VLOOKUP($Q$10,DATA!$P$2:$R$196,3))","v":""},{"$f":"IF(GRA18=\"\",\"\",VLOOKUP($Q$10,DATA!$P$2:$R$196,3))","v":""},{"$f":"IF(GRB18=\"\",\"\",VLOOKUP($Q$10,DATA!$P$2:$R$196,3))","v":""},{"$f":"IF(GRC18=\"\",\"\",VLOOKUP($Q$10,DATA!$P$2:$R$196,3))","v":""},{"$f":"IF(GRD18=\"\",\"\",VLOOKUP($Q$10,DATA!$P$2:$R$196,3))","v":""},{"$f":"IF(GRE18=\"\",\"\",VLOOKUP($Q$10,DATA!$P$2:$R$196,3))","v":""},{"$f":"IF(GRF18=\"\",\"\",VLOOKUP($Q$10,DATA!$P$2:$R$196,3))","v":""},{"$f":"IF(GRG18=\"\",\"\",VLOOKUP($Q$10,DATA!$P$2:$R$196,3))","v":""},{"$f":"IF(GRH18=\"\",\"\",VLOOKUP($Q$10,DATA!$P$2:$R$196,3))","v":""},{"$f":"IF(GRI18=\"\",\"\",VLOOKUP($Q$10,DATA!$P$2:$R$196,3))","v":""},{"$f":"IF(GRJ18=\"\",\"\",VLOOKUP($Q$10,DATA!$P$2:$R$196,3))","v":""},{"$f":"IF(GRK18=\"\",\"\",VLOOKUP($Q$10,DATA!$P$2:$R$196,3))","v":""},{"$f":"IF(GRL18=\"\",\"\",VLOOKUP($Q$10,DATA!$P$2:$R$196,3))","v":""},{"$f":"IF(GRM18=\"\",\"\",VLOOKUP($Q$10,DATA!$P$2:$R$196,3))","v":""},{"$f":"IF(GRN18=\"\",\"\",VLOOKUP($Q$10,DATA!$P$2:$R$196,3))","v":""},{"$f":"IF(GRO18=\"\",\"\",VLOOKUP($Q$10,DATA!$P$2:$R$196,3))","v":""},{"$f":"IF(GRP18=\"\",\"\",VLOOKUP($Q$10,DATA!$P$2:$R$196,3))","v":""},{"$f":"IF(GRQ18=\"\",\"\",VLOOKUP($Q$10,DATA!$P$2:$R$196,3))","v":""},{"$f":"IF(GRR18=\"\",\"\",VLOOKUP($Q$10,DATA!$P$2:$R$196,3))","v":""},{"$f":"IF(GRS18=\"\",\"\",VLOOKUP($Q$10,DATA!$P$2:$R$196,3))","v":""},{"$f":"IF(GRT18=\"\",\"\",VLOOKUP($Q$10,DATA!$P$2:$R$196,3))","v":""},{"$f":"IF(GRU18=\"\",\"\",VLOOKUP($Q$10,DATA!$P$2:$R$196,3))","v":""},{"$f":"IF(GRV18=\"\",\"\",VLOOKUP($Q$10,DATA!$P$2:$R$196,3))","v":""},{"$f":"IF(GRW18=\"\",\"\",VLOOKUP($Q$10,DATA!$P$2:$R$196,3))","v":""},{"$f":"IF(GRX18=\"\",\"\",VLOOKUP($Q$10,DATA!$P$2:$R$196,3))","v":""},{"$f":"IF(GRY18=\"\",\"\",VLOOKUP($Q$10,DATA!$P$2:$R$196,3))","v":""},{"$f":"IF(GRZ18=\"\",\"\",VLOOKUP($Q$10,DATA!$P$2:$R$196,3))","v":""},{"$f":"IF(GSA18=\"\",\"\",VLOOKUP($Q$10,DATA!$P$2:$R$196,3))","v":""},{"$f":"IF(GSB18=\"\",\"\",VLOOKUP($Q$10,DATA!$P$2:$R$196,3))","v":""},{"$f":"IF(GSC18=\"\",\"\",VLOOKUP($Q$10,DATA!$P$2:$R$196,3))","v":""},{"$f":"IF(GSD18=\"\",\"\",VLOOKUP($Q$10,DATA!$P$2:$R$196,3))","v":""},{"$f":"IF(GSE18=\"\",\"\",VLOOKUP($Q$10,DATA!$P$2:$R$196,3))","v":""},{"$f":"IF(GSF18=\"\",\"\",VLOOKUP($Q$10,DATA!$P$2:$R$196,3))","v":""},{"$f":"IF(GSG18=\"\",\"\",VLOOKUP($Q$10,DATA!$P$2:$R$196,3))","v":""},{"$f":"IF(GSH18=\"\",\"\",VLOOKUP($Q$10,DATA!$P$2:$R$196,3))","v":""},{"$f":"IF(GSI18=\"\",\"\",VLOOKUP($Q$10,DATA!$P$2:$R$196,3))","v":""},{"$f":"IF(GSJ18=\"\",\"\",VLOOKUP($Q$10,DATA!$P$2:$R$196,3))","v":""},{"$f":"IF(GSK18=\"\",\"\",VLOOKUP($Q$10,DATA!$P$2:$R$196,3))","v":""},{"$f":"IF(GSL18=\"\",\"\",VLOOKUP($Q$10,DATA!$P$2:$R$196,3))","v":""},{"$f":"IF(GSM18=\"\",\"\",VLOOKUP($Q$10,DATA!$P$2:$R$196,3))","v":""},{"$f":"IF(GSN18=\"\",\"\",VLOOKUP($Q$10,DATA!$P$2:$R$196,3))","v":""},{"$f":"IF(GSO18=\"\",\"\",VLOOKUP($Q$10,DATA!$P$2:$R$196,3))","v":""},{"$f":"IF(GSP18=\"\",\"\",VLOOKUP($Q$10,DATA!$P$2:$R$196,3))","v":""},{"$f":"IF(GSQ18=\"\",\"\",VLOOKUP($Q$10,DATA!$P$2:$R$196,3))","v":""},{"$f":"IF(GSR18=\"\",\"\",VLOOKUP($Q$10,DATA!$P$2:$R$196,3))","v":""},{"$f":"IF(GSS18=\"\",\"\",VLOOKUP($Q$10,DATA!$P$2:$R$196,3))","v":""},{"$f":"IF(GST18=\"\",\"\",VLOOKUP($Q$10,DATA!$P$2:$R$196,3))","v":""},{"$f":"IF(GSU18=\"\",\"\",VLOOKUP($Q$10,DATA!$P$2:$R$196,3))","v":""},{"$f":"IF(GSV18=\"\",\"\",VLOOKUP($Q$10,DATA!$P$2:$R$196,3))","v":""},{"$f":"IF(GSW18=\"\",\"\",VLOOKUP($Q$10,DATA!$P$2:$R$196,3))","v":""},{"$f":"IF(GSX18=\"\",\"\",VLOOKUP($Q$10,DATA!$P$2:$R$196,3))","v":""},{"$f":"IF(GSY18=\"\",\"\",VLOOKUP($Q$10,DATA!$P$2:$R$196,3))","v":""},{"$f":"IF(GSZ18=\"\",\"\",VLOOKUP($Q$10,DATA!$P$2:$R$196,3))","v":""},{"$f":"IF(GTA18=\"\",\"\",VLOOKUP($Q$10,DATA!$P$2:$R$196,3))","v":""},{"$f":"IF(GTB18=\"\",\"\",VLOOKUP($Q$10,DATA!$P$2:$R$196,3))","v":""},{"$f":"IF(GTC18=\"\",\"\",VLOOKUP($Q$10,DATA!$P$2:$R$196,3))","v":""},{"$f":"IF(GTD18=\"\",\"\",VLOOKUP($Q$10,DATA!$P$2:$R$196,3))","v":""},{"$f":"IF(GTE18=\"\",\"\",VLOOKUP($Q$10,DATA!$P$2:$R$196,3))","v":""},{"$f":"IF(GTF18=\"\",\"\",VLOOKUP($Q$10,DATA!$P$2:$R$196,3))","v":""},{"$f":"IF(GTG18=\"\",\"\",VLOOKUP($Q$10,DATA!$P$2:$R$196,3))","v":""},{"$f":"IF(GTH18=\"\",\"\",VLOOKUP($Q$10,DATA!$P$2:$R$196,3))","v":""},{"$f":"IF(GTI18=\"\",\"\",VLOOKUP($Q$10,DATA!$P$2:$R$196,3))","v":""},{"$f":"IF(GTJ18=\"\",\"\",VLOOKUP($Q$10,DATA!$P$2:$R$196,3))","v":""},{"$f":"IF(GTK18=\"\",\"\",VLOOKUP($Q$10,DATA!$P$2:$R$196,3))","v":""},{"$f":"IF(GTL18=\"\",\"\",VLOOKUP($Q$10,DATA!$P$2:$R$196,3))","v":""},{"$f":"IF(GTM18=\"\",\"\",VLOOKUP($Q$10,DATA!$P$2:$R$196,3))","v":""},{"$f":"IF(GTN18=\"\",\"\",VLOOKUP($Q$10,DATA!$P$2:$R$196,3))","v":""},{"$f":"IF(GTO18=\"\",\"\",VLOOKUP($Q$10,DATA!$P$2:$R$196,3))","v":""},{"$f":"IF(GTP18=\"\",\"\",VLOOKUP($Q$10,DATA!$P$2:$R$196,3))","v":""},{"$f":"IF(GTQ18=\"\",\"\",VLOOKUP($Q$10,DATA!$P$2:$R$196,3))","v":""},{"$f":"IF(GTR18=\"\",\"\",VLOOKUP($Q$10,DATA!$P$2:$R$196,3))","v":""},{"$f":"IF(GTS18=\"\",\"\",VLOOKUP($Q$10,DATA!$P$2:$R$196,3))","v":""},{"$f":"IF(GTT18=\"\",\"\",VLOOKUP($Q$10,DATA!$P$2:$R$196,3))","v":""},{"$f":"IF(GTU18=\"\",\"\",VLOOKUP($Q$10,DATA!$P$2:$R$196,3))","v":""},{"$f":"IF(GTV18=\"\",\"\",VLOOKUP($Q$10,DATA!$P$2:$R$196,3))","v":""},{"$f":"IF(GTW18=\"\",\"\",VLOOKUP($Q$10,DATA!$P$2:$R$196,3))","v":""},{"$f":"IF(GTX18=\"\",\"\",VLOOKUP($Q$10,DATA!$P$2:$R$196,3))","v":""},{"$f":"IF(GTY18=\"\",\"\",VLOOKUP($Q$10,DATA!$P$2:$R$196,3))","v":""},{"$f":"IF(GTZ18=\"\",\"\",VLOOKUP($Q$10,DATA!$P$2:$R$196,3))","v":""},{"$f":"IF(GUA18=\"\",\"\",VLOOKUP($Q$10,DATA!$P$2:$R$196,3))","v":""},{"$f":"IF(GUB18=\"\",\"\",VLOOKUP($Q$10,DATA!$P$2:$R$196,3))","v":""},{"$f":"IF(GUC18=\"\",\"\",VLOOKUP($Q$10,DATA!$P$2:$R$196,3))","v":""},{"$f":"IF(GUD18=\"\",\"\",VLOOKUP($Q$10,DATA!$P$2:$R$196,3))","v":""},{"$f":"IF(GUE18=\"\",\"\",VLOOKUP($Q$10,DATA!$P$2:$R$196,3))","v":""},{"$f":"IF(GUF18=\"\",\"\",VLOOKUP($Q$10,DATA!$P$2:$R$196,3))","v":""},{"$f":"IF(GUG18=\"\",\"\",VLOOKUP($Q$10,DATA!$P$2:$R$196,3))","v":""},{"$f":"IF(GUH18=\"\",\"\",VLOOKUP($Q$10,DATA!$P$2:$R$196,3))","v":""},{"$f":"IF(GUI18=\"\",\"\",VLOOKUP($Q$10,DATA!$P$2:$R$196,3))","v":""},{"$f":"IF(GUJ18=\"\",\"\",VLOOKUP($Q$10,DATA!$P$2:$R$196,3))","v":""},{"$f":"IF(GUK18=\"\",\"\",VLOOKUP($Q$10,DATA!$P$2:$R$196,3))","v":""},{"$f":"IF(GUL18=\"\",\"\",VLOOKUP($Q$10,DATA!$P$2:$R$196,3))","v":""},{"$f":"IF(GUM18=\"\",\"\",VLOOKUP($Q$10,DATA!$P$2:$R$196,3))","v":""},{"$f":"IF(GUN18=\"\",\"\",VLOOKUP($Q$10,DATA!$P$2:$R$196,3))","v":""},{"$f":"IF(GUO18=\"\",\"\",VLOOKUP($Q$10,DATA!$P$2:$R$196,3))","v":""},{"$f":"IF(GUP18=\"\",\"\",VLOOKUP($Q$10,DATA!$P$2:$R$196,3))","v":""},{"$f":"IF(GUQ18=\"\",\"\",VLOOKUP($Q$10,DATA!$P$2:$R$196,3))","v":""},{"$f":"IF(GUR18=\"\",\"\",VLOOKUP($Q$10,DATA!$P$2:$R$196,3))","v":""},{"$f":"IF(GUS18=\"\",\"\",VLOOKUP($Q$10,DATA!$P$2:$R$196,3))","v":""},{"$f":"IF(GUT18=\"\",\"\",VLOOKUP($Q$10,DATA!$P$2:$R$196,3))","v":""},{"$f":"IF(GUU18=\"\",\"\",VLOOKUP($Q$10,DATA!$P$2:$R$196,3))","v":""},{"$f":"IF(GUV18=\"\",\"\",VLOOKUP($Q$10,DATA!$P$2:$R$196,3))","v":""},{"$f":"IF(GUW18=\"\",\"\",VLOOKUP($Q$10,DATA!$P$2:$R$196,3))","v":""},{"$f":"IF(GUX18=\"\",\"\",VLOOKUP($Q$10,DATA!$P$2:$R$196,3))","v":""},{"$f":"IF(GUY18=\"\",\"\",VLOOKUP($Q$10,DATA!$P$2:$R$196,3))","v":""},{"$f":"IF(GUZ18=\"\",\"\",VLOOKUP($Q$10,DATA!$P$2:$R$196,3))","v":""},{"$f":"IF(GVA18=\"\",\"\",VLOOKUP($Q$10,DATA!$P$2:$R$196,3))","v":""},{"$f":"IF(GVB18=\"\",\"\",VLOOKUP($Q$10,DATA!$P$2:$R$196,3))","v":""},{"$f":"IF(GVC18=\"\",\"\",VLOOKUP($Q$10,DATA!$P$2:$R$196,3))","v":""},{"$f":"IF(GVD18=\"\",\"\",VLOOKUP($Q$10,DATA!$P$2:$R$196,3))","v":""},{"$f":"IF(GVE18=\"\",\"\",VLOOKUP($Q$10,DATA!$P$2:$R$196,3))","v":""},{"$f":"IF(GVF18=\"\",\"\",VLOOKUP($Q$10,DATA!$P$2:$R$196,3))","v":""},{"$f":"IF(GVG18=\"\",\"\",VLOOKUP($Q$10,DATA!$P$2:$R$196,3))","v":""},{"$f":"IF(GVH18=\"\",\"\",VLOOKUP($Q$10,DATA!$P$2:$R$196,3))","v":""},{"$f":"IF(GVI18=\"\",\"\",VLOOKUP($Q$10,DATA!$P$2:$R$196,3))","v":""},{"$f":"IF(GVJ18=\"\",\"\",VLOOKUP($Q$10,DATA!$P$2:$R$196,3))","v":""},{"$f":"IF(GVK18=\"\",\"\",VLOOKUP($Q$10,DATA!$P$2:$R$196,3))","v":""},{"$f":"IF(GVL18=\"\",\"\",VLOOKUP($Q$10,DATA!$P$2:$R$196,3))","v":""},{"$f":"IF(GVM18=\"\",\"\",VLOOKUP($Q$10,DATA!$P$2:$R$196,3))","v":""},{"$f":"IF(GVN18=\"\",\"\",VLOOKUP($Q$10,DATA!$P$2:$R$196,3))","v":""},{"$f":"IF(GVO18=\"\",\"\",VLOOKUP($Q$10,DATA!$P$2:$R$196,3))","v":""},{"$f":"IF(GVP18=\"\",\"\",VLOOKUP($Q$10,DATA!$P$2:$R$196,3))","v":""},{"$f":"IF(GVQ18=\"\",\"\",VLOOKUP($Q$10,DATA!$P$2:$R$196,3))","v":""},{"$f":"IF(GVR18=\"\",\"\",VLOOKUP($Q$10,DATA!$P$2:$R$196,3))","v":""},{"$f":"IF(GVS18=\"\",\"\",VLOOKUP($Q$10,DATA!$P$2:$R$196,3))","v":""},{"$f":"IF(GVT18=\"\",\"\",VLOOKUP($Q$10,DATA!$P$2:$R$196,3))","v":""},{"$f":"IF(GVU18=\"\",\"\",VLOOKUP($Q$10,DATA!$P$2:$R$196,3))","v":""},{"$f":"IF(GVV18=\"\",\"\",VLOOKUP($Q$10,DATA!$P$2:$R$196,3))","v":""},{"$f":"IF(GVW18=\"\",\"\",VLOOKUP($Q$10,DATA!$P$2:$R$196,3))","v":""},{"$f":"IF(GVX18=\"\",\"\",VLOOKUP($Q$10,DATA!$P$2:$R$196,3))","v":""},{"$f":"IF(GVY18=\"\",\"\",VLOOKUP($Q$10,DATA!$P$2:$R$196,3))","v":""},{"$f":"IF(GVZ18=\"\",\"\",VLOOKUP($Q$10,DATA!$P$2:$R$196,3))","v":""},{"$f":"IF(GWA18=\"\",\"\",VLOOKUP($Q$10,DATA!$P$2:$R$196,3))","v":""},{"$f":"IF(GWB18=\"\",\"\",VLOOKUP($Q$10,DATA!$P$2:$R$196,3))","v":""},{"$f":"IF(GWC18=\"\",\"\",VLOOKUP($Q$10,DATA!$P$2:$R$196,3))","v":""},{"$f":"IF(GWD18=\"\",\"\",VLOOKUP($Q$10,DATA!$P$2:$R$196,3))","v":""},{"$f":"IF(GWE18=\"\",\"\",VLOOKUP($Q$10,DATA!$P$2:$R$196,3))","v":""},{"$f":"IF(GWF18=\"\",\"\",VLOOKUP($Q$10,DATA!$P$2:$R$196,3))","v":""},{"$f":"IF(GWG18=\"\",\"\",VLOOKUP($Q$10,DATA!$P$2:$R$196,3))","v":""},{"$f":"IF(GWH18=\"\",\"\",VLOOKUP($Q$10,DATA!$P$2:$R$196,3))","v":""},{"$f":"IF(GWI18=\"\",\"\",VLOOKUP($Q$10,DATA!$P$2:$R$196,3))","v":""},{"$f":"IF(GWJ18=\"\",\"\",VLOOKUP($Q$10,DATA!$P$2:$R$196,3))","v":""},{"$f":"IF(GWK18=\"\",\"\",VLOOKUP($Q$10,DATA!$P$2:$R$196,3))","v":""},{"$f":"IF(GWL18=\"\",\"\",VLOOKUP($Q$10,DATA!$P$2:$R$196,3))","v":""},{"$f":"IF(GWM18=\"\",\"\",VLOOKUP($Q$10,DATA!$P$2:$R$196,3))","v":""},{"$f":"IF(GWN18=\"\",\"\",VLOOKUP($Q$10,DATA!$P$2:$R$196,3))","v":""},{"$f":"IF(GWO18=\"\",\"\",VLOOKUP($Q$10,DATA!$P$2:$R$196,3))","v":""},{"$f":"IF(GWP18=\"\",\"\",VLOOKUP($Q$10,DATA!$P$2:$R$196,3))","v":""},{"$f":"IF(GWQ18=\"\",\"\",VLOOKUP($Q$10,DATA!$P$2:$R$196,3))","v":""},{"$f":"IF(GWR18=\"\",\"\",VLOOKUP($Q$10,DATA!$P$2:$R$196,3))","v":""},{"$f":"IF(GWS18=\"\",\"\",VLOOKUP($Q$10,DATA!$P$2:$R$196,3))","v":""},{"$f":"IF(GWT18=\"\",\"\",VLOOKUP($Q$10,DATA!$P$2:$R$196,3))","v":""},{"$f":"IF(GWU18=\"\",\"\",VLOOKUP($Q$10,DATA!$P$2:$R$196,3))","v":""},{"$f":"IF(GWV18=\"\",\"\",VLOOKUP($Q$10,DATA!$P$2:$R$196,3))","v":""},{"$f":"IF(GWW18=\"\",\"\",VLOOKUP($Q$10,DATA!$P$2:$R$196,3))","v":""},{"$f":"IF(GWX18=\"\",\"\",VLOOKUP($Q$10,DATA!$P$2:$R$196,3))","v":""},{"$f":"IF(GWY18=\"\",\"\",VLOOKUP($Q$10,DATA!$P$2:$R$196,3))","v":""},{"$f":"IF(GWZ18=\"\",\"\",VLOOKUP($Q$10,DATA!$P$2:$R$196,3))","v":""},{"$f":"IF(GXA18=\"\",\"\",VLOOKUP($Q$10,DATA!$P$2:$R$196,3))","v":""},{"$f":"IF(GXB18=\"\",\"\",VLOOKUP($Q$10,DATA!$P$2:$R$196,3))","v":""},{"$f":"IF(GXC18=\"\",\"\",VLOOKUP($Q$10,DATA!$P$2:$R$196,3))","v":""},{"$f":"IF(GXD18=\"\",\"\",VLOOKUP($Q$10,DATA!$P$2:$R$196,3))","v":""},{"$f":"IF(GXE18=\"\",\"\",VLOOKUP($Q$10,DATA!$P$2:$R$196,3))","v":""},{"$f":"IF(GXF18=\"\",\"\",VLOOKUP($Q$10,DATA!$P$2:$R$196,3))","v":""},{"$f":"IF(GXG18=\"\",\"\",VLOOKUP($Q$10,DATA!$P$2:$R$196,3))","v":""},{"$f":"IF(GXH18=\"\",\"\",VLOOKUP($Q$10,DATA!$P$2:$R$196,3))","v":""},{"$f":"IF(GXI18=\"\",\"\",VLOOKUP($Q$10,DATA!$P$2:$R$196,3))","v":""},{"$f":"IF(GXJ18=\"\",\"\",VLOOKUP($Q$10,DATA!$P$2:$R$196,3))","v":""},{"$f":"IF(GXK18=\"\",\"\",VLOOKUP($Q$10,DATA!$P$2:$R$196,3))","v":""},{"$f":"IF(GXL18=\"\",\"\",VLOOKUP($Q$10,DATA!$P$2:$R$196,3))","v":""},{"$f":"IF(GXM18=\"\",\"\",VLOOKUP($Q$10,DATA!$P$2:$R$196,3))","v":""},{"$f":"IF(GXN18=\"\",\"\",VLOOKUP($Q$10,DATA!$P$2:$R$196,3))","v":""},{"$f":"IF(GXO18=\"\",\"\",VLOOKUP($Q$10,DATA!$P$2:$R$196,3))","v":""},{"$f":"IF(GXP18=\"\",\"\",VLOOKUP($Q$10,DATA!$P$2:$R$196,3))","v":""},{"$f":"IF(GXQ18=\"\",\"\",VLOOKUP($Q$10,DATA!$P$2:$R$196,3))","v":""},{"$f":"IF(GXR18=\"\",\"\",VLOOKUP($Q$10,DATA!$P$2:$R$196,3))","v":""},{"$f":"IF(GXS18=\"\",\"\",VLOOKUP($Q$10,DATA!$P$2:$R$196,3))","v":""},{"$f":"IF(GXT18=\"\",\"\",VLOOKUP($Q$10,DATA!$P$2:$R$196,3))","v":""},{"$f":"IF(GXU18=\"\",\"\",VLOOKUP($Q$10,DATA!$P$2:$R$196,3))","v":""},{"$f":"IF(GXV18=\"\",\"\",VLOOKUP($Q$10,DATA!$P$2:$R$196,3))","v":""},{"$f":"IF(GXW18=\"\",\"\",VLOOKUP($Q$10,DATA!$P$2:$R$196,3))","v":""},{"$f":"IF(GXX18=\"\",\"\",VLOOKUP($Q$10,DATA!$P$2:$R$196,3))","v":""},{"$f":"IF(GXY18=\"\",\"\",VLOOKUP($Q$10,DATA!$P$2:$R$196,3))","v":""},{"$f":"IF(GXZ18=\"\",\"\",VLOOKUP($Q$10,DATA!$P$2:$R$196,3))","v":""},{"$f":"IF(GYA18=\"\",\"\",VLOOKUP($Q$10,DATA!$P$2:$R$196,3))","v":""},{"$f":"IF(GYB18=\"\",\"\",VLOOKUP($Q$10,DATA!$P$2:$R$196,3))","v":""},{"$f":"IF(GYC18=\"\",\"\",VLOOKUP($Q$10,DATA!$P$2:$R$196,3))","v":""},{"$f":"IF(GYD18=\"\",\"\",VLOOKUP($Q$10,DATA!$P$2:$R$196,3))","v":""},{"$f":"IF(GYE18=\"\",\"\",VLOOKUP($Q$10,DATA!$P$2:$R$196,3))","v":""},{"$f":"IF(GYF18=\"\",\"\",VLOOKUP($Q$10,DATA!$P$2:$R$196,3))","v":""},{"$f":"IF(GYG18=\"\",\"\",VLOOKUP($Q$10,DATA!$P$2:$R$196,3))","v":""},{"$f":"IF(GYH18=\"\",\"\",VLOOKUP($Q$10,DATA!$P$2:$R$196,3))","v":""},{"$f":"IF(GYI18=\"\",\"\",VLOOKUP($Q$10,DATA!$P$2:$R$196,3))","v":""},{"$f":"IF(GYJ18=\"\",\"\",VLOOKUP($Q$10,DATA!$P$2:$R$196,3))","v":""},{"$f":"IF(GYK18=\"\",\"\",VLOOKUP($Q$10,DATA!$P$2:$R$196,3))","v":""},{"$f":"IF(GYL18=\"\",\"\",VLOOKUP($Q$10,DATA!$P$2:$R$196,3))","v":""},{"$f":"IF(GYM18=\"\",\"\",VLOOKUP($Q$10,DATA!$P$2:$R$196,3))","v":""},{"$f":"IF(GYN18=\"\",\"\",VLOOKUP($Q$10,DATA!$P$2:$R$196,3))","v":""},{"$f":"IF(GYO18=\"\",\"\",VLOOKUP($Q$10,DATA!$P$2:$R$196,3))","v":""},{"$f":"IF(GYP18=\"\",\"\",VLOOKUP($Q$10,DATA!$P$2:$R$196,3))","v":""},{"$f":"IF(GYQ18=\"\",\"\",VLOOKUP($Q$10,DATA!$P$2:$R$196,3))","v":""},{"$f":"IF(GYR18=\"\",\"\",VLOOKUP($Q$10,DATA!$P$2:$R$196,3))","v":""},{"$f":"IF(GYS18=\"\",\"\",VLOOKUP($Q$10,DATA!$P$2:$R$196,3))","v":""},{"$f":"IF(GYT18=\"\",\"\",VLOOKUP($Q$10,DATA!$P$2:$R$196,3))","v":""},{"$f":"IF(GYU18=\"\",\"\",VLOOKUP($Q$10,DATA!$P$2:$R$196,3))","v":""},{"$f":"IF(GYV18=\"\",\"\",VLOOKUP($Q$10,DATA!$P$2:$R$196,3))","v":""},{"$f":"IF(GYW18=\"\",\"\",VLOOKUP($Q$10,DATA!$P$2:$R$196,3))","v":""},{"$f":"IF(GYX18=\"\",\"\",VLOOKUP($Q$10,DATA!$P$2:$R$196,3))","v":""},{"$f":"IF(GYY18=\"\",\"\",VLOOKUP($Q$10,DATA!$P$2:$R$196,3))","v":""},{"$f":"IF(GYZ18=\"\",\"\",VLOOKUP($Q$10,DATA!$P$2:$R$196,3))","v":""},{"$f":"IF(GZA18=\"\",\"\",VLOOKUP($Q$10,DATA!$P$2:$R$196,3))","v":""},{"$f":"IF(GZB18=\"\",\"\",VLOOKUP($Q$10,DATA!$P$2:$R$196,3))","v":""},{"$f":"IF(GZC18=\"\",\"\",VLOOKUP($Q$10,DATA!$P$2:$R$196,3))","v":""},{"$f":"IF(GZD18=\"\",\"\",VLOOKUP($Q$10,DATA!$P$2:$R$196,3))","v":""},{"$f":"IF(GZE18=\"\",\"\",VLOOKUP($Q$10,DATA!$P$2:$R$196,3))","v":""},{"$f":"IF(GZF18=\"\",\"\",VLOOKUP($Q$10,DATA!$P$2:$R$196,3))","v":""},{"$f":"IF(GZG18=\"\",\"\",VLOOKUP($Q$10,DATA!$P$2:$R$196,3))","v":""},{"$f":"IF(GZH18=\"\",\"\",VLOOKUP($Q$10,DATA!$P$2:$R$196,3))","v":""},{"$f":"IF(GZI18=\"\",\"\",VLOOKUP($Q$10,DATA!$P$2:$R$196,3))","v":""},{"$f":"IF(GZJ18=\"\",\"\",VLOOKUP($Q$10,DATA!$P$2:$R$196,3))","v":""},{"$f":"IF(GZK18=\"\",\"\",VLOOKUP($Q$10,DATA!$P$2:$R$196,3))","v":""},{"$f":"IF(GZL18=\"\",\"\",VLOOKUP($Q$10,DATA!$P$2:$R$196,3))","v":""},{"$f":"IF(GZM18=\"\",\"\",VLOOKUP($Q$10,DATA!$P$2:$R$196,3))","v":""},{"$f":"IF(GZN18=\"\",\"\",VLOOKUP($Q$10,DATA!$P$2:$R$196,3))","v":""},{"$f":"IF(GZO18=\"\",\"\",VLOOKUP($Q$10,DATA!$P$2:$R$196,3))","v":""},{"$f":"IF(GZP18=\"\",\"\",VLOOKUP($Q$10,DATA!$P$2:$R$196,3))","v":""},{"$f":"IF(GZQ18=\"\",\"\",VLOOKUP($Q$10,DATA!$P$2:$R$196,3))","v":""},{"$f":"IF(GZR18=\"\",\"\",VLOOKUP($Q$10,DATA!$P$2:$R$196,3))","v":""},{"$f":"IF(GZS18=\"\",\"\",VLOOKUP($Q$10,DATA!$P$2:$R$196,3))","v":""},{"$f":"IF(GZT18=\"\",\"\",VLOOKUP($Q$10,DATA!$P$2:$R$196,3))","v":""},{"$f":"IF(GZU18=\"\",\"\",VLOOKUP($Q$10,DATA!$P$2:$R$196,3))","v":""},{"$f":"IF(GZV18=\"\",\"\",VLOOKUP($Q$10,DATA!$P$2:$R$196,3))","v":""},{"$f":"IF(GZW18=\"\",\"\",VLOOKUP($Q$10,DATA!$P$2:$R$196,3))","v":""},{"$f":"IF(GZX18=\"\",\"\",VLOOKUP($Q$10,DATA!$P$2:$R$196,3))","v":""},{"$f":"IF(GZY18=\"\",\"\",VLOOKUP($Q$10,DATA!$P$2:$R$196,3))","v":""},{"$f":"IF(GZZ18=\"\",\"\",VLOOKUP($Q$10,DATA!$P$2:$R$196,3))","v":""},{"$f":"IF(HAA18=\"\",\"\",VLOOKUP($Q$10,DATA!$P$2:$R$196,3))","v":""},{"$f":"IF(HAB18=\"\",\"\",VLOOKUP($Q$10,DATA!$P$2:$R$196,3))","v":""},{"$f":"IF(HAC18=\"\",\"\",VLOOKUP($Q$10,DATA!$P$2:$R$196,3))","v":""},{"$f":"IF(HAD18=\"\",\"\",VLOOKUP($Q$10,DATA!$P$2:$R$196,3))","v":""},{"$f":"IF(HAE18=\"\",\"\",VLOOKUP($Q$10,DATA!$P$2:$R$196,3))","v":""},{"$f":"IF(HAF18=\"\",\"\",VLOOKUP($Q$10,DATA!$P$2:$R$196,3))","v":""},{"$f":"IF(HAG18=\"\",\"\",VLOOKUP($Q$10,DATA!$P$2:$R$196,3))","v":""},{"$f":"IF(HAH18=\"\",\"\",VLOOKUP($Q$10,DATA!$P$2:$R$196,3))","v":""},{"$f":"IF(HAI18=\"\",\"\",VLOOKUP($Q$10,DATA!$P$2:$R$196,3))","v":""},{"$f":"IF(HAJ18=\"\",\"\",VLOOKUP($Q$10,DATA!$P$2:$R$196,3))","v":""},{"$f":"IF(HAK18=\"\",\"\",VLOOKUP($Q$10,DATA!$P$2:$R$196,3))","v":""},{"$f":"IF(HAL18=\"\",\"\",VLOOKUP($Q$10,DATA!$P$2:$R$196,3))","v":""},{"$f":"IF(HAM18=\"\",\"\",VLOOKUP($Q$10,DATA!$P$2:$R$196,3))","v":""},{"$f":"IF(HAN18=\"\",\"\",VLOOKUP($Q$10,DATA!$P$2:$R$196,3))","v":""},{"$f":"IF(HAO18=\"\",\"\",VLOOKUP($Q$10,DATA!$P$2:$R$196,3))","v":""},{"$f":"IF(HAP18=\"\",\"\",VLOOKUP($Q$10,DATA!$P$2:$R$196,3))","v":""},{"$f":"IF(HAQ18=\"\",\"\",VLOOKUP($Q$10,DATA!$P$2:$R$196,3))","v":""},{"$f":"IF(HAR18=\"\",\"\",VLOOKUP($Q$10,DATA!$P$2:$R$196,3))","v":""},{"$f":"IF(HAS18=\"\",\"\",VLOOKUP($Q$10,DATA!$P$2:$R$196,3))","v":""},{"$f":"IF(HAT18=\"\",\"\",VLOOKUP($Q$10,DATA!$P$2:$R$196,3))","v":""},{"$f":"IF(HAU18=\"\",\"\",VLOOKUP($Q$10,DATA!$P$2:$R$196,3))","v":""},{"$f":"IF(HAV18=\"\",\"\",VLOOKUP($Q$10,DATA!$P$2:$R$196,3))","v":""},{"$f":"IF(HAW18=\"\",\"\",VLOOKUP($Q$10,DATA!$P$2:$R$196,3))","v":""},{"$f":"IF(HAX18=\"\",\"\",VLOOKUP($Q$10,DATA!$P$2:$R$196,3))","v":""},{"$f":"IF(HAY18=\"\",\"\",VLOOKUP($Q$10,DATA!$P$2:$R$196,3))","v":""},{"$f":"IF(HAZ18=\"\",\"\",VLOOKUP($Q$10,DATA!$P$2:$R$196,3))","v":""},{"$f":"IF(HBA18=\"\",\"\",VLOOKUP($Q$10,DATA!$P$2:$R$196,3))","v":""},{"$f":"IF(HBB18=\"\",\"\",VLOOKUP($Q$10,DATA!$P$2:$R$196,3))","v":""},{"$f":"IF(HBC18=\"\",\"\",VLOOKUP($Q$10,DATA!$P$2:$R$196,3))","v":""},{"$f":"IF(HBD18=\"\",\"\",VLOOKUP($Q$10,DATA!$P$2:$R$196,3))","v":""},{"$f":"IF(HBE18=\"\",\"\",VLOOKUP($Q$10,DATA!$P$2:$R$196,3))","v":""},{"$f":"IF(HBF18=\"\",\"\",VLOOKUP($Q$10,DATA!$P$2:$R$196,3))","v":""},{"$f":"IF(HBG18=\"\",\"\",VLOOKUP($Q$10,DATA!$P$2:$R$196,3))","v":""},{"$f":"IF(HBH18=\"\",\"\",VLOOKUP($Q$10,DATA!$P$2:$R$196,3))","v":""},{"$f":"IF(HBI18=\"\",\"\",VLOOKUP($Q$10,DATA!$P$2:$R$196,3))","v":""},{"$f":"IF(HBJ18=\"\",\"\",VLOOKUP($Q$10,DATA!$P$2:$R$196,3))","v":""},{"$f":"IF(HBK18=\"\",\"\",VLOOKUP($Q$10,DATA!$P$2:$R$196,3))","v":""},{"$f":"IF(HBL18=\"\",\"\",VLOOKUP($Q$10,DATA!$P$2:$R$196,3))","v":""},{"$f":"IF(HBM18=\"\",\"\",VLOOKUP($Q$10,DATA!$P$2:$R$196,3))","v":""},{"$f":"IF(HBN18=\"\",\"\",VLOOKUP($Q$10,DATA!$P$2:$R$196,3))","v":""},{"$f":"IF(HBO18=\"\",\"\",VLOOKUP($Q$10,DATA!$P$2:$R$196,3))","v":""},{"$f":"IF(HBP18=\"\",\"\",VLOOKUP($Q$10,DATA!$P$2:$R$196,3))","v":""},{"$f":"IF(HBQ18=\"\",\"\",VLOOKUP($Q$10,DATA!$P$2:$R$196,3))","v":""},{"$f":"IF(HBR18=\"\",\"\",VLOOKUP($Q$10,DATA!$P$2:$R$196,3))","v":""},{"$f":"IF(HBS18=\"\",\"\",VLOOKUP($Q$10,DATA!$P$2:$R$196,3))","v":""},{"$f":"IF(HBT18=\"\",\"\",VLOOKUP($Q$10,DATA!$P$2:$R$196,3))","v":""},{"$f":"IF(HBU18=\"\",\"\",VLOOKUP($Q$10,DATA!$P$2:$R$196,3))","v":""},{"$f":"IF(HBV18=\"\",\"\",VLOOKUP($Q$10,DATA!$P$2:$R$196,3))","v":""},{"$f":"IF(HBW18=\"\",\"\",VLOOKUP($Q$10,DATA!$P$2:$R$196,3))","v":""},{"$f":"IF(HBX18=\"\",\"\",VLOOKUP($Q$10,DATA!$P$2:$R$196,3))","v":""},{"$f":"IF(HBY18=\"\",\"\",VLOOKUP($Q$10,DATA!$P$2:$R$196,3))","v":""},{"$f":"IF(HBZ18=\"\",\"\",VLOOKUP($Q$10,DATA!$P$2:$R$196,3))","v":""},{"$f":"IF(HCA18=\"\",\"\",VLOOKUP($Q$10,DATA!$P$2:$R$196,3))","v":""},{"$f":"IF(HCB18=\"\",\"\",VLOOKUP($Q$10,DATA!$P$2:$R$196,3))","v":""},{"$f":"IF(HCC18=\"\",\"\",VLOOKUP($Q$10,DATA!$P$2:$R$196,3))","v":""},{"$f":"IF(HCD18=\"\",\"\",VLOOKUP($Q$10,DATA!$P$2:$R$196,3))","v":""},{"$f":"IF(HCE18=\"\",\"\",VLOOKUP($Q$10,DATA!$P$2:$R$196,3))","v":""},{"$f":"IF(HCF18=\"\",\"\",VLOOKUP($Q$10,DATA!$P$2:$R$196,3))","v":""},{"$f":"IF(HCG18=\"\",\"\",VLOOKUP($Q$10,DATA!$P$2:$R$196,3))","v":""},{"$f":"IF(HCH18=\"\",\"\",VLOOKUP($Q$10,DATA!$P$2:$R$196,3))","v":""},{"$f":"IF(HCI18=\"\",\"\",VLOOKUP($Q$10,DATA!$P$2:$R$196,3))","v":""},{"$f":"IF(HCJ18=\"\",\"\",VLOOKUP($Q$10,DATA!$P$2:$R$196,3))","v":""},{"$f":"IF(HCK18=\"\",\"\",VLOOKUP($Q$10,DATA!$P$2:$R$196,3))","v":""},{"$f":"IF(HCL18=\"\",\"\",VLOOKUP($Q$10,DATA!$P$2:$R$196,3))","v":""},{"$f":"IF(HCM18=\"\",\"\",VLOOKUP($Q$10,DATA!$P$2:$R$196,3))","v":""},{"$f":"IF(HCN18=\"\",\"\",VLOOKUP($Q$10,DATA!$P$2:$R$196,3))","v":""},{"$f":"IF(HCO18=\"\",\"\",VLOOKUP($Q$10,DATA!$P$2:$R$196,3))","v":""},{"$f":"IF(HCP18=\"\",\"\",VLOOKUP($Q$10,DATA!$P$2:$R$196,3))","v":""},{"$f":"IF(HCQ18=\"\",\"\",VLOOKUP($Q$10,DATA!$P$2:$R$196,3))","v":""},{"$f":"IF(HCR18=\"\",\"\",VLOOKUP($Q$10,DATA!$P$2:$R$196,3))","v":""},{"$f":"IF(HCS18=\"\",\"\",VLOOKUP($Q$10,DATA!$P$2:$R$196,3))","v":""},{"$f":"IF(HCT18=\"\",\"\",VLOOKUP($Q$10,DATA!$P$2:$R$196,3))","v":""},{"$f":"IF(HCU18=\"\",\"\",VLOOKUP($Q$10,DATA!$P$2:$R$196,3))","v":""},{"$f":"IF(HCV18=\"\",\"\",VLOOKUP($Q$10,DATA!$P$2:$R$196,3))","v":""},{"$f":"IF(HCW18=\"\",\"\",VLOOKUP($Q$10,DATA!$P$2:$R$196,3))","v":""},{"$f":"IF(HCX18=\"\",\"\",VLOOKUP($Q$10,DATA!$P$2:$R$196,3))","v":""},{"$f":"IF(HCY18=\"\",\"\",VLOOKUP($Q$10,DATA!$P$2:$R$196,3))","v":""},{"$f":"IF(HCZ18=\"\",\"\",VLOOKUP($Q$10,DATA!$P$2:$R$196,3))","v":""},{"$f":"IF(HDA18=\"\",\"\",VLOOKUP($Q$10,DATA!$P$2:$R$196,3))","v":""},{"$f":"IF(HDB18=\"\",\"\",VLOOKUP($Q$10,DATA!$P$2:$R$196,3))","v":""},{"$f":"IF(HDC18=\"\",\"\",VLOOKUP($Q$10,DATA!$P$2:$R$196,3))","v":""},{"$f":"IF(HDD18=\"\",\"\",VLOOKUP($Q$10,DATA!$P$2:$R$196,3))","v":""},{"$f":"IF(HDE18=\"\",\"\",VLOOKUP($Q$10,DATA!$P$2:$R$196,3))","v":""},{"$f":"IF(HDF18=\"\",\"\",VLOOKUP($Q$10,DATA!$P$2:$R$196,3))","v":""},{"$f":"IF(HDG18=\"\",\"\",VLOOKUP($Q$10,DATA!$P$2:$R$196,3))","v":""},{"$f":"IF(HDH18=\"\",\"\",VLOOKUP($Q$10,DATA!$P$2:$R$196,3))","v":""},{"$f":"IF(HDI18=\"\",\"\",VLOOKUP($Q$10,DATA!$P$2:$R$196,3))","v":""},{"$f":"IF(HDJ18=\"\",\"\",VLOOKUP($Q$10,DATA!$P$2:$R$196,3))","v":""},{"$f":"IF(HDK18=\"\",\"\",VLOOKUP($Q$10,DATA!$P$2:$R$196,3))","v":""},{"$f":"IF(HDL18=\"\",\"\",VLOOKUP($Q$10,DATA!$P$2:$R$196,3))","v":""},{"$f":"IF(HDM18=\"\",\"\",VLOOKUP($Q$10,DATA!$P$2:$R$196,3))","v":""},{"$f":"IF(HDN18=\"\",\"\",VLOOKUP($Q$10,DATA!$P$2:$R$196,3))","v":""},{"$f":"IF(HDO18=\"\",\"\",VLOOKUP($Q$10,DATA!$P$2:$R$196,3))","v":""},{"$f":"IF(HDP18=\"\",\"\",VLOOKUP($Q$10,DATA!$P$2:$R$196,3))","v":""},{"$f":"IF(HDQ18=\"\",\"\",VLOOKUP($Q$10,DATA!$P$2:$R$196,3))","v":""},{"$f":"IF(HDR18=\"\",\"\",VLOOKUP($Q$10,DATA!$P$2:$R$196,3))","v":""},{"$f":"IF(HDS18=\"\",\"\",VLOOKUP($Q$10,DATA!$P$2:$R$196,3))","v":""},{"$f":"IF(HDT18=\"\",\"\",VLOOKUP($Q$10,DATA!$P$2:$R$196,3))","v":""},{"$f":"IF(HDU18=\"\",\"\",VLOOKUP($Q$10,DATA!$P$2:$R$196,3))","v":""},{"$f":"IF(HDV18=\"\",\"\",VLOOKUP($Q$10,DATA!$P$2:$R$196,3))","v":""},{"$f":"IF(HDW18=\"\",\"\",VLOOKUP($Q$10,DATA!$P$2:$R$196,3))","v":""},{"$f":"IF(HDX18=\"\",\"\",VLOOKUP($Q$10,DATA!$P$2:$R$196,3))","v":""},{"$f":"IF(HDY18=\"\",\"\",VLOOKUP($Q$10,DATA!$P$2:$R$196,3))","v":""},{"$f":"IF(HDZ18=\"\",\"\",VLOOKUP($Q$10,DATA!$P$2:$R$196,3))","v":""},{"$f":"IF(HEA18=\"\",\"\",VLOOKUP($Q$10,DATA!$P$2:$R$196,3))","v":""},{"$f":"IF(HEB18=\"\",\"\",VLOOKUP($Q$10,DATA!$P$2:$R$196,3))","v":""},{"$f":"IF(HEC18=\"\",\"\",VLOOKUP($Q$10,DATA!$P$2:$R$196,3))","v":""},{"$f":"IF(HED18=\"\",\"\",VLOOKUP($Q$10,DATA!$P$2:$R$196,3))","v":""},{"$f":"IF(HEE18=\"\",\"\",VLOOKUP($Q$10,DATA!$P$2:$R$196,3))","v":""},{"$f":"IF(HEF18=\"\",\"\",VLOOKUP($Q$10,DATA!$P$2:$R$196,3))","v":""},{"$f":"IF(HEG18=\"\",\"\",VLOOKUP($Q$10,DATA!$P$2:$R$196,3))","v":""},{"$f":"IF(HEH18=\"\",\"\",VLOOKUP($Q$10,DATA!$P$2:$R$196,3))","v":""},{"$f":"IF(HEI18=\"\",\"\",VLOOKUP($Q$10,DATA!$P$2:$R$196,3))","v":""},{"$f":"IF(HEJ18=\"\",\"\",VLOOKUP($Q$10,DATA!$P$2:$R$196,3))","v":""},{"$f":"IF(HEK18=\"\",\"\",VLOOKUP($Q$10,DATA!$P$2:$R$196,3))","v":""},{"$f":"IF(HEL18=\"\",\"\",VLOOKUP($Q$10,DATA!$P$2:$R$196,3))","v":""},{"$f":"IF(HEM18=\"\",\"\",VLOOKUP($Q$10,DATA!$P$2:$R$196,3))","v":""},{"$f":"IF(HEN18=\"\",\"\",VLOOKUP($Q$10,DATA!$P$2:$R$196,3))","v":""},{"$f":"IF(HEO18=\"\",\"\",VLOOKUP($Q$10,DATA!$P$2:$R$196,3))","v":""},{"$f":"IF(HEP18=\"\",\"\",VLOOKUP($Q$10,DATA!$P$2:$R$196,3))","v":""},{"$f":"IF(HEQ18=\"\",\"\",VLOOKUP($Q$10,DATA!$P$2:$R$196,3))","v":""},{"$f":"IF(HER18=\"\",\"\",VLOOKUP($Q$10,DATA!$P$2:$R$196,3))","v":""},{"$f":"IF(HES18=\"\",\"\",VLOOKUP($Q$10,DATA!$P$2:$R$196,3))","v":""},{"$f":"IF(HET18=\"\",\"\",VLOOKUP($Q$10,DATA!$P$2:$R$196,3))","v":""},{"$f":"IF(HEU18=\"\",\"\",VLOOKUP($Q$10,DATA!$P$2:$R$196,3))","v":""},{"$f":"IF(HEV18=\"\",\"\",VLOOKUP($Q$10,DATA!$P$2:$R$196,3))","v":""},{"$f":"IF(HEW18=\"\",\"\",VLOOKUP($Q$10,DATA!$P$2:$R$196,3))","v":""},{"$f":"IF(HEX18=\"\",\"\",VLOOKUP($Q$10,DATA!$P$2:$R$196,3))","v":""},{"$f":"IF(HEY18=\"\",\"\",VLOOKUP($Q$10,DATA!$P$2:$R$196,3))","v":""},{"$f":"IF(HEZ18=\"\",\"\",VLOOKUP($Q$10,DATA!$P$2:$R$196,3))","v":""},{"$f":"IF(HFA18=\"\",\"\",VLOOKUP($Q$10,DATA!$P$2:$R$196,3))","v":""},{"$f":"IF(HFB18=\"\",\"\",VLOOKUP($Q$10,DATA!$P$2:$R$196,3))","v":""},{"$f":"IF(HFC18=\"\",\"\",VLOOKUP($Q$10,DATA!$P$2:$R$196,3))","v":""},{"$f":"IF(HFD18=\"\",\"\",VLOOKUP($Q$10,DATA!$P$2:$R$196,3))","v":""},{"$f":"IF(HFE18=\"\",\"\",VLOOKUP($Q$10,DATA!$P$2:$R$196,3))","v":""},{"$f":"IF(HFF18=\"\",\"\",VLOOKUP($Q$10,DATA!$P$2:$R$196,3))","v":""},{"$f":"IF(HFG18=\"\",\"\",VLOOKUP($Q$10,DATA!$P$2:$R$196,3))","v":""},{"$f":"IF(HFH18=\"\",\"\",VLOOKUP($Q$10,DATA!$P$2:$R$196,3))","v":""},{"$f":"IF(HFI18=\"\",\"\",VLOOKUP($Q$10,DATA!$P$2:$R$196,3))","v":""},{"$f":"IF(HFJ18=\"\",\"\",VLOOKUP($Q$10,DATA!$P$2:$R$196,3))","v":""},{"$f":"IF(HFK18=\"\",\"\",VLOOKUP($Q$10,DATA!$P$2:$R$196,3))","v":""},{"$f":"IF(HFL18=\"\",\"\",VLOOKUP($Q$10,DATA!$P$2:$R$196,3))","v":""},{"$f":"IF(HFM18=\"\",\"\",VLOOKUP($Q$10,DATA!$P$2:$R$196,3))","v":""},{"$f":"IF(HFN18=\"\",\"\",VLOOKUP($Q$10,DATA!$P$2:$R$196,3))","v":""},{"$f":"IF(HFO18=\"\",\"\",VLOOKUP($Q$10,DATA!$P$2:$R$196,3))","v":""},{"$f":"IF(HFP18=\"\",\"\",VLOOKUP($Q$10,DATA!$P$2:$R$196,3))","v":""},{"$f":"IF(HFQ18=\"\",\"\",VLOOKUP($Q$10,DATA!$P$2:$R$196,3))","v":""},{"$f":"IF(HFR18=\"\",\"\",VLOOKUP($Q$10,DATA!$P$2:$R$196,3))","v":""},{"$f":"IF(HFS18=\"\",\"\",VLOOKUP($Q$10,DATA!$P$2:$R$196,3))","v":""},{"$f":"IF(HFT18=\"\",\"\",VLOOKUP($Q$10,DATA!$P$2:$R$196,3))","v":""},{"$f":"IF(HFU18=\"\",\"\",VLOOKUP($Q$10,DATA!$P$2:$R$196,3))","v":""},{"$f":"IF(HFV18=\"\",\"\",VLOOKUP($Q$10,DATA!$P$2:$R$196,3))","v":""},{"$f":"IF(HFW18=\"\",\"\",VLOOKUP($Q$10,DATA!$P$2:$R$196,3))","v":""},{"$f":"IF(HFX18=\"\",\"\",VLOOKUP($Q$10,DATA!$P$2:$R$196,3))","v":""},{"$f":"IF(HFY18=\"\",\"\",VLOOKUP($Q$10,DATA!$P$2:$R$196,3))","v":""},{"$f":"IF(HFZ18=\"\",\"\",VLOOKUP($Q$10,DATA!$P$2:$R$196,3))","v":""},{"$f":"IF(HGA18=\"\",\"\",VLOOKUP($Q$10,DATA!$P$2:$R$196,3))","v":""},{"$f":"IF(HGB18=\"\",\"\",VLOOKUP($Q$10,DATA!$P$2:$R$196,3))","v":""},{"$f":"IF(HGC18=\"\",\"\",VLOOKUP($Q$10,DATA!$P$2:$R$196,3))","v":""},{"$f":"IF(HGD18=\"\",\"\",VLOOKUP($Q$10,DATA!$P$2:$R$196,3))","v":""},{"$f":"IF(HGE18=\"\",\"\",VLOOKUP($Q$10,DATA!$P$2:$R$196,3))","v":""},{"$f":"IF(HGF18=\"\",\"\",VLOOKUP($Q$10,DATA!$P$2:$R$196,3))","v":""},{"$f":"IF(HGG18=\"\",\"\",VLOOKUP($Q$10,DATA!$P$2:$R$196,3))","v":""},{"$f":"IF(HGH18=\"\",\"\",VLOOKUP($Q$10,DATA!$P$2:$R$196,3))","v":""},{"$f":"IF(HGI18=\"\",\"\",VLOOKUP($Q$10,DATA!$P$2:$R$196,3))","v":""},{"$f":"IF(HGJ18=\"\",\"\",VLOOKUP($Q$10,DATA!$P$2:$R$196,3))","v":""},{"$f":"IF(HGK18=\"\",\"\",VLOOKUP($Q$10,DATA!$P$2:$R$196,3))","v":""},{"$f":"IF(HGL18=\"\",\"\",VLOOKUP($Q$10,DATA!$P$2:$R$196,3))","v":""},{"$f":"IF(HGM18=\"\",\"\",VLOOKUP($Q$10,DATA!$P$2:$R$196,3))","v":""},{"$f":"IF(HGN18=\"\",\"\",VLOOKUP($Q$10,DATA!$P$2:$R$196,3))","v":""},{"$f":"IF(HGO18=\"\",\"\",VLOOKUP($Q$10,DATA!$P$2:$R$196,3))","v":""},{"$f":"IF(HGP18=\"\",\"\",VLOOKUP($Q$10,DATA!$P$2:$R$196,3))","v":""},{"$f":"IF(HGQ18=\"\",\"\",VLOOKUP($Q$10,DATA!$P$2:$R$196,3))","v":""},{"$f":"IF(HGR18=\"\",\"\",VLOOKUP($Q$10,DATA!$P$2:$R$196,3))","v":""},{"$f":"IF(HGS18=\"\",\"\",VLOOKUP($Q$10,DATA!$P$2:$R$196,3))","v":""},{"$f":"IF(HGT18=\"\",\"\",VLOOKUP($Q$10,DATA!$P$2:$R$196,3))","v":""},{"$f":"IF(HGU18=\"\",\"\",VLOOKUP($Q$10,DATA!$P$2:$R$196,3))","v":""},{"$f":"IF(HGV18=\"\",\"\",VLOOKUP($Q$10,DATA!$P$2:$R$196,3))","v":""},{"$f":"IF(HGW18=\"\",\"\",VLOOKUP($Q$10,DATA!$P$2:$R$196,3))","v":""},{"$f":"IF(HGX18=\"\",\"\",VLOOKUP($Q$10,DATA!$P$2:$R$196,3))","v":""},{"$f":"IF(HGY18=\"\",\"\",VLOOKUP($Q$10,DATA!$P$2:$R$196,3))","v":""},{"$f":"IF(HGZ18=\"\",\"\",VLOOKUP($Q$10,DATA!$P$2:$R$196,3))","v":""},{"$f":"IF(HHA18=\"\",\"\",VLOOKUP($Q$10,DATA!$P$2:$R$196,3))","v":""},{"$f":"IF(HHB18=\"\",\"\",VLOOKUP($Q$10,DATA!$P$2:$R$196,3))","v":""},{"$f":"IF(HHC18=\"\",\"\",VLOOKUP($Q$10,DATA!$P$2:$R$196,3))","v":""},{"$f":"IF(HHD18=\"\",\"\",VLOOKUP($Q$10,DATA!$P$2:$R$196,3))","v":""},{"$f":"IF(HHE18=\"\",\"\",VLOOKUP($Q$10,DATA!$P$2:$R$196,3))","v":""},{"$f":"IF(HHF18=\"\",\"\",VLOOKUP($Q$10,DATA!$P$2:$R$196,3))","v":""},{"$f":"IF(HHG18=\"\",\"\",VLOOKUP($Q$10,DATA!$P$2:$R$196,3))","v":""},{"$f":"IF(HHH18=\"\",\"\",VLOOKUP($Q$10,DATA!$P$2:$R$196,3))","v":""},{"$f":"IF(HHI18=\"\",\"\",VLOOKUP($Q$10,DATA!$P$2:$R$196,3))","v":""},{"$f":"IF(HHJ18=\"\",\"\",VLOOKUP($Q$10,DATA!$P$2:$R$196,3))","v":""},{"$f":"IF(HHK18=\"\",\"\",VLOOKUP($Q$10,DATA!$P$2:$R$196,3))","v":""},{"$f":"IF(HHL18=\"\",\"\",VLOOKUP($Q$10,DATA!$P$2:$R$196,3))","v":""},{"$f":"IF(HHM18=\"\",\"\",VLOOKUP($Q$10,DATA!$P$2:$R$196,3))","v":""},{"$f":"IF(HHN18=\"\",\"\",VLOOKUP($Q$10,DATA!$P$2:$R$196,3))","v":""},{"$f":"IF(HHO18=\"\",\"\",VLOOKUP($Q$10,DATA!$P$2:$R$196,3))","v":""},{"$f":"IF(HHP18=\"\",\"\",VLOOKUP($Q$10,DATA!$P$2:$R$196,3))","v":""},{"$f":"IF(HHQ18=\"\",\"\",VLOOKUP($Q$10,DATA!$P$2:$R$196,3))","v":""},{"$f":"IF(HHR18=\"\",\"\",VLOOKUP($Q$10,DATA!$P$2:$R$196,3))","v":""},{"$f":"IF(HHS18=\"\",\"\",VLOOKUP($Q$10,DATA!$P$2:$R$196,3))","v":""},{"$f":"IF(HHT18=\"\",\"\",VLOOKUP($Q$10,DATA!$P$2:$R$196,3))","v":""},{"$f":"IF(HHU18=\"\",\"\",VLOOKUP($Q$10,DATA!$P$2:$R$196,3))","v":""},{"$f":"IF(HHV18=\"\",\"\",VLOOKUP($Q$10,DATA!$P$2:$R$196,3))","v":""},{"$f":"IF(HHW18=\"\",\"\",VLOOKUP($Q$10,DATA!$P$2:$R$196,3))","v":""},{"$f":"IF(HHX18=\"\",\"\",VLOOKUP($Q$10,DATA!$P$2:$R$196,3))","v":""},{"$f":"IF(HHY18=\"\",\"\",VLOOKUP($Q$10,DATA!$P$2:$R$196,3))","v":""},{"$f":"IF(HHZ18=\"\",\"\",VLOOKUP($Q$10,DATA!$P$2:$R$196,3))","v":""},{"$f":"IF(HIA18=\"\",\"\",VLOOKUP($Q$10,DATA!$P$2:$R$196,3))","v":""},{"$f":"IF(HIB18=\"\",\"\",VLOOKUP($Q$10,DATA!$P$2:$R$196,3))","v":""},{"$f":"IF(HIC18=\"\",\"\",VLOOKUP($Q$10,DATA!$P$2:$R$196,3))","v":""},{"$f":"IF(HID18=\"\",\"\",VLOOKUP($Q$10,DATA!$P$2:$R$196,3))","v":""},{"$f":"IF(HIE18=\"\",\"\",VLOOKUP($Q$10,DATA!$P$2:$R$196,3))","v":""},{"$f":"IF(HIF18=\"\",\"\",VLOOKUP($Q$10,DATA!$P$2:$R$196,3))","v":""},{"$f":"IF(HIG18=\"\",\"\",VLOOKUP($Q$10,DATA!$P$2:$R$196,3))","v":""},{"$f":"IF(HIH18=\"\",\"\",VLOOKUP($Q$10,DATA!$P$2:$R$196,3))","v":""},{"$f":"IF(HII18=\"\",\"\",VLOOKUP($Q$10,DATA!$P$2:$R$196,3))","v":""},{"$f":"IF(HIJ18=\"\",\"\",VLOOKUP($Q$10,DATA!$P$2:$R$196,3))","v":""},{"$f":"IF(HIK18=\"\",\"\",VLOOKUP($Q$10,DATA!$P$2:$R$196,3))","v":""},{"$f":"IF(HIL18=\"\",\"\",VLOOKUP($Q$10,DATA!$P$2:$R$196,3))","v":""},{"$f":"IF(HIM18=\"\",\"\",VLOOKUP($Q$10,DATA!$P$2:$R$196,3))","v":""},{"$f":"IF(HIN18=\"\",\"\",VLOOKUP($Q$10,DATA!$P$2:$R$196,3))","v":""},{"$f":"IF(HIO18=\"\",\"\",VLOOKUP($Q$10,DATA!$P$2:$R$196,3))","v":""},{"$f":"IF(HIP18=\"\",\"\",VLOOKUP($Q$10,DATA!$P$2:$R$196,3))","v":""},{"$f":"IF(HIQ18=\"\",\"\",VLOOKUP($Q$10,DATA!$P$2:$R$196,3))","v":""},{"$f":"IF(HIR18=\"\",\"\",VLOOKUP($Q$10,DATA!$P$2:$R$196,3))","v":""},{"$f":"IF(HIS18=\"\",\"\",VLOOKUP($Q$10,DATA!$P$2:$R$196,3))","v":""},{"$f":"IF(HIT18=\"\",\"\",VLOOKUP($Q$10,DATA!$P$2:$R$196,3))","v":""},{"$f":"IF(HIU18=\"\",\"\",VLOOKUP($Q$10,DATA!$P$2:$R$196,3))","v":""},{"$f":"IF(HIV18=\"\",\"\",VLOOKUP($Q$10,DATA!$P$2:$R$196,3))","v":""},{"$f":"IF(HIW18=\"\",\"\",VLOOKUP($Q$10,DATA!$P$2:$R$196,3))","v":""},{"$f":"IF(HIX18=\"\",\"\",VLOOKUP($Q$10,DATA!$P$2:$R$196,3))","v":""},{"$f":"IF(HIY18=\"\",\"\",VLOOKUP($Q$10,DATA!$P$2:$R$196,3))","v":""},{"$f":"IF(HIZ18=\"\",\"\",VLOOKUP($Q$10,DATA!$P$2:$R$196,3))","v":""},{"$f":"IF(HJA18=\"\",\"\",VLOOKUP($Q$10,DATA!$P$2:$R$196,3))","v":""},{"$f":"IF(HJB18=\"\",\"\",VLOOKUP($Q$10,DATA!$P$2:$R$196,3))","v":""},{"$f":"IF(HJC18=\"\",\"\",VLOOKUP($Q$10,DATA!$P$2:$R$196,3))","v":""},{"$f":"IF(HJD18=\"\",\"\",VLOOKUP($Q$10,DATA!$P$2:$R$196,3))","v":""},{"$f":"IF(HJE18=\"\",\"\",VLOOKUP($Q$10,DATA!$P$2:$R$196,3))","v":""},{"$f":"IF(HJF18=\"\",\"\",VLOOKUP($Q$10,DATA!$P$2:$R$196,3))","v":""},{"$f":"IF(HJG18=\"\",\"\",VLOOKUP($Q$10,DATA!$P$2:$R$196,3))","v":""},{"$f":"IF(HJH18=\"\",\"\",VLOOKUP($Q$10,DATA!$P$2:$R$196,3))","v":""},{"$f":"IF(HJI18=\"\",\"\",VLOOKUP($Q$10,DATA!$P$2:$R$196,3))","v":""},{"$f":"IF(HJJ18=\"\",\"\",VLOOKUP($Q$10,DATA!$P$2:$R$196,3))","v":""},{"$f":"IF(HJK18=\"\",\"\",VLOOKUP($Q$10,DATA!$P$2:$R$196,3))","v":""},{"$f":"IF(HJL18=\"\",\"\",VLOOKUP($Q$10,DATA!$P$2:$R$196,3))","v":""},{"$f":"IF(HJM18=\"\",\"\",VLOOKUP($Q$10,DATA!$P$2:$R$196,3))","v":""},{"$f":"IF(HJN18=\"\",\"\",VLOOKUP($Q$10,DATA!$P$2:$R$196,3))","v":""},{"$f":"IF(HJO18=\"\",\"\",VLOOKUP($Q$10,DATA!$P$2:$R$196,3))","v":""},{"$f":"IF(HJP18=\"\",\"\",VLOOKUP($Q$10,DATA!$P$2:$R$196,3))","v":""},{"$f":"IF(HJQ18=\"\",\"\",VLOOKUP($Q$10,DATA!$P$2:$R$196,3))","v":""},{"$f":"IF(HJR18=\"\",\"\",VLOOKUP($Q$10,DATA!$P$2:$R$196,3))","v":""},{"$f":"IF(HJS18=\"\",\"\",VLOOKUP($Q$10,DATA!$P$2:$R$196,3))","v":""},{"$f":"IF(HJT18=\"\",\"\",VLOOKUP($Q$10,DATA!$P$2:$R$196,3))","v":""},{"$f":"IF(HJU18=\"\",\"\",VLOOKUP($Q$10,DATA!$P$2:$R$196,3))","v":""},{"$f":"IF(HJV18=\"\",\"\",VLOOKUP($Q$10,DATA!$P$2:$R$196,3))","v":""},{"$f":"IF(HJW18=\"\",\"\",VLOOKUP($Q$10,DATA!$P$2:$R$196,3))","v":""},{"$f":"IF(HJX18=\"\",\"\",VLOOKUP($Q$10,DATA!$P$2:$R$196,3))","v":""},{"$f":"IF(HJY18=\"\",\"\",VLOOKUP($Q$10,DATA!$P$2:$R$196,3))","v":""},{"$f":"IF(HJZ18=\"\",\"\",VLOOKUP($Q$10,DATA!$P$2:$R$196,3))","v":""},{"$f":"IF(HKA18=\"\",\"\",VLOOKUP($Q$10,DATA!$P$2:$R$196,3))","v":""},{"$f":"IF(HKB18=\"\",\"\",VLOOKUP($Q$10,DATA!$P$2:$R$196,3))","v":""},{"$f":"IF(HKC18=\"\",\"\",VLOOKUP($Q$10,DATA!$P$2:$R$196,3))","v":""},{"$f":"IF(HKD18=\"\",\"\",VLOOKUP($Q$10,DATA!$P$2:$R$196,3))","v":""},{"$f":"IF(HKE18=\"\",\"\",VLOOKUP($Q$10,DATA!$P$2:$R$196,3))","v":""},{"$f":"IF(HKF18=\"\",\"\",VLOOKUP($Q$10,DATA!$P$2:$R$196,3))","v":""},{"$f":"IF(HKG18=\"\",\"\",VLOOKUP($Q$10,DATA!$P$2:$R$196,3))","v":""},{"$f":"IF(HKH18=\"\",\"\",VLOOKUP($Q$10,DATA!$P$2:$R$196,3))","v":""},{"$f":"IF(HKI18=\"\",\"\",VLOOKUP($Q$10,DATA!$P$2:$R$196,3))","v":""},{"$f":"IF(HKJ18=\"\",\"\",VLOOKUP($Q$10,DATA!$P$2:$R$196,3))","v":""},{"$f":"IF(HKK18=\"\",\"\",VLOOKUP($Q$10,DATA!$P$2:$R$196,3))","v":""},{"$f":"IF(HKL18=\"\",\"\",VLOOKUP($Q$10,DATA!$P$2:$R$196,3))","v":""},{"$f":"IF(HKM18=\"\",\"\",VLOOKUP($Q$10,DATA!$P$2:$R$196,3))","v":""},{"$f":"IF(HKN18=\"\",\"\",VLOOKUP($Q$10,DATA!$P$2:$R$196,3))","v":""},{"$f":"IF(HKO18=\"\",\"\",VLOOKUP($Q$10,DATA!$P$2:$R$196,3))","v":""},{"$f":"IF(HKP18=\"\",\"\",VLOOKUP($Q$10,DATA!$P$2:$R$196,3))","v":""},{"$f":"IF(HKQ18=\"\",\"\",VLOOKUP($Q$10,DATA!$P$2:$R$196,3))","v":""},{"$f":"IF(HKR18=\"\",\"\",VLOOKUP($Q$10,DATA!$P$2:$R$196,3))","v":""},{"$f":"IF(HKS18=\"\",\"\",VLOOKUP($Q$10,DATA!$P$2:$R$196,3))","v":""},{"$f":"IF(HKT18=\"\",\"\",VLOOKUP($Q$10,DATA!$P$2:$R$196,3))","v":""},{"$f":"IF(HKU18=\"\",\"\",VLOOKUP($Q$10,DATA!$P$2:$R$196,3))","v":""},{"$f":"IF(HKV18=\"\",\"\",VLOOKUP($Q$10,DATA!$P$2:$R$196,3))","v":""},{"$f":"IF(HKW18=\"\",\"\",VLOOKUP($Q$10,DATA!$P$2:$R$196,3))","v":""},{"$f":"IF(HKX18=\"\",\"\",VLOOKUP($Q$10,DATA!$P$2:$R$196,3))","v":""},{"$f":"IF(HKY18=\"\",\"\",VLOOKUP($Q$10,DATA!$P$2:$R$196,3))","v":""},{"$f":"IF(HKZ18=\"\",\"\",VLOOKUP($Q$10,DATA!$P$2:$R$196,3))","v":""},{"$f":"IF(HLA18=\"\",\"\",VLOOKUP($Q$10,DATA!$P$2:$R$196,3))","v":""},{"$f":"IF(HLB18=\"\",\"\",VLOOKUP($Q$10,DATA!$P$2:$R$196,3))","v":""},{"$f":"IF(HLC18=\"\",\"\",VLOOKUP($Q$10,DATA!$P$2:$R$196,3))","v":""},{"$f":"IF(HLD18=\"\",\"\",VLOOKUP($Q$10,DATA!$P$2:$R$196,3))","v":""},{"$f":"IF(HLE18=\"\",\"\",VLOOKUP($Q$10,DATA!$P$2:$R$196,3))","v":""},{"$f":"IF(HLF18=\"\",\"\",VLOOKUP($Q$10,DATA!$P$2:$R$196,3))","v":""},{"$f":"IF(HLG18=\"\",\"\",VLOOKUP($Q$10,DATA!$P$2:$R$196,3))","v":""},{"$f":"IF(HLH18=\"\",\"\",VLOOKUP($Q$10,DATA!$P$2:$R$196,3))","v":""},{"$f":"IF(HLI18=\"\",\"\",VLOOKUP($Q$10,DATA!$P$2:$R$196,3))","v":""},{"$f":"IF(HLJ18=\"\",\"\",VLOOKUP($Q$10,DATA!$P$2:$R$196,3))","v":""},{"$f":"IF(HLK18=\"\",\"\",VLOOKUP($Q$10,DATA!$P$2:$R$196,3))","v":""},{"$f":"IF(HLL18=\"\",\"\",VLOOKUP($Q$10,DATA!$P$2:$R$196,3))","v":""},{"$f":"IF(HLM18=\"\",\"\",VLOOKUP($Q$10,DATA!$P$2:$R$196,3))","v":""},{"$f":"IF(HLN18=\"\",\"\",VLOOKUP($Q$10,DATA!$P$2:$R$196,3))","v":""},{"$f":"IF(HLO18=\"\",\"\",VLOOKUP($Q$10,DATA!$P$2:$R$196,3))","v":""},{"$f":"IF(HLP18=\"\",\"\",VLOOKUP($Q$10,DATA!$P$2:$R$196,3))","v":""},{"$f":"IF(HLQ18=\"\",\"\",VLOOKUP($Q$10,DATA!$P$2:$R$196,3))","v":""},{"$f":"IF(HLR18=\"\",\"\",VLOOKUP($Q$10,DATA!$P$2:$R$196,3))","v":""},{"$f":"IF(HLS18=\"\",\"\",VLOOKUP($Q$10,DATA!$P$2:$R$196,3))","v":""},{"$f":"IF(HLT18=\"\",\"\",VLOOKUP($Q$10,DATA!$P$2:$R$196,3))","v":""},{"$f":"IF(HLU18=\"\",\"\",VLOOKUP($Q$10,DATA!$P$2:$R$196,3))","v":""},{"$f":"IF(HLV18=\"\",\"\",VLOOKUP($Q$10,DATA!$P$2:$R$196,3))","v":""},{"$f":"IF(HLW18=\"\",\"\",VLOOKUP($Q$10,DATA!$P$2:$R$196,3))","v":""},{"$f":"IF(HLX18=\"\",\"\",VLOOKUP($Q$10,DATA!$P$2:$R$196,3))","v":""},{"$f":"IF(HLY18=\"\",\"\",VLOOKUP($Q$10,DATA!$P$2:$R$196,3))","v":""},{"$f":"IF(HLZ18=\"\",\"\",VLOOKUP($Q$10,DATA!$P$2:$R$196,3))","v":""},{"$f":"IF(HMA18=\"\",\"\",VLOOKUP($Q$10,DATA!$P$2:$R$196,3))","v":""},{"$f":"IF(HMB18=\"\",\"\",VLOOKUP($Q$10,DATA!$P$2:$R$196,3))","v":""},{"$f":"IF(HMC18=\"\",\"\",VLOOKUP($Q$10,DATA!$P$2:$R$196,3))","v":""},{"$f":"IF(HMD18=\"\",\"\",VLOOKUP($Q$10,DATA!$P$2:$R$196,3))","v":""},{"$f":"IF(HME18=\"\",\"\",VLOOKUP($Q$10,DATA!$P$2:$R$196,3))","v":""},{"$f":"IF(HMF18=\"\",\"\",VLOOKUP($Q$10,DATA!$P$2:$R$196,3))","v":""},{"$f":"IF(HMG18=\"\",\"\",VLOOKUP($Q$10,DATA!$P$2:$R$196,3))","v":""},{"$f":"IF(HMH18=\"\",\"\",VLOOKUP($Q$10,DATA!$P$2:$R$196,3))","v":""},{"$f":"IF(HMI18=\"\",\"\",VLOOKUP($Q$10,DATA!$P$2:$R$196,3))","v":""},{"$f":"IF(HMJ18=\"\",\"\",VLOOKUP($Q$10,DATA!$P$2:$R$196,3))","v":""},{"$f":"IF(HMK18=\"\",\"\",VLOOKUP($Q$10,DATA!$P$2:$R$196,3))","v":""},{"$f":"IF(HML18=\"\",\"\",VLOOKUP($Q$10,DATA!$P$2:$R$196,3))","v":""},{"$f":"IF(HMM18=\"\",\"\",VLOOKUP($Q$10,DATA!$P$2:$R$196,3))","v":""},{"$f":"IF(HMN18=\"\",\"\",VLOOKUP($Q$10,DATA!$P$2:$R$196,3))","v":""},{"$f":"IF(HMO18=\"\",\"\",VLOOKUP($Q$10,DATA!$P$2:$R$196,3))","v":""},{"$f":"IF(HMP18=\"\",\"\",VLOOKUP($Q$10,DATA!$P$2:$R$196,3))","v":""},{"$f":"IF(HMQ18=\"\",\"\",VLOOKUP($Q$10,DATA!$P$2:$R$196,3))","v":""},{"$f":"IF(HMR18=\"\",\"\",VLOOKUP($Q$10,DATA!$P$2:$R$196,3))","v":""},{"$f":"IF(HMS18=\"\",\"\",VLOOKUP($Q$10,DATA!$P$2:$R$196,3))","v":""},{"$f":"IF(HMT18=\"\",\"\",VLOOKUP($Q$10,DATA!$P$2:$R$196,3))","v":""},{"$f":"IF(HMU18=\"\",\"\",VLOOKUP($Q$10,DATA!$P$2:$R$196,3))","v":""},{"$f":"IF(HMV18=\"\",\"\",VLOOKUP($Q$10,DATA!$P$2:$R$196,3))","v":""},{"$f":"IF(HMW18=\"\",\"\",VLOOKUP($Q$10,DATA!$P$2:$R$196,3))","v":""},{"$f":"IF(HMX18=\"\",\"\",VLOOKUP($Q$10,DATA!$P$2:$R$196,3))","v":""},{"$f":"IF(HMY18=\"\",\"\",VLOOKUP($Q$10,DATA!$P$2:$R$196,3))","v":""},{"$f":"IF(HMZ18=\"\",\"\",VLOOKUP($Q$10,DATA!$P$2:$R$196,3))","v":""},{"$f":"IF(HNA18=\"\",\"\",VLOOKUP($Q$10,DATA!$P$2:$R$196,3))","v":""},{"$f":"IF(HNB18=\"\",\"\",VLOOKUP($Q$10,DATA!$P$2:$R$196,3))","v":""},{"$f":"IF(HNC18=\"\",\"\",VLOOKUP($Q$10,DATA!$P$2:$R$196,3))","v":""},{"$f":"IF(HND18=\"\",\"\",VLOOKUP($Q$10,DATA!$P$2:$R$196,3))","v":""},{"$f":"IF(HNE18=\"\",\"\",VLOOKUP($Q$10,DATA!$P$2:$R$196,3))","v":""},{"$f":"IF(HNF18=\"\",\"\",VLOOKUP($Q$10,DATA!$P$2:$R$196,3))","v":""},{"$f":"IF(HNG18=\"\",\"\",VLOOKUP($Q$10,DATA!$P$2:$R$196,3))","v":""},{"$f":"IF(HNH18=\"\",\"\",VLOOKUP($Q$10,DATA!$P$2:$R$196,3))","v":""},{"$f":"IF(HNI18=\"\",\"\",VLOOKUP($Q$10,DATA!$P$2:$R$196,3))","v":""},{"$f":"IF(HNJ18=\"\",\"\",VLOOKUP($Q$10,DATA!$P$2:$R$196,3))","v":""},{"$f":"IF(HNK18=\"\",\"\",VLOOKUP($Q$10,DATA!$P$2:$R$196,3))","v":""},{"$f":"IF(HNL18=\"\",\"\",VLOOKUP($Q$10,DATA!$P$2:$R$196,3))","v":""},{"$f":"IF(HNM18=\"\",\"\",VLOOKUP($Q$10,DATA!$P$2:$R$196,3))","v":""},{"$f":"IF(HNN18=\"\",\"\",VLOOKUP($Q$10,DATA!$P$2:$R$196,3))","v":""},{"$f":"IF(HNO18=\"\",\"\",VLOOKUP($Q$10,DATA!$P$2:$R$196,3))","v":""},{"$f":"IF(HNP18=\"\",\"\",VLOOKUP($Q$10,DATA!$P$2:$R$196,3))","v":""},{"$f":"IF(HNQ18=\"\",\"\",VLOOKUP($Q$10,DATA!$P$2:$R$196,3))","v":""},{"$f":"IF(HNR18=\"\",\"\",VLOOKUP($Q$10,DATA!$P$2:$R$196,3))","v":""},{"$f":"IF(HNS18=\"\",\"\",VLOOKUP($Q$10,DATA!$P$2:$R$196,3))","v":""},{"$f":"IF(HNT18=\"\",\"\",VLOOKUP($Q$10,DATA!$P$2:$R$196,3))","v":""},{"$f":"IF(HNU18=\"\",\"\",VLOOKUP($Q$10,DATA!$P$2:$R$196,3))","v":""},{"$f":"IF(HNV18=\"\",\"\",VLOOKUP($Q$10,DATA!$P$2:$R$196,3))","v":""},{"$f":"IF(HNW18=\"\",\"\",VLOOKUP($Q$10,DATA!$P$2:$R$196,3))","v":""},{"$f":"IF(HNX18=\"\",\"\",VLOOKUP($Q$10,DATA!$P$2:$R$196,3))","v":""},{"$f":"IF(HNY18=\"\",\"\",VLOOKUP($Q$10,DATA!$P$2:$R$196,3))","v":""},{"$f":"IF(HNZ18=\"\",\"\",VLOOKUP($Q$10,DATA!$P$2:$R$196,3))","v":""},{"$f":"IF(HOA18=\"\",\"\",VLOOKUP($Q$10,DATA!$P$2:$R$196,3))","v":""},{"$f":"IF(HOB18=\"\",\"\",VLOOKUP($Q$10,DATA!$P$2:$R$196,3))","v":""},{"$f":"IF(HOC18=\"\",\"\",VLOOKUP($Q$10,DATA!$P$2:$R$196,3))","v":""},{"$f":"IF(HOD18=\"\",\"\",VLOOKUP($Q$10,DATA!$P$2:$R$196,3))","v":""},{"$f":"IF(HOE18=\"\",\"\",VLOOKUP($Q$10,DATA!$P$2:$R$196,3))","v":""},{"$f":"IF(HOF18=\"\",\"\",VLOOKUP($Q$10,DATA!$P$2:$R$196,3))","v":""},{"$f":"IF(HOG18=\"\",\"\",VLOOKUP($Q$10,DATA!$P$2:$R$196,3))","v":""},{"$f":"IF(HOH18=\"\",\"\",VLOOKUP($Q$10,DATA!$P$2:$R$196,3))","v":""},{"$f":"IF(HOI18=\"\",\"\",VLOOKUP($Q$10,DATA!$P$2:$R$196,3))","v":""},{"$f":"IF(HOJ18=\"\",\"\",VLOOKUP($Q$10,DATA!$P$2:$R$196,3))","v":""},{"$f":"IF(HOK18=\"\",\"\",VLOOKUP($Q$10,DATA!$P$2:$R$196,3))","v":""},{"$f":"IF(HOL18=\"\",\"\",VLOOKUP($Q$10,DATA!$P$2:$R$196,3))","v":""},{"$f":"IF(HOM18=\"\",\"\",VLOOKUP($Q$10,DATA!$P$2:$R$196,3))","v":""},{"$f":"IF(HON18=\"\",\"\",VLOOKUP($Q$10,DATA!$P$2:$R$196,3))","v":""},{"$f":"IF(HOO18=\"\",\"\",VLOOKUP($Q$10,DATA!$P$2:$R$196,3))","v":""},{"$f":"IF(HOP18=\"\",\"\",VLOOKUP($Q$10,DATA!$P$2:$R$196,3))","v":""},{"$f":"IF(HOQ18=\"\",\"\",VLOOKUP($Q$10,DATA!$P$2:$R$196,3))","v":""},{"$f":"IF(HOR18=\"\",\"\",VLOOKUP($Q$10,DATA!$P$2:$R$196,3))","v":""},{"$f":"IF(HOS18=\"\",\"\",VLOOKUP($Q$10,DATA!$P$2:$R$196,3))","v":""},{"$f":"IF(HOT18=\"\",\"\",VLOOKUP($Q$10,DATA!$P$2:$R$196,3))","v":""},{"$f":"IF(HOU18=\"\",\"\",VLOOKUP($Q$10,DATA!$P$2:$R$196,3))","v":""},{"$f":"IF(HOV18=\"\",\"\",VLOOKUP($Q$10,DATA!$P$2:$R$196,3))","v":""},{"$f":"IF(HOW18=\"\",\"\",VLOOKUP($Q$10,DATA!$P$2:$R$196,3))","v":""},{"$f":"IF(HOX18=\"\",\"\",VLOOKUP($Q$10,DATA!$P$2:$R$196,3))","v":""},{"$f":"IF(HOY18=\"\",\"\",VLOOKUP($Q$10,DATA!$P$2:$R$196,3))","v":""},{"$f":"IF(HOZ18=\"\",\"\",VLOOKUP($Q$10,DATA!$P$2:$R$196,3))","v":""},{"$f":"IF(HPA18=\"\",\"\",VLOOKUP($Q$10,DATA!$P$2:$R$196,3))","v":""},{"$f":"IF(HPB18=\"\",\"\",VLOOKUP($Q$10,DATA!$P$2:$R$196,3))","v":""},{"$f":"IF(HPC18=\"\",\"\",VLOOKUP($Q$10,DATA!$P$2:$R$196,3))","v":""},{"$f":"IF(HPD18=\"\",\"\",VLOOKUP($Q$10,DATA!$P$2:$R$196,3))","v":""},{"$f":"IF(HPE18=\"\",\"\",VLOOKUP($Q$10,DATA!$P$2:$R$196,3))","v":""},{"$f":"IF(HPF18=\"\",\"\",VLOOKUP($Q$10,DATA!$P$2:$R$196,3))","v":""},{"$f":"IF(HPG18=\"\",\"\",VLOOKUP($Q$10,DATA!$P$2:$R$196,3))","v":""},{"$f":"IF(HPH18=\"\",\"\",VLOOKUP($Q$10,DATA!$P$2:$R$196,3))","v":""},{"$f":"IF(HPI18=\"\",\"\",VLOOKUP($Q$10,DATA!$P$2:$R$196,3))","v":""},{"$f":"IF(HPJ18=\"\",\"\",VLOOKUP($Q$10,DATA!$P$2:$R$196,3))","v":""},{"$f":"IF(HPK18=\"\",\"\",VLOOKUP($Q$10,DATA!$P$2:$R$196,3))","v":""},{"$f":"IF(HPL18=\"\",\"\",VLOOKUP($Q$10,DATA!$P$2:$R$196,3))","v":""},{"$f":"IF(HPM18=\"\",\"\",VLOOKUP($Q$10,DATA!$P$2:$R$196,3))","v":""},{"$f":"IF(HPN18=\"\",\"\",VLOOKUP($Q$10,DATA!$P$2:$R$196,3))","v":""},{"$f":"IF(HPO18=\"\",\"\",VLOOKUP($Q$10,DATA!$P$2:$R$196,3))","v":""},{"$f":"IF(HPP18=\"\",\"\",VLOOKUP($Q$10,DATA!$P$2:$R$196,3))","v":""},{"$f":"IF(HPQ18=\"\",\"\",VLOOKUP($Q$10,DATA!$P$2:$R$196,3))","v":""},{"$f":"IF(HPR18=\"\",\"\",VLOOKUP($Q$10,DATA!$P$2:$R$196,3))","v":""},{"$f":"IF(HPS18=\"\",\"\",VLOOKUP($Q$10,DATA!$P$2:$R$196,3))","v":""},{"$f":"IF(HPT18=\"\",\"\",VLOOKUP($Q$10,DATA!$P$2:$R$196,3))","v":""},{"$f":"IF(HPU18=\"\",\"\",VLOOKUP($Q$10,DATA!$P$2:$R$196,3))","v":""},{"$f":"IF(HPV18=\"\",\"\",VLOOKUP($Q$10,DATA!$P$2:$R$196,3))","v":""},{"$f":"IF(HPW18=\"\",\"\",VLOOKUP($Q$10,DATA!$P$2:$R$196,3))","v":""},{"$f":"IF(HPX18=\"\",\"\",VLOOKUP($Q$10,DATA!$P$2:$R$196,3))","v":""},{"$f":"IF(HPY18=\"\",\"\",VLOOKUP($Q$10,DATA!$P$2:$R$196,3))","v":""},{"$f":"IF(HPZ18=\"\",\"\",VLOOKUP($Q$10,DATA!$P$2:$R$196,3))","v":""},{"$f":"IF(HQA18=\"\",\"\",VLOOKUP($Q$10,DATA!$P$2:$R$196,3))","v":""},{"$f":"IF(HQB18=\"\",\"\",VLOOKUP($Q$10,DATA!$P$2:$R$196,3))","v":""},{"$f":"IF(HQC18=\"\",\"\",VLOOKUP($Q$10,DATA!$P$2:$R$196,3))","v":""},{"$f":"IF(HQD18=\"\",\"\",VLOOKUP($Q$10,DATA!$P$2:$R$196,3))","v":""},{"$f":"IF(HQE18=\"\",\"\",VLOOKUP($Q$10,DATA!$P$2:$R$196,3))","v":""},{"$f":"IF(HQF18=\"\",\"\",VLOOKUP($Q$10,DATA!$P$2:$R$196,3))","v":""},{"$f":"IF(HQG18=\"\",\"\",VLOOKUP($Q$10,DATA!$P$2:$R$196,3))","v":""},{"$f":"IF(HQH18=\"\",\"\",VLOOKUP($Q$10,DATA!$P$2:$R$196,3))","v":""},{"$f":"IF(HQI18=\"\",\"\",VLOOKUP($Q$10,DATA!$P$2:$R$196,3))","v":""},{"$f":"IF(HQJ18=\"\",\"\",VLOOKUP($Q$10,DATA!$P$2:$R$196,3))","v":""},{"$f":"IF(HQK18=\"\",\"\",VLOOKUP($Q$10,DATA!$P$2:$R$196,3))","v":""},{"$f":"IF(HQL18=\"\",\"\",VLOOKUP($Q$10,DATA!$P$2:$R$196,3))","v":""},{"$f":"IF(HQM18=\"\",\"\",VLOOKUP($Q$10,DATA!$P$2:$R$196,3))","v":""},{"$f":"IF(HQN18=\"\",\"\",VLOOKUP($Q$10,DATA!$P$2:$R$196,3))","v":""},{"$f":"IF(HQO18=\"\",\"\",VLOOKUP($Q$10,DATA!$P$2:$R$196,3))","v":""},{"$f":"IF(HQP18=\"\",\"\",VLOOKUP($Q$10,DATA!$P$2:$R$196,3))","v":""},{"$f":"IF(HQQ18=\"\",\"\",VLOOKUP($Q$10,DATA!$P$2:$R$196,3))","v":""},{"$f":"IF(HQR18=\"\",\"\",VLOOKUP($Q$10,DATA!$P$2:$R$196,3))","v":""},{"$f":"IF(HQS18=\"\",\"\",VLOOKUP($Q$10,DATA!$P$2:$R$196,3))","v":""},{"$f":"IF(HQT18=\"\",\"\",VLOOKUP($Q$10,DATA!$P$2:$R$196,3))","v":""},{"$f":"IF(HQU18=\"\",\"\",VLOOKUP($Q$10,DATA!$P$2:$R$196,3))","v":""},{"$f":"IF(HQV18=\"\",\"\",VLOOKUP($Q$10,DATA!$P$2:$R$196,3))","v":""},{"$f":"IF(HQW18=\"\",\"\",VLOOKUP($Q$10,DATA!$P$2:$R$196,3))","v":""},{"$f":"IF(HQX18=\"\",\"\",VLOOKUP($Q$10,DATA!$P$2:$R$196,3))","v":""},{"$f":"IF(HQY18=\"\",\"\",VLOOKUP($Q$10,DATA!$P$2:$R$196,3))","v":""},{"$f":"IF(HQZ18=\"\",\"\",VLOOKUP($Q$10,DATA!$P$2:$R$196,3))","v":""},{"$f":"IF(HRA18=\"\",\"\",VLOOKUP($Q$10,DATA!$P$2:$R$196,3))","v":""},{"$f":"IF(HRB18=\"\",\"\",VLOOKUP($Q$10,DATA!$P$2:$R$196,3))","v":""},{"$f":"IF(HRC18=\"\",\"\",VLOOKUP($Q$10,DATA!$P$2:$R$196,3))","v":""},{"$f":"IF(HRD18=\"\",\"\",VLOOKUP($Q$10,DATA!$P$2:$R$196,3))","v":""},{"$f":"IF(HRE18=\"\",\"\",VLOOKUP($Q$10,DATA!$P$2:$R$196,3))","v":""},{"$f":"IF(HRF18=\"\",\"\",VLOOKUP($Q$10,DATA!$P$2:$R$196,3))","v":""},{"$f":"IF(HRG18=\"\",\"\",VLOOKUP($Q$10,DATA!$P$2:$R$196,3))","v":""},{"$f":"IF(HRH18=\"\",\"\",VLOOKUP($Q$10,DATA!$P$2:$R$196,3))","v":""},{"$f":"IF(HRI18=\"\",\"\",VLOOKUP($Q$10,DATA!$P$2:$R$196,3))","v":""},{"$f":"IF(HRJ18=\"\",\"\",VLOOKUP($Q$10,DATA!$P$2:$R$196,3))","v":""},{"$f":"IF(HRK18=\"\",\"\",VLOOKUP($Q$10,DATA!$P$2:$R$196,3))","v":""},{"$f":"IF(HRL18=\"\",\"\",VLOOKUP($Q$10,DATA!$P$2:$R$196,3))","v":""},{"$f":"IF(HRM18=\"\",\"\",VLOOKUP($Q$10,DATA!$P$2:$R$196,3))","v":""},{"$f":"IF(HRN18=\"\",\"\",VLOOKUP($Q$10,DATA!$P$2:$R$196,3))","v":""},{"$f":"IF(HRO18=\"\",\"\",VLOOKUP($Q$10,DATA!$P$2:$R$196,3))","v":""},{"$f":"IF(HRP18=\"\",\"\",VLOOKUP($Q$10,DATA!$P$2:$R$196,3))","v":""},{"$f":"IF(HRQ18=\"\",\"\",VLOOKUP($Q$10,DATA!$P$2:$R$196,3))","v":""},{"$f":"IF(HRR18=\"\",\"\",VLOOKUP($Q$10,DATA!$P$2:$R$196,3))","v":""},{"$f":"IF(HRS18=\"\",\"\",VLOOKUP($Q$10,DATA!$P$2:$R$196,3))","v":""},{"$f":"IF(HRT18=\"\",\"\",VLOOKUP($Q$10,DATA!$P$2:$R$196,3))","v":""},{"$f":"IF(HRU18=\"\",\"\",VLOOKUP($Q$10,DATA!$P$2:$R$196,3))","v":""},{"$f":"IF(HRV18=\"\",\"\",VLOOKUP($Q$10,DATA!$P$2:$R$196,3))","v":""},{"$f":"IF(HRW18=\"\",\"\",VLOOKUP($Q$10,DATA!$P$2:$R$196,3))","v":""},{"$f":"IF(HRX18=\"\",\"\",VLOOKUP($Q$10,DATA!$P$2:$R$196,3))","v":""},{"$f":"IF(HRY18=\"\",\"\",VLOOKUP($Q$10,DATA!$P$2:$R$196,3))","v":""},{"$f":"IF(HRZ18=\"\",\"\",VLOOKUP($Q$10,DATA!$P$2:$R$196,3))","v":""},{"$f":"IF(HSA18=\"\",\"\",VLOOKUP($Q$10,DATA!$P$2:$R$196,3))","v":""},{"$f":"IF(HSB18=\"\",\"\",VLOOKUP($Q$10,DATA!$P$2:$R$196,3))","v":""},{"$f":"IF(HSC18=\"\",\"\",VLOOKUP($Q$10,DATA!$P$2:$R$196,3))","v":""},{"$f":"IF(HSD18=\"\",\"\",VLOOKUP($Q$10,DATA!$P$2:$R$196,3))","v":""},{"$f":"IF(HSE18=\"\",\"\",VLOOKUP($Q$10,DATA!$P$2:$R$196,3))","v":""},{"$f":"IF(HSF18=\"\",\"\",VLOOKUP($Q$10,DATA!$P$2:$R$196,3))","v":""},{"$f":"IF(HSG18=\"\",\"\",VLOOKUP($Q$10,DATA!$P$2:$R$196,3))","v":""},{"$f":"IF(HSH18=\"\",\"\",VLOOKUP($Q$10,DATA!$P$2:$R$196,3))","v":""},{"$f":"IF(HSI18=\"\",\"\",VLOOKUP($Q$10,DATA!$P$2:$R$196,3))","v":""},{"$f":"IF(HSJ18=\"\",\"\",VLOOKUP($Q$10,DATA!$P$2:$R$196,3))","v":""},{"$f":"IF(HSK18=\"\",\"\",VLOOKUP($Q$10,DATA!$P$2:$R$196,3))","v":""},{"$f":"IF(HSL18=\"\",\"\",VLOOKUP($Q$10,DATA!$P$2:$R$196,3))","v":""},{"$f":"IF(HSM18=\"\",\"\",VLOOKUP($Q$10,DATA!$P$2:$R$196,3))","v":""},{"$f":"IF(HSN18=\"\",\"\",VLOOKUP($Q$10,DATA!$P$2:$R$196,3))","v":""},{"$f":"IF(HSO18=\"\",\"\",VLOOKUP($Q$10,DATA!$P$2:$R$196,3))","v":""},{"$f":"IF(HSP18=\"\",\"\",VLOOKUP($Q$10,DATA!$P$2:$R$196,3))","v":""},{"$f":"IF(HSQ18=\"\",\"\",VLOOKUP($Q$10,DATA!$P$2:$R$196,3))","v":""},{"$f":"IF(HSR18=\"\",\"\",VLOOKUP($Q$10,DATA!$P$2:$R$196,3))","v":""},{"$f":"IF(HSS18=\"\",\"\",VLOOKUP($Q$10,DATA!$P$2:$R$196,3))","v":""},{"$f":"IF(HST18=\"\",\"\",VLOOKUP($Q$10,DATA!$P$2:$R$196,3))","v":""},{"$f":"IF(HSU18=\"\",\"\",VLOOKUP($Q$10,DATA!$P$2:$R$196,3))","v":""},{"$f":"IF(HSV18=\"\",\"\",VLOOKUP($Q$10,DATA!$P$2:$R$196,3))","v":""},{"$f":"IF(HSW18=\"\",\"\",VLOOKUP($Q$10,DATA!$P$2:$R$196,3))","v":""},{"$f":"IF(HSX18=\"\",\"\",VLOOKUP($Q$10,DATA!$P$2:$R$196,3))","v":""},{"$f":"IF(HSY18=\"\",\"\",VLOOKUP($Q$10,DATA!$P$2:$R$196,3))","v":""},{"$f":"IF(HSZ18=\"\",\"\",VLOOKUP($Q$10,DATA!$P$2:$R$196,3))","v":""},{"$f":"IF(HTA18=\"\",\"\",VLOOKUP($Q$10,DATA!$P$2:$R$196,3))","v":""},{"$f":"IF(HTB18=\"\",\"\",VLOOKUP($Q$10,DATA!$P$2:$R$196,3))","v":""},{"$f":"IF(HTC18=\"\",\"\",VLOOKUP($Q$10,DATA!$P$2:$R$196,3))","v":""},{"$f":"IF(HTD18=\"\",\"\",VLOOKUP($Q$10,DATA!$P$2:$R$196,3))","v":""},{"$f":"IF(HTE18=\"\",\"\",VLOOKUP($Q$10,DATA!$P$2:$R$196,3))","v":""},{"$f":"IF(HTF18=\"\",\"\",VLOOKUP($Q$10,DATA!$P$2:$R$196,3))","v":""},{"$f":"IF(HTG18=\"\",\"\",VLOOKUP($Q$10,DATA!$P$2:$R$196,3))","v":""},{"$f":"IF(HTH18=\"\",\"\",VLOOKUP($Q$10,DATA!$P$2:$R$196,3))","v":""},{"$f":"IF(HTI18=\"\",\"\",VLOOKUP($Q$10,DATA!$P$2:$R$196,3))","v":""},{"$f":"IF(HTJ18=\"\",\"\",VLOOKUP($Q$10,DATA!$P$2:$R$196,3))","v":""},{"$f":"IF(HTK18=\"\",\"\",VLOOKUP($Q$10,DATA!$P$2:$R$196,3))","v":""},{"$f":"IF(HTL18=\"\",\"\",VLOOKUP($Q$10,DATA!$P$2:$R$196,3))","v":""},{"$f":"IF(HTM18=\"\",\"\",VLOOKUP($Q$10,DATA!$P$2:$R$196,3))","v":""},{"$f":"IF(HTN18=\"\",\"\",VLOOKUP($Q$10,DATA!$P$2:$R$196,3))","v":""},{"$f":"IF(HTO18=\"\",\"\",VLOOKUP($Q$10,DATA!$P$2:$R$196,3))","v":""},{"$f":"IF(HTP18=\"\",\"\",VLOOKUP($Q$10,DATA!$P$2:$R$196,3))","v":""},{"$f":"IF(HTQ18=\"\",\"\",VLOOKUP($Q$10,DATA!$P$2:$R$196,3))","v":""},{"$f":"IF(HTR18=\"\",\"\",VLOOKUP($Q$10,DATA!$P$2:$R$196,3))","v":""},{"$f":"IF(HTS18=\"\",\"\",VLOOKUP($Q$10,DATA!$P$2:$R$196,3))","v":""},{"$f":"IF(HTT18=\"\",\"\",VLOOKUP($Q$10,DATA!$P$2:$R$196,3))","v":""},{"$f":"IF(HTU18=\"\",\"\",VLOOKUP($Q$10,DATA!$P$2:$R$196,3))","v":""},{"$f":"IF(HTV18=\"\",\"\",VLOOKUP($Q$10,DATA!$P$2:$R$196,3))","v":""},{"$f":"IF(HTW18=\"\",\"\",VLOOKUP($Q$10,DATA!$P$2:$R$196,3))","v":""},{"$f":"IF(HTX18=\"\",\"\",VLOOKUP($Q$10,DATA!$P$2:$R$196,3))","v":""},{"$f":"IF(HTY18=\"\",\"\",VLOOKUP($Q$10,DATA!$P$2:$R$196,3))","v":""},{"$f":"IF(HTZ18=\"\",\"\",VLOOKUP($Q$10,DATA!$P$2:$R$196,3))","v":""},{"$f":"IF(HUA18=\"\",\"\",VLOOKUP($Q$10,DATA!$P$2:$R$196,3))","v":""},{"$f":"IF(HUB18=\"\",\"\",VLOOKUP($Q$10,DATA!$P$2:$R$196,3))","v":""},{"$f":"IF(HUC18=\"\",\"\",VLOOKUP($Q$10,DATA!$P$2:$R$196,3))","v":""},{"$f":"IF(HUD18=\"\",\"\",VLOOKUP($Q$10,DATA!$P$2:$R$196,3))","v":""},{"$f":"IF(HUE18=\"\",\"\",VLOOKUP($Q$10,DATA!$P$2:$R$196,3))","v":""},{"$f":"IF(HUF18=\"\",\"\",VLOOKUP($Q$10,DATA!$P$2:$R$196,3))","v":""},{"$f":"IF(HUG18=\"\",\"\",VLOOKUP($Q$10,DATA!$P$2:$R$196,3))","v":""},{"$f":"IF(HUH18=\"\",\"\",VLOOKUP($Q$10,DATA!$P$2:$R$196,3))","v":""},{"$f":"IF(HUI18=\"\",\"\",VLOOKUP($Q$10,DATA!$P$2:$R$196,3))","v":""},{"$f":"IF(HUJ18=\"\",\"\",VLOOKUP($Q$10,DATA!$P$2:$R$196,3))","v":""},{"$f":"IF(HUK18=\"\",\"\",VLOOKUP($Q$10,DATA!$P$2:$R$196,3))","v":""},{"$f":"IF(HUL18=\"\",\"\",VLOOKUP($Q$10,DATA!$P$2:$R$196,3))","v":""},{"$f":"IF(HUM18=\"\",\"\",VLOOKUP($Q$10,DATA!$P$2:$R$196,3))","v":""},{"$f":"IF(HUN18=\"\",\"\",VLOOKUP($Q$10,DATA!$P$2:$R$196,3))","v":""},{"$f":"IF(HUO18=\"\",\"\",VLOOKUP($Q$10,DATA!$P$2:$R$196,3))","v":""},{"$f":"IF(HUP18=\"\",\"\",VLOOKUP($Q$10,DATA!$P$2:$R$196,3))","v":""},{"$f":"IF(HUQ18=\"\",\"\",VLOOKUP($Q$10,DATA!$P$2:$R$196,3))","v":""},{"$f":"IF(HUR18=\"\",\"\",VLOOKUP($Q$10,DATA!$P$2:$R$196,3))","v":""},{"$f":"IF(HUS18=\"\",\"\",VLOOKUP($Q$10,DATA!$P$2:$R$196,3))","v":""},{"$f":"IF(HUT18=\"\",\"\",VLOOKUP($Q$10,DATA!$P$2:$R$196,3))","v":""},{"$f":"IF(HUU18=\"\",\"\",VLOOKUP($Q$10,DATA!$P$2:$R$196,3))","v":""},{"$f":"IF(HUV18=\"\",\"\",VLOOKUP($Q$10,DATA!$P$2:$R$196,3))","v":""},{"$f":"IF(HUW18=\"\",\"\",VLOOKUP($Q$10,DATA!$P$2:$R$196,3))","v":""},{"$f":"IF(HUX18=\"\",\"\",VLOOKUP($Q$10,DATA!$P$2:$R$196,3))","v":""},{"$f":"IF(HUY18=\"\",\"\",VLOOKUP($Q$10,DATA!$P$2:$R$196,3))","v":""},{"$f":"IF(HUZ18=\"\",\"\",VLOOKUP($Q$10,DATA!$P$2:$R$196,3))","v":""},{"$f":"IF(HVA18=\"\",\"\",VLOOKUP($Q$10,DATA!$P$2:$R$196,3))","v":""},{"$f":"IF(HVB18=\"\",\"\",VLOOKUP($Q$10,DATA!$P$2:$R$196,3))","v":""},{"$f":"IF(HVC18=\"\",\"\",VLOOKUP($Q$10,DATA!$P$2:$R$196,3))","v":""},{"$f":"IF(HVD18=\"\",\"\",VLOOKUP($Q$10,DATA!$P$2:$R$196,3))","v":""},{"$f":"IF(HVE18=\"\",\"\",VLOOKUP($Q$10,DATA!$P$2:$R$196,3))","v":""},{"$f":"IF(HVF18=\"\",\"\",VLOOKUP($Q$10,DATA!$P$2:$R$196,3))","v":""},{"$f":"IF(HVG18=\"\",\"\",VLOOKUP($Q$10,DATA!$P$2:$R$196,3))","v":""},{"$f":"IF(HVH18=\"\",\"\",VLOOKUP($Q$10,DATA!$P$2:$R$196,3))","v":""},{"$f":"IF(HVI18=\"\",\"\",VLOOKUP($Q$10,DATA!$P$2:$R$196,3))","v":""},{"$f":"IF(HVJ18=\"\",\"\",VLOOKUP($Q$10,DATA!$P$2:$R$196,3))","v":""},{"$f":"IF(HVK18=\"\",\"\",VLOOKUP($Q$10,DATA!$P$2:$R$196,3))","v":""},{"$f":"IF(HVL18=\"\",\"\",VLOOKUP($Q$10,DATA!$P$2:$R$196,3))","v":""},{"$f":"IF(HVM18=\"\",\"\",VLOOKUP($Q$10,DATA!$P$2:$R$196,3))","v":""},{"$f":"IF(HVN18=\"\",\"\",VLOOKUP($Q$10,DATA!$P$2:$R$196,3))","v":""},{"$f":"IF(HVO18=\"\",\"\",VLOOKUP($Q$10,DATA!$P$2:$R$196,3))","v":""},{"$f":"IF(HVP18=\"\",\"\",VLOOKUP($Q$10,DATA!$P$2:$R$196,3))","v":""},{"$f":"IF(HVQ18=\"\",\"\",VLOOKUP($Q$10,DATA!$P$2:$R$196,3))","v":""},{"$f":"IF(HVR18=\"\",\"\",VLOOKUP($Q$10,DATA!$P$2:$R$196,3))","v":""},{"$f":"IF(HVS18=\"\",\"\",VLOOKUP($Q$10,DATA!$P$2:$R$196,3))","v":""},{"$f":"IF(HVT18=\"\",\"\",VLOOKUP($Q$10,DATA!$P$2:$R$196,3))","v":""},{"$f":"IF(HVU18=\"\",\"\",VLOOKUP($Q$10,DATA!$P$2:$R$196,3))","v":""},{"$f":"IF(HVV18=\"\",\"\",VLOOKUP($Q$10,DATA!$P$2:$R$196,3))","v":""},{"$f":"IF(HVW18=\"\",\"\",VLOOKUP($Q$10,DATA!$P$2:$R$196,3))","v":""},{"$f":"IF(HVX18=\"\",\"\",VLOOKUP($Q$10,DATA!$P$2:$R$196,3))","v":""},{"$f":"IF(HVY18=\"\",\"\",VLOOKUP($Q$10,DATA!$P$2:$R$196,3))","v":""},{"$f":"IF(HVZ18=\"\",\"\",VLOOKUP($Q$10,DATA!$P$2:$R$196,3))","v":""},{"$f":"IF(HWA18=\"\",\"\",VLOOKUP($Q$10,DATA!$P$2:$R$196,3))","v":""},{"$f":"IF(HWB18=\"\",\"\",VLOOKUP($Q$10,DATA!$P$2:$R$196,3))","v":""},{"$f":"IF(HWC18=\"\",\"\",VLOOKUP($Q$10,DATA!$P$2:$R$196,3))","v":""},{"$f":"IF(HWD18=\"\",\"\",VLOOKUP($Q$10,DATA!$P$2:$R$196,3))","v":""},{"$f":"IF(HWE18=\"\",\"\",VLOOKUP($Q$10,DATA!$P$2:$R$196,3))","v":""},{"$f":"IF(HWF18=\"\",\"\",VLOOKUP($Q$10,DATA!$P$2:$R$196,3))","v":""},{"$f":"IF(HWG18=\"\",\"\",VLOOKUP($Q$10,DATA!$P$2:$R$196,3))","v":""},{"$f":"IF(HWH18=\"\",\"\",VLOOKUP($Q$10,DATA!$P$2:$R$196,3))","v":""},{"$f":"IF(HWI18=\"\",\"\",VLOOKUP($Q$10,DATA!$P$2:$R$196,3))","v":""},{"$f":"IF(HWJ18=\"\",\"\",VLOOKUP($Q$10,DATA!$P$2:$R$196,3))","v":""},{"$f":"IF(HWK18=\"\",\"\",VLOOKUP($Q$10,DATA!$P$2:$R$196,3))","v":""},{"$f":"IF(HWL18=\"\",\"\",VLOOKUP($Q$10,DATA!$P$2:$R$196,3))","v":""},{"$f":"IF(HWM18=\"\",\"\",VLOOKUP($Q$10,DATA!$P$2:$R$196,3))","v":""},{"$f":"IF(HWN18=\"\",\"\",VLOOKUP($Q$10,DATA!$P$2:$R$196,3))","v":""},{"$f":"IF(HWO18=\"\",\"\",VLOOKUP($Q$10,DATA!$P$2:$R$196,3))","v":""},{"$f":"IF(HWP18=\"\",\"\",VLOOKUP($Q$10,DATA!$P$2:$R$196,3))","v":""},{"$f":"IF(HWQ18=\"\",\"\",VLOOKUP($Q$10,DATA!$P$2:$R$196,3))","v":""},{"$f":"IF(HWR18=\"\",\"\",VLOOKUP($Q$10,DATA!$P$2:$R$196,3))","v":""},{"$f":"IF(HWS18=\"\",\"\",VLOOKUP($Q$10,DATA!$P$2:$R$196,3))","v":""},{"$f":"IF(HWT18=\"\",\"\",VLOOKUP($Q$10,DATA!$P$2:$R$196,3))","v":""},{"$f":"IF(HWU18=\"\",\"\",VLOOKUP($Q$10,DATA!$P$2:$R$196,3))","v":""},{"$f":"IF(HWV18=\"\",\"\",VLOOKUP($Q$10,DATA!$P$2:$R$196,3))","v":""},{"$f":"IF(HWW18=\"\",\"\",VLOOKUP($Q$10,DATA!$P$2:$R$196,3))","v":""},{"$f":"IF(HWX18=\"\",\"\",VLOOKUP($Q$10,DATA!$P$2:$R$196,3))","v":""},{"$f":"IF(HWY18=\"\",\"\",VLOOKUP($Q$10,DATA!$P$2:$R$196,3))","v":""},{"$f":"IF(HWZ18=\"\",\"\",VLOOKUP($Q$10,DATA!$P$2:$R$196,3))","v":""},{"$f":"IF(HXA18=\"\",\"\",VLOOKUP($Q$10,DATA!$P$2:$R$196,3))","v":""},{"$f":"IF(HXB18=\"\",\"\",VLOOKUP($Q$10,DATA!$P$2:$R$196,3))","v":""},{"$f":"IF(HXC18=\"\",\"\",VLOOKUP($Q$10,DATA!$P$2:$R$196,3))","v":""},{"$f":"IF(HXD18=\"\",\"\",VLOOKUP($Q$10,DATA!$P$2:$R$196,3))","v":""},{"$f":"IF(HXE18=\"\",\"\",VLOOKUP($Q$10,DATA!$P$2:$R$196,3))","v":""},{"$f":"IF(HXF18=\"\",\"\",VLOOKUP($Q$10,DATA!$P$2:$R$196,3))","v":""},{"$f":"IF(HXG18=\"\",\"\",VLOOKUP($Q$10,DATA!$P$2:$R$196,3))","v":""},{"$f":"IF(HXH18=\"\",\"\",VLOOKUP($Q$10,DATA!$P$2:$R$196,3))","v":""},{"$f":"IF(HXI18=\"\",\"\",VLOOKUP($Q$10,DATA!$P$2:$R$196,3))","v":""},{"$f":"IF(HXJ18=\"\",\"\",VLOOKUP($Q$10,DATA!$P$2:$R$196,3))","v":""},{"$f":"IF(HXK18=\"\",\"\",VLOOKUP($Q$10,DATA!$P$2:$R$196,3))","v":""},{"$f":"IF(HXL18=\"\",\"\",VLOOKUP($Q$10,DATA!$P$2:$R$196,3))","v":""},{"$f":"IF(HXM18=\"\",\"\",VLOOKUP($Q$10,DATA!$P$2:$R$196,3))","v":""},{"$f":"IF(HXN18=\"\",\"\",VLOOKUP($Q$10,DATA!$P$2:$R$196,3))","v":""},{"$f":"IF(HXO18=\"\",\"\",VLOOKUP($Q$10,DATA!$P$2:$R$196,3))","v":""},{"$f":"IF(HXP18=\"\",\"\",VLOOKUP($Q$10,DATA!$P$2:$R$196,3))","v":""},{"$f":"IF(HXQ18=\"\",\"\",VLOOKUP($Q$10,DATA!$P$2:$R$196,3))","v":""},{"$f":"IF(HXR18=\"\",\"\",VLOOKUP($Q$10,DATA!$P$2:$R$196,3))","v":""},{"$f":"IF(HXS18=\"\",\"\",VLOOKUP($Q$10,DATA!$P$2:$R$196,3))","v":""},{"$f":"IF(HXT18=\"\",\"\",VLOOKUP($Q$10,DATA!$P$2:$R$196,3))","v":""},{"$f":"IF(HXU18=\"\",\"\",VLOOKUP($Q$10,DATA!$P$2:$R$196,3))","v":""},{"$f":"IF(HXV18=\"\",\"\",VLOOKUP($Q$10,DATA!$P$2:$R$196,3))","v":""},{"$f":"IF(HXW18=\"\",\"\",VLOOKUP($Q$10,DATA!$P$2:$R$196,3))","v":""},{"$f":"IF(HXX18=\"\",\"\",VLOOKUP($Q$10,DATA!$P$2:$R$196,3))","v":""},{"$f":"IF(HXY18=\"\",\"\",VLOOKUP($Q$10,DATA!$P$2:$R$196,3))","v":""},{"$f":"IF(HXZ18=\"\",\"\",VLOOKUP($Q$10,DATA!$P$2:$R$196,3))","v":""},{"$f":"IF(HYA18=\"\",\"\",VLOOKUP($Q$10,DATA!$P$2:$R$196,3))","v":""},{"$f":"IF(HYB18=\"\",\"\",VLOOKUP($Q$10,DATA!$P$2:$R$196,3))","v":""},{"$f":"IF(HYC18=\"\",\"\",VLOOKUP($Q$10,DATA!$P$2:$R$196,3))","v":""},{"$f":"IF(HYD18=\"\",\"\",VLOOKUP($Q$10,DATA!$P$2:$R$196,3))","v":""},{"$f":"IF(HYE18=\"\",\"\",VLOOKUP($Q$10,DATA!$P$2:$R$196,3))","v":""},{"$f":"IF(HYF18=\"\",\"\",VLOOKUP($Q$10,DATA!$P$2:$R$196,3))","v":""},{"$f":"IF(HYG18=\"\",\"\",VLOOKUP($Q$10,DATA!$P$2:$R$196,3))","v":""},{"$f":"IF(HYH18=\"\",\"\",VLOOKUP($Q$10,DATA!$P$2:$R$196,3))","v":""},{"$f":"IF(HYI18=\"\",\"\",VLOOKUP($Q$10,DATA!$P$2:$R$196,3))","v":""},{"$f":"IF(HYJ18=\"\",\"\",VLOOKUP($Q$10,DATA!$P$2:$R$196,3))","v":""},{"$f":"IF(HYK18=\"\",\"\",VLOOKUP($Q$10,DATA!$P$2:$R$196,3))","v":""},{"$f":"IF(HYL18=\"\",\"\",VLOOKUP($Q$10,DATA!$P$2:$R$196,3))","v":""},{"$f":"IF(HYM18=\"\",\"\",VLOOKUP($Q$10,DATA!$P$2:$R$196,3))","v":""},{"$f":"IF(HYN18=\"\",\"\",VLOOKUP($Q$10,DATA!$P$2:$R$196,3))","v":""},{"$f":"IF(HYO18=\"\",\"\",VLOOKUP($Q$10,DATA!$P$2:$R$196,3))","v":""},{"$f":"IF(HYP18=\"\",\"\",VLOOKUP($Q$10,DATA!$P$2:$R$196,3))","v":""},{"$f":"IF(HYQ18=\"\",\"\",VLOOKUP($Q$10,DATA!$P$2:$R$196,3))","v":""},{"$f":"IF(HYR18=\"\",\"\",VLOOKUP($Q$10,DATA!$P$2:$R$196,3))","v":""},{"$f":"IF(HYS18=\"\",\"\",VLOOKUP($Q$10,DATA!$P$2:$R$196,3))","v":""},{"$f":"IF(HYT18=\"\",\"\",VLOOKUP($Q$10,DATA!$P$2:$R$196,3))","v":""},{"$f":"IF(HYU18=\"\",\"\",VLOOKUP($Q$10,DATA!$P$2:$R$196,3))","v":""},{"$f":"IF(HYV18=\"\",\"\",VLOOKUP($Q$10,DATA!$P$2:$R$196,3))","v":""},{"$f":"IF(HYW18=\"\",\"\",VLOOKUP($Q$10,DATA!$P$2:$R$196,3))","v":""},{"$f":"IF(HYX18=\"\",\"\",VLOOKUP($Q$10,DATA!$P$2:$R$196,3))","v":""},{"$f":"IF(HYY18=\"\",\"\",VLOOKUP($Q$10,DATA!$P$2:$R$196,3))","v":""},{"$f":"IF(HYZ18=\"\",\"\",VLOOKUP($Q$10,DATA!$P$2:$R$196,3))","v":""},{"$f":"IF(HZA18=\"\",\"\",VLOOKUP($Q$10,DATA!$P$2:$R$196,3))","v":""},{"$f":"IF(HZB18=\"\",\"\",VLOOKUP($Q$10,DATA!$P$2:$R$196,3))","v":""},{"$f":"IF(HZC18=\"\",\"\",VLOOKUP($Q$10,DATA!$P$2:$R$196,3))","v":""},{"$f":"IF(HZD18=\"\",\"\",VLOOKUP($Q$10,DATA!$P$2:$R$196,3))","v":""},{"$f":"IF(HZE18=\"\",\"\",VLOOKUP($Q$10,DATA!$P$2:$R$196,3))","v":""},{"$f":"IF(HZF18=\"\",\"\",VLOOKUP($Q$10,DATA!$P$2:$R$196,3))","v":""},{"$f":"IF(HZG18=\"\",\"\",VLOOKUP($Q$10,DATA!$P$2:$R$196,3))","v":""},{"$f":"IF(HZH18=\"\",\"\",VLOOKUP($Q$10,DATA!$P$2:$R$196,3))","v":""},{"$f":"IF(HZI18=\"\",\"\",VLOOKUP($Q$10,DATA!$P$2:$R$196,3))","v":""},{"$f":"IF(HZJ18=\"\",\"\",VLOOKUP($Q$10,DATA!$P$2:$R$196,3))","v":""},{"$f":"IF(HZK18=\"\",\"\",VLOOKUP($Q$10,DATA!$P$2:$R$196,3))","v":""},{"$f":"IF(HZL18=\"\",\"\",VLOOKUP($Q$10,DATA!$P$2:$R$196,3))","v":""},{"$f":"IF(HZM18=\"\",\"\",VLOOKUP($Q$10,DATA!$P$2:$R$196,3))","v":""},{"$f":"IF(HZN18=\"\",\"\",VLOOKUP($Q$10,DATA!$P$2:$R$196,3))","v":""},{"$f":"IF(HZO18=\"\",\"\",VLOOKUP($Q$10,DATA!$P$2:$R$196,3))","v":""},{"$f":"IF(HZP18=\"\",\"\",VLOOKUP($Q$10,DATA!$P$2:$R$196,3))","v":""},{"$f":"IF(HZQ18=\"\",\"\",VLOOKUP($Q$10,DATA!$P$2:$R$196,3))","v":""},{"$f":"IF(HZR18=\"\",\"\",VLOOKUP($Q$10,DATA!$P$2:$R$196,3))","v":""},{"$f":"IF(HZS18=\"\",\"\",VLOOKUP($Q$10,DATA!$P$2:$R$196,3))","v":""},{"$f":"IF(HZT18=\"\",\"\",VLOOKUP($Q$10,DATA!$P$2:$R$196,3))","v":""},{"$f":"IF(HZU18=\"\",\"\",VLOOKUP($Q$10,DATA!$P$2:$R$196,3))","v":""},{"$f":"IF(HZV18=\"\",\"\",VLOOKUP($Q$10,DATA!$P$2:$R$196,3))","v":""},{"$f":"IF(HZW18=\"\",\"\",VLOOKUP($Q$10,DATA!$P$2:$R$196,3))","v":""},{"$f":"IF(HZX18=\"\",\"\",VLOOKUP($Q$10,DATA!$P$2:$R$196,3))","v":""},{"$f":"IF(HZY18=\"\",\"\",VLOOKUP($Q$10,DATA!$P$2:$R$196,3))","v":""},{"$f":"IF(HZZ18=\"\",\"\",VLOOKUP($Q$10,DATA!$P$2:$R$196,3))","v":""},{"$f":"IF(IAA18=\"\",\"\",VLOOKUP($Q$10,DATA!$P$2:$R$196,3))","v":""},{"$f":"IF(IAB18=\"\",\"\",VLOOKUP($Q$10,DATA!$P$2:$R$196,3))","v":""},{"$f":"IF(IAC18=\"\",\"\",VLOOKUP($Q$10,DATA!$P$2:$R$196,3))","v":""},{"$f":"IF(IAD18=\"\",\"\",VLOOKUP($Q$10,DATA!$P$2:$R$196,3))","v":""},{"$f":"IF(IAE18=\"\",\"\",VLOOKUP($Q$10,DATA!$P$2:$R$196,3))","v":""},{"$f":"IF(IAF18=\"\",\"\",VLOOKUP($Q$10,DATA!$P$2:$R$196,3))","v":""},{"$f":"IF(IAG18=\"\",\"\",VLOOKUP($Q$10,DATA!$P$2:$R$196,3))","v":""},{"$f":"IF(IAH18=\"\",\"\",VLOOKUP($Q$10,DATA!$P$2:$R$196,3))","v":""},{"$f":"IF(IAI18=\"\",\"\",VLOOKUP($Q$10,DATA!$P$2:$R$196,3))","v":""},{"$f":"IF(IAJ18=\"\",\"\",VLOOKUP($Q$10,DATA!$P$2:$R$196,3))","v":""},{"$f":"IF(IAK18=\"\",\"\",VLOOKUP($Q$10,DATA!$P$2:$R$196,3))","v":""},{"$f":"IF(IAL18=\"\",\"\",VLOOKUP($Q$10,DATA!$P$2:$R$196,3))","v":""},{"$f":"IF(IAM18=\"\",\"\",VLOOKUP($Q$10,DATA!$P$2:$R$196,3))","v":""},{"$f":"IF(IAN18=\"\",\"\",VLOOKUP($Q$10,DATA!$P$2:$R$196,3))","v":""},{"$f":"IF(IAO18=\"\",\"\",VLOOKUP($Q$10,DATA!$P$2:$R$196,3))","v":""},{"$f":"IF(IAP18=\"\",\"\",VLOOKUP($Q$10,DATA!$P$2:$R$196,3))","v":""},{"$f":"IF(IAQ18=\"\",\"\",VLOOKUP($Q$10,DATA!$P$2:$R$196,3))","v":""},{"$f":"IF(IAR18=\"\",\"\",VLOOKUP($Q$10,DATA!$P$2:$R$196,3))","v":""},{"$f":"IF(IAS18=\"\",\"\",VLOOKUP($Q$10,DATA!$P$2:$R$196,3))","v":""},{"$f":"IF(IAT18=\"\",\"\",VLOOKUP($Q$10,DATA!$P$2:$R$196,3))","v":""},{"$f":"IF(IAU18=\"\",\"\",VLOOKUP($Q$10,DATA!$P$2:$R$196,3))","v":""},{"$f":"IF(IAV18=\"\",\"\",VLOOKUP($Q$10,DATA!$P$2:$R$196,3))","v":""},{"$f":"IF(IAW18=\"\",\"\",VLOOKUP($Q$10,DATA!$P$2:$R$196,3))","v":""},{"$f":"IF(IAX18=\"\",\"\",VLOOKUP($Q$10,DATA!$P$2:$R$196,3))","v":""},{"$f":"IF(IAY18=\"\",\"\",VLOOKUP($Q$10,DATA!$P$2:$R$196,3))","v":""},{"$f":"IF(IAZ18=\"\",\"\",VLOOKUP($Q$10,DATA!$P$2:$R$196,3))","v":""},{"$f":"IF(IBA18=\"\",\"\",VLOOKUP($Q$10,DATA!$P$2:$R$196,3))","v":""},{"$f":"IF(IBB18=\"\",\"\",VLOOKUP($Q$10,DATA!$P$2:$R$196,3))","v":""},{"$f":"IF(IBC18=\"\",\"\",VLOOKUP($Q$10,DATA!$P$2:$R$196,3))","v":""},{"$f":"IF(IBD18=\"\",\"\",VLOOKUP($Q$10,DATA!$P$2:$R$196,3))","v":""},{"$f":"IF(IBE18=\"\",\"\",VLOOKUP($Q$10,DATA!$P$2:$R$196,3))","v":""},{"$f":"IF(IBF18=\"\",\"\",VLOOKUP($Q$10,DATA!$P$2:$R$196,3))","v":""},{"$f":"IF(IBG18=\"\",\"\",VLOOKUP($Q$10,DATA!$P$2:$R$196,3))","v":""},{"$f":"IF(IBH18=\"\",\"\",VLOOKUP($Q$10,DATA!$P$2:$R$196,3))","v":""},{"$f":"IF(IBI18=\"\",\"\",VLOOKUP($Q$10,DATA!$P$2:$R$196,3))","v":""},{"$f":"IF(IBJ18=\"\",\"\",VLOOKUP($Q$10,DATA!$P$2:$R$196,3))","v":""},{"$f":"IF(IBK18=\"\",\"\",VLOOKUP($Q$10,DATA!$P$2:$R$196,3))","v":""},{"$f":"IF(IBL18=\"\",\"\",VLOOKUP($Q$10,DATA!$P$2:$R$196,3))","v":""},{"$f":"IF(IBM18=\"\",\"\",VLOOKUP($Q$10,DATA!$P$2:$R$196,3))","v":""},{"$f":"IF(IBN18=\"\",\"\",VLOOKUP($Q$10,DATA!$P$2:$R$196,3))","v":""},{"$f":"IF(IBO18=\"\",\"\",VLOOKUP($Q$10,DATA!$P$2:$R$196,3))","v":""},{"$f":"IF(IBP18=\"\",\"\",VLOOKUP($Q$10,DATA!$P$2:$R$196,3))","v":""},{"$f":"IF(IBQ18=\"\",\"\",VLOOKUP($Q$10,DATA!$P$2:$R$196,3))","v":""},{"$f":"IF(IBR18=\"\",\"\",VLOOKUP($Q$10,DATA!$P$2:$R$196,3))","v":""},{"$f":"IF(IBS18=\"\",\"\",VLOOKUP($Q$10,DATA!$P$2:$R$196,3))","v":""},{"$f":"IF(IBT18=\"\",\"\",VLOOKUP($Q$10,DATA!$P$2:$R$196,3))","v":""},{"$f":"IF(IBU18=\"\",\"\",VLOOKUP($Q$10,DATA!$P$2:$R$196,3))","v":""},{"$f":"IF(IBV18=\"\",\"\",VLOOKUP($Q$10,DATA!$P$2:$R$196,3))","v":""},{"$f":"IF(IBW18=\"\",\"\",VLOOKUP($Q$10,DATA!$P$2:$R$196,3))","v":""},{"$f":"IF(IBX18=\"\",\"\",VLOOKUP($Q$10,DATA!$P$2:$R$196,3))","v":""},{"$f":"IF(IBY18=\"\",\"\",VLOOKUP($Q$10,DATA!$P$2:$R$196,3))","v":""},{"$f":"IF(IBZ18=\"\",\"\",VLOOKUP($Q$10,DATA!$P$2:$R$196,3))","v":""},{"$f":"IF(ICA18=\"\",\"\",VLOOKUP($Q$10,DATA!$P$2:$R$196,3))","v":""},{"$f":"IF(ICB18=\"\",\"\",VLOOKUP($Q$10,DATA!$P$2:$R$196,3))","v":""},{"$f":"IF(ICC18=\"\",\"\",VLOOKUP($Q$10,DATA!$P$2:$R$196,3))","v":""},{"$f":"IF(ICD18=\"\",\"\",VLOOKUP($Q$10,DATA!$P$2:$R$196,3))","v":""},{"$f":"IF(ICE18=\"\",\"\",VLOOKUP($Q$10,DATA!$P$2:$R$196,3))","v":""},{"$f":"IF(ICF18=\"\",\"\",VLOOKUP($Q$10,DATA!$P$2:$R$196,3))","v":""},{"$f":"IF(ICG18=\"\",\"\",VLOOKUP($Q$10,DATA!$P$2:$R$196,3))","v":""},{"$f":"IF(ICH18=\"\",\"\",VLOOKUP($Q$10,DATA!$P$2:$R$196,3))","v":""},{"$f":"IF(ICI18=\"\",\"\",VLOOKUP($Q$10,DATA!$P$2:$R$196,3))","v":""},{"$f":"IF(ICJ18=\"\",\"\",VLOOKUP($Q$10,DATA!$P$2:$R$196,3))","v":""},{"$f":"IF(ICK18=\"\",\"\",VLOOKUP($Q$10,DATA!$P$2:$R$196,3))","v":""},{"$f":"IF(ICL18=\"\",\"\",VLOOKUP($Q$10,DATA!$P$2:$R$196,3))","v":""},{"$f":"IF(ICM18=\"\",\"\",VLOOKUP($Q$10,DATA!$P$2:$R$196,3))","v":""},{"$f":"IF(ICN18=\"\",\"\",VLOOKUP($Q$10,DATA!$P$2:$R$196,3))","v":""},{"$f":"IF(ICO18=\"\",\"\",VLOOKUP($Q$10,DATA!$P$2:$R$196,3))","v":""},{"$f":"IF(ICP18=\"\",\"\",VLOOKUP($Q$10,DATA!$P$2:$R$196,3))","v":""},{"$f":"IF(ICQ18=\"\",\"\",VLOOKUP($Q$10,DATA!$P$2:$R$196,3))","v":""},{"$f":"IF(ICR18=\"\",\"\",VLOOKUP($Q$10,DATA!$P$2:$R$196,3))","v":""},{"$f":"IF(ICS18=\"\",\"\",VLOOKUP($Q$10,DATA!$P$2:$R$196,3))","v":""},{"$f":"IF(ICT18=\"\",\"\",VLOOKUP($Q$10,DATA!$P$2:$R$196,3))","v":""},{"$f":"IF(ICU18=\"\",\"\",VLOOKUP($Q$10,DATA!$P$2:$R$196,3))","v":""},{"$f":"IF(ICV18=\"\",\"\",VLOOKUP($Q$10,DATA!$P$2:$R$196,3))","v":""},{"$f":"IF(ICW18=\"\",\"\",VLOOKUP($Q$10,DATA!$P$2:$R$196,3))","v":""},{"$f":"IF(ICX18=\"\",\"\",VLOOKUP($Q$10,DATA!$P$2:$R$196,3))","v":""},{"$f":"IF(ICY18=\"\",\"\",VLOOKUP($Q$10,DATA!$P$2:$R$196,3))","v":""},{"$f":"IF(ICZ18=\"\",\"\",VLOOKUP($Q$10,DATA!$P$2:$R$196,3))","v":""},{"$f":"IF(IDA18=\"\",\"\",VLOOKUP($Q$10,DATA!$P$2:$R$196,3))","v":""},{"$f":"IF(IDB18=\"\",\"\",VLOOKUP($Q$10,DATA!$P$2:$R$196,3))","v":""},{"$f":"IF(IDC18=\"\",\"\",VLOOKUP($Q$10,DATA!$P$2:$R$196,3))","v":""},{"$f":"IF(IDD18=\"\",\"\",VLOOKUP($Q$10,DATA!$P$2:$R$196,3))","v":""},{"$f":"IF(IDE18=\"\",\"\",VLOOKUP($Q$10,DATA!$P$2:$R$196,3))","v":""},{"$f":"IF(IDF18=\"\",\"\",VLOOKUP($Q$10,DATA!$P$2:$R$196,3))","v":""},{"$f":"IF(IDG18=\"\",\"\",VLOOKUP($Q$10,DATA!$P$2:$R$196,3))","v":""},{"$f":"IF(IDH18=\"\",\"\",VLOOKUP($Q$10,DATA!$P$2:$R$196,3))","v":""},{"$f":"IF(IDI18=\"\",\"\",VLOOKUP($Q$10,DATA!$P$2:$R$196,3))","v":""},{"$f":"IF(IDJ18=\"\",\"\",VLOOKUP($Q$10,DATA!$P$2:$R$196,3))","v":""},{"$f":"IF(IDK18=\"\",\"\",VLOOKUP($Q$10,DATA!$P$2:$R$196,3))","v":""},{"$f":"IF(IDL18=\"\",\"\",VLOOKUP($Q$10,DATA!$P$2:$R$196,3))","v":""},{"$f":"IF(IDM18=\"\",\"\",VLOOKUP($Q$10,DATA!$P$2:$R$196,3))","v":""},{"$f":"IF(IDN18=\"\",\"\",VLOOKUP($Q$10,DATA!$P$2:$R$196,3))","v":""},{"$f":"IF(IDO18=\"\",\"\",VLOOKUP($Q$10,DATA!$P$2:$R$196,3))","v":""},{"$f":"IF(IDP18=\"\",\"\",VLOOKUP($Q$10,DATA!$P$2:$R$196,3))","v":""},{"$f":"IF(IDQ18=\"\",\"\",VLOOKUP($Q$10,DATA!$P$2:$R$196,3))","v":""},{"$f":"IF(IDR18=\"\",\"\",VLOOKUP($Q$10,DATA!$P$2:$R$196,3))","v":""},{"$f":"IF(IDS18=\"\",\"\",VLOOKUP($Q$10,DATA!$P$2:$R$196,3))","v":""},{"$f":"IF(IDT18=\"\",\"\",VLOOKUP($Q$10,DATA!$P$2:$R$196,3))","v":""},{"$f":"IF(IDU18=\"\",\"\",VLOOKUP($Q$10,DATA!$P$2:$R$196,3))","v":""},{"$f":"IF(IDV18=\"\",\"\",VLOOKUP($Q$10,DATA!$P$2:$R$196,3))","v":""},{"$f":"IF(IDW18=\"\",\"\",VLOOKUP($Q$10,DATA!$P$2:$R$196,3))","v":""},{"$f":"IF(IDX18=\"\",\"\",VLOOKUP($Q$10,DATA!$P$2:$R$196,3))","v":""},{"$f":"IF(IDY18=\"\",\"\",VLOOKUP($Q$10,DATA!$P$2:$R$196,3))","v":""},{"$f":"IF(IDZ18=\"\",\"\",VLOOKUP($Q$10,DATA!$P$2:$R$196,3))","v":""},{"$f":"IF(IEA18=\"\",\"\",VLOOKUP($Q$10,DATA!$P$2:$R$196,3))","v":""},{"$f":"IF(IEB18=\"\",\"\",VLOOKUP($Q$10,DATA!$P$2:$R$196,3))","v":""},{"$f":"IF(IEC18=\"\",\"\",VLOOKUP($Q$10,DATA!$P$2:$R$196,3))","v":""},{"$f":"IF(IED18=\"\",\"\",VLOOKUP($Q$10,DATA!$P$2:$R$196,3))","v":""},{"$f":"IF(IEE18=\"\",\"\",VLOOKUP($Q$10,DATA!$P$2:$R$196,3))","v":""},{"$f":"IF(IEF18=\"\",\"\",VLOOKUP($Q$10,DATA!$P$2:$R$196,3))","v":""},{"$f":"IF(IEG18=\"\",\"\",VLOOKUP($Q$10,DATA!$P$2:$R$196,3))","v":""},{"$f":"IF(IEH18=\"\",\"\",VLOOKUP($Q$10,DATA!$P$2:$R$196,3))","v":""},{"$f":"IF(IEI18=\"\",\"\",VLOOKUP($Q$10,DATA!$P$2:$R$196,3))","v":""},{"$f":"IF(IEJ18=\"\",\"\",VLOOKUP($Q$10,DATA!$P$2:$R$196,3))","v":""},{"$f":"IF(IEK18=\"\",\"\",VLOOKUP($Q$10,DATA!$P$2:$R$196,3))","v":""},{"$f":"IF(IEL18=\"\",\"\",VLOOKUP($Q$10,DATA!$P$2:$R$196,3))","v":""},{"$f":"IF(IEM18=\"\",\"\",VLOOKUP($Q$10,DATA!$P$2:$R$196,3))","v":""},{"$f":"IF(IEN18=\"\",\"\",VLOOKUP($Q$10,DATA!$P$2:$R$196,3))","v":""},{"$f":"IF(IEO18=\"\",\"\",VLOOKUP($Q$10,DATA!$P$2:$R$196,3))","v":""},{"$f":"IF(IEP18=\"\",\"\",VLOOKUP($Q$10,DATA!$P$2:$R$196,3))","v":""},{"$f":"IF(IEQ18=\"\",\"\",VLOOKUP($Q$10,DATA!$P$2:$R$196,3))","v":""},{"$f":"IF(IER18=\"\",\"\",VLOOKUP($Q$10,DATA!$P$2:$R$196,3))","v":""},{"$f":"IF(IES18=\"\",\"\",VLOOKUP($Q$10,DATA!$P$2:$R$196,3))","v":""},{"$f":"IF(IET18=\"\",\"\",VLOOKUP($Q$10,DATA!$P$2:$R$196,3))","v":""},{"$f":"IF(IEU18=\"\",\"\",VLOOKUP($Q$10,DATA!$P$2:$R$196,3))","v":""},{"$f":"IF(IEV18=\"\",\"\",VLOOKUP($Q$10,DATA!$P$2:$R$196,3))","v":""},{"$f":"IF(IEW18=\"\",\"\",VLOOKUP($Q$10,DATA!$P$2:$R$196,3))","v":""},{"$f":"IF(IEX18=\"\",\"\",VLOOKUP($Q$10,DATA!$P$2:$R$196,3))","v":""},{"$f":"IF(IEY18=\"\",\"\",VLOOKUP($Q$10,DATA!$P$2:$R$196,3))","v":""},{"$f":"IF(IEZ18=\"\",\"\",VLOOKUP($Q$10,DATA!$P$2:$R$196,3))","v":""},{"$f":"IF(IFA18=\"\",\"\",VLOOKUP($Q$10,DATA!$P$2:$R$196,3))","v":""},{"$f":"IF(IFB18=\"\",\"\",VLOOKUP($Q$10,DATA!$P$2:$R$196,3))","v":""},{"$f":"IF(IFC18=\"\",\"\",VLOOKUP($Q$10,DATA!$P$2:$R$196,3))","v":""},{"$f":"IF(IFD18=\"\",\"\",VLOOKUP($Q$10,DATA!$P$2:$R$196,3))","v":""},{"$f":"IF(IFE18=\"\",\"\",VLOOKUP($Q$10,DATA!$P$2:$R$196,3))","v":""},{"$f":"IF(IFF18=\"\",\"\",VLOOKUP($Q$10,DATA!$P$2:$R$196,3))","v":""},{"$f":"IF(IFG18=\"\",\"\",VLOOKUP($Q$10,DATA!$P$2:$R$196,3))","v":""},{"$f":"IF(IFH18=\"\",\"\",VLOOKUP($Q$10,DATA!$P$2:$R$196,3))","v":""},{"$f":"IF(IFI18=\"\",\"\",VLOOKUP($Q$10,DATA!$P$2:$R$196,3))","v":""},{"$f":"IF(IFJ18=\"\",\"\",VLOOKUP($Q$10,DATA!$P$2:$R$196,3))","v":""},{"$f":"IF(IFK18=\"\",\"\",VLOOKUP($Q$10,DATA!$P$2:$R$196,3))","v":""},{"$f":"IF(IFL18=\"\",\"\",VLOOKUP($Q$10,DATA!$P$2:$R$196,3))","v":""},{"$f":"IF(IFM18=\"\",\"\",VLOOKUP($Q$10,DATA!$P$2:$R$196,3))","v":""},{"$f":"IF(IFN18=\"\",\"\",VLOOKUP($Q$10,DATA!$P$2:$R$196,3))","v":""},{"$f":"IF(IFO18=\"\",\"\",VLOOKUP($Q$10,DATA!$P$2:$R$196,3))","v":""},{"$f":"IF(IFP18=\"\",\"\",VLOOKUP($Q$10,DATA!$P$2:$R$196,3))","v":""},{"$f":"IF(IFQ18=\"\",\"\",VLOOKUP($Q$10,DATA!$P$2:$R$196,3))","v":""},{"$f":"IF(IFR18=\"\",\"\",VLOOKUP($Q$10,DATA!$P$2:$R$196,3))","v":""},{"$f":"IF(IFS18=\"\",\"\",VLOOKUP($Q$10,DATA!$P$2:$R$196,3))","v":""},{"$f":"IF(IFT18=\"\",\"\",VLOOKUP($Q$10,DATA!$P$2:$R$196,3))","v":""},{"$f":"IF(IFU18=\"\",\"\",VLOOKUP($Q$10,DATA!$P$2:$R$196,3))","v":""},{"$f":"IF(IFV18=\"\",\"\",VLOOKUP($Q$10,DATA!$P$2:$R$196,3))","v":""},{"$f":"IF(IFW18=\"\",\"\",VLOOKUP($Q$10,DATA!$P$2:$R$196,3))","v":""},{"$f":"IF(IFX18=\"\",\"\",VLOOKUP($Q$10,DATA!$P$2:$R$196,3))","v":""},{"$f":"IF(IFY18=\"\",\"\",VLOOKUP($Q$10,DATA!$P$2:$R$196,3))","v":""},{"$f":"IF(IFZ18=\"\",\"\",VLOOKUP($Q$10,DATA!$P$2:$R$196,3))","v":""},{"$f":"IF(IGA18=\"\",\"\",VLOOKUP($Q$10,DATA!$P$2:$R$196,3))","v":""},{"$f":"IF(IGB18=\"\",\"\",VLOOKUP($Q$10,DATA!$P$2:$R$196,3))","v":""},{"$f":"IF(IGC18=\"\",\"\",VLOOKUP($Q$10,DATA!$P$2:$R$196,3))","v":""},{"$f":"IF(IGD18=\"\",\"\",VLOOKUP($Q$10,DATA!$P$2:$R$196,3))","v":""},{"$f":"IF(IGE18=\"\",\"\",VLOOKUP($Q$10,DATA!$P$2:$R$196,3))","v":""},{"$f":"IF(IGF18=\"\",\"\",VLOOKUP($Q$10,DATA!$P$2:$R$196,3))","v":""},{"$f":"IF(IGG18=\"\",\"\",VLOOKUP($Q$10,DATA!$P$2:$R$196,3))","v":""},{"$f":"IF(IGH18=\"\",\"\",VLOOKUP($Q$10,DATA!$P$2:$R$196,3))","v":""},{"$f":"IF(IGI18=\"\",\"\",VLOOKUP($Q$10,DATA!$P$2:$R$196,3))","v":""},{"$f":"IF(IGJ18=\"\",\"\",VLOOKUP($Q$10,DATA!$P$2:$R$196,3))","v":""},{"$f":"IF(IGK18=\"\",\"\",VLOOKUP($Q$10,DATA!$P$2:$R$196,3))","v":""},{"$f":"IF(IGL18=\"\",\"\",VLOOKUP($Q$10,DATA!$P$2:$R$196,3))","v":""},{"$f":"IF(IGM18=\"\",\"\",VLOOKUP($Q$10,DATA!$P$2:$R$196,3))","v":""},{"$f":"IF(IGN18=\"\",\"\",VLOOKUP($Q$10,DATA!$P$2:$R$196,3))","v":""},{"$f":"IF(IGO18=\"\",\"\",VLOOKUP($Q$10,DATA!$P$2:$R$196,3))","v":""},{"$f":"IF(IGP18=\"\",\"\",VLOOKUP($Q$10,DATA!$P$2:$R$196,3))","v":""},{"$f":"IF(IGQ18=\"\",\"\",VLOOKUP($Q$10,DATA!$P$2:$R$196,3))","v":""},{"$f":"IF(IGR18=\"\",\"\",VLOOKUP($Q$10,DATA!$P$2:$R$196,3))","v":""},{"$f":"IF(IGS18=\"\",\"\",VLOOKUP($Q$10,DATA!$P$2:$R$196,3))","v":""},{"$f":"IF(IGT18=\"\",\"\",VLOOKUP($Q$10,DATA!$P$2:$R$196,3))","v":""},{"$f":"IF(IGU18=\"\",\"\",VLOOKUP($Q$10,DATA!$P$2:$R$196,3))","v":""},{"$f":"IF(IGV18=\"\",\"\",VLOOKUP($Q$10,DATA!$P$2:$R$196,3))","v":""},{"$f":"IF(IGW18=\"\",\"\",VLOOKUP($Q$10,DATA!$P$2:$R$196,3))","v":""},{"$f":"IF(IGX18=\"\",\"\",VLOOKUP($Q$10,DATA!$P$2:$R$196,3))","v":""},{"$f":"IF(IGY18=\"\",\"\",VLOOKUP($Q$10,DATA!$P$2:$R$196,3))","v":""},{"$f":"IF(IGZ18=\"\",\"\",VLOOKUP($Q$10,DATA!$P$2:$R$196,3))","v":""},{"$f":"IF(IHA18=\"\",\"\",VLOOKUP($Q$10,DATA!$P$2:$R$196,3))","v":""},{"$f":"IF(IHB18=\"\",\"\",VLOOKUP($Q$10,DATA!$P$2:$R$196,3))","v":""},{"$f":"IF(IHC18=\"\",\"\",VLOOKUP($Q$10,DATA!$P$2:$R$196,3))","v":""},{"$f":"IF(IHD18=\"\",\"\",VLOOKUP($Q$10,DATA!$P$2:$R$196,3))","v":""},{"$f":"IF(IHE18=\"\",\"\",VLOOKUP($Q$10,DATA!$P$2:$R$196,3))","v":""},{"$f":"IF(IHF18=\"\",\"\",VLOOKUP($Q$10,DATA!$P$2:$R$196,3))","v":""},{"$f":"IF(IHG18=\"\",\"\",VLOOKUP($Q$10,DATA!$P$2:$R$196,3))","v":""},{"$f":"IF(IHH18=\"\",\"\",VLOOKUP($Q$10,DATA!$P$2:$R$196,3))","v":""},{"$f":"IF(IHI18=\"\",\"\",VLOOKUP($Q$10,DATA!$P$2:$R$196,3))","v":""},{"$f":"IF(IHJ18=\"\",\"\",VLOOKUP($Q$10,DATA!$P$2:$R$196,3))","v":""},{"$f":"IF(IHK18=\"\",\"\",VLOOKUP($Q$10,DATA!$P$2:$R$196,3))","v":""},{"$f":"IF(IHL18=\"\",\"\",VLOOKUP($Q$10,DATA!$P$2:$R$196,3))","v":""},{"$f":"IF(IHM18=\"\",\"\",VLOOKUP($Q$10,DATA!$P$2:$R$196,3))","v":""},{"$f":"IF(IHN18=\"\",\"\",VLOOKUP($Q$10,DATA!$P$2:$R$196,3))","v":""},{"$f":"IF(IHO18=\"\",\"\",VLOOKUP($Q$10,DATA!$P$2:$R$196,3))","v":""},{"$f":"IF(IHP18=\"\",\"\",VLOOKUP($Q$10,DATA!$P$2:$R$196,3))","v":""},{"$f":"IF(IHQ18=\"\",\"\",VLOOKUP($Q$10,DATA!$P$2:$R$196,3))","v":""},{"$f":"IF(IHR18=\"\",\"\",VLOOKUP($Q$10,DATA!$P$2:$R$196,3))","v":""},{"$f":"IF(IHS18=\"\",\"\",VLOOKUP($Q$10,DATA!$P$2:$R$196,3))","v":""},{"$f":"IF(IHT18=\"\",\"\",VLOOKUP($Q$10,DATA!$P$2:$R$196,3))","v":""},{"$f":"IF(IHU18=\"\",\"\",VLOOKUP($Q$10,DATA!$P$2:$R$196,3))","v":""},{"$f":"IF(IHV18=\"\",\"\",VLOOKUP($Q$10,DATA!$P$2:$R$196,3))","v":""},{"$f":"IF(IHW18=\"\",\"\",VLOOKUP($Q$10,DATA!$P$2:$R$196,3))","v":""},{"$f":"IF(IHX18=\"\",\"\",VLOOKUP($Q$10,DATA!$P$2:$R$196,3))","v":""},{"$f":"IF(IHY18=\"\",\"\",VLOOKUP($Q$10,DATA!$P$2:$R$196,3))","v":""},{"$f":"IF(IHZ18=\"\",\"\",VLOOKUP($Q$10,DATA!$P$2:$R$196,3))","v":""},{"$f":"IF(IIA18=\"\",\"\",VLOOKUP($Q$10,DATA!$P$2:$R$196,3))","v":""},{"$f":"IF(IIB18=\"\",\"\",VLOOKUP($Q$10,DATA!$P$2:$R$196,3))","v":""},{"$f":"IF(IIC18=\"\",\"\",VLOOKUP($Q$10,DATA!$P$2:$R$196,3))","v":""},{"$f":"IF(IID18=\"\",\"\",VLOOKUP($Q$10,DATA!$P$2:$R$196,3))","v":""},{"$f":"IF(IIE18=\"\",\"\",VLOOKUP($Q$10,DATA!$P$2:$R$196,3))","v":""},{"$f":"IF(IIF18=\"\",\"\",VLOOKUP($Q$10,DATA!$P$2:$R$196,3))","v":""},{"$f":"IF(IIG18=\"\",\"\",VLOOKUP($Q$10,DATA!$P$2:$R$196,3))","v":""},{"$f":"IF(IIH18=\"\",\"\",VLOOKUP($Q$10,DATA!$P$2:$R$196,3))","v":""},{"$f":"IF(III18=\"\",\"\",VLOOKUP($Q$10,DATA!$P$2:$R$196,3))","v":""},{"$f":"IF(IIJ18=\"\",\"\",VLOOKUP($Q$10,DATA!$P$2:$R$196,3))","v":""},{"$f":"IF(IIK18=\"\",\"\",VLOOKUP($Q$10,DATA!$P$2:$R$196,3))","v":""},{"$f":"IF(IIL18=\"\",\"\",VLOOKUP($Q$10,DATA!$P$2:$R$196,3))","v":""},{"$f":"IF(IIM18=\"\",\"\",VLOOKUP($Q$10,DATA!$P$2:$R$196,3))","v":""},{"$f":"IF(IIN18=\"\",\"\",VLOOKUP($Q$10,DATA!$P$2:$R$196,3))","v":""},{"$f":"IF(IIO18=\"\",\"\",VLOOKUP($Q$10,DATA!$P$2:$R$196,3))","v":""},{"$f":"IF(IIP18=\"\",\"\",VLOOKUP($Q$10,DATA!$P$2:$R$196,3))","v":""},{"$f":"IF(IIQ18=\"\",\"\",VLOOKUP($Q$10,DATA!$P$2:$R$196,3))","v":""},{"$f":"IF(IIR18=\"\",\"\",VLOOKUP($Q$10,DATA!$P$2:$R$196,3))","v":""},{"$f":"IF(IIS18=\"\",\"\",VLOOKUP($Q$10,DATA!$P$2:$R$196,3))","v":""},{"$f":"IF(IIT18=\"\",\"\",VLOOKUP($Q$10,DATA!$P$2:$R$196,3))","v":""},{"$f":"IF(IIU18=\"\",\"\",VLOOKUP($Q$10,DATA!$P$2:$R$196,3))","v":""},{"$f":"IF(IIV18=\"\",\"\",VLOOKUP($Q$10,DATA!$P$2:$R$196,3))","v":""},{"$f":"IF(IIW18=\"\",\"\",VLOOKUP($Q$10,DATA!$P$2:$R$196,3))","v":""},{"$f":"IF(IIX18=\"\",\"\",VLOOKUP($Q$10,DATA!$P$2:$R$196,3))","v":""},{"$f":"IF(IIY18=\"\",\"\",VLOOKUP($Q$10,DATA!$P$2:$R$196,3))","v":""},{"$f":"IF(IIZ18=\"\",\"\",VLOOKUP($Q$10,DATA!$P$2:$R$196,3))","v":""},{"$f":"IF(IJA18=\"\",\"\",VLOOKUP($Q$10,DATA!$P$2:$R$196,3))","v":""},{"$f":"IF(IJB18=\"\",\"\",VLOOKUP($Q$10,DATA!$P$2:$R$196,3))","v":""},{"$f":"IF(IJC18=\"\",\"\",VLOOKUP($Q$10,DATA!$P$2:$R$196,3))","v":""},{"$f":"IF(IJD18=\"\",\"\",VLOOKUP($Q$10,DATA!$P$2:$R$196,3))","v":""},{"$f":"IF(IJE18=\"\",\"\",VLOOKUP($Q$10,DATA!$P$2:$R$196,3))","v":""},{"$f":"IF(IJF18=\"\",\"\",VLOOKUP($Q$10,DATA!$P$2:$R$196,3))","v":""},{"$f":"IF(IJG18=\"\",\"\",VLOOKUP($Q$10,DATA!$P$2:$R$196,3))","v":""},{"$f":"IF(IJH18=\"\",\"\",VLOOKUP($Q$10,DATA!$P$2:$R$196,3))","v":""},{"$f":"IF(IJI18=\"\",\"\",VLOOKUP($Q$10,DATA!$P$2:$R$196,3))","v":""},{"$f":"IF(IJJ18=\"\",\"\",VLOOKUP($Q$10,DATA!$P$2:$R$196,3))","v":""},{"$f":"IF(IJK18=\"\",\"\",VLOOKUP($Q$10,DATA!$P$2:$R$196,3))","v":""},{"$f":"IF(IJL18=\"\",\"\",VLOOKUP($Q$10,DATA!$P$2:$R$196,3))","v":""},{"$f":"IF(IJM18=\"\",\"\",VLOOKUP($Q$10,DATA!$P$2:$R$196,3))","v":""},{"$f":"IF(IJN18=\"\",\"\",VLOOKUP($Q$10,DATA!$P$2:$R$196,3))","v":""},{"$f":"IF(IJO18=\"\",\"\",VLOOKUP($Q$10,DATA!$P$2:$R$196,3))","v":""},{"$f":"IF(IJP18=\"\",\"\",VLOOKUP($Q$10,DATA!$P$2:$R$196,3))","v":""},{"$f":"IF(IJQ18=\"\",\"\",VLOOKUP($Q$10,DATA!$P$2:$R$196,3))","v":""},{"$f":"IF(IJR18=\"\",\"\",VLOOKUP($Q$10,DATA!$P$2:$R$196,3))","v":""},{"$f":"IF(IJS18=\"\",\"\",VLOOKUP($Q$10,DATA!$P$2:$R$196,3))","v":""},{"$f":"IF(IJT18=\"\",\"\",VLOOKUP($Q$10,DATA!$P$2:$R$196,3))","v":""},{"$f":"IF(IJU18=\"\",\"\",VLOOKUP($Q$10,DATA!$P$2:$R$196,3))","v":""},{"$f":"IF(IJV18=\"\",\"\",VLOOKUP($Q$10,DATA!$P$2:$R$196,3))","v":""},{"$f":"IF(IJW18=\"\",\"\",VLOOKUP($Q$10,DATA!$P$2:$R$196,3))","v":""},{"$f":"IF(IJX18=\"\",\"\",VLOOKUP($Q$10,DATA!$P$2:$R$196,3))","v":""},{"$f":"IF(IJY18=\"\",\"\",VLOOKUP($Q$10,DATA!$P$2:$R$196,3))","v":""},{"$f":"IF(IJZ18=\"\",\"\",VLOOKUP($Q$10,DATA!$P$2:$R$196,3))","v":""},{"$f":"IF(IKA18=\"\",\"\",VLOOKUP($Q$10,DATA!$P$2:$R$196,3))","v":""},{"$f":"IF(IKB18=\"\",\"\",VLOOKUP($Q$10,DATA!$P$2:$R$196,3))","v":""},{"$f":"IF(IKC18=\"\",\"\",VLOOKUP($Q$10,DATA!$P$2:$R$196,3))","v":""},{"$f":"IF(IKD18=\"\",\"\",VLOOKUP($Q$10,DATA!$P$2:$R$196,3))","v":""},{"$f":"IF(IKE18=\"\",\"\",VLOOKUP($Q$10,DATA!$P$2:$R$196,3))","v":""},{"$f":"IF(IKF18=\"\",\"\",VLOOKUP($Q$10,DATA!$P$2:$R$196,3))","v":""},{"$f":"IF(IKG18=\"\",\"\",VLOOKUP($Q$10,DATA!$P$2:$R$196,3))","v":""},{"$f":"IF(IKH18=\"\",\"\",VLOOKUP($Q$10,DATA!$P$2:$R$196,3))","v":""},{"$f":"IF(IKI18=\"\",\"\",VLOOKUP($Q$10,DATA!$P$2:$R$196,3))","v":""},{"$f":"IF(IKJ18=\"\",\"\",VLOOKUP($Q$10,DATA!$P$2:$R$196,3))","v":""},{"$f":"IF(IKK18=\"\",\"\",VLOOKUP($Q$10,DATA!$P$2:$R$196,3))","v":""},{"$f":"IF(IKL18=\"\",\"\",VLOOKUP($Q$10,DATA!$P$2:$R$196,3))","v":""},{"$f":"IF(IKM18=\"\",\"\",VLOOKUP($Q$10,DATA!$P$2:$R$196,3))","v":""},{"$f":"IF(IKN18=\"\",\"\",VLOOKUP($Q$10,DATA!$P$2:$R$196,3))","v":""},{"$f":"IF(IKO18=\"\",\"\",VLOOKUP($Q$10,DATA!$P$2:$R$196,3))","v":""},{"$f":"IF(IKP18=\"\",\"\",VLOOKUP($Q$10,DATA!$P$2:$R$196,3))","v":""},{"$f":"IF(IKQ18=\"\",\"\",VLOOKUP($Q$10,DATA!$P$2:$R$196,3))","v":""},{"$f":"IF(IKR18=\"\",\"\",VLOOKUP($Q$10,DATA!$P$2:$R$196,3))","v":""},{"$f":"IF(IKS18=\"\",\"\",VLOOKUP($Q$10,DATA!$P$2:$R$196,3))","v":""},{"$f":"IF(IKT18=\"\",\"\",VLOOKUP($Q$10,DATA!$P$2:$R$196,3))","v":""},{"$f":"IF(IKU18=\"\",\"\",VLOOKUP($Q$10,DATA!$P$2:$R$196,3))","v":""},{"$f":"IF(IKV18=\"\",\"\",VLOOKUP($Q$10,DATA!$P$2:$R$196,3))","v":""},{"$f":"IF(IKW18=\"\",\"\",VLOOKUP($Q$10,DATA!$P$2:$R$196,3))","v":""},{"$f":"IF(IKX18=\"\",\"\",VLOOKUP($Q$10,DATA!$P$2:$R$196,3))","v":""},{"$f":"IF(IKY18=\"\",\"\",VLOOKUP($Q$10,DATA!$P$2:$R$196,3))","v":""},{"$f":"IF(IKZ18=\"\",\"\",VLOOKUP($Q$10,DATA!$P$2:$R$196,3))","v":""},{"$f":"IF(ILA18=\"\",\"\",VLOOKUP($Q$10,DATA!$P$2:$R$196,3))","v":""},{"$f":"IF(ILB18=\"\",\"\",VLOOKUP($Q$10,DATA!$P$2:$R$196,3))","v":""},{"$f":"IF(ILC18=\"\",\"\",VLOOKUP($Q$10,DATA!$P$2:$R$196,3))","v":""},{"$f":"IF(ILD18=\"\",\"\",VLOOKUP($Q$10,DATA!$P$2:$R$196,3))","v":""},{"$f":"IF(ILE18=\"\",\"\",VLOOKUP($Q$10,DATA!$P$2:$R$196,3))","v":""},{"$f":"IF(ILF18=\"\",\"\",VLOOKUP($Q$10,DATA!$P$2:$R$196,3))","v":""},{"$f":"IF(ILG18=\"\",\"\",VLOOKUP($Q$10,DATA!$P$2:$R$196,3))","v":""},{"$f":"IF(ILH18=\"\",\"\",VLOOKUP($Q$10,DATA!$P$2:$R$196,3))","v":""},{"$f":"IF(ILI18=\"\",\"\",VLOOKUP($Q$10,DATA!$P$2:$R$196,3))","v":""},{"$f":"IF(ILJ18=\"\",\"\",VLOOKUP($Q$10,DATA!$P$2:$R$196,3))","v":""},{"$f":"IF(ILK18=\"\",\"\",VLOOKUP($Q$10,DATA!$P$2:$R$196,3))","v":""},{"$f":"IF(ILL18=\"\",\"\",VLOOKUP($Q$10,DATA!$P$2:$R$196,3))","v":""},{"$f":"IF(ILM18=\"\",\"\",VLOOKUP($Q$10,DATA!$P$2:$R$196,3))","v":""},{"$f":"IF(ILN18=\"\",\"\",VLOOKUP($Q$10,DATA!$P$2:$R$196,3))","v":""},{"$f":"IF(ILO18=\"\",\"\",VLOOKUP($Q$10,DATA!$P$2:$R$196,3))","v":""},{"$f":"IF(ILP18=\"\",\"\",VLOOKUP($Q$10,DATA!$P$2:$R$196,3))","v":""},{"$f":"IF(ILQ18=\"\",\"\",VLOOKUP($Q$10,DATA!$P$2:$R$196,3))","v":""},{"$f":"IF(ILR18=\"\",\"\",VLOOKUP($Q$10,DATA!$P$2:$R$196,3))","v":""},{"$f":"IF(ILS18=\"\",\"\",VLOOKUP($Q$10,DATA!$P$2:$R$196,3))","v":""},{"$f":"IF(ILT18=\"\",\"\",VLOOKUP($Q$10,DATA!$P$2:$R$196,3))","v":""},{"$f":"IF(ILU18=\"\",\"\",VLOOKUP($Q$10,DATA!$P$2:$R$196,3))","v":""},{"$f":"IF(ILV18=\"\",\"\",VLOOKUP($Q$10,DATA!$P$2:$R$196,3))","v":""},{"$f":"IF(ILW18=\"\",\"\",VLOOKUP($Q$10,DATA!$P$2:$R$196,3))","v":""},{"$f":"IF(ILX18=\"\",\"\",VLOOKUP($Q$10,DATA!$P$2:$R$196,3))","v":""},{"$f":"IF(ILY18=\"\",\"\",VLOOKUP($Q$10,DATA!$P$2:$R$196,3))","v":""},{"$f":"IF(ILZ18=\"\",\"\",VLOOKUP($Q$10,DATA!$P$2:$R$196,3))","v":""},{"$f":"IF(IMA18=\"\",\"\",VLOOKUP($Q$10,DATA!$P$2:$R$196,3))","v":""},{"$f":"IF(IMB18=\"\",\"\",VLOOKUP($Q$10,DATA!$P$2:$R$196,3))","v":""},{"$f":"IF(IMC18=\"\",\"\",VLOOKUP($Q$10,DATA!$P$2:$R$196,3))","v":""},{"$f":"IF(IMD18=\"\",\"\",VLOOKUP($Q$10,DATA!$P$2:$R$196,3))","v":""},{"$f":"IF(IME18=\"\",\"\",VLOOKUP($Q$10,DATA!$P$2:$R$196,3))","v":""},{"$f":"IF(IMF18=\"\",\"\",VLOOKUP($Q$10,DATA!$P$2:$R$196,3))","v":""},{"$f":"IF(IMG18=\"\",\"\",VLOOKUP($Q$10,DATA!$P$2:$R$196,3))","v":""},{"$f":"IF(IMH18=\"\",\"\",VLOOKUP($Q$10,DATA!$P$2:$R$196,3))","v":""},{"$f":"IF(IMI18=\"\",\"\",VLOOKUP($Q$10,DATA!$P$2:$R$196,3))","v":""},{"$f":"IF(IMJ18=\"\",\"\",VLOOKUP($Q$10,DATA!$P$2:$R$196,3))","v":""},{"$f":"IF(IMK18=\"\",\"\",VLOOKUP($Q$10,DATA!$P$2:$R$196,3))","v":""},{"$f":"IF(IML18=\"\",\"\",VLOOKUP($Q$10,DATA!$P$2:$R$196,3))","v":""},{"$f":"IF(IMM18=\"\",\"\",VLOOKUP($Q$10,DATA!$P$2:$R$196,3))","v":""},{"$f":"IF(IMN18=\"\",\"\",VLOOKUP($Q$10,DATA!$P$2:$R$196,3))","v":""},{"$f":"IF(IMO18=\"\",\"\",VLOOKUP($Q$10,DATA!$P$2:$R$196,3))","v":""},{"$f":"IF(IMP18=\"\",\"\",VLOOKUP($Q$10,DATA!$P$2:$R$196,3))","v":""},{"$f":"IF(IMQ18=\"\",\"\",VLOOKUP($Q$10,DATA!$P$2:$R$196,3))","v":""},{"$f":"IF(IMR18=\"\",\"\",VLOOKUP($Q$10,DATA!$P$2:$R$196,3))","v":""},{"$f":"IF(IMS18=\"\",\"\",VLOOKUP($Q$10,DATA!$P$2:$R$196,3))","v":""},{"$f":"IF(IMT18=\"\",\"\",VLOOKUP($Q$10,DATA!$P$2:$R$196,3))","v":""},{"$f":"IF(IMU18=\"\",\"\",VLOOKUP($Q$10,DATA!$P$2:$R$196,3))","v":""},{"$f":"IF(IMV18=\"\",\"\",VLOOKUP($Q$10,DATA!$P$2:$R$196,3))","v":""},{"$f":"IF(IMW18=\"\",\"\",VLOOKUP($Q$10,DATA!$P$2:$R$196,3))","v":""},{"$f":"IF(IMX18=\"\",\"\",VLOOKUP($Q$10,DATA!$P$2:$R$196,3))","v":""},{"$f":"IF(IMY18=\"\",\"\",VLOOKUP($Q$10,DATA!$P$2:$R$196,3))","v":""},{"$f":"IF(IMZ18=\"\",\"\",VLOOKUP($Q$10,DATA!$P$2:$R$196,3))","v":""},{"$f":"IF(INA18=\"\",\"\",VLOOKUP($Q$10,DATA!$P$2:$R$196,3))","v":""},{"$f":"IF(INB18=\"\",\"\",VLOOKUP($Q$10,DATA!$P$2:$R$196,3))","v":""},{"$f":"IF(INC18=\"\",\"\",VLOOKUP($Q$10,DATA!$P$2:$R$196,3))","v":""},{"$f":"IF(IND18=\"\",\"\",VLOOKUP($Q$10,DATA!$P$2:$R$196,3))","v":""},{"$f":"IF(INE18=\"\",\"\",VLOOKUP($Q$10,DATA!$P$2:$R$196,3))","v":""},{"$f":"IF(INF18=\"\",\"\",VLOOKUP($Q$10,DATA!$P$2:$R$196,3))","v":""},{"$f":"IF(ING18=\"\",\"\",VLOOKUP($Q$10,DATA!$P$2:$R$196,3))","v":""},{"$f":"IF(INH18=\"\",\"\",VLOOKUP($Q$10,DATA!$P$2:$R$196,3))","v":""},{"$f":"IF(INI18=\"\",\"\",VLOOKUP($Q$10,DATA!$P$2:$R$196,3))","v":""},{"$f":"IF(INJ18=\"\",\"\",VLOOKUP($Q$10,DATA!$P$2:$R$196,3))","v":""},{"$f":"IF(INK18=\"\",\"\",VLOOKUP($Q$10,DATA!$P$2:$R$196,3))","v":""},{"$f":"IF(INL18=\"\",\"\",VLOOKUP($Q$10,DATA!$P$2:$R$196,3))","v":""},{"$f":"IF(INM18=\"\",\"\",VLOOKUP($Q$10,DATA!$P$2:$R$196,3))","v":""},{"$f":"IF(INN18=\"\",\"\",VLOOKUP($Q$10,DATA!$P$2:$R$196,3))","v":""},{"$f":"IF(INO18=\"\",\"\",VLOOKUP($Q$10,DATA!$P$2:$R$196,3))","v":""},{"$f":"IF(INP18=\"\",\"\",VLOOKUP($Q$10,DATA!$P$2:$R$196,3))","v":""},{"$f":"IF(INQ18=\"\",\"\",VLOOKUP($Q$10,DATA!$P$2:$R$196,3))","v":""},{"$f":"IF(INR18=\"\",\"\",VLOOKUP($Q$10,DATA!$P$2:$R$196,3))","v":""},{"$f":"IF(INS18=\"\",\"\",VLOOKUP($Q$10,DATA!$P$2:$R$196,3))","v":""},{"$f":"IF(INT18=\"\",\"\",VLOOKUP($Q$10,DATA!$P$2:$R$196,3))","v":""},{"$f":"IF(INU18=\"\",\"\",VLOOKUP($Q$10,DATA!$P$2:$R$196,3))","v":""},{"$f":"IF(INV18=\"\",\"\",VLOOKUP($Q$10,DATA!$P$2:$R$196,3))","v":""},{"$f":"IF(INW18=\"\",\"\",VLOOKUP($Q$10,DATA!$P$2:$R$196,3))","v":""},{"$f":"IF(INX18=\"\",\"\",VLOOKUP($Q$10,DATA!$P$2:$R$196,3))","v":""},{"$f":"IF(INY18=\"\",\"\",VLOOKUP($Q$10,DATA!$P$2:$R$196,3))","v":""},{"$f":"IF(INZ18=\"\",\"\",VLOOKUP($Q$10,DATA!$P$2:$R$196,3))","v":""},{"$f":"IF(IOA18=\"\",\"\",VLOOKUP($Q$10,DATA!$P$2:$R$196,3))","v":""},{"$f":"IF(IOB18=\"\",\"\",VLOOKUP($Q$10,DATA!$P$2:$R$196,3))","v":""},{"$f":"IF(IOC18=\"\",\"\",VLOOKUP($Q$10,DATA!$P$2:$R$196,3))","v":""},{"$f":"IF(IOD18=\"\",\"\",VLOOKUP($Q$10,DATA!$P$2:$R$196,3))","v":""},{"$f":"IF(IOE18=\"\",\"\",VLOOKUP($Q$10,DATA!$P$2:$R$196,3))","v":""},{"$f":"IF(IOF18=\"\",\"\",VLOOKUP($Q$10,DATA!$P$2:$R$196,3))","v":""},{"$f":"IF(IOG18=\"\",\"\",VLOOKUP($Q$10,DATA!$P$2:$R$196,3))","v":""},{"$f":"IF(IOH18=\"\",\"\",VLOOKUP($Q$10,DATA!$P$2:$R$196,3))","v":""},{"$f":"IF(IOI18=\"\",\"\",VLOOKUP($Q$10,DATA!$P$2:$R$196,3))","v":""},{"$f":"IF(IOJ18=\"\",\"\",VLOOKUP($Q$10,DATA!$P$2:$R$196,3))","v":""},{"$f":"IF(IOK18=\"\",\"\",VLOOKUP($Q$10,DATA!$P$2:$R$196,3))","v":""},{"$f":"IF(IOL18=\"\",\"\",VLOOKUP($Q$10,DATA!$P$2:$R$196,3))","v":""},{"$f":"IF(IOM18=\"\",\"\",VLOOKUP($Q$10,DATA!$P$2:$R$196,3))","v":""},{"$f":"IF(ION18=\"\",\"\",VLOOKUP($Q$10,DATA!$P$2:$R$196,3))","v":""},{"$f":"IF(IOO18=\"\",\"\",VLOOKUP($Q$10,DATA!$P$2:$R$196,3))","v":""},{"$f":"IF(IOP18=\"\",\"\",VLOOKUP($Q$10,DATA!$P$2:$R$196,3))","v":""},{"$f":"IF(IOQ18=\"\",\"\",VLOOKUP($Q$10,DATA!$P$2:$R$196,3))","v":""},{"$f":"IF(IOR18=\"\",\"\",VLOOKUP($Q$10,DATA!$P$2:$R$196,3))","v":""},{"$f":"IF(IOS18=\"\",\"\",VLOOKUP($Q$10,DATA!$P$2:$R$196,3))","v":""},{"$f":"IF(IOT18=\"\",\"\",VLOOKUP($Q$10,DATA!$P$2:$R$196,3))","v":""},{"$f":"IF(IOU18=\"\",\"\",VLOOKUP($Q$10,DATA!$P$2:$R$196,3))","v":""},{"$f":"IF(IOV18=\"\",\"\",VLOOKUP($Q$10,DATA!$P$2:$R$196,3))","v":""},{"$f":"IF(IOW18=\"\",\"\",VLOOKUP($Q$10,DATA!$P$2:$R$196,3))","v":""},{"$f":"IF(IOX18=\"\",\"\",VLOOKUP($Q$10,DATA!$P$2:$R$196,3))","v":""},{"$f":"IF(IOY18=\"\",\"\",VLOOKUP($Q$10,DATA!$P$2:$R$196,3))","v":""},{"$f":"IF(IOZ18=\"\",\"\",VLOOKUP($Q$10,DATA!$P$2:$R$196,3))","v":""},{"$f":"IF(IPA18=\"\",\"\",VLOOKUP($Q$10,DATA!$P$2:$R$196,3))","v":""},{"$f":"IF(IPB18=\"\",\"\",VLOOKUP($Q$10,DATA!$P$2:$R$196,3))","v":""},{"$f":"IF(IPC18=\"\",\"\",VLOOKUP($Q$10,DATA!$P$2:$R$196,3))","v":""},{"$f":"IF(IPD18=\"\",\"\",VLOOKUP($Q$10,DATA!$P$2:$R$196,3))","v":""},{"$f":"IF(IPE18=\"\",\"\",VLOOKUP($Q$10,DATA!$P$2:$R$196,3))","v":""},{"$f":"IF(IPF18=\"\",\"\",VLOOKUP($Q$10,DATA!$P$2:$R$196,3))","v":""},{"$f":"IF(IPG18=\"\",\"\",VLOOKUP($Q$10,DATA!$P$2:$R$196,3))","v":""},{"$f":"IF(IPH18=\"\",\"\",VLOOKUP($Q$10,DATA!$P$2:$R$196,3))","v":""},{"$f":"IF(IPI18=\"\",\"\",VLOOKUP($Q$10,DATA!$P$2:$R$196,3))","v":""},{"$f":"IF(IPJ18=\"\",\"\",VLOOKUP($Q$10,DATA!$P$2:$R$196,3))","v":""},{"$f":"IF(IPK18=\"\",\"\",VLOOKUP($Q$10,DATA!$P$2:$R$196,3))","v":""},{"$f":"IF(IPL18=\"\",\"\",VLOOKUP($Q$10,DATA!$P$2:$R$196,3))","v":""},{"$f":"IF(IPM18=\"\",\"\",VLOOKUP($Q$10,DATA!$P$2:$R$196,3))","v":""},{"$f":"IF(IPN18=\"\",\"\",VLOOKUP($Q$10,DATA!$P$2:$R$196,3))","v":""},{"$f":"IF(IPO18=\"\",\"\",VLOOKUP($Q$10,DATA!$P$2:$R$196,3))","v":""},{"$f":"IF(IPP18=\"\",\"\",VLOOKUP($Q$10,DATA!$P$2:$R$196,3))","v":""},{"$f":"IF(IPQ18=\"\",\"\",VLOOKUP($Q$10,DATA!$P$2:$R$196,3))","v":""},{"$f":"IF(IPR18=\"\",\"\",VLOOKUP($Q$10,DATA!$P$2:$R$196,3))","v":""},{"$f":"IF(IPS18=\"\",\"\",VLOOKUP($Q$10,DATA!$P$2:$R$196,3))","v":""},{"$f":"IF(IPT18=\"\",\"\",VLOOKUP($Q$10,DATA!$P$2:$R$196,3))","v":""},{"$f":"IF(IPU18=\"\",\"\",VLOOKUP($Q$10,DATA!$P$2:$R$196,3))","v":""},{"$f":"IF(IPV18=\"\",\"\",VLOOKUP($Q$10,DATA!$P$2:$R$196,3))","v":""},{"$f":"IF(IPW18=\"\",\"\",VLOOKUP($Q$10,DATA!$P$2:$R$196,3))","v":""},{"$f":"IF(IPX18=\"\",\"\",VLOOKUP($Q$10,DATA!$P$2:$R$196,3))","v":""},{"$f":"IF(IPY18=\"\",\"\",VLOOKUP($Q$10,DATA!$P$2:$R$196,3))","v":""},{"$f":"IF(IPZ18=\"\",\"\",VLOOKUP($Q$10,DATA!$P$2:$R$196,3))","v":""},{"$f":"IF(IQA18=\"\",\"\",VLOOKUP($Q$10,DATA!$P$2:$R$196,3))","v":""},{"$f":"IF(IQB18=\"\",\"\",VLOOKUP($Q$10,DATA!$P$2:$R$196,3))","v":""},{"$f":"IF(IQC18=\"\",\"\",VLOOKUP($Q$10,DATA!$P$2:$R$196,3))","v":""},{"$f":"IF(IQD18=\"\",\"\",VLOOKUP($Q$10,DATA!$P$2:$R$196,3))","v":""},{"$f":"IF(IQE18=\"\",\"\",VLOOKUP($Q$10,DATA!$P$2:$R$196,3))","v":""},{"$f":"IF(IQF18=\"\",\"\",VLOOKUP($Q$10,DATA!$P$2:$R$196,3))","v":""},{"$f":"IF(IQG18=\"\",\"\",VLOOKUP($Q$10,DATA!$P$2:$R$196,3))","v":""},{"$f":"IF(IQH18=\"\",\"\",VLOOKUP($Q$10,DATA!$P$2:$R$196,3))","v":""},{"$f":"IF(IQI18=\"\",\"\",VLOOKUP($Q$10,DATA!$P$2:$R$196,3))","v":""},{"$f":"IF(IQJ18=\"\",\"\",VLOOKUP($Q$10,DATA!$P$2:$R$196,3))","v":""},{"$f":"IF(IQK18=\"\",\"\",VLOOKUP($Q$10,DATA!$P$2:$R$196,3))","v":""},{"$f":"IF(IQL18=\"\",\"\",VLOOKUP($Q$10,DATA!$P$2:$R$196,3))","v":""},{"$f":"IF(IQM18=\"\",\"\",VLOOKUP($Q$10,DATA!$P$2:$R$196,3))","v":""},{"$f":"IF(IQN18=\"\",\"\",VLOOKUP($Q$10,DATA!$P$2:$R$196,3))","v":""},{"$f":"IF(IQO18=\"\",\"\",VLOOKUP($Q$10,DATA!$P$2:$R$196,3))","v":""},{"$f":"IF(IQP18=\"\",\"\",VLOOKUP($Q$10,DATA!$P$2:$R$196,3))","v":""},{"$f":"IF(IQQ18=\"\",\"\",VLOOKUP($Q$10,DATA!$P$2:$R$196,3))","v":""},{"$f":"IF(IQR18=\"\",\"\",VLOOKUP($Q$10,DATA!$P$2:$R$196,3))","v":""},{"$f":"IF(IQS18=\"\",\"\",VLOOKUP($Q$10,DATA!$P$2:$R$196,3))","v":""},{"$f":"IF(IQT18=\"\",\"\",VLOOKUP($Q$10,DATA!$P$2:$R$196,3))","v":""},{"$f":"IF(IQU18=\"\",\"\",VLOOKUP($Q$10,DATA!$P$2:$R$196,3))","v":""},{"$f":"IF(IQV18=\"\",\"\",VLOOKUP($Q$10,DATA!$P$2:$R$196,3))","v":""},{"$f":"IF(IQW18=\"\",\"\",VLOOKUP($Q$10,DATA!$P$2:$R$196,3))","v":""},{"$f":"IF(IQX18=\"\",\"\",VLOOKUP($Q$10,DATA!$P$2:$R$196,3))","v":""},{"$f":"IF(IQY18=\"\",\"\",VLOOKUP($Q$10,DATA!$P$2:$R$196,3))","v":""},{"$f":"IF(IQZ18=\"\",\"\",VLOOKUP($Q$10,DATA!$P$2:$R$196,3))","v":""},{"$f":"IF(IRA18=\"\",\"\",VLOOKUP($Q$10,DATA!$P$2:$R$196,3))","v":""},{"$f":"IF(IRB18=\"\",\"\",VLOOKUP($Q$10,DATA!$P$2:$R$196,3))","v":""},{"$f":"IF(IRC18=\"\",\"\",VLOOKUP($Q$10,DATA!$P$2:$R$196,3))","v":""},{"$f":"IF(IRD18=\"\",\"\",VLOOKUP($Q$10,DATA!$P$2:$R$196,3))","v":""},{"$f":"IF(IRE18=\"\",\"\",VLOOKUP($Q$10,DATA!$P$2:$R$196,3))","v":""},{"$f":"IF(IRF18=\"\",\"\",VLOOKUP($Q$10,DATA!$P$2:$R$196,3))","v":""},{"$f":"IF(IRG18=\"\",\"\",VLOOKUP($Q$10,DATA!$P$2:$R$196,3))","v":""},{"$f":"IF(IRH18=\"\",\"\",VLOOKUP($Q$10,DATA!$P$2:$R$196,3))","v":""},{"$f":"IF(IRI18=\"\",\"\",VLOOKUP($Q$10,DATA!$P$2:$R$196,3))","v":""},{"$f":"IF(IRJ18=\"\",\"\",VLOOKUP($Q$10,DATA!$P$2:$R$196,3))","v":""},{"$f":"IF(IRK18=\"\",\"\",VLOOKUP($Q$10,DATA!$P$2:$R$196,3))","v":""},{"$f":"IF(IRL18=\"\",\"\",VLOOKUP($Q$10,DATA!$P$2:$R$196,3))","v":""},{"$f":"IF(IRM18=\"\",\"\",VLOOKUP($Q$10,DATA!$P$2:$R$196,3))","v":""},{"$f":"IF(IRN18=\"\",\"\",VLOOKUP($Q$10,DATA!$P$2:$R$196,3))","v":""},{"$f":"IF(IRO18=\"\",\"\",VLOOKUP($Q$10,DATA!$P$2:$R$196,3))","v":""},{"$f":"IF(IRP18=\"\",\"\",VLOOKUP($Q$10,DATA!$P$2:$R$196,3))","v":""},{"$f":"IF(IRQ18=\"\",\"\",VLOOKUP($Q$10,DATA!$P$2:$R$196,3))","v":""},{"$f":"IF(IRR18=\"\",\"\",VLOOKUP($Q$10,DATA!$P$2:$R$196,3))","v":""},{"$f":"IF(IRS18=\"\",\"\",VLOOKUP($Q$10,DATA!$P$2:$R$196,3))","v":""},{"$f":"IF(IRT18=\"\",\"\",VLOOKUP($Q$10,DATA!$P$2:$R$196,3))","v":""},{"$f":"IF(IRU18=\"\",\"\",VLOOKUP($Q$10,DATA!$P$2:$R$196,3))","v":""},{"$f":"IF(IRV18=\"\",\"\",VLOOKUP($Q$10,DATA!$P$2:$R$196,3))","v":""},{"$f":"IF(IRW18=\"\",\"\",VLOOKUP($Q$10,DATA!$P$2:$R$196,3))","v":""},{"$f":"IF(IRX18=\"\",\"\",VLOOKUP($Q$10,DATA!$P$2:$R$196,3))","v":""},{"$f":"IF(IRY18=\"\",\"\",VLOOKUP($Q$10,DATA!$P$2:$R$196,3))","v":""},{"$f":"IF(IRZ18=\"\",\"\",VLOOKUP($Q$10,DATA!$P$2:$R$196,3))","v":""},{"$f":"IF(ISA18=\"\",\"\",VLOOKUP($Q$10,DATA!$P$2:$R$196,3))","v":""},{"$f":"IF(ISB18=\"\",\"\",VLOOKUP($Q$10,DATA!$P$2:$R$196,3))","v":""},{"$f":"IF(ISC18=\"\",\"\",VLOOKUP($Q$10,DATA!$P$2:$R$196,3))","v":""},{"$f":"IF(ISD18=\"\",\"\",VLOOKUP($Q$10,DATA!$P$2:$R$196,3))","v":""},{"$f":"IF(ISE18=\"\",\"\",VLOOKUP($Q$10,DATA!$P$2:$R$196,3))","v":""},{"$f":"IF(ISF18=\"\",\"\",VLOOKUP($Q$10,DATA!$P$2:$R$196,3))","v":""},{"$f":"IF(ISG18=\"\",\"\",VLOOKUP($Q$10,DATA!$P$2:$R$196,3))","v":""},{"$f":"IF(ISH18=\"\",\"\",VLOOKUP($Q$10,DATA!$P$2:$R$196,3))","v":""},{"$f":"IF(ISI18=\"\",\"\",VLOOKUP($Q$10,DATA!$P$2:$R$196,3))","v":""},{"$f":"IF(ISJ18=\"\",\"\",VLOOKUP($Q$10,DATA!$P$2:$R$196,3))","v":""},{"$f":"IF(ISK18=\"\",\"\",VLOOKUP($Q$10,DATA!$P$2:$R$196,3))","v":""},{"$f":"IF(ISL18=\"\",\"\",VLOOKUP($Q$10,DATA!$P$2:$R$196,3))","v":""},{"$f":"IF(ISM18=\"\",\"\",VLOOKUP($Q$10,DATA!$P$2:$R$196,3))","v":""},{"$f":"IF(ISN18=\"\",\"\",VLOOKUP($Q$10,DATA!$P$2:$R$196,3))","v":""},{"$f":"IF(ISO18=\"\",\"\",VLOOKUP($Q$10,DATA!$P$2:$R$196,3))","v":""},{"$f":"IF(ISP18=\"\",\"\",VLOOKUP($Q$10,DATA!$P$2:$R$196,3))","v":""},{"$f":"IF(ISQ18=\"\",\"\",VLOOKUP($Q$10,DATA!$P$2:$R$196,3))","v":""},{"$f":"IF(ISR18=\"\",\"\",VLOOKUP($Q$10,DATA!$P$2:$R$196,3))","v":""},{"$f":"IF(ISS18=\"\",\"\",VLOOKUP($Q$10,DATA!$P$2:$R$196,3))","v":""},{"$f":"IF(IST18=\"\",\"\",VLOOKUP($Q$10,DATA!$P$2:$R$196,3))","v":""},{"$f":"IF(ISU18=\"\",\"\",VLOOKUP($Q$10,DATA!$P$2:$R$196,3))","v":""},{"$f":"IF(ISV18=\"\",\"\",VLOOKUP($Q$10,DATA!$P$2:$R$196,3))","v":""},{"$f":"IF(ISW18=\"\",\"\",VLOOKUP($Q$10,DATA!$P$2:$R$196,3))","v":""},{"$f":"IF(ISX18=\"\",\"\",VLOOKUP($Q$10,DATA!$P$2:$R$196,3))","v":""},{"$f":"IF(ISY18=\"\",\"\",VLOOKUP($Q$10,DATA!$P$2:$R$196,3))","v":""},{"$f":"IF(ISZ18=\"\",\"\",VLOOKUP($Q$10,DATA!$P$2:$R$196,3))","v":""},{"$f":"IF(ITA18=\"\",\"\",VLOOKUP($Q$10,DATA!$P$2:$R$196,3))","v":""},{"$f":"IF(ITB18=\"\",\"\",VLOOKUP($Q$10,DATA!$P$2:$R$196,3))","v":""},{"$f":"IF(ITC18=\"\",\"\",VLOOKUP($Q$10,DATA!$P$2:$R$196,3))","v":""},{"$f":"IF(ITD18=\"\",\"\",VLOOKUP($Q$10,DATA!$P$2:$R$196,3))","v":""},{"$f":"IF(ITE18=\"\",\"\",VLOOKUP($Q$10,DATA!$P$2:$R$196,3))","v":""},{"$f":"IF(ITF18=\"\",\"\",VLOOKUP($Q$10,DATA!$P$2:$R$196,3))","v":""},{"$f":"IF(ITG18=\"\",\"\",VLOOKUP($Q$10,DATA!$P$2:$R$196,3))","v":""},{"$f":"IF(ITH18=\"\",\"\",VLOOKUP($Q$10,DATA!$P$2:$R$196,3))","v":""},{"$f":"IF(ITI18=\"\",\"\",VLOOKUP($Q$10,DATA!$P$2:$R$196,3))","v":""},{"$f":"IF(ITJ18=\"\",\"\",VLOOKUP($Q$10,DATA!$P$2:$R$196,3))","v":""},{"$f":"IF(ITK18=\"\",\"\",VLOOKUP($Q$10,DATA!$P$2:$R$196,3))","v":""},{"$f":"IF(ITL18=\"\",\"\",VLOOKUP($Q$10,DATA!$P$2:$R$196,3))","v":""},{"$f":"IF(ITM18=\"\",\"\",VLOOKUP($Q$10,DATA!$P$2:$R$196,3))","v":""},{"$f":"IF(ITN18=\"\",\"\",VLOOKUP($Q$10,DATA!$P$2:$R$196,3))","v":""},{"$f":"IF(ITO18=\"\",\"\",VLOOKUP($Q$10,DATA!$P$2:$R$196,3))","v":""},{"$f":"IF(ITP18=\"\",\"\",VLOOKUP($Q$10,DATA!$P$2:$R$196,3))","v":""},{"$f":"IF(ITQ18=\"\",\"\",VLOOKUP($Q$10,DATA!$P$2:$R$196,3))","v":""},{"$f":"IF(ITR18=\"\",\"\",VLOOKUP($Q$10,DATA!$P$2:$R$196,3))","v":""},{"$f":"IF(ITS18=\"\",\"\",VLOOKUP($Q$10,DATA!$P$2:$R$196,3))","v":""},{"$f":"IF(ITT18=\"\",\"\",VLOOKUP($Q$10,DATA!$P$2:$R$196,3))","v":""},{"$f":"IF(ITU18=\"\",\"\",VLOOKUP($Q$10,DATA!$P$2:$R$196,3))","v":""},{"$f":"IF(ITV18=\"\",\"\",VLOOKUP($Q$10,DATA!$P$2:$R$196,3))","v":""},{"$f":"IF(ITW18=\"\",\"\",VLOOKUP($Q$10,DATA!$P$2:$R$196,3))","v":""},{"$f":"IF(ITX18=\"\",\"\",VLOOKUP($Q$10,DATA!$P$2:$R$196,3))","v":""},{"$f":"IF(ITY18=\"\",\"\",VLOOKUP($Q$10,DATA!$P$2:$R$196,3))","v":""},{"$f":"IF(ITZ18=\"\",\"\",VLOOKUP($Q$10,DATA!$P$2:$R$196,3))","v":""},{"$f":"IF(IUA18=\"\",\"\",VLOOKUP($Q$10,DATA!$P$2:$R$196,3))","v":""},{"$f":"IF(IUB18=\"\",\"\",VLOOKUP($Q$10,DATA!$P$2:$R$196,3))","v":""},{"$f":"IF(IUC18=\"\",\"\",VLOOKUP($Q$10,DATA!$P$2:$R$196,3))","v":""},{"$f":"IF(IUD18=\"\",\"\",VLOOKUP($Q$10,DATA!$P$2:$R$196,3))","v":""},{"$f":"IF(IUE18=\"\",\"\",VLOOKUP($Q$10,DATA!$P$2:$R$196,3))","v":""},{"$f":"IF(IUF18=\"\",\"\",VLOOKUP($Q$10,DATA!$P$2:$R$196,3))","v":""},{"$f":"IF(IUG18=\"\",\"\",VLOOKUP($Q$10,DATA!$P$2:$R$196,3))","v":""},{"$f":"IF(IUH18=\"\",\"\",VLOOKUP($Q$10,DATA!$P$2:$R$196,3))","v":""},{"$f":"IF(IUI18=\"\",\"\",VLOOKUP($Q$10,DATA!$P$2:$R$196,3))","v":""},{"$f":"IF(IUJ18=\"\",\"\",VLOOKUP($Q$10,DATA!$P$2:$R$196,3))","v":""},{"$f":"IF(IUK18=\"\",\"\",VLOOKUP($Q$10,DATA!$P$2:$R$196,3))","v":""},{"$f":"IF(IUL18=\"\",\"\",VLOOKUP($Q$10,DATA!$P$2:$R$196,3))","v":""},{"$f":"IF(IUM18=\"\",\"\",VLOOKUP($Q$10,DATA!$P$2:$R$196,3))","v":""},{"$f":"IF(IUN18=\"\",\"\",VLOOKUP($Q$10,DATA!$P$2:$R$196,3))","v":""},{"$f":"IF(IUO18=\"\",\"\",VLOOKUP($Q$10,DATA!$P$2:$R$196,3))","v":""},{"$f":"IF(IUP18=\"\",\"\",VLOOKUP($Q$10,DATA!$P$2:$R$196,3))","v":""},{"$f":"IF(IUQ18=\"\",\"\",VLOOKUP($Q$10,DATA!$P$2:$R$196,3))","v":""},{"$f":"IF(IUR18=\"\",\"\",VLOOKUP($Q$10,DATA!$P$2:$R$196,3))","v":""},{"$f":"IF(IUS18=\"\",\"\",VLOOKUP($Q$10,DATA!$P$2:$R$196,3))","v":""},{"$f":"IF(IUT18=\"\",\"\",VLOOKUP($Q$10,DATA!$P$2:$R$196,3))","v":""},{"$f":"IF(IUU18=\"\",\"\",VLOOKUP($Q$10,DATA!$P$2:$R$196,3))","v":""},{"$f":"IF(IUV18=\"\",\"\",VLOOKUP($Q$10,DATA!$P$2:$R$196,3))","v":""},{"$f":"IF(IUW18=\"\",\"\",VLOOKUP($Q$10,DATA!$P$2:$R$196,3))","v":""},{"$f":"IF(IUX18=\"\",\"\",VLOOKUP($Q$10,DATA!$P$2:$R$196,3))","v":""},{"$f":"IF(IUY18=\"\",\"\",VLOOKUP($Q$10,DATA!$P$2:$R$196,3))","v":""},{"$f":"IF(IUZ18=\"\",\"\",VLOOKUP($Q$10,DATA!$P$2:$R$196,3))","v":""},{"$f":"IF(IVA18=\"\",\"\",VLOOKUP($Q$10,DATA!$P$2:$R$196,3))","v":""},{"$f":"IF(IVB18=\"\",\"\",VLOOKUP($Q$10,DATA!$P$2:$R$196,3))","v":""},{"$f":"IF(IVC18=\"\",\"\",VLOOKUP($Q$10,DATA!$P$2:$R$196,3))","v":""},{"$f":"IF(IVD18=\"\",\"\",VLOOKUP($Q$10,DATA!$P$2:$R$196,3))","v":""},{"$f":"IF(IVE18=\"\",\"\",VLOOKUP($Q$10,DATA!$P$2:$R$196,3))","v":""},{"$f":"IF(IVF18=\"\",\"\",VLOOKUP($Q$10,DATA!$P$2:$R$196,3))","v":""},{"$f":"IF(IVG18=\"\",\"\",VLOOKUP($Q$10,DATA!$P$2:$R$196,3))","v":""},{"$f":"IF(IVH18=\"\",\"\",VLOOKUP($Q$10,DATA!$P$2:$R$196,3))","v":""},{"$f":"IF(IVI18=\"\",\"\",VLOOKUP($Q$10,DATA!$P$2:$R$196,3))","v":""},{"$f":"IF(IVJ18=\"\",\"\",VLOOKUP($Q$10,DATA!$P$2:$R$196,3))","v":""},{"$f":"IF(IVK18=\"\",\"\",VLOOKUP($Q$10,DATA!$P$2:$R$196,3))","v":""},{"$f":"IF(IVL18=\"\",\"\",VLOOKUP($Q$10,DATA!$P$2:$R$196,3))","v":""},{"$f":"IF(IVM18=\"\",\"\",VLOOKUP($Q$10,DATA!$P$2:$R$196,3))","v":""},{"$f":"IF(IVN18=\"\",\"\",VLOOKUP($Q$10,DATA!$P$2:$R$196,3))","v":""},{"$f":"IF(IVO18=\"\",\"\",VLOOKUP($Q$10,DATA!$P$2:$R$196,3))","v":""},{"$f":"IF(IVP18=\"\",\"\",VLOOKUP($Q$10,DATA!$P$2:$R$196,3))","v":""},{"$f":"IF(IVQ18=\"\",\"\",VLOOKUP($Q$10,DATA!$P$2:$R$196,3))","v":""},{"$f":"IF(IVR18=\"\",\"\",VLOOKUP($Q$10,DATA!$P$2:$R$196,3))","v":""},{"$f":"IF(IVS18=\"\",\"\",VLOOKUP($Q$10,DATA!$P$2:$R$196,3))","v":""},{"$f":"IF(IVT18=\"\",\"\",VLOOKUP($Q$10,DATA!$P$2:$R$196,3))","v":""},{"$f":"IF(IVU18=\"\",\"\",VLOOKUP($Q$10,DATA!$P$2:$R$196,3))","v":""},{"$f":"IF(IVV18=\"\",\"\",VLOOKUP($Q$10,DATA!$P$2:$R$196,3))","v":""},{"$f":"IF(IVW18=\"\",\"\",VLOOKUP($Q$10,DATA!$P$2:$R$196,3))","v":""},{"$f":"IF(IVX18=\"\",\"\",VLOOKUP($Q$10,DATA!$P$2:$R$196,3))","v":""},{"$f":"IF(IVY18=\"\",\"\",VLOOKUP($Q$10,DATA!$P$2:$R$196,3))","v":""},{"$f":"IF(IVZ18=\"\",\"\",VLOOKUP($Q$10,DATA!$P$2:$R$196,3))","v":""},{"$f":"IF(IWA18=\"\",\"\",VLOOKUP($Q$10,DATA!$P$2:$R$196,3))","v":""},{"$f":"IF(IWB18=\"\",\"\",VLOOKUP($Q$10,DATA!$P$2:$R$196,3))","v":""},{"$f":"IF(IWC18=\"\",\"\",VLOOKUP($Q$10,DATA!$P$2:$R$196,3))","v":""},{"$f":"IF(IWD18=\"\",\"\",VLOOKUP($Q$10,DATA!$P$2:$R$196,3))","v":""},{"$f":"IF(IWE18=\"\",\"\",VLOOKUP($Q$10,DATA!$P$2:$R$196,3))","v":""},{"$f":"IF(IWF18=\"\",\"\",VLOOKUP($Q$10,DATA!$P$2:$R$196,3))","v":""},{"$f":"IF(IWG18=\"\",\"\",VLOOKUP($Q$10,DATA!$P$2:$R$196,3))","v":""},{"$f":"IF(IWH18=\"\",\"\",VLOOKUP($Q$10,DATA!$P$2:$R$196,3))","v":""},{"$f":"IF(IWI18=\"\",\"\",VLOOKUP($Q$10,DATA!$P$2:$R$196,3))","v":""},{"$f":"IF(IWJ18=\"\",\"\",VLOOKUP($Q$10,DATA!$P$2:$R$196,3))","v":""},{"$f":"IF(IWK18=\"\",\"\",VLOOKUP($Q$10,DATA!$P$2:$R$196,3))","v":""},{"$f":"IF(IWL18=\"\",\"\",VLOOKUP($Q$10,DATA!$P$2:$R$196,3))","v":""},{"$f":"IF(IWM18=\"\",\"\",VLOOKUP($Q$10,DATA!$P$2:$R$196,3))","v":""},{"$f":"IF(IWN18=\"\",\"\",VLOOKUP($Q$10,DATA!$P$2:$R$196,3))","v":""},{"$f":"IF(IWO18=\"\",\"\",VLOOKUP($Q$10,DATA!$P$2:$R$196,3))","v":""},{"$f":"IF(IWP18=\"\",\"\",VLOOKUP($Q$10,DATA!$P$2:$R$196,3))","v":""},{"$f":"IF(IWQ18=\"\",\"\",VLOOKUP($Q$10,DATA!$P$2:$R$196,3))","v":""},{"$f":"IF(IWR18=\"\",\"\",VLOOKUP($Q$10,DATA!$P$2:$R$196,3))","v":""},{"$f":"IF(IWS18=\"\",\"\",VLOOKUP($Q$10,DATA!$P$2:$R$196,3))","v":""},{"$f":"IF(IWT18=\"\",\"\",VLOOKUP($Q$10,DATA!$P$2:$R$196,3))","v":""},{"$f":"IF(IWU18=\"\",\"\",VLOOKUP($Q$10,DATA!$P$2:$R$196,3))","v":""},{"$f":"IF(IWV18=\"\",\"\",VLOOKUP($Q$10,DATA!$P$2:$R$196,3))","v":""},{"$f":"IF(IWW18=\"\",\"\",VLOOKUP($Q$10,DATA!$P$2:$R$196,3))","v":""},{"$f":"IF(IWX18=\"\",\"\",VLOOKUP($Q$10,DATA!$P$2:$R$196,3))","v":""},{"$f":"IF(IWY18=\"\",\"\",VLOOKUP($Q$10,DATA!$P$2:$R$196,3))","v":""},{"$f":"IF(IWZ18=\"\",\"\",VLOOKUP($Q$10,DATA!$P$2:$R$196,3))","v":""},{"$f":"IF(IXA18=\"\",\"\",VLOOKUP($Q$10,DATA!$P$2:$R$196,3))","v":""},{"$f":"IF(IXB18=\"\",\"\",VLOOKUP($Q$10,DATA!$P$2:$R$196,3))","v":""},{"$f":"IF(IXC18=\"\",\"\",VLOOKUP($Q$10,DATA!$P$2:$R$196,3))","v":""},{"$f":"IF(IXD18=\"\",\"\",VLOOKUP($Q$10,DATA!$P$2:$R$196,3))","v":""},{"$f":"IF(IXE18=\"\",\"\",VLOOKUP($Q$10,DATA!$P$2:$R$196,3))","v":""},{"$f":"IF(IXF18=\"\",\"\",VLOOKUP($Q$10,DATA!$P$2:$R$196,3))","v":""},{"$f":"IF(IXG18=\"\",\"\",VLOOKUP($Q$10,DATA!$P$2:$R$196,3))","v":""},{"$f":"IF(IXH18=\"\",\"\",VLOOKUP($Q$10,DATA!$P$2:$R$196,3))","v":""},{"$f":"IF(IXI18=\"\",\"\",VLOOKUP($Q$10,DATA!$P$2:$R$196,3))","v":""},{"$f":"IF(IXJ18=\"\",\"\",VLOOKUP($Q$10,DATA!$P$2:$R$196,3))","v":""},{"$f":"IF(IXK18=\"\",\"\",VLOOKUP($Q$10,DATA!$P$2:$R$196,3))","v":""},{"$f":"IF(IXL18=\"\",\"\",VLOOKUP($Q$10,DATA!$P$2:$R$196,3))","v":""},{"$f":"IF(IXM18=\"\",\"\",VLOOKUP($Q$10,DATA!$P$2:$R$196,3))","v":""},{"$f":"IF(IXN18=\"\",\"\",VLOOKUP($Q$10,DATA!$P$2:$R$196,3))","v":""},{"$f":"IF(IXO18=\"\",\"\",VLOOKUP($Q$10,DATA!$P$2:$R$196,3))","v":""},{"$f":"IF(IXP18=\"\",\"\",VLOOKUP($Q$10,DATA!$P$2:$R$196,3))","v":""},{"$f":"IF(IXQ18=\"\",\"\",VLOOKUP($Q$10,DATA!$P$2:$R$196,3))","v":""},{"$f":"IF(IXR18=\"\",\"\",VLOOKUP($Q$10,DATA!$P$2:$R$196,3))","v":""},{"$f":"IF(IXS18=\"\",\"\",VLOOKUP($Q$10,DATA!$P$2:$R$196,3))","v":""},{"$f":"IF(IXT18=\"\",\"\",VLOOKUP($Q$10,DATA!$P$2:$R$196,3))","v":""},{"$f":"IF(IXU18=\"\",\"\",VLOOKUP($Q$10,DATA!$P$2:$R$196,3))","v":""},{"$f":"IF(IXV18=\"\",\"\",VLOOKUP($Q$10,DATA!$P$2:$R$196,3))","v":""},{"$f":"IF(IXW18=\"\",\"\",VLOOKUP($Q$10,DATA!$P$2:$R$196,3))","v":""},{"$f":"IF(IXX18=\"\",\"\",VLOOKUP($Q$10,DATA!$P$2:$R$196,3))","v":""},{"$f":"IF(IXY18=\"\",\"\",VLOOKUP($Q$10,DATA!$P$2:$R$196,3))","v":""},{"$f":"IF(IXZ18=\"\",\"\",VLOOKUP($Q$10,DATA!$P$2:$R$196,3))","v":""},{"$f":"IF(IYA18=\"\",\"\",VLOOKUP($Q$10,DATA!$P$2:$R$196,3))","v":""},{"$f":"IF(IYB18=\"\",\"\",VLOOKUP($Q$10,DATA!$P$2:$R$196,3))","v":""},{"$f":"IF(IYC18=\"\",\"\",VLOOKUP($Q$10,DATA!$P$2:$R$196,3))","v":""},{"$f":"IF(IYD18=\"\",\"\",VLOOKUP($Q$10,DATA!$P$2:$R$196,3))","v":""},{"$f":"IF(IYE18=\"\",\"\",VLOOKUP($Q$10,DATA!$P$2:$R$196,3))","v":""},{"$f":"IF(IYF18=\"\",\"\",VLOOKUP($Q$10,DATA!$P$2:$R$196,3))","v":""},{"$f":"IF(IYG18=\"\",\"\",VLOOKUP($Q$10,DATA!$P$2:$R$196,3))","v":""},{"$f":"IF(IYH18=\"\",\"\",VLOOKUP($Q$10,DATA!$P$2:$R$196,3))","v":""},{"$f":"IF(IYI18=\"\",\"\",VLOOKUP($Q$10,DATA!$P$2:$R$196,3))","v":""},{"$f":"IF(IYJ18=\"\",\"\",VLOOKUP($Q$10,DATA!$P$2:$R$196,3))","v":""},{"$f":"IF(IYK18=\"\",\"\",VLOOKUP($Q$10,DATA!$P$2:$R$196,3))","v":""},{"$f":"IF(IYL18=\"\",\"\",VLOOKUP($Q$10,DATA!$P$2:$R$196,3))","v":""},{"$f":"IF(IYM18=\"\",\"\",VLOOKUP($Q$10,DATA!$P$2:$R$196,3))","v":""},{"$f":"IF(IYN18=\"\",\"\",VLOOKUP($Q$10,DATA!$P$2:$R$196,3))","v":""},{"$f":"IF(IYO18=\"\",\"\",VLOOKUP($Q$10,DATA!$P$2:$R$196,3))","v":""},{"$f":"IF(IYP18=\"\",\"\",VLOOKUP($Q$10,DATA!$P$2:$R$196,3))","v":""},{"$f":"IF(IYQ18=\"\",\"\",VLOOKUP($Q$10,DATA!$P$2:$R$196,3))","v":""},{"$f":"IF(IYR18=\"\",\"\",VLOOKUP($Q$10,DATA!$P$2:$R$196,3))","v":""},{"$f":"IF(IYS18=\"\",\"\",VLOOKUP($Q$10,DATA!$P$2:$R$196,3))","v":""},{"$f":"IF(IYT18=\"\",\"\",VLOOKUP($Q$10,DATA!$P$2:$R$196,3))","v":""},{"$f":"IF(IYU18=\"\",\"\",VLOOKUP($Q$10,DATA!$P$2:$R$196,3))","v":""},{"$f":"IF(IYV18=\"\",\"\",VLOOKUP($Q$10,DATA!$P$2:$R$196,3))","v":""},{"$f":"IF(IYW18=\"\",\"\",VLOOKUP($Q$10,DATA!$P$2:$R$196,3))","v":""},{"$f":"IF(IYX18=\"\",\"\",VLOOKUP($Q$10,DATA!$P$2:$R$196,3))","v":""},{"$f":"IF(IYY18=\"\",\"\",VLOOKUP($Q$10,DATA!$P$2:$R$196,3))","v":""},{"$f":"IF(IYZ18=\"\",\"\",VLOOKUP($Q$10,DATA!$P$2:$R$196,3))","v":""},{"$f":"IF(IZA18=\"\",\"\",VLOOKUP($Q$10,DATA!$P$2:$R$196,3))","v":""},{"$f":"IF(IZB18=\"\",\"\",VLOOKUP($Q$10,DATA!$P$2:$R$196,3))","v":""},{"$f":"IF(IZC18=\"\",\"\",VLOOKUP($Q$10,DATA!$P$2:$R$196,3))","v":""},{"$f":"IF(IZD18=\"\",\"\",VLOOKUP($Q$10,DATA!$P$2:$R$196,3))","v":""},{"$f":"IF(IZE18=\"\",\"\",VLOOKUP($Q$10,DATA!$P$2:$R$196,3))","v":""},{"$f":"IF(IZF18=\"\",\"\",VLOOKUP($Q$10,DATA!$P$2:$R$196,3))","v":""},{"$f":"IF(IZG18=\"\",\"\",VLOOKUP($Q$10,DATA!$P$2:$R$196,3))","v":""},{"$f":"IF(IZH18=\"\",\"\",VLOOKUP($Q$10,DATA!$P$2:$R$196,3))","v":""},{"$f":"IF(IZI18=\"\",\"\",VLOOKUP($Q$10,DATA!$P$2:$R$196,3))","v":""},{"$f":"IF(IZJ18=\"\",\"\",VLOOKUP($Q$10,DATA!$P$2:$R$196,3))","v":""},{"$f":"IF(IZK18=\"\",\"\",VLOOKUP($Q$10,DATA!$P$2:$R$196,3))","v":""},{"$f":"IF(IZL18=\"\",\"\",VLOOKUP($Q$10,DATA!$P$2:$R$196,3))","v":""},{"$f":"IF(IZM18=\"\",\"\",VLOOKUP($Q$10,DATA!$P$2:$R$196,3))","v":""},{"$f":"IF(IZN18=\"\",\"\",VLOOKUP($Q$10,DATA!$P$2:$R$196,3))","v":""},{"$f":"IF(IZO18=\"\",\"\",VLOOKUP($Q$10,DATA!$P$2:$R$196,3))","v":""},{"$f":"IF(IZP18=\"\",\"\",VLOOKUP($Q$10,DATA!$P$2:$R$196,3))","v":""},{"$f":"IF(IZQ18=\"\",\"\",VLOOKUP($Q$10,DATA!$P$2:$R$196,3))","v":""},{"$f":"IF(IZR18=\"\",\"\",VLOOKUP($Q$10,DATA!$P$2:$R$196,3))","v":""},{"$f":"IF(IZS18=\"\",\"\",VLOOKUP($Q$10,DATA!$P$2:$R$196,3))","v":""},{"$f":"IF(IZT18=\"\",\"\",VLOOKUP($Q$10,DATA!$P$2:$R$196,3))","v":""},{"$f":"IF(IZU18=\"\",\"\",VLOOKUP($Q$10,DATA!$P$2:$R$196,3))","v":""},{"$f":"IF(IZV18=\"\",\"\",VLOOKUP($Q$10,DATA!$P$2:$R$196,3))","v":""},{"$f":"IF(IZW18=\"\",\"\",VLOOKUP($Q$10,DATA!$P$2:$R$196,3))","v":""},{"$f":"IF(IZX18=\"\",\"\",VLOOKUP($Q$10,DATA!$P$2:$R$196,3))","v":""},{"$f":"IF(IZY18=\"\",\"\",VLOOKUP($Q$10,DATA!$P$2:$R$196,3))","v":""},{"$f":"IF(IZZ18=\"\",\"\",VLOOKUP($Q$10,DATA!$P$2:$R$196,3))","v":""},{"$f":"IF(JAA18=\"\",\"\",VLOOKUP($Q$10,DATA!$P$2:$R$196,3))","v":""},{"$f":"IF(JAB18=\"\",\"\",VLOOKUP($Q$10,DATA!$P$2:$R$196,3))","v":""},{"$f":"IF(JAC18=\"\",\"\",VLOOKUP($Q$10,DATA!$P$2:$R$196,3))","v":""},{"$f":"IF(JAD18=\"\",\"\",VLOOKUP($Q$10,DATA!$P$2:$R$196,3))","v":""},{"$f":"IF(JAE18=\"\",\"\",VLOOKUP($Q$10,DATA!$P$2:$R$196,3))","v":""},{"$f":"IF(JAF18=\"\",\"\",VLOOKUP($Q$10,DATA!$P$2:$R$196,3))","v":""},{"$f":"IF(JAG18=\"\",\"\",VLOOKUP($Q$10,DATA!$P$2:$R$196,3))","v":""},{"$f":"IF(JAH18=\"\",\"\",VLOOKUP($Q$10,DATA!$P$2:$R$196,3))","v":""},{"$f":"IF(JAI18=\"\",\"\",VLOOKUP($Q$10,DATA!$P$2:$R$196,3))","v":""},{"$f":"IF(JAJ18=\"\",\"\",VLOOKUP($Q$10,DATA!$P$2:$R$196,3))","v":""},{"$f":"IF(JAK18=\"\",\"\",VLOOKUP($Q$10,DATA!$P$2:$R$196,3))","v":""},{"$f":"IF(JAL18=\"\",\"\",VLOOKUP($Q$10,DATA!$P$2:$R$196,3))","v":""},{"$f":"IF(JAM18=\"\",\"\",VLOOKUP($Q$10,DATA!$P$2:$R$196,3))","v":""},{"$f":"IF(JAN18=\"\",\"\",VLOOKUP($Q$10,DATA!$P$2:$R$196,3))","v":""},{"$f":"IF(JAO18=\"\",\"\",VLOOKUP($Q$10,DATA!$P$2:$R$196,3))","v":""},{"$f":"IF(JAP18=\"\",\"\",VLOOKUP($Q$10,DATA!$P$2:$R$196,3))","v":""},{"$f":"IF(JAQ18=\"\",\"\",VLOOKUP($Q$10,DATA!$P$2:$R$196,3))","v":""},{"$f":"IF(JAR18=\"\",\"\",VLOOKUP($Q$10,DATA!$P$2:$R$196,3))","v":""},{"$f":"IF(JAS18=\"\",\"\",VLOOKUP($Q$10,DATA!$P$2:$R$196,3))","v":""},{"$f":"IF(JAT18=\"\",\"\",VLOOKUP($Q$10,DATA!$P$2:$R$196,3))","v":""},{"$f":"IF(JAU18=\"\",\"\",VLOOKUP($Q$10,DATA!$P$2:$R$196,3))","v":""},{"$f":"IF(JAV18=\"\",\"\",VLOOKUP($Q$10,DATA!$P$2:$R$196,3))","v":""},{"$f":"IF(JAW18=\"\",\"\",VLOOKUP($Q$10,DATA!$P$2:$R$196,3))","v":""},{"$f":"IF(JAX18=\"\",\"\",VLOOKUP($Q$10,DATA!$P$2:$R$196,3))","v":""},{"$f":"IF(JAY18=\"\",\"\",VLOOKUP($Q$10,DATA!$P$2:$R$196,3))","v":""},{"$f":"IF(JAZ18=\"\",\"\",VLOOKUP($Q$10,DATA!$P$2:$R$196,3))","v":""},{"$f":"IF(JBA18=\"\",\"\",VLOOKUP($Q$10,DATA!$P$2:$R$196,3))","v":""},{"$f":"IF(JBB18=\"\",\"\",VLOOKUP($Q$10,DATA!$P$2:$R$196,3))","v":""},{"$f":"IF(JBC18=\"\",\"\",VLOOKUP($Q$10,DATA!$P$2:$R$196,3))","v":""},{"$f":"IF(JBD18=\"\",\"\",VLOOKUP($Q$10,DATA!$P$2:$R$196,3))","v":""},{"$f":"IF(JBE18=\"\",\"\",VLOOKUP($Q$10,DATA!$P$2:$R$196,3))","v":""},{"$f":"IF(JBF18=\"\",\"\",VLOOKUP($Q$10,DATA!$P$2:$R$196,3))","v":""},{"$f":"IF(JBG18=\"\",\"\",VLOOKUP($Q$10,DATA!$P$2:$R$196,3))","v":""},{"$f":"IF(JBH18=\"\",\"\",VLOOKUP($Q$10,DATA!$P$2:$R$196,3))","v":""},{"$f":"IF(JBI18=\"\",\"\",VLOOKUP($Q$10,DATA!$P$2:$R$196,3))","v":""},{"$f":"IF(JBJ18=\"\",\"\",VLOOKUP($Q$10,DATA!$P$2:$R$196,3))","v":""},{"$f":"IF(JBK18=\"\",\"\",VLOOKUP($Q$10,DATA!$P$2:$R$196,3))","v":""},{"$f":"IF(JBL18=\"\",\"\",VLOOKUP($Q$10,DATA!$P$2:$R$196,3))","v":""},{"$f":"IF(JBM18=\"\",\"\",VLOOKUP($Q$10,DATA!$P$2:$R$196,3))","v":""},{"$f":"IF(JBN18=\"\",\"\",VLOOKUP($Q$10,DATA!$P$2:$R$196,3))","v":""},{"$f":"IF(JBO18=\"\",\"\",VLOOKUP($Q$10,DATA!$P$2:$R$196,3))","v":""},{"$f":"IF(JBP18=\"\",\"\",VLOOKUP($Q$10,DATA!$P$2:$R$196,3))","v":""},{"$f":"IF(JBQ18=\"\",\"\",VLOOKUP($Q$10,DATA!$P$2:$R$196,3))","v":""},{"$f":"IF(JBR18=\"\",\"\",VLOOKUP($Q$10,DATA!$P$2:$R$196,3))","v":""},{"$f":"IF(JBS18=\"\",\"\",VLOOKUP($Q$10,DATA!$P$2:$R$196,3))","v":""},{"$f":"IF(JBT18=\"\",\"\",VLOOKUP($Q$10,DATA!$P$2:$R$196,3))","v":""},{"$f":"IF(JBU18=\"\",\"\",VLOOKUP($Q$10,DATA!$P$2:$R$196,3))","v":""},{"$f":"IF(JBV18=\"\",\"\",VLOOKUP($Q$10,DATA!$P$2:$R$196,3))","v":""},{"$f":"IF(JBW18=\"\",\"\",VLOOKUP($Q$10,DATA!$P$2:$R$196,3))","v":""},{"$f":"IF(JBX18=\"\",\"\",VLOOKUP($Q$10,DATA!$P$2:$R$196,3))","v":""},{"$f":"IF(JBY18=\"\",\"\",VLOOKUP($Q$10,DATA!$P$2:$R$196,3))","v":""},{"$f":"IF(JBZ18=\"\",\"\",VLOOKUP($Q$10,DATA!$P$2:$R$196,3))","v":""},{"$f":"IF(JCA18=\"\",\"\",VLOOKUP($Q$10,DATA!$P$2:$R$196,3))","v":""},{"$f":"IF(JCB18=\"\",\"\",VLOOKUP($Q$10,DATA!$P$2:$R$196,3))","v":""},{"$f":"IF(JCC18=\"\",\"\",VLOOKUP($Q$10,DATA!$P$2:$R$196,3))","v":""},{"$f":"IF(JCD18=\"\",\"\",VLOOKUP($Q$10,DATA!$P$2:$R$196,3))","v":""},{"$f":"IF(JCE18=\"\",\"\",VLOOKUP($Q$10,DATA!$P$2:$R$196,3))","v":""},{"$f":"IF(JCF18=\"\",\"\",VLOOKUP($Q$10,DATA!$P$2:$R$196,3))","v":""},{"$f":"IF(JCG18=\"\",\"\",VLOOKUP($Q$10,DATA!$P$2:$R$196,3))","v":""},{"$f":"IF(JCH18=\"\",\"\",VLOOKUP($Q$10,DATA!$P$2:$R$196,3))","v":""},{"$f":"IF(JCI18=\"\",\"\",VLOOKUP($Q$10,DATA!$P$2:$R$196,3))","v":""},{"$f":"IF(JCJ18=\"\",\"\",VLOOKUP($Q$10,DATA!$P$2:$R$196,3))","v":""},{"$f":"IF(JCK18=\"\",\"\",VLOOKUP($Q$10,DATA!$P$2:$R$196,3))","v":""},{"$f":"IF(JCL18=\"\",\"\",VLOOKUP($Q$10,DATA!$P$2:$R$196,3))","v":""},{"$f":"IF(JCM18=\"\",\"\",VLOOKUP($Q$10,DATA!$P$2:$R$196,3))","v":""},{"$f":"IF(JCN18=\"\",\"\",VLOOKUP($Q$10,DATA!$P$2:$R$196,3))","v":""},{"$f":"IF(JCO18=\"\",\"\",VLOOKUP($Q$10,DATA!$P$2:$R$196,3))","v":""},{"$f":"IF(JCP18=\"\",\"\",VLOOKUP($Q$10,DATA!$P$2:$R$196,3))","v":""},{"$f":"IF(JCQ18=\"\",\"\",VLOOKUP($Q$10,DATA!$P$2:$R$196,3))","v":""},{"$f":"IF(JCR18=\"\",\"\",VLOOKUP($Q$10,DATA!$P$2:$R$196,3))","v":""},{"$f":"IF(JCS18=\"\",\"\",VLOOKUP($Q$10,DATA!$P$2:$R$196,3))","v":""},{"$f":"IF(JCT18=\"\",\"\",VLOOKUP($Q$10,DATA!$P$2:$R$196,3))","v":""},{"$f":"IF(JCU18=\"\",\"\",VLOOKUP($Q$10,DATA!$P$2:$R$196,3))","v":""},{"$f":"IF(JCV18=\"\",\"\",VLOOKUP($Q$10,DATA!$P$2:$R$196,3))","v":""},{"$f":"IF(JCW18=\"\",\"\",VLOOKUP($Q$10,DATA!$P$2:$R$196,3))","v":""},{"$f":"IF(JCX18=\"\",\"\",VLOOKUP($Q$10,DATA!$P$2:$R$196,3))","v":""},{"$f":"IF(JCY18=\"\",\"\",VLOOKUP($Q$10,DATA!$P$2:$R$196,3))","v":""},{"$f":"IF(JCZ18=\"\",\"\",VLOOKUP($Q$10,DATA!$P$2:$R$196,3))","v":""},{"$f":"IF(JDA18=\"\",\"\",VLOOKUP($Q$10,DATA!$P$2:$R$196,3))","v":""},{"$f":"IF(JDB18=\"\",\"\",VLOOKUP($Q$10,DATA!$P$2:$R$196,3))","v":""},{"$f":"IF(JDC18=\"\",\"\",VLOOKUP($Q$10,DATA!$P$2:$R$196,3))","v":""},{"$f":"IF(JDD18=\"\",\"\",VLOOKUP($Q$10,DATA!$P$2:$R$196,3))","v":""},{"$f":"IF(JDE18=\"\",\"\",VLOOKUP($Q$10,DATA!$P$2:$R$196,3))","v":""},{"$f":"IF(JDF18=\"\",\"\",VLOOKUP($Q$10,DATA!$P$2:$R$196,3))","v":""},{"$f":"IF(JDG18=\"\",\"\",VLOOKUP($Q$10,DATA!$P$2:$R$196,3))","v":""},{"$f":"IF(JDH18=\"\",\"\",VLOOKUP($Q$10,DATA!$P$2:$R$196,3))","v":""},{"$f":"IF(JDI18=\"\",\"\",VLOOKUP($Q$10,DATA!$P$2:$R$196,3))","v":""},{"$f":"IF(JDJ18=\"\",\"\",VLOOKUP($Q$10,DATA!$P$2:$R$196,3))","v":""},{"$f":"IF(JDK18=\"\",\"\",VLOOKUP($Q$10,DATA!$P$2:$R$196,3))","v":""},{"$f":"IF(JDL18=\"\",\"\",VLOOKUP($Q$10,DATA!$P$2:$R$196,3))","v":""},{"$f":"IF(JDM18=\"\",\"\",VLOOKUP($Q$10,DATA!$P$2:$R$196,3))","v":""},{"$f":"IF(JDN18=\"\",\"\",VLOOKUP($Q$10,DATA!$P$2:$R$196,3))","v":""},{"$f":"IF(JDO18=\"\",\"\",VLOOKUP($Q$10,DATA!$P$2:$R$196,3))","v":""},{"$f":"IF(JDP18=\"\",\"\",VLOOKUP($Q$10,DATA!$P$2:$R$196,3))","v":""},{"$f":"IF(JDQ18=\"\",\"\",VLOOKUP($Q$10,DATA!$P$2:$R$196,3))","v":""},{"$f":"IF(JDR18=\"\",\"\",VLOOKUP($Q$10,DATA!$P$2:$R$196,3))","v":""},{"$f":"IF(JDS18=\"\",\"\",VLOOKUP($Q$10,DATA!$P$2:$R$196,3))","v":""},{"$f":"IF(JDT18=\"\",\"\",VLOOKUP($Q$10,DATA!$P$2:$R$196,3))","v":""},{"$f":"IF(JDU18=\"\",\"\",VLOOKUP($Q$10,DATA!$P$2:$R$196,3))","v":""},{"$f":"IF(JDV18=\"\",\"\",VLOOKUP($Q$10,DATA!$P$2:$R$196,3))","v":""},{"$f":"IF(JDW18=\"\",\"\",VLOOKUP($Q$10,DATA!$P$2:$R$196,3))","v":""},{"$f":"IF(JDX18=\"\",\"\",VLOOKUP($Q$10,DATA!$P$2:$R$196,3))","v":""},{"$f":"IF(JDY18=\"\",\"\",VLOOKUP($Q$10,DATA!$P$2:$R$196,3))","v":""},{"$f":"IF(JDZ18=\"\",\"\",VLOOKUP($Q$10,DATA!$P$2:$R$196,3))","v":""},{"$f":"IF(JEA18=\"\",\"\",VLOOKUP($Q$10,DATA!$P$2:$R$196,3))","v":""},{"$f":"IF(JEB18=\"\",\"\",VLOOKUP($Q$10,DATA!$P$2:$R$196,3))","v":""},{"$f":"IF(JEC18=\"\",\"\",VLOOKUP($Q$10,DATA!$P$2:$R$196,3))","v":""},{"$f":"IF(JED18=\"\",\"\",VLOOKUP($Q$10,DATA!$P$2:$R$196,3))","v":""},{"$f":"IF(JEE18=\"\",\"\",VLOOKUP($Q$10,DATA!$P$2:$R$196,3))","v":""},{"$f":"IF(JEF18=\"\",\"\",VLOOKUP($Q$10,DATA!$P$2:$R$196,3))","v":""},{"$f":"IF(JEG18=\"\",\"\",VLOOKUP($Q$10,DATA!$P$2:$R$196,3))","v":""},{"$f":"IF(JEH18=\"\",\"\",VLOOKUP($Q$10,DATA!$P$2:$R$196,3))","v":""},{"$f":"IF(JEI18=\"\",\"\",VLOOKUP($Q$10,DATA!$P$2:$R$196,3))","v":""},{"$f":"IF(JEJ18=\"\",\"\",VLOOKUP($Q$10,DATA!$P$2:$R$196,3))","v":""},{"$f":"IF(JEK18=\"\",\"\",VLOOKUP($Q$10,DATA!$P$2:$R$196,3))","v":""},{"$f":"IF(JEL18=\"\",\"\",VLOOKUP($Q$10,DATA!$P$2:$R$196,3))","v":""},{"$f":"IF(JEM18=\"\",\"\",VLOOKUP($Q$10,DATA!$P$2:$R$196,3))","v":""},{"$f":"IF(JEN18=\"\",\"\",VLOOKUP($Q$10,DATA!$P$2:$R$196,3))","v":""},{"$f":"IF(JEO18=\"\",\"\",VLOOKUP($Q$10,DATA!$P$2:$R$196,3))","v":""},{"$f":"IF(JEP18=\"\",\"\",VLOOKUP($Q$10,DATA!$P$2:$R$196,3))","v":""},{"$f":"IF(JEQ18=\"\",\"\",VLOOKUP($Q$10,DATA!$P$2:$R$196,3))","v":""},{"$f":"IF(JER18=\"\",\"\",VLOOKUP($Q$10,DATA!$P$2:$R$196,3))","v":""},{"$f":"IF(JES18=\"\",\"\",VLOOKUP($Q$10,DATA!$P$2:$R$196,3))","v":""},{"$f":"IF(JET18=\"\",\"\",VLOOKUP($Q$10,DATA!$P$2:$R$196,3))","v":""},{"$f":"IF(JEU18=\"\",\"\",VLOOKUP($Q$10,DATA!$P$2:$R$196,3))","v":""},{"$f":"IF(JEV18=\"\",\"\",VLOOKUP($Q$10,DATA!$P$2:$R$196,3))","v":""},{"$f":"IF(JEW18=\"\",\"\",VLOOKUP($Q$10,DATA!$P$2:$R$196,3))","v":""},{"$f":"IF(JEX18=\"\",\"\",VLOOKUP($Q$10,DATA!$P$2:$R$196,3))","v":""},{"$f":"IF(JEY18=\"\",\"\",VLOOKUP($Q$10,DATA!$P$2:$R$196,3))","v":""},{"$f":"IF(JEZ18=\"\",\"\",VLOOKUP($Q$10,DATA!$P$2:$R$196,3))","v":""},{"$f":"IF(JFA18=\"\",\"\",VLOOKUP($Q$10,DATA!$P$2:$R$196,3))","v":""},{"$f":"IF(JFB18=\"\",\"\",VLOOKUP($Q$10,DATA!$P$2:$R$196,3))","v":""},{"$f":"IF(JFC18=\"\",\"\",VLOOKUP($Q$10,DATA!$P$2:$R$196,3))","v":""},{"$f":"IF(JFD18=\"\",\"\",VLOOKUP($Q$10,DATA!$P$2:$R$196,3))","v":""},{"$f":"IF(JFE18=\"\",\"\",VLOOKUP($Q$10,DATA!$P$2:$R$196,3))","v":""},{"$f":"IF(JFF18=\"\",\"\",VLOOKUP($Q$10,DATA!$P$2:$R$196,3))","v":""},{"$f":"IF(JFG18=\"\",\"\",VLOOKUP($Q$10,DATA!$P$2:$R$196,3))","v":""},{"$f":"IF(JFH18=\"\",\"\",VLOOKUP($Q$10,DATA!$P$2:$R$196,3))","v":""},{"$f":"IF(JFI18=\"\",\"\",VLOOKUP($Q$10,DATA!$P$2:$R$196,3))","v":""},{"$f":"IF(JFJ18=\"\",\"\",VLOOKUP($Q$10,DATA!$P$2:$R$196,3))","v":""},{"$f":"IF(JFK18=\"\",\"\",VLOOKUP($Q$10,DATA!$P$2:$R$196,3))","v":""},{"$f":"IF(JFL18=\"\",\"\",VLOOKUP($Q$10,DATA!$P$2:$R$196,3))","v":""},{"$f":"IF(JFM18=\"\",\"\",VLOOKUP($Q$10,DATA!$P$2:$R$196,3))","v":""},{"$f":"IF(JFN18=\"\",\"\",VLOOKUP($Q$10,DATA!$P$2:$R$196,3))","v":""},{"$f":"IF(JFO18=\"\",\"\",VLOOKUP($Q$10,DATA!$P$2:$R$196,3))","v":""},{"$f":"IF(JFP18=\"\",\"\",VLOOKUP($Q$10,DATA!$P$2:$R$196,3))","v":""},{"$f":"IF(JFQ18=\"\",\"\",VLOOKUP($Q$10,DATA!$P$2:$R$196,3))","v":""},{"$f":"IF(JFR18=\"\",\"\",VLOOKUP($Q$10,DATA!$P$2:$R$196,3))","v":""},{"$f":"IF(JFS18=\"\",\"\",VLOOKUP($Q$10,DATA!$P$2:$R$196,3))","v":""},{"$f":"IF(JFT18=\"\",\"\",VLOOKUP($Q$10,DATA!$P$2:$R$196,3))","v":""},{"$f":"IF(JFU18=\"\",\"\",VLOOKUP($Q$10,DATA!$P$2:$R$196,3))","v":""},{"$f":"IF(JFV18=\"\",\"\",VLOOKUP($Q$10,DATA!$P$2:$R$196,3))","v":""},{"$f":"IF(JFW18=\"\",\"\",VLOOKUP($Q$10,DATA!$P$2:$R$196,3))","v":""},{"$f":"IF(JFX18=\"\",\"\",VLOOKUP($Q$10,DATA!$P$2:$R$196,3))","v":""},{"$f":"IF(JFY18=\"\",\"\",VLOOKUP($Q$10,DATA!$P$2:$R$196,3))","v":""},{"$f":"IF(JFZ18=\"\",\"\",VLOOKUP($Q$10,DATA!$P$2:$R$196,3))","v":""},{"$f":"IF(JGA18=\"\",\"\",VLOOKUP($Q$10,DATA!$P$2:$R$196,3))","v":""},{"$f":"IF(JGB18=\"\",\"\",VLOOKUP($Q$10,DATA!$P$2:$R$196,3))","v":""},{"$f":"IF(JGC18=\"\",\"\",VLOOKUP($Q$10,DATA!$P$2:$R$196,3))","v":""},{"$f":"IF(JGD18=\"\",\"\",VLOOKUP($Q$10,DATA!$P$2:$R$196,3))","v":""},{"$f":"IF(JGE18=\"\",\"\",VLOOKUP($Q$10,DATA!$P$2:$R$196,3))","v":""},{"$f":"IF(JGF18=\"\",\"\",VLOOKUP($Q$10,DATA!$P$2:$R$196,3))","v":""},{"$f":"IF(JGG18=\"\",\"\",VLOOKUP($Q$10,DATA!$P$2:$R$196,3))","v":""},{"$f":"IF(JGH18=\"\",\"\",VLOOKUP($Q$10,DATA!$P$2:$R$196,3))","v":""},{"$f":"IF(JGI18=\"\",\"\",VLOOKUP($Q$10,DATA!$P$2:$R$196,3))","v":""},{"$f":"IF(JGJ18=\"\",\"\",VLOOKUP($Q$10,DATA!$P$2:$R$196,3))","v":""},{"$f":"IF(JGK18=\"\",\"\",VLOOKUP($Q$10,DATA!$P$2:$R$196,3))","v":""},{"$f":"IF(JGL18=\"\",\"\",VLOOKUP($Q$10,DATA!$P$2:$R$196,3))","v":""},{"$f":"IF(JGM18=\"\",\"\",VLOOKUP($Q$10,DATA!$P$2:$R$196,3))","v":""},{"$f":"IF(JGN18=\"\",\"\",VLOOKUP($Q$10,DATA!$P$2:$R$196,3))","v":""},{"$f":"IF(JGO18=\"\",\"\",VLOOKUP($Q$10,DATA!$P$2:$R$196,3))","v":""},{"$f":"IF(JGP18=\"\",\"\",VLOOKUP($Q$10,DATA!$P$2:$R$196,3))","v":""},{"$f":"IF(JGQ18=\"\",\"\",VLOOKUP($Q$10,DATA!$P$2:$R$196,3))","v":""},{"$f":"IF(JGR18=\"\",\"\",VLOOKUP($Q$10,DATA!$P$2:$R$196,3))","v":""},{"$f":"IF(JGS18=\"\",\"\",VLOOKUP($Q$10,DATA!$P$2:$R$196,3))","v":""},{"$f":"IF(JGT18=\"\",\"\",VLOOKUP($Q$10,DATA!$P$2:$R$196,3))","v":""},{"$f":"IF(JGU18=\"\",\"\",VLOOKUP($Q$10,DATA!$P$2:$R$196,3))","v":""},{"$f":"IF(JGV18=\"\",\"\",VLOOKUP($Q$10,DATA!$P$2:$R$196,3))","v":""},{"$f":"IF(JGW18=\"\",\"\",VLOOKUP($Q$10,DATA!$P$2:$R$196,3))","v":""},{"$f":"IF(JGX18=\"\",\"\",VLOOKUP($Q$10,DATA!$P$2:$R$196,3))","v":""},{"$f":"IF(JGY18=\"\",\"\",VLOOKUP($Q$10,DATA!$P$2:$R$196,3))","v":""},{"$f":"IF(JGZ18=\"\",\"\",VLOOKUP($Q$10,DATA!$P$2:$R$196,3))","v":""},{"$f":"IF(JHA18=\"\",\"\",VLOOKUP($Q$10,DATA!$P$2:$R$196,3))","v":""},{"$f":"IF(JHB18=\"\",\"\",VLOOKUP($Q$10,DATA!$P$2:$R$196,3))","v":""},{"$f":"IF(JHC18=\"\",\"\",VLOOKUP($Q$10,DATA!$P$2:$R$196,3))","v":""},{"$f":"IF(JHD18=\"\",\"\",VLOOKUP($Q$10,DATA!$P$2:$R$196,3))","v":""},{"$f":"IF(JHE18=\"\",\"\",VLOOKUP($Q$10,DATA!$P$2:$R$196,3))","v":""},{"$f":"IF(JHF18=\"\",\"\",VLOOKUP($Q$10,DATA!$P$2:$R$196,3))","v":""},{"$f":"IF(JHG18=\"\",\"\",VLOOKUP($Q$10,DATA!$P$2:$R$196,3))","v":""},{"$f":"IF(JHH18=\"\",\"\",VLOOKUP($Q$10,DATA!$P$2:$R$196,3))","v":""},{"$f":"IF(JHI18=\"\",\"\",VLOOKUP($Q$10,DATA!$P$2:$R$196,3))","v":""},{"$f":"IF(JHJ18=\"\",\"\",VLOOKUP($Q$10,DATA!$P$2:$R$196,3))","v":""},{"$f":"IF(JHK18=\"\",\"\",VLOOKUP($Q$10,DATA!$P$2:$R$196,3))","v":""},{"$f":"IF(JHL18=\"\",\"\",VLOOKUP($Q$10,DATA!$P$2:$R$196,3))","v":""},{"$f":"IF(JHM18=\"\",\"\",VLOOKUP($Q$10,DATA!$P$2:$R$196,3))","v":""},{"$f":"IF(JHN18=\"\",\"\",VLOOKUP($Q$10,DATA!$P$2:$R$196,3))","v":""},{"$f":"IF(JHO18=\"\",\"\",VLOOKUP($Q$10,DATA!$P$2:$R$196,3))","v":""},{"$f":"IF(JHP18=\"\",\"\",VLOOKUP($Q$10,DATA!$P$2:$R$196,3))","v":""},{"$f":"IF(JHQ18=\"\",\"\",VLOOKUP($Q$10,DATA!$P$2:$R$196,3))","v":""},{"$f":"IF(JHR18=\"\",\"\",VLOOKUP($Q$10,DATA!$P$2:$R$196,3))","v":""},{"$f":"IF(JHS18=\"\",\"\",VLOOKUP($Q$10,DATA!$P$2:$R$196,3))","v":""},{"$f":"IF(JHT18=\"\",\"\",VLOOKUP($Q$10,DATA!$P$2:$R$196,3))","v":""},{"$f":"IF(JHU18=\"\",\"\",VLOOKUP($Q$10,DATA!$P$2:$R$196,3))","v":""},{"$f":"IF(JHV18=\"\",\"\",VLOOKUP($Q$10,DATA!$P$2:$R$196,3))","v":""},{"$f":"IF(JHW18=\"\",\"\",VLOOKUP($Q$10,DATA!$P$2:$R$196,3))","v":""},{"$f":"IF(JHX18=\"\",\"\",VLOOKUP($Q$10,DATA!$P$2:$R$196,3))","v":""},{"$f":"IF(JHY18=\"\",\"\",VLOOKUP($Q$10,DATA!$P$2:$R$196,3))","v":""},{"$f":"IF(JHZ18=\"\",\"\",VLOOKUP($Q$10,DATA!$P$2:$R$196,3))","v":""},{"$f":"IF(JIA18=\"\",\"\",VLOOKUP($Q$10,DATA!$P$2:$R$196,3))","v":""},{"$f":"IF(JIB18=\"\",\"\",VLOOKUP($Q$10,DATA!$P$2:$R$196,3))","v":""},{"$f":"IF(JIC18=\"\",\"\",VLOOKUP($Q$10,DATA!$P$2:$R$196,3))","v":""},{"$f":"IF(JID18=\"\",\"\",VLOOKUP($Q$10,DATA!$P$2:$R$196,3))","v":""},{"$f":"IF(JIE18=\"\",\"\",VLOOKUP($Q$10,DATA!$P$2:$R$196,3))","v":""},{"$f":"IF(JIF18=\"\",\"\",VLOOKUP($Q$10,DATA!$P$2:$R$196,3))","v":""},{"$f":"IF(JIG18=\"\",\"\",VLOOKUP($Q$10,DATA!$P$2:$R$196,3))","v":""},{"$f":"IF(JIH18=\"\",\"\",VLOOKUP($Q$10,DATA!$P$2:$R$196,3))","v":""},{"$f":"IF(JII18=\"\",\"\",VLOOKUP($Q$10,DATA!$P$2:$R$196,3))","v":""},{"$f":"IF(JIJ18=\"\",\"\",VLOOKUP($Q$10,DATA!$P$2:$R$196,3))","v":""},{"$f":"IF(JIK18=\"\",\"\",VLOOKUP($Q$10,DATA!$P$2:$R$196,3))","v":""},{"$f":"IF(JIL18=\"\",\"\",VLOOKUP($Q$10,DATA!$P$2:$R$196,3))","v":""},{"$f":"IF(JIM18=\"\",\"\",VLOOKUP($Q$10,DATA!$P$2:$R$196,3))","v":""},{"$f":"IF(JIN18=\"\",\"\",VLOOKUP($Q$10,DATA!$P$2:$R$196,3))","v":""},{"$f":"IF(JIO18=\"\",\"\",VLOOKUP($Q$10,DATA!$P$2:$R$196,3))","v":""},{"$f":"IF(JIP18=\"\",\"\",VLOOKUP($Q$10,DATA!$P$2:$R$196,3))","v":""},{"$f":"IF(JIQ18=\"\",\"\",VLOOKUP($Q$10,DATA!$P$2:$R$196,3))","v":""},{"$f":"IF(JIR18=\"\",\"\",VLOOKUP($Q$10,DATA!$P$2:$R$196,3))","v":""},{"$f":"IF(JIS18=\"\",\"\",VLOOKUP($Q$10,DATA!$P$2:$R$196,3))","v":""},{"$f":"IF(JIT18=\"\",\"\",VLOOKUP($Q$10,DATA!$P$2:$R$196,3))","v":""},{"$f":"IF(JIU18=\"\",\"\",VLOOKUP($Q$10,DATA!$P$2:$R$196,3))","v":""},{"$f":"IF(JIV18=\"\",\"\",VLOOKUP($Q$10,DATA!$P$2:$R$196,3))","v":""},{"$f":"IF(JIW18=\"\",\"\",VLOOKUP($Q$10,DATA!$P$2:$R$196,3))","v":""},{"$f":"IF(JIX18=\"\",\"\",VLOOKUP($Q$10,DATA!$P$2:$R$196,3))","v":""},{"$f":"IF(JIY18=\"\",\"\",VLOOKUP($Q$10,DATA!$P$2:$R$196,3))","v":""},{"$f":"IF(JIZ18=\"\",\"\",VLOOKUP($Q$10,DATA!$P$2:$R$196,3))","v":""},{"$f":"IF(JJA18=\"\",\"\",VLOOKUP($Q$10,DATA!$P$2:$R$196,3))","v":""},{"$f":"IF(JJB18=\"\",\"\",VLOOKUP($Q$10,DATA!$P$2:$R$196,3))","v":""},{"$f":"IF(JJC18=\"\",\"\",VLOOKUP($Q$10,DATA!$P$2:$R$196,3))","v":""},{"$f":"IF(JJD18=\"\",\"\",VLOOKUP($Q$10,DATA!$P$2:$R$196,3))","v":""},{"$f":"IF(JJE18=\"\",\"\",VLOOKUP($Q$10,DATA!$P$2:$R$196,3))","v":""},{"$f":"IF(JJF18=\"\",\"\",VLOOKUP($Q$10,DATA!$P$2:$R$196,3))","v":""},{"$f":"IF(JJG18=\"\",\"\",VLOOKUP($Q$10,DATA!$P$2:$R$196,3))","v":""},{"$f":"IF(JJH18=\"\",\"\",VLOOKUP($Q$10,DATA!$P$2:$R$196,3))","v":""},{"$f":"IF(JJI18=\"\",\"\",VLOOKUP($Q$10,DATA!$P$2:$R$196,3))","v":""},{"$f":"IF(JJJ18=\"\",\"\",VLOOKUP($Q$10,DATA!$P$2:$R$196,3))","v":""},{"$f":"IF(JJK18=\"\",\"\",VLOOKUP($Q$10,DATA!$P$2:$R$196,3))","v":""},{"$f":"IF(JJL18=\"\",\"\",VLOOKUP($Q$10,DATA!$P$2:$R$196,3))","v":""},{"$f":"IF(JJM18=\"\",\"\",VLOOKUP($Q$10,DATA!$P$2:$R$196,3))","v":""},{"$f":"IF(JJN18=\"\",\"\",VLOOKUP($Q$10,DATA!$P$2:$R$196,3))","v":""},{"$f":"IF(JJO18=\"\",\"\",VLOOKUP($Q$10,DATA!$P$2:$R$196,3))","v":""},{"$f":"IF(JJP18=\"\",\"\",VLOOKUP($Q$10,DATA!$P$2:$R$196,3))","v":""},{"$f":"IF(JJQ18=\"\",\"\",VLOOKUP($Q$10,DATA!$P$2:$R$196,3))","v":""},{"$f":"IF(JJR18=\"\",\"\",VLOOKUP($Q$10,DATA!$P$2:$R$196,3))","v":""},{"$f":"IF(JJS18=\"\",\"\",VLOOKUP($Q$10,DATA!$P$2:$R$196,3))","v":""},{"$f":"IF(JJT18=\"\",\"\",VLOOKUP($Q$10,DATA!$P$2:$R$196,3))","v":""},{"$f":"IF(JJU18=\"\",\"\",VLOOKUP($Q$10,DATA!$P$2:$R$196,3))","v":""},{"$f":"IF(JJV18=\"\",\"\",VLOOKUP($Q$10,DATA!$P$2:$R$196,3))","v":""},{"$f":"IF(JJW18=\"\",\"\",VLOOKUP($Q$10,DATA!$P$2:$R$196,3))","v":""},{"$f":"IF(JJX18=\"\",\"\",VLOOKUP($Q$10,DATA!$P$2:$R$196,3))","v":""},{"$f":"IF(JJY18=\"\",\"\",VLOOKUP($Q$10,DATA!$P$2:$R$196,3))","v":""},{"$f":"IF(JJZ18=\"\",\"\",VLOOKUP($Q$10,DATA!$P$2:$R$196,3))","v":""},{"$f":"IF(JKA18=\"\",\"\",VLOOKUP($Q$10,DATA!$P$2:$R$196,3))","v":""},{"$f":"IF(JKB18=\"\",\"\",VLOOKUP($Q$10,DATA!$P$2:$R$196,3))","v":""},{"$f":"IF(JKC18=\"\",\"\",VLOOKUP($Q$10,DATA!$P$2:$R$196,3))","v":""},{"$f":"IF(JKD18=\"\",\"\",VLOOKUP($Q$10,DATA!$P$2:$R$196,3))","v":""},{"$f":"IF(JKE18=\"\",\"\",VLOOKUP($Q$10,DATA!$P$2:$R$196,3))","v":""},{"$f":"IF(JKF18=\"\",\"\",VLOOKUP($Q$10,DATA!$P$2:$R$196,3))","v":""},{"$f":"IF(JKG18=\"\",\"\",VLOOKUP($Q$10,DATA!$P$2:$R$196,3))","v":""},{"$f":"IF(JKH18=\"\",\"\",VLOOKUP($Q$10,DATA!$P$2:$R$196,3))","v":""},{"$f":"IF(JKI18=\"\",\"\",VLOOKUP($Q$10,DATA!$P$2:$R$196,3))","v":""},{"$f":"IF(JKJ18=\"\",\"\",VLOOKUP($Q$10,DATA!$P$2:$R$196,3))","v":""},{"$f":"IF(JKK18=\"\",\"\",VLOOKUP($Q$10,DATA!$P$2:$R$196,3))","v":""},{"$f":"IF(JKL18=\"\",\"\",VLOOKUP($Q$10,DATA!$P$2:$R$196,3))","v":""},{"$f":"IF(JKM18=\"\",\"\",VLOOKUP($Q$10,DATA!$P$2:$R$196,3))","v":""},{"$f":"IF(JKN18=\"\",\"\",VLOOKUP($Q$10,DATA!$P$2:$R$196,3))","v":""},{"$f":"IF(JKO18=\"\",\"\",VLOOKUP($Q$10,DATA!$P$2:$R$196,3))","v":""},{"$f":"IF(JKP18=\"\",\"\",VLOOKUP($Q$10,DATA!$P$2:$R$196,3))","v":""},{"$f":"IF(JKQ18=\"\",\"\",VLOOKUP($Q$10,DATA!$P$2:$R$196,3))","v":""},{"$f":"IF(JKR18=\"\",\"\",VLOOKUP($Q$10,DATA!$P$2:$R$196,3))","v":""},{"$f":"IF(JKS18=\"\",\"\",VLOOKUP($Q$10,DATA!$P$2:$R$196,3))","v":""},{"$f":"IF(JKT18=\"\",\"\",VLOOKUP($Q$10,DATA!$P$2:$R$196,3))","v":""},{"$f":"IF(JKU18=\"\",\"\",VLOOKUP($Q$10,DATA!$P$2:$R$196,3))","v":""},{"$f":"IF(JKV18=\"\",\"\",VLOOKUP($Q$10,DATA!$P$2:$R$196,3))","v":""},{"$f":"IF(JKW18=\"\",\"\",VLOOKUP($Q$10,DATA!$P$2:$R$196,3))","v":""},{"$f":"IF(JKX18=\"\",\"\",VLOOKUP($Q$10,DATA!$P$2:$R$196,3))","v":""},{"$f":"IF(JKY18=\"\",\"\",VLOOKUP($Q$10,DATA!$P$2:$R$196,3))","v":""},{"$f":"IF(JKZ18=\"\",\"\",VLOOKUP($Q$10,DATA!$P$2:$R$196,3))","v":""},{"$f":"IF(JLA18=\"\",\"\",VLOOKUP($Q$10,DATA!$P$2:$R$196,3))","v":""},{"$f":"IF(JLB18=\"\",\"\",VLOOKUP($Q$10,DATA!$P$2:$R$196,3))","v":""},{"$f":"IF(JLC18=\"\",\"\",VLOOKUP($Q$10,DATA!$P$2:$R$196,3))","v":""},{"$f":"IF(JLD18=\"\",\"\",VLOOKUP($Q$10,DATA!$P$2:$R$196,3))","v":""},{"$f":"IF(JLE18=\"\",\"\",VLOOKUP($Q$10,DATA!$P$2:$R$196,3))","v":""},{"$f":"IF(JLF18=\"\",\"\",VLOOKUP($Q$10,DATA!$P$2:$R$196,3))","v":""},{"$f":"IF(JLG18=\"\",\"\",VLOOKUP($Q$10,DATA!$P$2:$R$196,3))","v":""},{"$f":"IF(JLH18=\"\",\"\",VLOOKUP($Q$10,DATA!$P$2:$R$196,3))","v":""},{"$f":"IF(JLI18=\"\",\"\",VLOOKUP($Q$10,DATA!$P$2:$R$196,3))","v":""},{"$f":"IF(JLJ18=\"\",\"\",VLOOKUP($Q$10,DATA!$P$2:$R$196,3))","v":""},{"$f":"IF(JLK18=\"\",\"\",VLOOKUP($Q$10,DATA!$P$2:$R$196,3))","v":""},{"$f":"IF(JLL18=\"\",\"\",VLOOKUP($Q$10,DATA!$P$2:$R$196,3))","v":""},{"$f":"IF(JLM18=\"\",\"\",VLOOKUP($Q$10,DATA!$P$2:$R$196,3))","v":""},{"$f":"IF(JLN18=\"\",\"\",VLOOKUP($Q$10,DATA!$P$2:$R$196,3))","v":""},{"$f":"IF(JLO18=\"\",\"\",VLOOKUP($Q$10,DATA!$P$2:$R$196,3))","v":""},{"$f":"IF(JLP18=\"\",\"\",VLOOKUP($Q$10,DATA!$P$2:$R$196,3))","v":""},{"$f":"IF(JLQ18=\"\",\"\",VLOOKUP($Q$10,DATA!$P$2:$R$196,3))","v":""},{"$f":"IF(JLR18=\"\",\"\",VLOOKUP($Q$10,DATA!$P$2:$R$196,3))","v":""},{"$f":"IF(JLS18=\"\",\"\",VLOOKUP($Q$10,DATA!$P$2:$R$196,3))","v":""},{"$f":"IF(JLT18=\"\",\"\",VLOOKUP($Q$10,DATA!$P$2:$R$196,3))","v":""},{"$f":"IF(JLU18=\"\",\"\",VLOOKUP($Q$10,DATA!$P$2:$R$196,3))","v":""},{"$f":"IF(JLV18=\"\",\"\",VLOOKUP($Q$10,DATA!$P$2:$R$196,3))","v":""},{"$f":"IF(JLW18=\"\",\"\",VLOOKUP($Q$10,DATA!$P$2:$R$196,3))","v":""},{"$f":"IF(JLX18=\"\",\"\",VLOOKUP($Q$10,DATA!$P$2:$R$196,3))","v":""},{"$f":"IF(JLY18=\"\",\"\",VLOOKUP($Q$10,DATA!$P$2:$R$196,3))","v":""},{"$f":"IF(JLZ18=\"\",\"\",VLOOKUP($Q$10,DATA!$P$2:$R$196,3))","v":""},{"$f":"IF(JMA18=\"\",\"\",VLOOKUP($Q$10,DATA!$P$2:$R$196,3))","v":""},{"$f":"IF(JMB18=\"\",\"\",VLOOKUP($Q$10,DATA!$P$2:$R$196,3))","v":""},{"$f":"IF(JMC18=\"\",\"\",VLOOKUP($Q$10,DATA!$P$2:$R$196,3))","v":""},{"$f":"IF(JMD18=\"\",\"\",VLOOKUP($Q$10,DATA!$P$2:$R$196,3))","v":""},{"$f":"IF(JME18=\"\",\"\",VLOOKUP($Q$10,DATA!$P$2:$R$196,3))","v":""},{"$f":"IF(JMF18=\"\",\"\",VLOOKUP($Q$10,DATA!$P$2:$R$196,3))","v":""},{"$f":"IF(JMG18=\"\",\"\",VLOOKUP($Q$10,DATA!$P$2:$R$196,3))","v":""},{"$f":"IF(JMH18=\"\",\"\",VLOOKUP($Q$10,DATA!$P$2:$R$196,3))","v":""},{"$f":"IF(JMI18=\"\",\"\",VLOOKUP($Q$10,DATA!$P$2:$R$196,3))","v":""},{"$f":"IF(JMJ18=\"\",\"\",VLOOKUP($Q$10,DATA!$P$2:$R$196,3))","v":""},{"$f":"IF(JMK18=\"\",\"\",VLOOKUP($Q$10,DATA!$P$2:$R$196,3))","v":""},{"$f":"IF(JML18=\"\",\"\",VLOOKUP($Q$10,DATA!$P$2:$R$196,3))","v":""},{"$f":"IF(JMM18=\"\",\"\",VLOOKUP($Q$10,DATA!$P$2:$R$196,3))","v":""},{"$f":"IF(JMN18=\"\",\"\",VLOOKUP($Q$10,DATA!$P$2:$R$196,3))","v":""},{"$f":"IF(JMO18=\"\",\"\",VLOOKUP($Q$10,DATA!$P$2:$R$196,3))","v":""},{"$f":"IF(JMP18=\"\",\"\",VLOOKUP($Q$10,DATA!$P$2:$R$196,3))","v":""},{"$f":"IF(JMQ18=\"\",\"\",VLOOKUP($Q$10,DATA!$P$2:$R$196,3))","v":""},{"$f":"IF(JMR18=\"\",\"\",VLOOKUP($Q$10,DATA!$P$2:$R$196,3))","v":""},{"$f":"IF(JMS18=\"\",\"\",VLOOKUP($Q$10,DATA!$P$2:$R$196,3))","v":""},{"$f":"IF(JMT18=\"\",\"\",VLOOKUP($Q$10,DATA!$P$2:$R$196,3))","v":""},{"$f":"IF(JMU18=\"\",\"\",VLOOKUP($Q$10,DATA!$P$2:$R$196,3))","v":""},{"$f":"IF(JMV18=\"\",\"\",VLOOKUP($Q$10,DATA!$P$2:$R$196,3))","v":""},{"$f":"IF(JMW18=\"\",\"\",VLOOKUP($Q$10,DATA!$P$2:$R$196,3))","v":""},{"$f":"IF(JMX18=\"\",\"\",VLOOKUP($Q$10,DATA!$P$2:$R$196,3))","v":""},{"$f":"IF(JMY18=\"\",\"\",VLOOKUP($Q$10,DATA!$P$2:$R$196,3))","v":""},{"$f":"IF(JMZ18=\"\",\"\",VLOOKUP($Q$10,DATA!$P$2:$R$196,3))","v":""},{"$f":"IF(JNA18=\"\",\"\",VLOOKUP($Q$10,DATA!$P$2:$R$196,3))","v":""},{"$f":"IF(JNB18=\"\",\"\",VLOOKUP($Q$10,DATA!$P$2:$R$196,3))","v":""},{"$f":"IF(JNC18=\"\",\"\",VLOOKUP($Q$10,DATA!$P$2:$R$196,3))","v":""},{"$f":"IF(JND18=\"\",\"\",VLOOKUP($Q$10,DATA!$P$2:$R$196,3))","v":""},{"$f":"IF(JNE18=\"\",\"\",VLOOKUP($Q$10,DATA!$P$2:$R$196,3))","v":""},{"$f":"IF(JNF18=\"\",\"\",VLOOKUP($Q$10,DATA!$P$2:$R$196,3))","v":""},{"$f":"IF(JNG18=\"\",\"\",VLOOKUP($Q$10,DATA!$P$2:$R$196,3))","v":""},{"$f":"IF(JNH18=\"\",\"\",VLOOKUP($Q$10,DATA!$P$2:$R$196,3))","v":""},{"$f":"IF(JNI18=\"\",\"\",VLOOKUP($Q$10,DATA!$P$2:$R$196,3))","v":""},{"$f":"IF(JNJ18=\"\",\"\",VLOOKUP($Q$10,DATA!$P$2:$R$196,3))","v":""},{"$f":"IF(JNK18=\"\",\"\",VLOOKUP($Q$10,DATA!$P$2:$R$196,3))","v":""},{"$f":"IF(JNL18=\"\",\"\",VLOOKUP($Q$10,DATA!$P$2:$R$196,3))","v":""},{"$f":"IF(JNM18=\"\",\"\",VLOOKUP($Q$10,DATA!$P$2:$R$196,3))","v":""},{"$f":"IF(JNN18=\"\",\"\",VLOOKUP($Q$10,DATA!$P$2:$R$196,3))","v":""},{"$f":"IF(JNO18=\"\",\"\",VLOOKUP($Q$10,DATA!$P$2:$R$196,3))","v":""},{"$f":"IF(JNP18=\"\",\"\",VLOOKUP($Q$10,DATA!$P$2:$R$196,3))","v":""},{"$f":"IF(JNQ18=\"\",\"\",VLOOKUP($Q$10,DATA!$P$2:$R$196,3))","v":""},{"$f":"IF(JNR18=\"\",\"\",VLOOKUP($Q$10,DATA!$P$2:$R$196,3))","v":""},{"$f":"IF(JNS18=\"\",\"\",VLOOKUP($Q$10,DATA!$P$2:$R$196,3))","v":""},{"$f":"IF(JNT18=\"\",\"\",VLOOKUP($Q$10,DATA!$P$2:$R$196,3))","v":""},{"$f":"IF(JNU18=\"\",\"\",VLOOKUP($Q$10,DATA!$P$2:$R$196,3))","v":""},{"$f":"IF(JNV18=\"\",\"\",VLOOKUP($Q$10,DATA!$P$2:$R$196,3))","v":""},{"$f":"IF(JNW18=\"\",\"\",VLOOKUP($Q$10,DATA!$P$2:$R$196,3))","v":""},{"$f":"IF(JNX18=\"\",\"\",VLOOKUP($Q$10,DATA!$P$2:$R$196,3))","v":""},{"$f":"IF(JNY18=\"\",\"\",VLOOKUP($Q$10,DATA!$P$2:$R$196,3))","v":""},{"$f":"IF(JNZ18=\"\",\"\",VLOOKUP($Q$10,DATA!$P$2:$R$196,3))","v":""},{"$f":"IF(JOA18=\"\",\"\",VLOOKUP($Q$10,DATA!$P$2:$R$196,3))","v":""},{"$f":"IF(JOB18=\"\",\"\",VLOOKUP($Q$10,DATA!$P$2:$R$196,3))","v":""},{"$f":"IF(JOC18=\"\",\"\",VLOOKUP($Q$10,DATA!$P$2:$R$196,3))","v":""},{"$f":"IF(JOD18=\"\",\"\",VLOOKUP($Q$10,DATA!$P$2:$R$196,3))","v":""},{"$f":"IF(JOE18=\"\",\"\",VLOOKUP($Q$10,DATA!$P$2:$R$196,3))","v":""},{"$f":"IF(JOF18=\"\",\"\",VLOOKUP($Q$10,DATA!$P$2:$R$196,3))","v":""},{"$f":"IF(JOG18=\"\",\"\",VLOOKUP($Q$10,DATA!$P$2:$R$196,3))","v":""},{"$f":"IF(JOH18=\"\",\"\",VLOOKUP($Q$10,DATA!$P$2:$R$196,3))","v":""},{"$f":"IF(JOI18=\"\",\"\",VLOOKUP($Q$10,DATA!$P$2:$R$196,3))","v":""},{"$f":"IF(JOJ18=\"\",\"\",VLOOKUP($Q$10,DATA!$P$2:$R$196,3))","v":""},{"$f":"IF(JOK18=\"\",\"\",VLOOKUP($Q$10,DATA!$P$2:$R$196,3))","v":""},{"$f":"IF(JOL18=\"\",\"\",VLOOKUP($Q$10,DATA!$P$2:$R$196,3))","v":""},{"$f":"IF(JOM18=\"\",\"\",VLOOKUP($Q$10,DATA!$P$2:$R$196,3))","v":""},{"$f":"IF(JON18=\"\",\"\",VLOOKUP($Q$10,DATA!$P$2:$R$196,3))","v":""},{"$f":"IF(JOO18=\"\",\"\",VLOOKUP($Q$10,DATA!$P$2:$R$196,3))","v":""},{"$f":"IF(JOP18=\"\",\"\",VLOOKUP($Q$10,DATA!$P$2:$R$196,3))","v":""},{"$f":"IF(JOQ18=\"\",\"\",VLOOKUP($Q$10,DATA!$P$2:$R$196,3))","v":""},{"$f":"IF(JOR18=\"\",\"\",VLOOKUP($Q$10,DATA!$P$2:$R$196,3))","v":""},{"$f":"IF(JOS18=\"\",\"\",VLOOKUP($Q$10,DATA!$P$2:$R$196,3))","v":""},{"$f":"IF(JOT18=\"\",\"\",VLOOKUP($Q$10,DATA!$P$2:$R$196,3))","v":""},{"$f":"IF(JOU18=\"\",\"\",VLOOKUP($Q$10,DATA!$P$2:$R$196,3))","v":""},{"$f":"IF(JOV18=\"\",\"\",VLOOKUP($Q$10,DATA!$P$2:$R$196,3))","v":""},{"$f":"IF(JOW18=\"\",\"\",VLOOKUP($Q$10,DATA!$P$2:$R$196,3))","v":""},{"$f":"IF(JOX18=\"\",\"\",VLOOKUP($Q$10,DATA!$P$2:$R$196,3))","v":""},{"$f":"IF(JOY18=\"\",\"\",VLOOKUP($Q$10,DATA!$P$2:$R$196,3))","v":""},{"$f":"IF(JOZ18=\"\",\"\",VLOOKUP($Q$10,DATA!$P$2:$R$196,3))","v":""},{"$f":"IF(JPA18=\"\",\"\",VLOOKUP($Q$10,DATA!$P$2:$R$196,3))","v":""},{"$f":"IF(JPB18=\"\",\"\",VLOOKUP($Q$10,DATA!$P$2:$R$196,3))","v":""},{"$f":"IF(JPC18=\"\",\"\",VLOOKUP($Q$10,DATA!$P$2:$R$196,3))","v":""},{"$f":"IF(JPD18=\"\",\"\",VLOOKUP($Q$10,DATA!$P$2:$R$196,3))","v":""},{"$f":"IF(JPE18=\"\",\"\",VLOOKUP($Q$10,DATA!$P$2:$R$196,3))","v":""},{"$f":"IF(JPF18=\"\",\"\",VLOOKUP($Q$10,DATA!$P$2:$R$196,3))","v":""},{"$f":"IF(JPG18=\"\",\"\",VLOOKUP($Q$10,DATA!$P$2:$R$196,3))","v":""},{"$f":"IF(JPH18=\"\",\"\",VLOOKUP($Q$10,DATA!$P$2:$R$196,3))","v":""},{"$f":"IF(JPI18=\"\",\"\",VLOOKUP($Q$10,DATA!$P$2:$R$196,3))","v":""},{"$f":"IF(JPJ18=\"\",\"\",VLOOKUP($Q$10,DATA!$P$2:$R$196,3))","v":""},{"$f":"IF(JPK18=\"\",\"\",VLOOKUP($Q$10,DATA!$P$2:$R$196,3))","v":""},{"$f":"IF(JPL18=\"\",\"\",VLOOKUP($Q$10,DATA!$P$2:$R$196,3))","v":""},{"$f":"IF(JPM18=\"\",\"\",VLOOKUP($Q$10,DATA!$P$2:$R$196,3))","v":""},{"$f":"IF(JPN18=\"\",\"\",VLOOKUP($Q$10,DATA!$P$2:$R$196,3))","v":""},{"$f":"IF(JPO18=\"\",\"\",VLOOKUP($Q$10,DATA!$P$2:$R$196,3))","v":""},{"$f":"IF(JPP18=\"\",\"\",VLOOKUP($Q$10,DATA!$P$2:$R$196,3))","v":""},{"$f":"IF(JPQ18=\"\",\"\",VLOOKUP($Q$10,DATA!$P$2:$R$196,3))","v":""},{"$f":"IF(JPR18=\"\",\"\",VLOOKUP($Q$10,DATA!$P$2:$R$196,3))","v":""},{"$f":"IF(JPS18=\"\",\"\",VLOOKUP($Q$10,DATA!$P$2:$R$196,3))","v":""},{"$f":"IF(JPT18=\"\",\"\",VLOOKUP($Q$10,DATA!$P$2:$R$196,3))","v":""},{"$f":"IF(JPU18=\"\",\"\",VLOOKUP($Q$10,DATA!$P$2:$R$196,3))","v":""},{"$f":"IF(JPV18=\"\",\"\",VLOOKUP($Q$10,DATA!$P$2:$R$196,3))","v":""},{"$f":"IF(JPW18=\"\",\"\",VLOOKUP($Q$10,DATA!$P$2:$R$196,3))","v":""},{"$f":"IF(JPX18=\"\",\"\",VLOOKUP($Q$10,DATA!$P$2:$R$196,3))","v":""},{"$f":"IF(JPY18=\"\",\"\",VLOOKUP($Q$10,DATA!$P$2:$R$196,3))","v":""},{"$f":"IF(JPZ18=\"\",\"\",VLOOKUP($Q$10,DATA!$P$2:$R$196,3))","v":""},{"$f":"IF(JQA18=\"\",\"\",VLOOKUP($Q$10,DATA!$P$2:$R$196,3))","v":""},{"$f":"IF(JQB18=\"\",\"\",VLOOKUP($Q$10,DATA!$P$2:$R$196,3))","v":""},{"$f":"IF(JQC18=\"\",\"\",VLOOKUP($Q$10,DATA!$P$2:$R$196,3))","v":""},{"$f":"IF(JQD18=\"\",\"\",VLOOKUP($Q$10,DATA!$P$2:$R$196,3))","v":""},{"$f":"IF(JQE18=\"\",\"\",VLOOKUP($Q$10,DATA!$P$2:$R$196,3))","v":""},{"$f":"IF(JQF18=\"\",\"\",VLOOKUP($Q$10,DATA!$P$2:$R$196,3))","v":""},{"$f":"IF(JQG18=\"\",\"\",VLOOKUP($Q$10,DATA!$P$2:$R$196,3))","v":""},{"$f":"IF(JQH18=\"\",\"\",VLOOKUP($Q$10,DATA!$P$2:$R$196,3))","v":""},{"$f":"IF(JQI18=\"\",\"\",VLOOKUP($Q$10,DATA!$P$2:$R$196,3))","v":""},{"$f":"IF(JQJ18=\"\",\"\",VLOOKUP($Q$10,DATA!$P$2:$R$196,3))","v":""},{"$f":"IF(JQK18=\"\",\"\",VLOOKUP($Q$10,DATA!$P$2:$R$196,3))","v":""},{"$f":"IF(JQL18=\"\",\"\",VLOOKUP($Q$10,DATA!$P$2:$R$196,3))","v":""},{"$f":"IF(JQM18=\"\",\"\",VLOOKUP($Q$10,DATA!$P$2:$R$196,3))","v":""},{"$f":"IF(JQN18=\"\",\"\",VLOOKUP($Q$10,DATA!$P$2:$R$196,3))","v":""},{"$f":"IF(JQO18=\"\",\"\",VLOOKUP($Q$10,DATA!$P$2:$R$196,3))","v":""},{"$f":"IF(JQP18=\"\",\"\",VLOOKUP($Q$10,DATA!$P$2:$R$196,3))","v":""},{"$f":"IF(JQQ18=\"\",\"\",VLOOKUP($Q$10,DATA!$P$2:$R$196,3))","v":""},{"$f":"IF(JQR18=\"\",\"\",VLOOKUP($Q$10,DATA!$P$2:$R$196,3))","v":""},{"$f":"IF(JQS18=\"\",\"\",VLOOKUP($Q$10,DATA!$P$2:$R$196,3))","v":""},{"$f":"IF(JQT18=\"\",\"\",VLOOKUP($Q$10,DATA!$P$2:$R$196,3))","v":""},{"$f":"IF(JQU18=\"\",\"\",VLOOKUP($Q$10,DATA!$P$2:$R$196,3))","v":""},{"$f":"IF(JQV18=\"\",\"\",VLOOKUP($Q$10,DATA!$P$2:$R$196,3))","v":""},{"$f":"IF(JQW18=\"\",\"\",VLOOKUP($Q$10,DATA!$P$2:$R$196,3))","v":""},{"$f":"IF(JQX18=\"\",\"\",VLOOKUP($Q$10,DATA!$P$2:$R$196,3))","v":""},{"$f":"IF(JQY18=\"\",\"\",VLOOKUP($Q$10,DATA!$P$2:$R$196,3))","v":""},{"$f":"IF(JQZ18=\"\",\"\",VLOOKUP($Q$10,DATA!$P$2:$R$196,3))","v":""},{"$f":"IF(JRA18=\"\",\"\",VLOOKUP($Q$10,DATA!$P$2:$R$196,3))","v":""},{"$f":"IF(JRB18=\"\",\"\",VLOOKUP($Q$10,DATA!$P$2:$R$196,3))","v":""},{"$f":"IF(JRC18=\"\",\"\",VLOOKUP($Q$10,DATA!$P$2:$R$196,3))","v":""},{"$f":"IF(JRD18=\"\",\"\",VLOOKUP($Q$10,DATA!$P$2:$R$196,3))","v":""},{"$f":"IF(JRE18=\"\",\"\",VLOOKUP($Q$10,DATA!$P$2:$R$196,3))","v":""},{"$f":"IF(JRF18=\"\",\"\",VLOOKUP($Q$10,DATA!$P$2:$R$196,3))","v":""},{"$f":"IF(JRG18=\"\",\"\",VLOOKUP($Q$10,DATA!$P$2:$R$196,3))","v":""},{"$f":"IF(JRH18=\"\",\"\",VLOOKUP($Q$10,DATA!$P$2:$R$196,3))","v":""},{"$f":"IF(JRI18=\"\",\"\",VLOOKUP($Q$10,DATA!$P$2:$R$196,3))","v":""},{"$f":"IF(JRJ18=\"\",\"\",VLOOKUP($Q$10,DATA!$P$2:$R$196,3))","v":""},{"$f":"IF(JRK18=\"\",\"\",VLOOKUP($Q$10,DATA!$P$2:$R$196,3))","v":""},{"$f":"IF(JRL18=\"\",\"\",VLOOKUP($Q$10,DATA!$P$2:$R$196,3))","v":""},{"$f":"IF(JRM18=\"\",\"\",VLOOKUP($Q$10,DATA!$P$2:$R$196,3))","v":""},{"$f":"IF(JRN18=\"\",\"\",VLOOKUP($Q$10,DATA!$P$2:$R$196,3))","v":""},{"$f":"IF(JRO18=\"\",\"\",VLOOKUP($Q$10,DATA!$P$2:$R$196,3))","v":""},{"$f":"IF(JRP18=\"\",\"\",VLOOKUP($Q$10,DATA!$P$2:$R$196,3))","v":""},{"$f":"IF(JRQ18=\"\",\"\",VLOOKUP($Q$10,DATA!$P$2:$R$196,3))","v":""},{"$f":"IF(JRR18=\"\",\"\",VLOOKUP($Q$10,DATA!$P$2:$R$196,3))","v":""},{"$f":"IF(JRS18=\"\",\"\",VLOOKUP($Q$10,DATA!$P$2:$R$196,3))","v":""},{"$f":"IF(JRT18=\"\",\"\",VLOOKUP($Q$10,DATA!$P$2:$R$196,3))","v":""},{"$f":"IF(JRU18=\"\",\"\",VLOOKUP($Q$10,DATA!$P$2:$R$196,3))","v":""},{"$f":"IF(JRV18=\"\",\"\",VLOOKUP($Q$10,DATA!$P$2:$R$196,3))","v":""},{"$f":"IF(JRW18=\"\",\"\",VLOOKUP($Q$10,DATA!$P$2:$R$196,3))","v":""},{"$f":"IF(JRX18=\"\",\"\",VLOOKUP($Q$10,DATA!$P$2:$R$196,3))","v":""},{"$f":"IF(JRY18=\"\",\"\",VLOOKUP($Q$10,DATA!$P$2:$R$196,3))","v":""},{"$f":"IF(JRZ18=\"\",\"\",VLOOKUP($Q$10,DATA!$P$2:$R$196,3))","v":""},{"$f":"IF(JSA18=\"\",\"\",VLOOKUP($Q$10,DATA!$P$2:$R$196,3))","v":""},{"$f":"IF(JSB18=\"\",\"\",VLOOKUP($Q$10,DATA!$P$2:$R$196,3))","v":""},{"$f":"IF(JSC18=\"\",\"\",VLOOKUP($Q$10,DATA!$P$2:$R$196,3))","v":""},{"$f":"IF(JSD18=\"\",\"\",VLOOKUP($Q$10,DATA!$P$2:$R$196,3))","v":""},{"$f":"IF(JSE18=\"\",\"\",VLOOKUP($Q$10,DATA!$P$2:$R$196,3))","v":""},{"$f":"IF(JSF18=\"\",\"\",VLOOKUP($Q$10,DATA!$P$2:$R$196,3))","v":""},{"$f":"IF(JSG18=\"\",\"\",VLOOKUP($Q$10,DATA!$P$2:$R$196,3))","v":""},{"$f":"IF(JSH18=\"\",\"\",VLOOKUP($Q$10,DATA!$P$2:$R$196,3))","v":""},{"$f":"IF(JSI18=\"\",\"\",VLOOKUP($Q$10,DATA!$P$2:$R$196,3))","v":""},{"$f":"IF(JSJ18=\"\",\"\",VLOOKUP($Q$10,DATA!$P$2:$R$196,3))","v":""},{"$f":"IF(JSK18=\"\",\"\",VLOOKUP($Q$10,DATA!$P$2:$R$196,3))","v":""},{"$f":"IF(JSL18=\"\",\"\",VLOOKUP($Q$10,DATA!$P$2:$R$196,3))","v":""},{"$f":"IF(JSM18=\"\",\"\",VLOOKUP($Q$10,DATA!$P$2:$R$196,3))","v":""},{"$f":"IF(JSN18=\"\",\"\",VLOOKUP($Q$10,DATA!$P$2:$R$196,3))","v":""},{"$f":"IF(JSO18=\"\",\"\",VLOOKUP($Q$10,DATA!$P$2:$R$196,3))","v":""},{"$f":"IF(JSP18=\"\",\"\",VLOOKUP($Q$10,DATA!$P$2:$R$196,3))","v":""},{"$f":"IF(JSQ18=\"\",\"\",VLOOKUP($Q$10,DATA!$P$2:$R$196,3))","v":""},{"$f":"IF(JSR18=\"\",\"\",VLOOKUP($Q$10,DATA!$P$2:$R$196,3))","v":""},{"$f":"IF(JSS18=\"\",\"\",VLOOKUP($Q$10,DATA!$P$2:$R$196,3))","v":""},{"$f":"IF(JST18=\"\",\"\",VLOOKUP($Q$10,DATA!$P$2:$R$196,3))","v":""},{"$f":"IF(JSU18=\"\",\"\",VLOOKUP($Q$10,DATA!$P$2:$R$196,3))","v":""},{"$f":"IF(JSV18=\"\",\"\",VLOOKUP($Q$10,DATA!$P$2:$R$196,3))","v":""},{"$f":"IF(JSW18=\"\",\"\",VLOOKUP($Q$10,DATA!$P$2:$R$196,3))","v":""},{"$f":"IF(JSX18=\"\",\"\",VLOOKUP($Q$10,DATA!$P$2:$R$196,3))","v":""},{"$f":"IF(JSY18=\"\",\"\",VLOOKUP($Q$10,DATA!$P$2:$R$196,3))","v":""},{"$f":"IF(JSZ18=\"\",\"\",VLOOKUP($Q$10,DATA!$P$2:$R$196,3))","v":""},{"$f":"IF(JTA18=\"\",\"\",VLOOKUP($Q$10,DATA!$P$2:$R$196,3))","v":""},{"$f":"IF(JTB18=\"\",\"\",VLOOKUP($Q$10,DATA!$P$2:$R$196,3))","v":""},{"$f":"IF(JTC18=\"\",\"\",VLOOKUP($Q$10,DATA!$P$2:$R$196,3))","v":""},{"$f":"IF(JTD18=\"\",\"\",VLOOKUP($Q$10,DATA!$P$2:$R$196,3))","v":""},{"$f":"IF(JTE18=\"\",\"\",VLOOKUP($Q$10,DATA!$P$2:$R$196,3))","v":""},{"$f":"IF(JTF18=\"\",\"\",VLOOKUP($Q$10,DATA!$P$2:$R$196,3))","v":""},{"$f":"IF(JTG18=\"\",\"\",VLOOKUP($Q$10,DATA!$P$2:$R$196,3))","v":""},{"$f":"IF(JTH18=\"\",\"\",VLOOKUP($Q$10,DATA!$P$2:$R$196,3))","v":""},{"$f":"IF(JTI18=\"\",\"\",VLOOKUP($Q$10,DATA!$P$2:$R$196,3))","v":""},{"$f":"IF(JTJ18=\"\",\"\",VLOOKUP($Q$10,DATA!$P$2:$R$196,3))","v":""},{"$f":"IF(JTK18=\"\",\"\",VLOOKUP($Q$10,DATA!$P$2:$R$196,3))","v":""},{"$f":"IF(JTL18=\"\",\"\",VLOOKUP($Q$10,DATA!$P$2:$R$196,3))","v":""},{"$f":"IF(JTM18=\"\",\"\",VLOOKUP($Q$10,DATA!$P$2:$R$196,3))","v":""},{"$f":"IF(JTN18=\"\",\"\",VLOOKUP($Q$10,DATA!$P$2:$R$196,3))","v":""},{"$f":"IF(JTO18=\"\",\"\",VLOOKUP($Q$10,DATA!$P$2:$R$196,3))","v":""},{"$f":"IF(JTP18=\"\",\"\",VLOOKUP($Q$10,DATA!$P$2:$R$196,3))","v":""},{"$f":"IF(JTQ18=\"\",\"\",VLOOKUP($Q$10,DATA!$P$2:$R$196,3))","v":""},{"$f":"IF(JTR18=\"\",\"\",VLOOKUP($Q$10,DATA!$P$2:$R$196,3))","v":""},{"$f":"IF(JTS18=\"\",\"\",VLOOKUP($Q$10,DATA!$P$2:$R$196,3))","v":""},{"$f":"IF(JTT18=\"\",\"\",VLOOKUP($Q$10,DATA!$P$2:$R$196,3))","v":""},{"$f":"IF(JTU18=\"\",\"\",VLOOKUP($Q$10,DATA!$P$2:$R$196,3))","v":""},{"$f":"IF(JTV18=\"\",\"\",VLOOKUP($Q$10,DATA!$P$2:$R$196,3))","v":""},{"$f":"IF(JTW18=\"\",\"\",VLOOKUP($Q$10,DATA!$P$2:$R$196,3))","v":""},{"$f":"IF(JTX18=\"\",\"\",VLOOKUP($Q$10,DATA!$P$2:$R$196,3))","v":""},{"$f":"IF(JTY18=\"\",\"\",VLOOKUP($Q$10,DATA!$P$2:$R$196,3))","v":""},{"$f":"IF(JTZ18=\"\",\"\",VLOOKUP($Q$10,DATA!$P$2:$R$196,3))","v":""},{"$f":"IF(JUA18=\"\",\"\",VLOOKUP($Q$10,DATA!$P$2:$R$196,3))","v":""},{"$f":"IF(JUB18=\"\",\"\",VLOOKUP($Q$10,DATA!$P$2:$R$196,3))","v":""},{"$f":"IF(JUC18=\"\",\"\",VLOOKUP($Q$10,DATA!$P$2:$R$196,3))","v":""},{"$f":"IF(JUD18=\"\",\"\",VLOOKUP($Q$10,DATA!$P$2:$R$196,3))","v":""},{"$f":"IF(JUE18=\"\",\"\",VLOOKUP($Q$10,DATA!$P$2:$R$196,3))","v":""},{"$f":"IF(JUF18=\"\",\"\",VLOOKUP($Q$10,DATA!$P$2:$R$196,3))","v":""},{"$f":"IF(JUG18=\"\",\"\",VLOOKUP($Q$10,DATA!$P$2:$R$196,3))","v":""},{"$f":"IF(JUH18=\"\",\"\",VLOOKUP($Q$10,DATA!$P$2:$R$196,3))","v":""},{"$f":"IF(JUI18=\"\",\"\",VLOOKUP($Q$10,DATA!$P$2:$R$196,3))","v":""},{"$f":"IF(JUJ18=\"\",\"\",VLOOKUP($Q$10,DATA!$P$2:$R$196,3))","v":""},{"$f":"IF(JUK18=\"\",\"\",VLOOKUP($Q$10,DATA!$P$2:$R$196,3))","v":""},{"$f":"IF(JUL18=\"\",\"\",VLOOKUP($Q$10,DATA!$P$2:$R$196,3))","v":""},{"$f":"IF(JUM18=\"\",\"\",VLOOKUP($Q$10,DATA!$P$2:$R$196,3))","v":""},{"$f":"IF(JUN18=\"\",\"\",VLOOKUP($Q$10,DATA!$P$2:$R$196,3))","v":""},{"$f":"IF(JUO18=\"\",\"\",VLOOKUP($Q$10,DATA!$P$2:$R$196,3))","v":""},{"$f":"IF(JUP18=\"\",\"\",VLOOKUP($Q$10,DATA!$P$2:$R$196,3))","v":""},{"$f":"IF(JUQ18=\"\",\"\",VLOOKUP($Q$10,DATA!$P$2:$R$196,3))","v":""},{"$f":"IF(JUR18=\"\",\"\",VLOOKUP($Q$10,DATA!$P$2:$R$196,3))","v":""},{"$f":"IF(JUS18=\"\",\"\",VLOOKUP($Q$10,DATA!$P$2:$R$196,3))","v":""},{"$f":"IF(JUT18=\"\",\"\",VLOOKUP($Q$10,DATA!$P$2:$R$196,3))","v":""},{"$f":"IF(JUU18=\"\",\"\",VLOOKUP($Q$10,DATA!$P$2:$R$196,3))","v":""},{"$f":"IF(JUV18=\"\",\"\",VLOOKUP($Q$10,DATA!$P$2:$R$196,3))","v":""},{"$f":"IF(JUW18=\"\",\"\",VLOOKUP($Q$10,DATA!$P$2:$R$196,3))","v":""},{"$f":"IF(JUX18=\"\",\"\",VLOOKUP($Q$10,DATA!$P$2:$R$196,3))","v":""},{"$f":"IF(JUY18=\"\",\"\",VLOOKUP($Q$10,DATA!$P$2:$R$196,3))","v":""},{"$f":"IF(JUZ18=\"\",\"\",VLOOKUP($Q$10,DATA!$P$2:$R$196,3))","v":""},{"$f":"IF(JVA18=\"\",\"\",VLOOKUP($Q$10,DATA!$P$2:$R$196,3))","v":""},{"$f":"IF(JVB18=\"\",\"\",VLOOKUP($Q$10,DATA!$P$2:$R$196,3))","v":""},{"$f":"IF(JVC18=\"\",\"\",VLOOKUP($Q$10,DATA!$P$2:$R$196,3))","v":""},{"$f":"IF(JVD18=\"\",\"\",VLOOKUP($Q$10,DATA!$P$2:$R$196,3))","v":""},{"$f":"IF(JVE18=\"\",\"\",VLOOKUP($Q$10,DATA!$P$2:$R$196,3))","v":""},{"$f":"IF(JVF18=\"\",\"\",VLOOKUP($Q$10,DATA!$P$2:$R$196,3))","v":""},{"$f":"IF(JVG18=\"\",\"\",VLOOKUP($Q$10,DATA!$P$2:$R$196,3))","v":""},{"$f":"IF(JVH18=\"\",\"\",VLOOKUP($Q$10,DATA!$P$2:$R$196,3))","v":""},{"$f":"IF(JVI18=\"\",\"\",VLOOKUP($Q$10,DATA!$P$2:$R$196,3))","v":""},{"$f":"IF(JVJ18=\"\",\"\",VLOOKUP($Q$10,DATA!$P$2:$R$196,3))","v":""},{"$f":"IF(JVK18=\"\",\"\",VLOOKUP($Q$10,DATA!$P$2:$R$196,3))","v":""},{"$f":"IF(JVL18=\"\",\"\",VLOOKUP($Q$10,DATA!$P$2:$R$196,3))","v":""},{"$f":"IF(JVM18=\"\",\"\",VLOOKUP($Q$10,DATA!$P$2:$R$196,3))","v":""},{"$f":"IF(JVN18=\"\",\"\",VLOOKUP($Q$10,DATA!$P$2:$R$196,3))","v":""},{"$f":"IF(JVO18=\"\",\"\",VLOOKUP($Q$10,DATA!$P$2:$R$196,3))","v":""},{"$f":"IF(JVP18=\"\",\"\",VLOOKUP($Q$10,DATA!$P$2:$R$196,3))","v":""},{"$f":"IF(JVQ18=\"\",\"\",VLOOKUP($Q$10,DATA!$P$2:$R$196,3))","v":""},{"$f":"IF(JVR18=\"\",\"\",VLOOKUP($Q$10,DATA!$P$2:$R$196,3))","v":""},{"$f":"IF(JVS18=\"\",\"\",VLOOKUP($Q$10,DATA!$P$2:$R$196,3))","v":""},{"$f":"IF(JVT18=\"\",\"\",VLOOKUP($Q$10,DATA!$P$2:$R$196,3))","v":""},{"$f":"IF(JVU18=\"\",\"\",VLOOKUP($Q$10,DATA!$P$2:$R$196,3))","v":""},{"$f":"IF(JVV18=\"\",\"\",VLOOKUP($Q$10,DATA!$P$2:$R$196,3))","v":""},{"$f":"IF(JVW18=\"\",\"\",VLOOKUP($Q$10,DATA!$P$2:$R$196,3))","v":""},{"$f":"IF(JVX18=\"\",\"\",VLOOKUP($Q$10,DATA!$P$2:$R$196,3))","v":""},{"$f":"IF(JVY18=\"\",\"\",VLOOKUP($Q$10,DATA!$P$2:$R$196,3))","v":""},{"$f":"IF(JVZ18=\"\",\"\",VLOOKUP($Q$10,DATA!$P$2:$R$196,3))","v":""},{"$f":"IF(JWA18=\"\",\"\",VLOOKUP($Q$10,DATA!$P$2:$R$196,3))","v":""},{"$f":"IF(JWB18=\"\",\"\",VLOOKUP($Q$10,DATA!$P$2:$R$196,3))","v":""},{"$f":"IF(JWC18=\"\",\"\",VLOOKUP($Q$10,DATA!$P$2:$R$196,3))","v":""},{"$f":"IF(JWD18=\"\",\"\",VLOOKUP($Q$10,DATA!$P$2:$R$196,3))","v":""},{"$f":"IF(JWE18=\"\",\"\",VLOOKUP($Q$10,DATA!$P$2:$R$196,3))","v":""},{"$f":"IF(JWF18=\"\",\"\",VLOOKUP($Q$10,DATA!$P$2:$R$196,3))","v":""},{"$f":"IF(JWG18=\"\",\"\",VLOOKUP($Q$10,DATA!$P$2:$R$196,3))","v":""},{"$f":"IF(JWH18=\"\",\"\",VLOOKUP($Q$10,DATA!$P$2:$R$196,3))","v":""},{"$f":"IF(JWI18=\"\",\"\",VLOOKUP($Q$10,DATA!$P$2:$R$196,3))","v":""},{"$f":"IF(JWJ18=\"\",\"\",VLOOKUP($Q$10,DATA!$P$2:$R$196,3))","v":""},{"$f":"IF(JWK18=\"\",\"\",VLOOKUP($Q$10,DATA!$P$2:$R$196,3))","v":""},{"$f":"IF(JWL18=\"\",\"\",VLOOKUP($Q$10,DATA!$P$2:$R$196,3))","v":""},{"$f":"IF(JWM18=\"\",\"\",VLOOKUP($Q$10,DATA!$P$2:$R$196,3))","v":""},{"$f":"IF(JWN18=\"\",\"\",VLOOKUP($Q$10,DATA!$P$2:$R$196,3))","v":""},{"$f":"IF(JWO18=\"\",\"\",VLOOKUP($Q$10,DATA!$P$2:$R$196,3))","v":""},{"$f":"IF(JWP18=\"\",\"\",VLOOKUP($Q$10,DATA!$P$2:$R$196,3))","v":""},{"$f":"IF(JWQ18=\"\",\"\",VLOOKUP($Q$10,DATA!$P$2:$R$196,3))","v":""},{"$f":"IF(JWR18=\"\",\"\",VLOOKUP($Q$10,DATA!$P$2:$R$196,3))","v":""},{"$f":"IF(JWS18=\"\",\"\",VLOOKUP($Q$10,DATA!$P$2:$R$196,3))","v":""},{"$f":"IF(JWT18=\"\",\"\",VLOOKUP($Q$10,DATA!$P$2:$R$196,3))","v":""},{"$f":"IF(JWU18=\"\",\"\",VLOOKUP($Q$10,DATA!$P$2:$R$196,3))","v":""},{"$f":"IF(JWV18=\"\",\"\",VLOOKUP($Q$10,DATA!$P$2:$R$196,3))","v":""},{"$f":"IF(JWW18=\"\",\"\",VLOOKUP($Q$10,DATA!$P$2:$R$196,3))","v":""},{"$f":"IF(JWX18=\"\",\"\",VLOOKUP($Q$10,DATA!$P$2:$R$196,3))","v":""},{"$f":"IF(JWY18=\"\",\"\",VLOOKUP($Q$10,DATA!$P$2:$R$196,3))","v":""},{"$f":"IF(JWZ18=\"\",\"\",VLOOKUP($Q$10,DATA!$P$2:$R$196,3))","v":""},{"$f":"IF(JXA18=\"\",\"\",VLOOKUP($Q$10,DATA!$P$2:$R$196,3))","v":""},{"$f":"IF(JXB18=\"\",\"\",VLOOKUP($Q$10,DATA!$P$2:$R$196,3))","v":""},{"$f":"IF(JXC18=\"\",\"\",VLOOKUP($Q$10,DATA!$P$2:$R$196,3))","v":""},{"$f":"IF(JXD18=\"\",\"\",VLOOKUP($Q$10,DATA!$P$2:$R$196,3))","v":""},{"$f":"IF(JXE18=\"\",\"\",VLOOKUP($Q$10,DATA!$P$2:$R$196,3))","v":""},{"$f":"IF(JXF18=\"\",\"\",VLOOKUP($Q$10,DATA!$P$2:$R$196,3))","v":""},{"$f":"IF(JXG18=\"\",\"\",VLOOKUP($Q$10,DATA!$P$2:$R$196,3))","v":""},{"$f":"IF(JXH18=\"\",\"\",VLOOKUP($Q$10,DATA!$P$2:$R$196,3))","v":""},{"$f":"IF(JXI18=\"\",\"\",VLOOKUP($Q$10,DATA!$P$2:$R$196,3))","v":""},{"$f":"IF(JXJ18=\"\",\"\",VLOOKUP($Q$10,DATA!$P$2:$R$196,3))","v":""},{"$f":"IF(JXK18=\"\",\"\",VLOOKUP($Q$10,DATA!$P$2:$R$196,3))","v":""},{"$f":"IF(JXL18=\"\",\"\",VLOOKUP($Q$10,DATA!$P$2:$R$196,3))","v":""},{"$f":"IF(JXM18=\"\",\"\",VLOOKUP($Q$10,DATA!$P$2:$R$196,3))","v":""},{"$f":"IF(JXN18=\"\",\"\",VLOOKUP($Q$10,DATA!$P$2:$R$196,3))","v":""},{"$f":"IF(JXO18=\"\",\"\",VLOOKUP($Q$10,DATA!$P$2:$R$196,3))","v":""},{"$f":"IF(JXP18=\"\",\"\",VLOOKUP($Q$10,DATA!$P$2:$R$196,3))","v":""},{"$f":"IF(JXQ18=\"\",\"\",VLOOKUP($Q$10,DATA!$P$2:$R$196,3))","v":""},{"$f":"IF(JXR18=\"\",\"\",VLOOKUP($Q$10,DATA!$P$2:$R$196,3))","v":""},{"$f":"IF(JXS18=\"\",\"\",VLOOKUP($Q$10,DATA!$P$2:$R$196,3))","v":""},{"$f":"IF(JXT18=\"\",\"\",VLOOKUP($Q$10,DATA!$P$2:$R$196,3))","v":""},{"$f":"IF(JXU18=\"\",\"\",VLOOKUP($Q$10,DATA!$P$2:$R$196,3))","v":""},{"$f":"IF(JXV18=\"\",\"\",VLOOKUP($Q$10,DATA!$P$2:$R$196,3))","v":""},{"$f":"IF(JXW18=\"\",\"\",VLOOKUP($Q$10,DATA!$P$2:$R$196,3))","v":""},{"$f":"IF(JXX18=\"\",\"\",VLOOKUP($Q$10,DATA!$P$2:$R$196,3))","v":""},{"$f":"IF(JXY18=\"\",\"\",VLOOKUP($Q$10,DATA!$P$2:$R$196,3))","v":""},{"$f":"IF(JXZ18=\"\",\"\",VLOOKUP($Q$10,DATA!$P$2:$R$196,3))","v":""},{"$f":"IF(JYA18=\"\",\"\",VLOOKUP($Q$10,DATA!$P$2:$R$196,3))","v":""},{"$f":"IF(JYB18=\"\",\"\",VLOOKUP($Q$10,DATA!$P$2:$R$196,3))","v":""},{"$f":"IF(JYC18=\"\",\"\",VLOOKUP($Q$10,DATA!$P$2:$R$196,3))","v":""},{"$f":"IF(JYD18=\"\",\"\",VLOOKUP($Q$10,DATA!$P$2:$R$196,3))","v":""},{"$f":"IF(JYE18=\"\",\"\",VLOOKUP($Q$10,DATA!$P$2:$R$196,3))","v":""},{"$f":"IF(JYF18=\"\",\"\",VLOOKUP($Q$10,DATA!$P$2:$R$196,3))","v":""},{"$f":"IF(JYG18=\"\",\"\",VLOOKUP($Q$10,DATA!$P$2:$R$196,3))","v":""},{"$f":"IF(JYH18=\"\",\"\",VLOOKUP($Q$10,DATA!$P$2:$R$196,3))","v":""},{"$f":"IF(JYI18=\"\",\"\",VLOOKUP($Q$10,DATA!$P$2:$R$196,3))","v":""},{"$f":"IF(JYJ18=\"\",\"\",VLOOKUP($Q$10,DATA!$P$2:$R$196,3))","v":""},{"$f":"IF(JYK18=\"\",\"\",VLOOKUP($Q$10,DATA!$P$2:$R$196,3))","v":""},{"$f":"IF(JYL18=\"\",\"\",VLOOKUP($Q$10,DATA!$P$2:$R$196,3))","v":""},{"$f":"IF(JYM18=\"\",\"\",VLOOKUP($Q$10,DATA!$P$2:$R$196,3))","v":""},{"$f":"IF(JYN18=\"\",\"\",VLOOKUP($Q$10,DATA!$P$2:$R$196,3))","v":""},{"$f":"IF(JYO18=\"\",\"\",VLOOKUP($Q$10,DATA!$P$2:$R$196,3))","v":""},{"$f":"IF(JYP18=\"\",\"\",VLOOKUP($Q$10,DATA!$P$2:$R$196,3))","v":""},{"$f":"IF(JYQ18=\"\",\"\",VLOOKUP($Q$10,DATA!$P$2:$R$196,3))","v":""},{"$f":"IF(JYR18=\"\",\"\",VLOOKUP($Q$10,DATA!$P$2:$R$196,3))","v":""},{"$f":"IF(JYS18=\"\",\"\",VLOOKUP($Q$10,DATA!$P$2:$R$196,3))","v":""},{"$f":"IF(JYT18=\"\",\"\",VLOOKUP($Q$10,DATA!$P$2:$R$196,3))","v":""},{"$f":"IF(JYU18=\"\",\"\",VLOOKUP($Q$10,DATA!$P$2:$R$196,3))","v":""},{"$f":"IF(JYV18=\"\",\"\",VLOOKUP($Q$10,DATA!$P$2:$R$196,3))","v":""},{"$f":"IF(JYW18=\"\",\"\",VLOOKUP($Q$10,DATA!$P$2:$R$196,3))","v":""},{"$f":"IF(JYX18=\"\",\"\",VLOOKUP($Q$10,DATA!$P$2:$R$196,3))","v":""},{"$f":"IF(JYY18=\"\",\"\",VLOOKUP($Q$10,DATA!$P$2:$R$196,3))","v":""},{"$f":"IF(JYZ18=\"\",\"\",VLOOKUP($Q$10,DATA!$P$2:$R$196,3))","v":""},{"$f":"IF(JZA18=\"\",\"\",VLOOKUP($Q$10,DATA!$P$2:$R$196,3))","v":""},{"$f":"IF(JZB18=\"\",\"\",VLOOKUP($Q$10,DATA!$P$2:$R$196,3))","v":""},{"$f":"IF(JZC18=\"\",\"\",VLOOKUP($Q$10,DATA!$P$2:$R$196,3))","v":""},{"$f":"IF(JZD18=\"\",\"\",VLOOKUP($Q$10,DATA!$P$2:$R$196,3))","v":""},{"$f":"IF(JZE18=\"\",\"\",VLOOKUP($Q$10,DATA!$P$2:$R$196,3))","v":""},{"$f":"IF(JZF18=\"\",\"\",VLOOKUP($Q$10,DATA!$P$2:$R$196,3))","v":""},{"$f":"IF(JZG18=\"\",\"\",VLOOKUP($Q$10,DATA!$P$2:$R$196,3))","v":""},{"$f":"IF(JZH18=\"\",\"\",VLOOKUP($Q$10,DATA!$P$2:$R$196,3))","v":""},{"$f":"IF(JZI18=\"\",\"\",VLOOKUP($Q$10,DATA!$P$2:$R$196,3))","v":""},{"$f":"IF(JZJ18=\"\",\"\",VLOOKUP($Q$10,DATA!$P$2:$R$196,3))","v":""},{"$f":"IF(JZK18=\"\",\"\",VLOOKUP($Q$10,DATA!$P$2:$R$196,3))","v":""},{"$f":"IF(JZL18=\"\",\"\",VLOOKUP($Q$10,DATA!$P$2:$R$196,3))","v":""},{"$f":"IF(JZM18=\"\",\"\",VLOOKUP($Q$10,DATA!$P$2:$R$196,3))","v":""},{"$f":"IF(JZN18=\"\",\"\",VLOOKUP($Q$10,DATA!$P$2:$R$196,3))","v":""},{"$f":"IF(JZO18=\"\",\"\",VLOOKUP($Q$10,DATA!$P$2:$R$196,3))","v":""},{"$f":"IF(JZP18=\"\",\"\",VLOOKUP($Q$10,DATA!$P$2:$R$196,3))","v":""},{"$f":"IF(JZQ18=\"\",\"\",VLOOKUP($Q$10,DATA!$P$2:$R$196,3))","v":""},{"$f":"IF(JZR18=\"\",\"\",VLOOKUP($Q$10,DATA!$P$2:$R$196,3))","v":""},{"$f":"IF(JZS18=\"\",\"\",VLOOKUP($Q$10,DATA!$P$2:$R$196,3))","v":""},{"$f":"IF(JZT18=\"\",\"\",VLOOKUP($Q$10,DATA!$P$2:$R$196,3))","v":""},{"$f":"IF(JZU18=\"\",\"\",VLOOKUP($Q$10,DATA!$P$2:$R$196,3))","v":""},{"$f":"IF(JZV18=\"\",\"\",VLOOKUP($Q$10,DATA!$P$2:$R$196,3))","v":""},{"$f":"IF(JZW18=\"\",\"\",VLOOKUP($Q$10,DATA!$P$2:$R$196,3))","v":""},{"$f":"IF(JZX18=\"\",\"\",VLOOKUP($Q$10,DATA!$P$2:$R$196,3))","v":""},{"$f":"IF(JZY18=\"\",\"\",VLOOKUP($Q$10,DATA!$P$2:$R$196,3))","v":""},{"$f":"IF(JZZ18=\"\",\"\",VLOOKUP($Q$10,DATA!$P$2:$R$196,3))","v":""},{"$f":"IF(KAA18=\"\",\"\",VLOOKUP($Q$10,DATA!$P$2:$R$196,3))","v":""},{"$f":"IF(KAB18=\"\",\"\",VLOOKUP($Q$10,DATA!$P$2:$R$196,3))","v":""},{"$f":"IF(KAC18=\"\",\"\",VLOOKUP($Q$10,DATA!$P$2:$R$196,3))","v":""},{"$f":"IF(KAD18=\"\",\"\",VLOOKUP($Q$10,DATA!$P$2:$R$196,3))","v":""},{"$f":"IF(KAE18=\"\",\"\",VLOOKUP($Q$10,DATA!$P$2:$R$196,3))","v":""},{"$f":"IF(KAF18=\"\",\"\",VLOOKUP($Q$10,DATA!$P$2:$R$196,3))","v":""},{"$f":"IF(KAG18=\"\",\"\",VLOOKUP($Q$10,DATA!$P$2:$R$196,3))","v":""},{"$f":"IF(KAH18=\"\",\"\",VLOOKUP($Q$10,DATA!$P$2:$R$196,3))","v":""},{"$f":"IF(KAI18=\"\",\"\",VLOOKUP($Q$10,DATA!$P$2:$R$196,3))","v":""},{"$f":"IF(KAJ18=\"\",\"\",VLOOKUP($Q$10,DATA!$P$2:$R$196,3))","v":""},{"$f":"IF(KAK18=\"\",\"\",VLOOKUP($Q$10,DATA!$P$2:$R$196,3))","v":""},{"$f":"IF(KAL18=\"\",\"\",VLOOKUP($Q$10,DATA!$P$2:$R$196,3))","v":""},{"$f":"IF(KAM18=\"\",\"\",VLOOKUP($Q$10,DATA!$P$2:$R$196,3))","v":""},{"$f":"IF(KAN18=\"\",\"\",VLOOKUP($Q$10,DATA!$P$2:$R$196,3))","v":""},{"$f":"IF(KAO18=\"\",\"\",VLOOKUP($Q$10,DATA!$P$2:$R$196,3))","v":""},{"$f":"IF(KAP18=\"\",\"\",VLOOKUP($Q$10,DATA!$P$2:$R$196,3))","v":""},{"$f":"IF(KAQ18=\"\",\"\",VLOOKUP($Q$10,DATA!$P$2:$R$196,3))","v":""},{"$f":"IF(KAR18=\"\",\"\",VLOOKUP($Q$10,DATA!$P$2:$R$196,3))","v":""},{"$f":"IF(KAS18=\"\",\"\",VLOOKUP($Q$10,DATA!$P$2:$R$196,3))","v":""},{"$f":"IF(KAT18=\"\",\"\",VLOOKUP($Q$10,DATA!$P$2:$R$196,3))","v":""},{"$f":"IF(KAU18=\"\",\"\",VLOOKUP($Q$10,DATA!$P$2:$R$196,3))","v":""},{"$f":"IF(KAV18=\"\",\"\",VLOOKUP($Q$10,DATA!$P$2:$R$196,3))","v":""},{"$f":"IF(KAW18=\"\",\"\",VLOOKUP($Q$10,DATA!$P$2:$R$196,3))","v":""},{"$f":"IF(KAX18=\"\",\"\",VLOOKUP($Q$10,DATA!$P$2:$R$196,3))","v":""},{"$f":"IF(KAY18=\"\",\"\",VLOOKUP($Q$10,DATA!$P$2:$R$196,3))","v":""},{"$f":"IF(KAZ18=\"\",\"\",VLOOKUP($Q$10,DATA!$P$2:$R$196,3))","v":""},{"$f":"IF(KBA18=\"\",\"\",VLOOKUP($Q$10,DATA!$P$2:$R$196,3))","v":""},{"$f":"IF(KBB18=\"\",\"\",VLOOKUP($Q$10,DATA!$P$2:$R$196,3))","v":""},{"$f":"IF(KBC18=\"\",\"\",VLOOKUP($Q$10,DATA!$P$2:$R$196,3))","v":""},{"$f":"IF(KBD18=\"\",\"\",VLOOKUP($Q$10,DATA!$P$2:$R$196,3))","v":""},{"$f":"IF(KBE18=\"\",\"\",VLOOKUP($Q$10,DATA!$P$2:$R$196,3))","v":""},{"$f":"IF(KBF18=\"\",\"\",VLOOKUP($Q$10,DATA!$P$2:$R$196,3))","v":""},{"$f":"IF(KBG18=\"\",\"\",VLOOKUP($Q$10,DATA!$P$2:$R$196,3))","v":""},{"$f":"IF(KBH18=\"\",\"\",VLOOKUP($Q$10,DATA!$P$2:$R$196,3))","v":""},{"$f":"IF(KBI18=\"\",\"\",VLOOKUP($Q$10,DATA!$P$2:$R$196,3))","v":""},{"$f":"IF(KBJ18=\"\",\"\",VLOOKUP($Q$10,DATA!$P$2:$R$196,3))","v":""},{"$f":"IF(KBK18=\"\",\"\",VLOOKUP($Q$10,DATA!$P$2:$R$196,3))","v":""},{"$f":"IF(KBL18=\"\",\"\",VLOOKUP($Q$10,DATA!$P$2:$R$196,3))","v":""},{"$f":"IF(KBM18=\"\",\"\",VLOOKUP($Q$10,DATA!$P$2:$R$196,3))","v":""},{"$f":"IF(KBN18=\"\",\"\",VLOOKUP($Q$10,DATA!$P$2:$R$196,3))","v":""},{"$f":"IF(KBO18=\"\",\"\",VLOOKUP($Q$10,DATA!$P$2:$R$196,3))","v":""},{"$f":"IF(KBP18=\"\",\"\",VLOOKUP($Q$10,DATA!$P$2:$R$196,3))","v":""},{"$f":"IF(KBQ18=\"\",\"\",VLOOKUP($Q$10,DATA!$P$2:$R$196,3))","v":""},{"$f":"IF(KBR18=\"\",\"\",VLOOKUP($Q$10,DATA!$P$2:$R$196,3))","v":""},{"$f":"IF(KBS18=\"\",\"\",VLOOKUP($Q$10,DATA!$P$2:$R$196,3))","v":""},{"$f":"IF(KBT18=\"\",\"\",VLOOKUP($Q$10,DATA!$P$2:$R$196,3))","v":""},{"$f":"IF(KBU18=\"\",\"\",VLOOKUP($Q$10,DATA!$P$2:$R$196,3))","v":""},{"$f":"IF(KBV18=\"\",\"\",VLOOKUP($Q$10,DATA!$P$2:$R$196,3))","v":""},{"$f":"IF(KBW18=\"\",\"\",VLOOKUP($Q$10,DATA!$P$2:$R$196,3))","v":""},{"$f":"IF(KBX18=\"\",\"\",VLOOKUP($Q$10,DATA!$P$2:$R$196,3))","v":""},{"$f":"IF(KBY18=\"\",\"\",VLOOKUP($Q$10,DATA!$P$2:$R$196,3))","v":""},{"$f":"IF(KBZ18=\"\",\"\",VLOOKUP($Q$10,DATA!$P$2:$R$196,3))","v":""},{"$f":"IF(KCA18=\"\",\"\",VLOOKUP($Q$10,DATA!$P$2:$R$196,3))","v":""},{"$f":"IF(KCB18=\"\",\"\",VLOOKUP($Q$10,DATA!$P$2:$R$196,3))","v":""},{"$f":"IF(KCC18=\"\",\"\",VLOOKUP($Q$10,DATA!$P$2:$R$196,3))","v":""},{"$f":"IF(KCD18=\"\",\"\",VLOOKUP($Q$10,DATA!$P$2:$R$196,3))","v":""},{"$f":"IF(KCE18=\"\",\"\",VLOOKUP($Q$10,DATA!$P$2:$R$196,3))","v":""},{"$f":"IF(KCF18=\"\",\"\",VLOOKUP($Q$10,DATA!$P$2:$R$196,3))","v":""},{"$f":"IF(KCG18=\"\",\"\",VLOOKUP($Q$10,DATA!$P$2:$R$196,3))","v":""},{"$f":"IF(KCH18=\"\",\"\",VLOOKUP($Q$10,DATA!$P$2:$R$196,3))","v":""},{"$f":"IF(KCI18=\"\",\"\",VLOOKUP($Q$10,DATA!$P$2:$R$196,3))","v":""},{"$f":"IF(KCJ18=\"\",\"\",VLOOKUP($Q$10,DATA!$P$2:$R$196,3))","v":""},{"$f":"IF(KCK18=\"\",\"\",VLOOKUP($Q$10,DATA!$P$2:$R$196,3))","v":""},{"$f":"IF(KCL18=\"\",\"\",VLOOKUP($Q$10,DATA!$P$2:$R$196,3))","v":""},{"$f":"IF(KCM18=\"\",\"\",VLOOKUP($Q$10,DATA!$P$2:$R$196,3))","v":""},{"$f":"IF(KCN18=\"\",\"\",VLOOKUP($Q$10,DATA!$P$2:$R$196,3))","v":""},{"$f":"IF(KCO18=\"\",\"\",VLOOKUP($Q$10,DATA!$P$2:$R$196,3))","v":""},{"$f":"IF(KCP18=\"\",\"\",VLOOKUP($Q$10,DATA!$P$2:$R$196,3))","v":""},{"$f":"IF(KCQ18=\"\",\"\",VLOOKUP($Q$10,DATA!$P$2:$R$196,3))","v":""},{"$f":"IF(KCR18=\"\",\"\",VLOOKUP($Q$10,DATA!$P$2:$R$196,3))","v":""},{"$f":"IF(KCS18=\"\",\"\",VLOOKUP($Q$10,DATA!$P$2:$R$196,3))","v":""},{"$f":"IF(KCT18=\"\",\"\",VLOOKUP($Q$10,DATA!$P$2:$R$196,3))","v":""},{"$f":"IF(KCU18=\"\",\"\",VLOOKUP($Q$10,DATA!$P$2:$R$196,3))","v":""},{"$f":"IF(KCV18=\"\",\"\",VLOOKUP($Q$10,DATA!$P$2:$R$196,3))","v":""},{"$f":"IF(KCW18=\"\",\"\",VLOOKUP($Q$10,DATA!$P$2:$R$196,3))","v":""},{"$f":"IF(KCX18=\"\",\"\",VLOOKUP($Q$10,DATA!$P$2:$R$196,3))","v":""},{"$f":"IF(KCY18=\"\",\"\",VLOOKUP($Q$10,DATA!$P$2:$R$196,3))","v":""},{"$f":"IF(KCZ18=\"\",\"\",VLOOKUP($Q$10,DATA!$P$2:$R$196,3))","v":""},{"$f":"IF(KDA18=\"\",\"\",VLOOKUP($Q$10,DATA!$P$2:$R$196,3))","v":""},{"$f":"IF(KDB18=\"\",\"\",VLOOKUP($Q$10,DATA!$P$2:$R$196,3))","v":""},{"$f":"IF(KDC18=\"\",\"\",VLOOKUP($Q$10,DATA!$P$2:$R$196,3))","v":""},{"$f":"IF(KDD18=\"\",\"\",VLOOKUP($Q$10,DATA!$P$2:$R$196,3))","v":""},{"$f":"IF(KDE18=\"\",\"\",VLOOKUP($Q$10,DATA!$P$2:$R$196,3))","v":""},{"$f":"IF(KDF18=\"\",\"\",VLOOKUP($Q$10,DATA!$P$2:$R$196,3))","v":""},{"$f":"IF(KDG18=\"\",\"\",VLOOKUP($Q$10,DATA!$P$2:$R$196,3))","v":""},{"$f":"IF(KDH18=\"\",\"\",VLOOKUP($Q$10,DATA!$P$2:$R$196,3))","v":""},{"$f":"IF(KDI18=\"\",\"\",VLOOKUP($Q$10,DATA!$P$2:$R$196,3))","v":""},{"$f":"IF(KDJ18=\"\",\"\",VLOOKUP($Q$10,DATA!$P$2:$R$196,3))","v":""},{"$f":"IF(KDK18=\"\",\"\",VLOOKUP($Q$10,DATA!$P$2:$R$196,3))","v":""},{"$f":"IF(KDL18=\"\",\"\",VLOOKUP($Q$10,DATA!$P$2:$R$196,3))","v":""},{"$f":"IF(KDM18=\"\",\"\",VLOOKUP($Q$10,DATA!$P$2:$R$196,3))","v":""},{"$f":"IF(KDN18=\"\",\"\",VLOOKUP($Q$10,DATA!$P$2:$R$196,3))","v":""},{"$f":"IF(KDO18=\"\",\"\",VLOOKUP($Q$10,DATA!$P$2:$R$196,3))","v":""},{"$f":"IF(KDP18=\"\",\"\",VLOOKUP($Q$10,DATA!$P$2:$R$196,3))","v":""},{"$f":"IF(KDQ18=\"\",\"\",VLOOKUP($Q$10,DATA!$P$2:$R$196,3))","v":""},{"$f":"IF(KDR18=\"\",\"\",VLOOKUP($Q$10,DATA!$P$2:$R$196,3))","v":""},{"$f":"IF(KDS18=\"\",\"\",VLOOKUP($Q$10,DATA!$P$2:$R$196,3))","v":""},{"$f":"IF(KDT18=\"\",\"\",VLOOKUP($Q$10,DATA!$P$2:$R$196,3))","v":""},{"$f":"IF(KDU18=\"\",\"\",VLOOKUP($Q$10,DATA!$P$2:$R$196,3))","v":""},{"$f":"IF(KDV18=\"\",\"\",VLOOKUP($Q$10,DATA!$P$2:$R$196,3))","v":""},{"$f":"IF(KDW18=\"\",\"\",VLOOKUP($Q$10,DATA!$P$2:$R$196,3))","v":""},{"$f":"IF(KDX18=\"\",\"\",VLOOKUP($Q$10,DATA!$P$2:$R$196,3))","v":""},{"$f":"IF(KDY18=\"\",\"\",VLOOKUP($Q$10,DATA!$P$2:$R$196,3))","v":""},{"$f":"IF(KDZ18=\"\",\"\",VLOOKUP($Q$10,DATA!$P$2:$R$196,3))","v":""},{"$f":"IF(KEA18=\"\",\"\",VLOOKUP($Q$10,DATA!$P$2:$R$196,3))","v":""},{"$f":"IF(KEB18=\"\",\"\",VLOOKUP($Q$10,DATA!$P$2:$R$196,3))","v":""},{"$f":"IF(KEC18=\"\",\"\",VLOOKUP($Q$10,DATA!$P$2:$R$196,3))","v":""},{"$f":"IF(KED18=\"\",\"\",VLOOKUP($Q$10,DATA!$P$2:$R$196,3))","v":""},{"$f":"IF(KEE18=\"\",\"\",VLOOKUP($Q$10,DATA!$P$2:$R$196,3))","v":""},{"$f":"IF(KEF18=\"\",\"\",VLOOKUP($Q$10,DATA!$P$2:$R$196,3))","v":""},{"$f":"IF(KEG18=\"\",\"\",VLOOKUP($Q$10,DATA!$P$2:$R$196,3))","v":""},{"$f":"IF(KEH18=\"\",\"\",VLOOKUP($Q$10,DATA!$P$2:$R$196,3))","v":""},{"$f":"IF(KEI18=\"\",\"\",VLOOKUP($Q$10,DATA!$P$2:$R$196,3))","v":""},{"$f":"IF(KEJ18=\"\",\"\",VLOOKUP($Q$10,DATA!$P$2:$R$196,3))","v":""},{"$f":"IF(KEK18=\"\",\"\",VLOOKUP($Q$10,DATA!$P$2:$R$196,3))","v":""},{"$f":"IF(KEL18=\"\",\"\",VLOOKUP($Q$10,DATA!$P$2:$R$196,3))","v":""},{"$f":"IF(KEM18=\"\",\"\",VLOOKUP($Q$10,DATA!$P$2:$R$196,3))","v":""},{"$f":"IF(KEN18=\"\",\"\",VLOOKUP($Q$10,DATA!$P$2:$R$196,3))","v":""},{"$f":"IF(KEO18=\"\",\"\",VLOOKUP($Q$10,DATA!$P$2:$R$196,3))","v":""},{"$f":"IF(KEP18=\"\",\"\",VLOOKUP($Q$10,DATA!$P$2:$R$196,3))","v":""},{"$f":"IF(KEQ18=\"\",\"\",VLOOKUP($Q$10,DATA!$P$2:$R$196,3))","v":""},{"$f":"IF(KER18=\"\",\"\",VLOOKUP($Q$10,DATA!$P$2:$R$196,3))","v":""},{"$f":"IF(KES18=\"\",\"\",VLOOKUP($Q$10,DATA!$P$2:$R$196,3))","v":""},{"$f":"IF(KET18=\"\",\"\",VLOOKUP($Q$10,DATA!$P$2:$R$196,3))","v":""},{"$f":"IF(KEU18=\"\",\"\",VLOOKUP($Q$10,DATA!$P$2:$R$196,3))","v":""},{"$f":"IF(KEV18=\"\",\"\",VLOOKUP($Q$10,DATA!$P$2:$R$196,3))","v":""},{"$f":"IF(KEW18=\"\",\"\",VLOOKUP($Q$10,DATA!$P$2:$R$196,3))","v":""},{"$f":"IF(KEX18=\"\",\"\",VLOOKUP($Q$10,DATA!$P$2:$R$196,3))","v":""},{"$f":"IF(KEY18=\"\",\"\",VLOOKUP($Q$10,DATA!$P$2:$R$196,3))","v":""},{"$f":"IF(KEZ18=\"\",\"\",VLOOKUP($Q$10,DATA!$P$2:$R$196,3))","v":""},{"$f":"IF(KFA18=\"\",\"\",VLOOKUP($Q$10,DATA!$P$2:$R$196,3))","v":""},{"$f":"IF(KFB18=\"\",\"\",VLOOKUP($Q$10,DATA!$P$2:$R$196,3))","v":""},{"$f":"IF(KFC18=\"\",\"\",VLOOKUP($Q$10,DATA!$P$2:$R$196,3))","v":""},{"$f":"IF(KFD18=\"\",\"\",VLOOKUP($Q$10,DATA!$P$2:$R$196,3))","v":""},{"$f":"IF(KFE18=\"\",\"\",VLOOKUP($Q$10,DATA!$P$2:$R$196,3))","v":""},{"$f":"IF(KFF18=\"\",\"\",VLOOKUP($Q$10,DATA!$P$2:$R$196,3))","v":""},{"$f":"IF(KFG18=\"\",\"\",VLOOKUP($Q$10,DATA!$P$2:$R$196,3))","v":""},{"$f":"IF(KFH18=\"\",\"\",VLOOKUP($Q$10,DATA!$P$2:$R$196,3))","v":""},{"$f":"IF(KFI18=\"\",\"\",VLOOKUP($Q$10,DATA!$P$2:$R$196,3))","v":""},{"$f":"IF(KFJ18=\"\",\"\",VLOOKUP($Q$10,DATA!$P$2:$R$196,3))","v":""},{"$f":"IF(KFK18=\"\",\"\",VLOOKUP($Q$10,DATA!$P$2:$R$196,3))","v":""},{"$f":"IF(KFL18=\"\",\"\",VLOOKUP($Q$10,DATA!$P$2:$R$196,3))","v":""},{"$f":"IF(KFM18=\"\",\"\",VLOOKUP($Q$10,DATA!$P$2:$R$196,3))","v":""},{"$f":"IF(KFN18=\"\",\"\",VLOOKUP($Q$10,DATA!$P$2:$R$196,3))","v":""},{"$f":"IF(KFO18=\"\",\"\",VLOOKUP($Q$10,DATA!$P$2:$R$196,3))","v":""},{"$f":"IF(KFP18=\"\",\"\",VLOOKUP($Q$10,DATA!$P$2:$R$196,3))","v":""},{"$f":"IF(KFQ18=\"\",\"\",VLOOKUP($Q$10,DATA!$P$2:$R$196,3))","v":""},{"$f":"IF(KFR18=\"\",\"\",VLOOKUP($Q$10,DATA!$P$2:$R$196,3))","v":""},{"$f":"IF(KFS18=\"\",\"\",VLOOKUP($Q$10,DATA!$P$2:$R$196,3))","v":""},{"$f":"IF(KFT18=\"\",\"\",VLOOKUP($Q$10,DATA!$P$2:$R$196,3))","v":""},{"$f":"IF(KFU18=\"\",\"\",VLOOKUP($Q$10,DATA!$P$2:$R$196,3))","v":""},{"$f":"IF(KFV18=\"\",\"\",VLOOKUP($Q$10,DATA!$P$2:$R$196,3))","v":""},{"$f":"IF(KFW18=\"\",\"\",VLOOKUP($Q$10,DATA!$P$2:$R$196,3))","v":""},{"$f":"IF(KFX18=\"\",\"\",VLOOKUP($Q$10,DATA!$P$2:$R$196,3))","v":""},{"$f":"IF(KFY18=\"\",\"\",VLOOKUP($Q$10,DATA!$P$2:$R$196,3))","v":""},{"$f":"IF(KFZ18=\"\",\"\",VLOOKUP($Q$10,DATA!$P$2:$R$196,3))","v":""},{"$f":"IF(KGA18=\"\",\"\",VLOOKUP($Q$10,DATA!$P$2:$R$196,3))","v":""},{"$f":"IF(KGB18=\"\",\"\",VLOOKUP($Q$10,DATA!$P$2:$R$196,3))","v":""},{"$f":"IF(KGC18=\"\",\"\",VLOOKUP($Q$10,DATA!$P$2:$R$196,3))","v":""},{"$f":"IF(KGD18=\"\",\"\",VLOOKUP($Q$10,DATA!$P$2:$R$196,3))","v":""},{"$f":"IF(KGE18=\"\",\"\",VLOOKUP($Q$10,DATA!$P$2:$R$196,3))","v":""},{"$f":"IF(KGF18=\"\",\"\",VLOOKUP($Q$10,DATA!$P$2:$R$196,3))","v":""},{"$f":"IF(KGG18=\"\",\"\",VLOOKUP($Q$10,DATA!$P$2:$R$196,3))","v":""},{"$f":"IF(KGH18=\"\",\"\",VLOOKUP($Q$10,DATA!$P$2:$R$196,3))","v":""},{"$f":"IF(KGI18=\"\",\"\",VLOOKUP($Q$10,DATA!$P$2:$R$196,3))","v":""},{"$f":"IF(KGJ18=\"\",\"\",VLOOKUP($Q$10,DATA!$P$2:$R$196,3))","v":""},{"$f":"IF(KGK18=\"\",\"\",VLOOKUP($Q$10,DATA!$P$2:$R$196,3))","v":""},{"$f":"IF(KGL18=\"\",\"\",VLOOKUP($Q$10,DATA!$P$2:$R$196,3))","v":""},{"$f":"IF(KGM18=\"\",\"\",VLOOKUP($Q$10,DATA!$P$2:$R$196,3))","v":""},{"$f":"IF(KGN18=\"\",\"\",VLOOKUP($Q$10,DATA!$P$2:$R$196,3))","v":""},{"$f":"IF(KGO18=\"\",\"\",VLOOKUP($Q$10,DATA!$P$2:$R$196,3))","v":""},{"$f":"IF(KGP18=\"\",\"\",VLOOKUP($Q$10,DATA!$P$2:$R$196,3))","v":""},{"$f":"IF(KGQ18=\"\",\"\",VLOOKUP($Q$10,DATA!$P$2:$R$196,3))","v":""},{"$f":"IF(KGR18=\"\",\"\",VLOOKUP($Q$10,DATA!$P$2:$R$196,3))","v":""},{"$f":"IF(KGS18=\"\",\"\",VLOOKUP($Q$10,DATA!$P$2:$R$196,3))","v":""},{"$f":"IF(KGT18=\"\",\"\",VLOOKUP($Q$10,DATA!$P$2:$R$196,3))","v":""},{"$f":"IF(KGU18=\"\",\"\",VLOOKUP($Q$10,DATA!$P$2:$R$196,3))","v":""},{"$f":"IF(KGV18=\"\",\"\",VLOOKUP($Q$10,DATA!$P$2:$R$196,3))","v":""},{"$f":"IF(KGW18=\"\",\"\",VLOOKUP($Q$10,DATA!$P$2:$R$196,3))","v":""},{"$f":"IF(KGX18=\"\",\"\",VLOOKUP($Q$10,DATA!$P$2:$R$196,3))","v":""},{"$f":"IF(KGY18=\"\",\"\",VLOOKUP($Q$10,DATA!$P$2:$R$196,3))","v":""},{"$f":"IF(KGZ18=\"\",\"\",VLOOKUP($Q$10,DATA!$P$2:$R$196,3))","v":""},{"$f":"IF(KHA18=\"\",\"\",VLOOKUP($Q$10,DATA!$P$2:$R$196,3))","v":""},{"$f":"IF(KHB18=\"\",\"\",VLOOKUP($Q$10,DATA!$P$2:$R$196,3))","v":""},{"$f":"IF(KHC18=\"\",\"\",VLOOKUP($Q$10,DATA!$P$2:$R$196,3))","v":""},{"$f":"IF(KHD18=\"\",\"\",VLOOKUP($Q$10,DATA!$P$2:$R$196,3))","v":""},{"$f":"IF(KHE18=\"\",\"\",VLOOKUP($Q$10,DATA!$P$2:$R$196,3))","v":""},{"$f":"IF(KHF18=\"\",\"\",VLOOKUP($Q$10,DATA!$P$2:$R$196,3))","v":""},{"$f":"IF(KHG18=\"\",\"\",VLOOKUP($Q$10,DATA!$P$2:$R$196,3))","v":""},{"$f":"IF(KHH18=\"\",\"\",VLOOKUP($Q$10,DATA!$P$2:$R$196,3))","v":""},{"$f":"IF(KHI18=\"\",\"\",VLOOKUP($Q$10,DATA!$P$2:$R$196,3))","v":""},{"$f":"IF(KHJ18=\"\",\"\",VLOOKUP($Q$10,DATA!$P$2:$R$196,3))","v":""},{"$f":"IF(KHK18=\"\",\"\",VLOOKUP($Q$10,DATA!$P$2:$R$196,3))","v":""},{"$f":"IF(KHL18=\"\",\"\",VLOOKUP($Q$10,DATA!$P$2:$R$196,3))","v":""},{"$f":"IF(KHM18=\"\",\"\",VLOOKUP($Q$10,DATA!$P$2:$R$196,3))","v":""},{"$f":"IF(KHN18=\"\",\"\",VLOOKUP($Q$10,DATA!$P$2:$R$196,3))","v":""},{"$f":"IF(KHO18=\"\",\"\",VLOOKUP($Q$10,DATA!$P$2:$R$196,3))","v":""},{"$f":"IF(KHP18=\"\",\"\",VLOOKUP($Q$10,DATA!$P$2:$R$196,3))","v":""},{"$f":"IF(KHQ18=\"\",\"\",VLOOKUP($Q$10,DATA!$P$2:$R$196,3))","v":""},{"$f":"IF(KHR18=\"\",\"\",VLOOKUP($Q$10,DATA!$P$2:$R$196,3))","v":""},{"$f":"IF(KHS18=\"\",\"\",VLOOKUP($Q$10,DATA!$P$2:$R$196,3))","v":""},{"$f":"IF(KHT18=\"\",\"\",VLOOKUP($Q$10,DATA!$P$2:$R$196,3))","v":""},{"$f":"IF(KHU18=\"\",\"\",VLOOKUP($Q$10,DATA!$P$2:$R$196,3))","v":""},{"$f":"IF(KHV18=\"\",\"\",VLOOKUP($Q$10,DATA!$P$2:$R$196,3))","v":""},{"$f":"IF(KHW18=\"\",\"\",VLOOKUP($Q$10,DATA!$P$2:$R$196,3))","v":""},{"$f":"IF(KHX18=\"\",\"\",VLOOKUP($Q$10,DATA!$P$2:$R$196,3))","v":""},{"$f":"IF(KHY18=\"\",\"\",VLOOKUP($Q$10,DATA!$P$2:$R$196,3))","v":""},{"$f":"IF(KHZ18=\"\",\"\",VLOOKUP($Q$10,DATA!$P$2:$R$196,3))","v":""},{"$f":"IF(KIA18=\"\",\"\",VLOOKUP($Q$10,DATA!$P$2:$R$196,3))","v":""},{"$f":"IF(KIB18=\"\",\"\",VLOOKUP($Q$10,DATA!$P$2:$R$196,3))","v":""},{"$f":"IF(KIC18=\"\",\"\",VLOOKUP($Q$10,DATA!$P$2:$R$196,3))","v":""},{"$f":"IF(KID18=\"\",\"\",VLOOKUP($Q$10,DATA!$P$2:$R$196,3))","v":""},{"$f":"IF(KIE18=\"\",\"\",VLOOKUP($Q$10,DATA!$P$2:$R$196,3))","v":""},{"$f":"IF(KIF18=\"\",\"\",VLOOKUP($Q$10,DATA!$P$2:$R$196,3))","v":""},{"$f":"IF(KIG18=\"\",\"\",VLOOKUP($Q$10,DATA!$P$2:$R$196,3))","v":""},{"$f":"IF(KIH18=\"\",\"\",VLOOKUP($Q$10,DATA!$P$2:$R$196,3))","v":""},{"$f":"IF(KII18=\"\",\"\",VLOOKUP($Q$10,DATA!$P$2:$R$196,3))","v":""},{"$f":"IF(KIJ18=\"\",\"\",VLOOKUP($Q$10,DATA!$P$2:$R$196,3))","v":""},{"$f":"IF(KIK18=\"\",\"\",VLOOKUP($Q$10,DATA!$P$2:$R$196,3))","v":""},{"$f":"IF(KIL18=\"\",\"\",VLOOKUP($Q$10,DATA!$P$2:$R$196,3))","v":""},{"$f":"IF(KIM18=\"\",\"\",VLOOKUP($Q$10,DATA!$P$2:$R$196,3))","v":""},{"$f":"IF(KIN18=\"\",\"\",VLOOKUP($Q$10,DATA!$P$2:$R$196,3))","v":""},{"$f":"IF(KIO18=\"\",\"\",VLOOKUP($Q$10,DATA!$P$2:$R$196,3))","v":""},{"$f":"IF(KIP18=\"\",\"\",VLOOKUP($Q$10,DATA!$P$2:$R$196,3))","v":""},{"$f":"IF(KIQ18=\"\",\"\",VLOOKUP($Q$10,DATA!$P$2:$R$196,3))","v":""},{"$f":"IF(KIR18=\"\",\"\",VLOOKUP($Q$10,DATA!$P$2:$R$196,3))","v":""},{"$f":"IF(KIS18=\"\",\"\",VLOOKUP($Q$10,DATA!$P$2:$R$196,3))","v":""},{"$f":"IF(KIT18=\"\",\"\",VLOOKUP($Q$10,DATA!$P$2:$R$196,3))","v":""},{"$f":"IF(KIU18=\"\",\"\",VLOOKUP($Q$10,DATA!$P$2:$R$196,3))","v":""},{"$f":"IF(KIV18=\"\",\"\",VLOOKUP($Q$10,DATA!$P$2:$R$196,3))","v":""},{"$f":"IF(KIW18=\"\",\"\",VLOOKUP($Q$10,DATA!$P$2:$R$196,3))","v":""},{"$f":"IF(KIX18=\"\",\"\",VLOOKUP($Q$10,DATA!$P$2:$R$196,3))","v":""},{"$f":"IF(KIY18=\"\",\"\",VLOOKUP($Q$10,DATA!$P$2:$R$196,3))","v":""},{"$f":"IF(KIZ18=\"\",\"\",VLOOKUP($Q$10,DATA!$P$2:$R$196,3))","v":""},{"$f":"IF(KJA18=\"\",\"\",VLOOKUP($Q$10,DATA!$P$2:$R$196,3))","v":""},{"$f":"IF(KJB18=\"\",\"\",VLOOKUP($Q$10,DATA!$P$2:$R$196,3))","v":""},{"$f":"IF(KJC18=\"\",\"\",VLOOKUP($Q$10,DATA!$P$2:$R$196,3))","v":""},{"$f":"IF(KJD18=\"\",\"\",VLOOKUP($Q$10,DATA!$P$2:$R$196,3))","v":""},{"$f":"IF(KJE18=\"\",\"\",VLOOKUP($Q$10,DATA!$P$2:$R$196,3))","v":""},{"$f":"IF(KJF18=\"\",\"\",VLOOKUP($Q$10,DATA!$P$2:$R$196,3))","v":""},{"$f":"IF(KJG18=\"\",\"\",VLOOKUP($Q$10,DATA!$P$2:$R$196,3))","v":""},{"$f":"IF(KJH18=\"\",\"\",VLOOKUP($Q$10,DATA!$P$2:$R$196,3))","v":""},{"$f":"IF(KJI18=\"\",\"\",VLOOKUP($Q$10,DATA!$P$2:$R$196,3))","v":""},{"$f":"IF(KJJ18=\"\",\"\",VLOOKUP($Q$10,DATA!$P$2:$R$196,3))","v":""},{"$f":"IF(KJK18=\"\",\"\",VLOOKUP($Q$10,DATA!$P$2:$R$196,3))","v":""},{"$f":"IF(KJL18=\"\",\"\",VLOOKUP($Q$10,DATA!$P$2:$R$196,3))","v":""},{"$f":"IF(KJM18=\"\",\"\",VLOOKUP($Q$10,DATA!$P$2:$R$196,3))","v":""},{"$f":"IF(KJN18=\"\",\"\",VLOOKUP($Q$10,DATA!$P$2:$R$196,3))","v":""},{"$f":"IF(KJO18=\"\",\"\",VLOOKUP($Q$10,DATA!$P$2:$R$196,3))","v":""},{"$f":"IF(KJP18=\"\",\"\",VLOOKUP($Q$10,DATA!$P$2:$R$196,3))","v":""},{"$f":"IF(KJQ18=\"\",\"\",VLOOKUP($Q$10,DATA!$P$2:$R$196,3))","v":""},{"$f":"IF(KJR18=\"\",\"\",VLOOKUP($Q$10,DATA!$P$2:$R$196,3))","v":""},{"$f":"IF(KJS18=\"\",\"\",VLOOKUP($Q$10,DATA!$P$2:$R$196,3))","v":""},{"$f":"IF(KJT18=\"\",\"\",VLOOKUP($Q$10,DATA!$P$2:$R$196,3))","v":""},{"$f":"IF(KJU18=\"\",\"\",VLOOKUP($Q$10,DATA!$P$2:$R$196,3))","v":""},{"$f":"IF(KJV18=\"\",\"\",VLOOKUP($Q$10,DATA!$P$2:$R$196,3))","v":""},{"$f":"IF(KJW18=\"\",\"\",VLOOKUP($Q$10,DATA!$P$2:$R$196,3))","v":""},{"$f":"IF(KJX18=\"\",\"\",VLOOKUP($Q$10,DATA!$P$2:$R$196,3))","v":""},{"$f":"IF(KJY18=\"\",\"\",VLOOKUP($Q$10,DATA!$P$2:$R$196,3))","v":""},{"$f":"IF(KJZ18=\"\",\"\",VLOOKUP($Q$10,DATA!$P$2:$R$196,3))","v":""},{"$f":"IF(KKA18=\"\",\"\",VLOOKUP($Q$10,DATA!$P$2:$R$196,3))","v":""},{"$f":"IF(KKB18=\"\",\"\",VLOOKUP($Q$10,DATA!$P$2:$R$196,3))","v":""},{"$f":"IF(KKC18=\"\",\"\",VLOOKUP($Q$10,DATA!$P$2:$R$196,3))","v":""},{"$f":"IF(KKD18=\"\",\"\",VLOOKUP($Q$10,DATA!$P$2:$R$196,3))","v":""},{"$f":"IF(KKE18=\"\",\"\",VLOOKUP($Q$10,DATA!$P$2:$R$196,3))","v":""},{"$f":"IF(KKF18=\"\",\"\",VLOOKUP($Q$10,DATA!$P$2:$R$196,3))","v":""},{"$f":"IF(KKG18=\"\",\"\",VLOOKUP($Q$10,DATA!$P$2:$R$196,3))","v":""},{"$f":"IF(KKH18=\"\",\"\",VLOOKUP($Q$10,DATA!$P$2:$R$196,3))","v":""},{"$f":"IF(KKI18=\"\",\"\",VLOOKUP($Q$10,DATA!$P$2:$R$196,3))","v":""},{"$f":"IF(KKJ18=\"\",\"\",VLOOKUP($Q$10,DATA!$P$2:$R$196,3))","v":""},{"$f":"IF(KKK18=\"\",\"\",VLOOKUP($Q$10,DATA!$P$2:$R$196,3))","v":""},{"$f":"IF(KKL18=\"\",\"\",VLOOKUP($Q$10,DATA!$P$2:$R$196,3))","v":""},{"$f":"IF(KKM18=\"\",\"\",VLOOKUP($Q$10,DATA!$P$2:$R$196,3))","v":""},{"$f":"IF(KKN18=\"\",\"\",VLOOKUP($Q$10,DATA!$P$2:$R$196,3))","v":""},{"$f":"IF(KKO18=\"\",\"\",VLOOKUP($Q$10,DATA!$P$2:$R$196,3))","v":""},{"$f":"IF(KKP18=\"\",\"\",VLOOKUP($Q$10,DATA!$P$2:$R$196,3))","v":""},{"$f":"IF(KKQ18=\"\",\"\",VLOOKUP($Q$10,DATA!$P$2:$R$196,3))","v":""},{"$f":"IF(KKR18=\"\",\"\",VLOOKUP($Q$10,DATA!$P$2:$R$196,3))","v":""},{"$f":"IF(KKS18=\"\",\"\",VLOOKUP($Q$10,DATA!$P$2:$R$196,3))","v":""},{"$f":"IF(KKT18=\"\",\"\",VLOOKUP($Q$10,DATA!$P$2:$R$196,3))","v":""},{"$f":"IF(KKU18=\"\",\"\",VLOOKUP($Q$10,DATA!$P$2:$R$196,3))","v":""},{"$f":"IF(KKV18=\"\",\"\",VLOOKUP($Q$10,DATA!$P$2:$R$196,3))","v":""},{"$f":"IF(KKW18=\"\",\"\",VLOOKUP($Q$10,DATA!$P$2:$R$196,3))","v":""},{"$f":"IF(KKX18=\"\",\"\",VLOOKUP($Q$10,DATA!$P$2:$R$196,3))","v":""},{"$f":"IF(KKY18=\"\",\"\",VLOOKUP($Q$10,DATA!$P$2:$R$196,3))","v":""},{"$f":"IF(KKZ18=\"\",\"\",VLOOKUP($Q$10,DATA!$P$2:$R$196,3))","v":""},{"$f":"IF(KLA18=\"\",\"\",VLOOKUP($Q$10,DATA!$P$2:$R$196,3))","v":""},{"$f":"IF(KLB18=\"\",\"\",VLOOKUP($Q$10,DATA!$P$2:$R$196,3))","v":""},{"$f":"IF(KLC18=\"\",\"\",VLOOKUP($Q$10,DATA!$P$2:$R$196,3))","v":""},{"$f":"IF(KLD18=\"\",\"\",VLOOKUP($Q$10,DATA!$P$2:$R$196,3))","v":""},{"$f":"IF(KLE18=\"\",\"\",VLOOKUP($Q$10,DATA!$P$2:$R$196,3))","v":""},{"$f":"IF(KLF18=\"\",\"\",VLOOKUP($Q$10,DATA!$P$2:$R$196,3))","v":""},{"$f":"IF(KLG18=\"\",\"\",VLOOKUP($Q$10,DATA!$P$2:$R$196,3))","v":""},{"$f":"IF(KLH18=\"\",\"\",VLOOKUP($Q$10,DATA!$P$2:$R$196,3))","v":""},{"$f":"IF(KLI18=\"\",\"\",VLOOKUP($Q$10,DATA!$P$2:$R$196,3))","v":""},{"$f":"IF(KLJ18=\"\",\"\",VLOOKUP($Q$10,DATA!$P$2:$R$196,3))","v":""},{"$f":"IF(KLK18=\"\",\"\",VLOOKUP($Q$10,DATA!$P$2:$R$196,3))","v":""},{"$f":"IF(KLL18=\"\",\"\",VLOOKUP($Q$10,DATA!$P$2:$R$196,3))","v":""},{"$f":"IF(KLM18=\"\",\"\",VLOOKUP($Q$10,DATA!$P$2:$R$196,3))","v":""},{"$f":"IF(KLN18=\"\",\"\",VLOOKUP($Q$10,DATA!$P$2:$R$196,3))","v":""},{"$f":"IF(KLO18=\"\",\"\",VLOOKUP($Q$10,DATA!$P$2:$R$196,3))","v":""},{"$f":"IF(KLP18=\"\",\"\",VLOOKUP($Q$10,DATA!$P$2:$R$196,3))","v":""},{"$f":"IF(KLQ18=\"\",\"\",VLOOKUP($Q$10,DATA!$P$2:$R$196,3))","v":""},{"$f":"IF(KLR18=\"\",\"\",VLOOKUP($Q$10,DATA!$P$2:$R$196,3))","v":""},{"$f":"IF(KLS18=\"\",\"\",VLOOKUP($Q$10,DATA!$P$2:$R$196,3))","v":""},{"$f":"IF(KLT18=\"\",\"\",VLOOKUP($Q$10,DATA!$P$2:$R$196,3))","v":""},{"$f":"IF(KLU18=\"\",\"\",VLOOKUP($Q$10,DATA!$P$2:$R$196,3))","v":""},{"$f":"IF(KLV18=\"\",\"\",VLOOKUP($Q$10,DATA!$P$2:$R$196,3))","v":""},{"$f":"IF(KLW18=\"\",\"\",VLOOKUP($Q$10,DATA!$P$2:$R$196,3))","v":""},{"$f":"IF(KLX18=\"\",\"\",VLOOKUP($Q$10,DATA!$P$2:$R$196,3))","v":""},{"$f":"IF(KLY18=\"\",\"\",VLOOKUP($Q$10,DATA!$P$2:$R$196,3))","v":""},{"$f":"IF(KLZ18=\"\",\"\",VLOOKUP($Q$10,DATA!$P$2:$R$196,3))","v":""},{"$f":"IF(KMA18=\"\",\"\",VLOOKUP($Q$10,DATA!$P$2:$R$196,3))","v":""},{"$f":"IF(KMB18=\"\",\"\",VLOOKUP($Q$10,DATA!$P$2:$R$196,3))","v":""},{"$f":"IF(KMC18=\"\",\"\",VLOOKUP($Q$10,DATA!$P$2:$R$196,3))","v":""},{"$f":"IF(KMD18=\"\",\"\",VLOOKUP($Q$10,DATA!$P$2:$R$196,3))","v":""},{"$f":"IF(KME18=\"\",\"\",VLOOKUP($Q$10,DATA!$P$2:$R$196,3))","v":""},{"$f":"IF(KMF18=\"\",\"\",VLOOKUP($Q$10,DATA!$P$2:$R$196,3))","v":""},{"$f":"IF(KMG18=\"\",\"\",VLOOKUP($Q$10,DATA!$P$2:$R$196,3))","v":""},{"$f":"IF(KMH18=\"\",\"\",VLOOKUP($Q$10,DATA!$P$2:$R$196,3))","v":""},{"$f":"IF(KMI18=\"\",\"\",VLOOKUP($Q$10,DATA!$P$2:$R$196,3))","v":""},{"$f":"IF(KMJ18=\"\",\"\",VLOOKUP($Q$10,DATA!$P$2:$R$196,3))","v":""},{"$f":"IF(KMK18=\"\",\"\",VLOOKUP($Q$10,DATA!$P$2:$R$196,3))","v":""},{"$f":"IF(KML18=\"\",\"\",VLOOKUP($Q$10,DATA!$P$2:$R$196,3))","v":""},{"$f":"IF(KMM18=\"\",\"\",VLOOKUP($Q$10,DATA!$P$2:$R$196,3))","v":""},{"$f":"IF(KMN18=\"\",\"\",VLOOKUP($Q$10,DATA!$P$2:$R$196,3))","v":""},{"$f":"IF(KMO18=\"\",\"\",VLOOKUP($Q$10,DATA!$P$2:$R$196,3))","v":""},{"$f":"IF(KMP18=\"\",\"\",VLOOKUP($Q$10,DATA!$P$2:$R$196,3))","v":""},{"$f":"IF(KMQ18=\"\",\"\",VLOOKUP($Q$10,DATA!$P$2:$R$196,3))","v":""},{"$f":"IF(KMR18=\"\",\"\",VLOOKUP($Q$10,DATA!$P$2:$R$196,3))","v":""},{"$f":"IF(KMS18=\"\",\"\",VLOOKUP($Q$10,DATA!$P$2:$R$196,3))","v":""},{"$f":"IF(KMT18=\"\",\"\",VLOOKUP($Q$10,DATA!$P$2:$R$196,3))","v":""},{"$f":"IF(KMU18=\"\",\"\",VLOOKUP($Q$10,DATA!$P$2:$R$196,3))","v":""},{"$f":"IF(KMV18=\"\",\"\",VLOOKUP($Q$10,DATA!$P$2:$R$196,3))","v":""},{"$f":"IF(KMW18=\"\",\"\",VLOOKUP($Q$10,DATA!$P$2:$R$196,3))","v":""},{"$f":"IF(KMX18=\"\",\"\",VLOOKUP($Q$10,DATA!$P$2:$R$196,3))","v":""},{"$f":"IF(KMY18=\"\",\"\",VLOOKUP($Q$10,DATA!$P$2:$R$196,3))","v":""},{"$f":"IF(KMZ18=\"\",\"\",VLOOKUP($Q$10,DATA!$P$2:$R$196,3))","v":""},{"$f":"IF(KNA18=\"\",\"\",VLOOKUP($Q$10,DATA!$P$2:$R$196,3))","v":""},{"$f":"IF(KNB18=\"\",\"\",VLOOKUP($Q$10,DATA!$P$2:$R$196,3))","v":""},{"$f":"IF(KNC18=\"\",\"\",VLOOKUP($Q$10,DATA!$P$2:$R$196,3))","v":""},{"$f":"IF(KND18=\"\",\"\",VLOOKUP($Q$10,DATA!$P$2:$R$196,3))","v":""},{"$f":"IF(KNE18=\"\",\"\",VLOOKUP($Q$10,DATA!$P$2:$R$196,3))","v":""},{"$f":"IF(KNF18=\"\",\"\",VLOOKUP($Q$10,DATA!$P$2:$R$196,3))","v":""},{"$f":"IF(KNG18=\"\",\"\",VLOOKUP($Q$10,DATA!$P$2:$R$196,3))","v":""},{"$f":"IF(KNH18=\"\",\"\",VLOOKUP($Q$10,DATA!$P$2:$R$196,3))","v":""},{"$f":"IF(KNI18=\"\",\"\",VLOOKUP($Q$10,DATA!$P$2:$R$196,3))","v":""},{"$f":"IF(KNJ18=\"\",\"\",VLOOKUP($Q$10,DATA!$P$2:$R$196,3))","v":""},{"$f":"IF(KNK18=\"\",\"\",VLOOKUP($Q$10,DATA!$P$2:$R$196,3))","v":""},{"$f":"IF(KNL18=\"\",\"\",VLOOKUP($Q$10,DATA!$P$2:$R$196,3))","v":""},{"$f":"IF(KNM18=\"\",\"\",VLOOKUP($Q$10,DATA!$P$2:$R$196,3))","v":""},{"$f":"IF(KNN18=\"\",\"\",VLOOKUP($Q$10,DATA!$P$2:$R$196,3))","v":""},{"$f":"IF(KNO18=\"\",\"\",VLOOKUP($Q$10,DATA!$P$2:$R$196,3))","v":""},{"$f":"IF(KNP18=\"\",\"\",VLOOKUP($Q$10,DATA!$P$2:$R$196,3))","v":""},{"$f":"IF(KNQ18=\"\",\"\",VLOOKUP($Q$10,DATA!$P$2:$R$196,3))","v":""},{"$f":"IF(KNR18=\"\",\"\",VLOOKUP($Q$10,DATA!$P$2:$R$196,3))","v":""},{"$f":"IF(KNS18=\"\",\"\",VLOOKUP($Q$10,DATA!$P$2:$R$196,3))","v":""},{"$f":"IF(KNT18=\"\",\"\",VLOOKUP($Q$10,DATA!$P$2:$R$196,3))","v":""},{"$f":"IF(KNU18=\"\",\"\",VLOOKUP($Q$10,DATA!$P$2:$R$196,3))","v":""},{"$f":"IF(KNV18=\"\",\"\",VLOOKUP($Q$10,DATA!$P$2:$R$196,3))","v":""},{"$f":"IF(KNW18=\"\",\"\",VLOOKUP($Q$10,DATA!$P$2:$R$196,3))","v":""},{"$f":"IF(KNX18=\"\",\"\",VLOOKUP($Q$10,DATA!$P$2:$R$196,3))","v":""},{"$f":"IF(KNY18=\"\",\"\",VLOOKUP($Q$10,DATA!$P$2:$R$196,3))","v":""},{"$f":"IF(KNZ18=\"\",\"\",VLOOKUP($Q$10,DATA!$P$2:$R$196,3))","v":""},{"$f":"IF(KOA18=\"\",\"\",VLOOKUP($Q$10,DATA!$P$2:$R$196,3))","v":""},{"$f":"IF(KOB18=\"\",\"\",VLOOKUP($Q$10,DATA!$P$2:$R$196,3))","v":""},{"$f":"IF(KOC18=\"\",\"\",VLOOKUP($Q$10,DATA!$P$2:$R$196,3))","v":""},{"$f":"IF(KOD18=\"\",\"\",VLOOKUP($Q$10,DATA!$P$2:$R$196,3))","v":""},{"$f":"IF(KOE18=\"\",\"\",VLOOKUP($Q$10,DATA!$P$2:$R$196,3))","v":""},{"$f":"IF(KOF18=\"\",\"\",VLOOKUP($Q$10,DATA!$P$2:$R$196,3))","v":""},{"$f":"IF(KOG18=\"\",\"\",VLOOKUP($Q$10,DATA!$P$2:$R$196,3))","v":""},{"$f":"IF(KOH18=\"\",\"\",VLOOKUP($Q$10,DATA!$P$2:$R$196,3))","v":""},{"$f":"IF(KOI18=\"\",\"\",VLOOKUP($Q$10,DATA!$P$2:$R$196,3))","v":""},{"$f":"IF(KOJ18=\"\",\"\",VLOOKUP($Q$10,DATA!$P$2:$R$196,3))","v":""},{"$f":"IF(KOK18=\"\",\"\",VLOOKUP($Q$10,DATA!$P$2:$R$196,3))","v":""},{"$f":"IF(KOL18=\"\",\"\",VLOOKUP($Q$10,DATA!$P$2:$R$196,3))","v":""},{"$f":"IF(KOM18=\"\",\"\",VLOOKUP($Q$10,DATA!$P$2:$R$196,3))","v":""},{"$f":"IF(KON18=\"\",\"\",VLOOKUP($Q$10,DATA!$P$2:$R$196,3))","v":""},{"$f":"IF(KOO18=\"\",\"\",VLOOKUP($Q$10,DATA!$P$2:$R$196,3))","v":""},{"$f":"IF(KOP18=\"\",\"\",VLOOKUP($Q$10,DATA!$P$2:$R$196,3))","v":""},{"$f":"IF(KOQ18=\"\",\"\",VLOOKUP($Q$10,DATA!$P$2:$R$196,3))","v":""},{"$f":"IF(KOR18=\"\",\"\",VLOOKUP($Q$10,DATA!$P$2:$R$196,3))","v":""},{"$f":"IF(KOS18=\"\",\"\",VLOOKUP($Q$10,DATA!$P$2:$R$196,3))","v":""},{"$f":"IF(KOT18=\"\",\"\",VLOOKUP($Q$10,DATA!$P$2:$R$196,3))","v":""},{"$f":"IF(KOU18=\"\",\"\",VLOOKUP($Q$10,DATA!$P$2:$R$196,3))","v":""},{"$f":"IF(KOV18=\"\",\"\",VLOOKUP($Q$10,DATA!$P$2:$R$196,3))","v":""},{"$f":"IF(KOW18=\"\",\"\",VLOOKUP($Q$10,DATA!$P$2:$R$196,3))","v":""},{"$f":"IF(KOX18=\"\",\"\",VLOOKUP($Q$10,DATA!$P$2:$R$196,3))","v":""},{"$f":"IF(KOY18=\"\",\"\",VLOOKUP($Q$10,DATA!$P$2:$R$196,3))","v":""},{"$f":"IF(KOZ18=\"\",\"\",VLOOKUP($Q$10,DATA!$P$2:$R$196,3))","v":""},{"$f":"IF(KPA18=\"\",\"\",VLOOKUP($Q$10,DATA!$P$2:$R$196,3))","v":""},{"$f":"IF(KPB18=\"\",\"\",VLOOKUP($Q$10,DATA!$P$2:$R$196,3))","v":""},{"$f":"IF(KPC18=\"\",\"\",VLOOKUP($Q$10,DATA!$P$2:$R$196,3))","v":""},{"$f":"IF(KPD18=\"\",\"\",VLOOKUP($Q$10,DATA!$P$2:$R$196,3))","v":""},{"$f":"IF(KPE18=\"\",\"\",VLOOKUP($Q$10,DATA!$P$2:$R$196,3))","v":""},{"$f":"IF(KPF18=\"\",\"\",VLOOKUP($Q$10,DATA!$P$2:$R$196,3))","v":""},{"$f":"IF(KPG18=\"\",\"\",VLOOKUP($Q$10,DATA!$P$2:$R$196,3))","v":""},{"$f":"IF(KPH18=\"\",\"\",VLOOKUP($Q$10,DATA!$P$2:$R$196,3))","v":""},{"$f":"IF(KPI18=\"\",\"\",VLOOKUP($Q$10,DATA!$P$2:$R$196,3))","v":""},{"$f":"IF(KPJ18=\"\",\"\",VLOOKUP($Q$10,DATA!$P$2:$R$196,3))","v":""},{"$f":"IF(KPK18=\"\",\"\",VLOOKUP($Q$10,DATA!$P$2:$R$196,3))","v":""},{"$f":"IF(KPL18=\"\",\"\",VLOOKUP($Q$10,DATA!$P$2:$R$196,3))","v":""},{"$f":"IF(KPM18=\"\",\"\",VLOOKUP($Q$10,DATA!$P$2:$R$196,3))","v":""},{"$f":"IF(KPN18=\"\",\"\",VLOOKUP($Q$10,DATA!$P$2:$R$196,3))","v":""},{"$f":"IF(KPO18=\"\",\"\",VLOOKUP($Q$10,DATA!$P$2:$R$196,3))","v":""},{"$f":"IF(KPP18=\"\",\"\",VLOOKUP($Q$10,DATA!$P$2:$R$196,3))","v":""},{"$f":"IF(KPQ18=\"\",\"\",VLOOKUP($Q$10,DATA!$P$2:$R$196,3))","v":""},{"$f":"IF(KPR18=\"\",\"\",VLOOKUP($Q$10,DATA!$P$2:$R$196,3))","v":""},{"$f":"IF(KPS18=\"\",\"\",VLOOKUP($Q$10,DATA!$P$2:$R$196,3))","v":""},{"$f":"IF(KPT18=\"\",\"\",VLOOKUP($Q$10,DATA!$P$2:$R$196,3))","v":""},{"$f":"IF(KPU18=\"\",\"\",VLOOKUP($Q$10,DATA!$P$2:$R$196,3))","v":""},{"$f":"IF(KPV18=\"\",\"\",VLOOKUP($Q$10,DATA!$P$2:$R$196,3))","v":""},{"$f":"IF(KPW18=\"\",\"\",VLOOKUP($Q$10,DATA!$P$2:$R$196,3))","v":""},{"$f":"IF(KPX18=\"\",\"\",VLOOKUP($Q$10,DATA!$P$2:$R$196,3))","v":""},{"$f":"IF(KPY18=\"\",\"\",VLOOKUP($Q$10,DATA!$P$2:$R$196,3))","v":""},{"$f":"IF(KPZ18=\"\",\"\",VLOOKUP($Q$10,DATA!$P$2:$R$196,3))","v":""},{"$f":"IF(KQA18=\"\",\"\",VLOOKUP($Q$10,DATA!$P$2:$R$196,3))","v":""},{"$f":"IF(KQB18=\"\",\"\",VLOOKUP($Q$10,DATA!$P$2:$R$196,3))","v":""},{"$f":"IF(KQC18=\"\",\"\",VLOOKUP($Q$10,DATA!$P$2:$R$196,3))","v":""},{"$f":"IF(KQD18=\"\",\"\",VLOOKUP($Q$10,DATA!$P$2:$R$196,3))","v":""},{"$f":"IF(KQE18=\"\",\"\",VLOOKUP($Q$10,DATA!$P$2:$R$196,3))","v":""},{"$f":"IF(KQF18=\"\",\"\",VLOOKUP($Q$10,DATA!$P$2:$R$196,3))","v":""},{"$f":"IF(KQG18=\"\",\"\",VLOOKUP($Q$10,DATA!$P$2:$R$196,3))","v":""},{"$f":"IF(KQH18=\"\",\"\",VLOOKUP($Q$10,DATA!$P$2:$R$196,3))","v":""},{"$f":"IF(KQI18=\"\",\"\",VLOOKUP($Q$10,DATA!$P$2:$R$196,3))","v":""},{"$f":"IF(KQJ18=\"\",\"\",VLOOKUP($Q$10,DATA!$P$2:$R$196,3))","v":""},{"$f":"IF(KQK18=\"\",\"\",VLOOKUP($Q$10,DATA!$P$2:$R$196,3))","v":""},{"$f":"IF(KQL18=\"\",\"\",VLOOKUP($Q$10,DATA!$P$2:$R$196,3))","v":""},{"$f":"IF(KQM18=\"\",\"\",VLOOKUP($Q$10,DATA!$P$2:$R$196,3))","v":""},{"$f":"IF(KQN18=\"\",\"\",VLOOKUP($Q$10,DATA!$P$2:$R$196,3))","v":""},{"$f":"IF(KQO18=\"\",\"\",VLOOKUP($Q$10,DATA!$P$2:$R$196,3))","v":""},{"$f":"IF(KQP18=\"\",\"\",VLOOKUP($Q$10,DATA!$P$2:$R$196,3))","v":""},{"$f":"IF(KQQ18=\"\",\"\",VLOOKUP($Q$10,DATA!$P$2:$R$196,3))","v":""},{"$f":"IF(KQR18=\"\",\"\",VLOOKUP($Q$10,DATA!$P$2:$R$196,3))","v":""},{"$f":"IF(KQS18=\"\",\"\",VLOOKUP($Q$10,DATA!$P$2:$R$196,3))","v":""},{"$f":"IF(KQT18=\"\",\"\",VLOOKUP($Q$10,DATA!$P$2:$R$196,3))","v":""},{"$f":"IF(KQU18=\"\",\"\",VLOOKUP($Q$10,DATA!$P$2:$R$196,3))","v":""},{"$f":"IF(KQV18=\"\",\"\",VLOOKUP($Q$10,DATA!$P$2:$R$196,3))","v":""},{"$f":"IF(KQW18=\"\",\"\",VLOOKUP($Q$10,DATA!$P$2:$R$196,3))","v":""},{"$f":"IF(KQX18=\"\",\"\",VLOOKUP($Q$10,DATA!$P$2:$R$196,3))","v":""},{"$f":"IF(KQY18=\"\",\"\",VLOOKUP($Q$10,DATA!$P$2:$R$196,3))","v":""},{"$f":"IF(KQZ18=\"\",\"\",VLOOKUP($Q$10,DATA!$P$2:$R$196,3))","v":""},{"$f":"IF(KRA18=\"\",\"\",VLOOKUP($Q$10,DATA!$P$2:$R$196,3))","v":""},{"$f":"IF(KRB18=\"\",\"\",VLOOKUP($Q$10,DATA!$P$2:$R$196,3))","v":""},{"$f":"IF(KRC18=\"\",\"\",VLOOKUP($Q$10,DATA!$P$2:$R$196,3))","v":""},{"$f":"IF(KRD18=\"\",\"\",VLOOKUP($Q$10,DATA!$P$2:$R$196,3))","v":""},{"$f":"IF(KRE18=\"\",\"\",VLOOKUP($Q$10,DATA!$P$2:$R$196,3))","v":""},{"$f":"IF(KRF18=\"\",\"\",VLOOKUP($Q$10,DATA!$P$2:$R$196,3))","v":""},{"$f":"IF(KRG18=\"\",\"\",VLOOKUP($Q$10,DATA!$P$2:$R$196,3))","v":""},{"$f":"IF(KRH18=\"\",\"\",VLOOKUP($Q$10,DATA!$P$2:$R$196,3))","v":""},{"$f":"IF(KRI18=\"\",\"\",VLOOKUP($Q$10,DATA!$P$2:$R$196,3))","v":""},{"$f":"IF(KRJ18=\"\",\"\",VLOOKUP($Q$10,DATA!$P$2:$R$196,3))","v":""},{"$f":"IF(KRK18=\"\",\"\",VLOOKUP($Q$10,DATA!$P$2:$R$196,3))","v":""},{"$f":"IF(KRL18=\"\",\"\",VLOOKUP($Q$10,DATA!$P$2:$R$196,3))","v":""},{"$f":"IF(KRM18=\"\",\"\",VLOOKUP($Q$10,DATA!$P$2:$R$196,3))","v":""},{"$f":"IF(KRN18=\"\",\"\",VLOOKUP($Q$10,DATA!$P$2:$R$196,3))","v":""},{"$f":"IF(KRO18=\"\",\"\",VLOOKUP($Q$10,DATA!$P$2:$R$196,3))","v":""},{"$f":"IF(KRP18=\"\",\"\",VLOOKUP($Q$10,DATA!$P$2:$R$196,3))","v":""},{"$f":"IF(KRQ18=\"\",\"\",VLOOKUP($Q$10,DATA!$P$2:$R$196,3))","v":""},{"$f":"IF(KRR18=\"\",\"\",VLOOKUP($Q$10,DATA!$P$2:$R$196,3))","v":""},{"$f":"IF(KRS18=\"\",\"\",VLOOKUP($Q$10,DATA!$P$2:$R$196,3))","v":""},{"$f":"IF(KRT18=\"\",\"\",VLOOKUP($Q$10,DATA!$P$2:$R$196,3))","v":""},{"$f":"IF(KRU18=\"\",\"\",VLOOKUP($Q$10,DATA!$P$2:$R$196,3))","v":""},{"$f":"IF(KRV18=\"\",\"\",VLOOKUP($Q$10,DATA!$P$2:$R$196,3))","v":""},{"$f":"IF(KRW18=\"\",\"\",VLOOKUP($Q$10,DATA!$P$2:$R$196,3))","v":""},{"$f":"IF(KRX18=\"\",\"\",VLOOKUP($Q$10,DATA!$P$2:$R$196,3))","v":""},{"$f":"IF(KRY18=\"\",\"\",VLOOKUP($Q$10,DATA!$P$2:$R$196,3))","v":""},{"$f":"IF(KRZ18=\"\",\"\",VLOOKUP($Q$10,DATA!$P$2:$R$196,3))","v":""},{"$f":"IF(KSA18=\"\",\"\",VLOOKUP($Q$10,DATA!$P$2:$R$196,3))","v":""},{"$f":"IF(KSB18=\"\",\"\",VLOOKUP($Q$10,DATA!$P$2:$R$196,3))","v":""},{"$f":"IF(KSC18=\"\",\"\",VLOOKUP($Q$10,DATA!$P$2:$R$196,3))","v":""},{"$f":"IF(KSD18=\"\",\"\",VLOOKUP($Q$10,DATA!$P$2:$R$196,3))","v":""},{"$f":"IF(KSE18=\"\",\"\",VLOOKUP($Q$10,DATA!$P$2:$R$196,3))","v":""},{"$f":"IF(KSF18=\"\",\"\",VLOOKUP($Q$10,DATA!$P$2:$R$196,3))","v":""},{"$f":"IF(KSG18=\"\",\"\",VLOOKUP($Q$10,DATA!$P$2:$R$196,3))","v":""},{"$f":"IF(KSH18=\"\",\"\",VLOOKUP($Q$10,DATA!$P$2:$R$196,3))","v":""},{"$f":"IF(KSI18=\"\",\"\",VLOOKUP($Q$10,DATA!$P$2:$R$196,3))","v":""},{"$f":"IF(KSJ18=\"\",\"\",VLOOKUP($Q$10,DATA!$P$2:$R$196,3))","v":""},{"$f":"IF(KSK18=\"\",\"\",VLOOKUP($Q$10,DATA!$P$2:$R$196,3))","v":""},{"$f":"IF(KSL18=\"\",\"\",VLOOKUP($Q$10,DATA!$P$2:$R$196,3))","v":""},{"$f":"IF(KSM18=\"\",\"\",VLOOKUP($Q$10,DATA!$P$2:$R$196,3))","v":""},{"$f":"IF(KSN18=\"\",\"\",VLOOKUP($Q$10,DATA!$P$2:$R$196,3))","v":""},{"$f":"IF(KSO18=\"\",\"\",VLOOKUP($Q$10,DATA!$P$2:$R$196,3))","v":""},{"$f":"IF(KSP18=\"\",\"\",VLOOKUP($Q$10,DATA!$P$2:$R$196,3))","v":""},{"$f":"IF(KSQ18=\"\",\"\",VLOOKUP($Q$10,DATA!$P$2:$R$196,3))","v":""},{"$f":"IF(KSR18=\"\",\"\",VLOOKUP($Q$10,DATA!$P$2:$R$196,3))","v":""},{"$f":"IF(KSS18=\"\",\"\",VLOOKUP($Q$10,DATA!$P$2:$R$196,3))","v":""},{"$f":"IF(KST18=\"\",\"\",VLOOKUP($Q$10,DATA!$P$2:$R$196,3))","v":""},{"$f":"IF(KSU18=\"\",\"\",VLOOKUP($Q$10,DATA!$P$2:$R$196,3))","v":""},{"$f":"IF(KSV18=\"\",\"\",VLOOKUP($Q$10,DATA!$P$2:$R$196,3))","v":""},{"$f":"IF(KSW18=\"\",\"\",VLOOKUP($Q$10,DATA!$P$2:$R$196,3))","v":""},{"$f":"IF(KSX18=\"\",\"\",VLOOKUP($Q$10,DATA!$P$2:$R$196,3))","v":""},{"$f":"IF(KSY18=\"\",\"\",VLOOKUP($Q$10,DATA!$P$2:$R$196,3))","v":""},{"$f":"IF(KSZ18=\"\",\"\",VLOOKUP($Q$10,DATA!$P$2:$R$196,3))","v":""},{"$f":"IF(KTA18=\"\",\"\",VLOOKUP($Q$10,DATA!$P$2:$R$196,3))","v":""},{"$f":"IF(KTB18=\"\",\"\",VLOOKUP($Q$10,DATA!$P$2:$R$196,3))","v":""},{"$f":"IF(KTC18=\"\",\"\",VLOOKUP($Q$10,DATA!$P$2:$R$196,3))","v":""},{"$f":"IF(KTD18=\"\",\"\",VLOOKUP($Q$10,DATA!$P$2:$R$196,3))","v":""},{"$f":"IF(KTE18=\"\",\"\",VLOOKUP($Q$10,DATA!$P$2:$R$196,3))","v":""},{"$f":"IF(KTF18=\"\",\"\",VLOOKUP($Q$10,DATA!$P$2:$R$196,3))","v":""},{"$f":"IF(KTG18=\"\",\"\",VLOOKUP($Q$10,DATA!$P$2:$R$196,3))","v":""},{"$f":"IF(KTH18=\"\",\"\",VLOOKUP($Q$10,DATA!$P$2:$R$196,3))","v":""},{"$f":"IF(KTI18=\"\",\"\",VLOOKUP($Q$10,DATA!$P$2:$R$196,3))","v":""},{"$f":"IF(KTJ18=\"\",\"\",VLOOKUP($Q$10,DATA!$P$2:$R$196,3))","v":""},{"$f":"IF(KTK18=\"\",\"\",VLOOKUP($Q$10,DATA!$P$2:$R$196,3))","v":""},{"$f":"IF(KTL18=\"\",\"\",VLOOKUP($Q$10,DATA!$P$2:$R$196,3))","v":""},{"$f":"IF(KTM18=\"\",\"\",VLOOKUP($Q$10,DATA!$P$2:$R$196,3))","v":""},{"$f":"IF(KTN18=\"\",\"\",VLOOKUP($Q$10,DATA!$P$2:$R$196,3))","v":""},{"$f":"IF(KTO18=\"\",\"\",VLOOKUP($Q$10,DATA!$P$2:$R$196,3))","v":""},{"$f":"IF(KTP18=\"\",\"\",VLOOKUP($Q$10,DATA!$P$2:$R$196,3))","v":""},{"$f":"IF(KTQ18=\"\",\"\",VLOOKUP($Q$10,DATA!$P$2:$R$196,3))","v":""},{"$f":"IF(KTR18=\"\",\"\",VLOOKUP($Q$10,DATA!$P$2:$R$196,3))","v":""},{"$f":"IF(KTS18=\"\",\"\",VLOOKUP($Q$10,DATA!$P$2:$R$196,3))","v":""},{"$f":"IF(KTT18=\"\",\"\",VLOOKUP($Q$10,DATA!$P$2:$R$196,3))","v":""},{"$f":"IF(KTU18=\"\",\"\",VLOOKUP($Q$10,DATA!$P$2:$R$196,3))","v":""},{"$f":"IF(KTV18=\"\",\"\",VLOOKUP($Q$10,DATA!$P$2:$R$196,3))","v":""},{"$f":"IF(KTW18=\"\",\"\",VLOOKUP($Q$10,DATA!$P$2:$R$196,3))","v":""},{"$f":"IF(KTX18=\"\",\"\",VLOOKUP($Q$10,DATA!$P$2:$R$196,3))","v":""},{"$f":"IF(KTY18=\"\",\"\",VLOOKUP($Q$10,DATA!$P$2:$R$196,3))","v":""},{"$f":"IF(KTZ18=\"\",\"\",VLOOKUP($Q$10,DATA!$P$2:$R$196,3))","v":""},{"$f":"IF(KUA18=\"\",\"\",VLOOKUP($Q$10,DATA!$P$2:$R$196,3))","v":""},{"$f":"IF(KUB18=\"\",\"\",VLOOKUP($Q$10,DATA!$P$2:$R$196,3))","v":""},{"$f":"IF(KUC18=\"\",\"\",VLOOKUP($Q$10,DATA!$P$2:$R$196,3))","v":""},{"$f":"IF(KUD18=\"\",\"\",VLOOKUP($Q$10,DATA!$P$2:$R$196,3))","v":""},{"$f":"IF(KUE18=\"\",\"\",VLOOKUP($Q$10,DATA!$P$2:$R$196,3))","v":""},{"$f":"IF(KUF18=\"\",\"\",VLOOKUP($Q$10,DATA!$P$2:$R$196,3))","v":""},{"$f":"IF(KUG18=\"\",\"\",VLOOKUP($Q$10,DATA!$P$2:$R$196,3))","v":""},{"$f":"IF(KUH18=\"\",\"\",VLOOKUP($Q$10,DATA!$P$2:$R$196,3))","v":""},{"$f":"IF(KUI18=\"\",\"\",VLOOKUP($Q$10,DATA!$P$2:$R$196,3))","v":""},{"$f":"IF(KUJ18=\"\",\"\",VLOOKUP($Q$10,DATA!$P$2:$R$196,3))","v":""},{"$f":"IF(KUK18=\"\",\"\",VLOOKUP($Q$10,DATA!$P$2:$R$196,3))","v":""},{"$f":"IF(KUL18=\"\",\"\",VLOOKUP($Q$10,DATA!$P$2:$R$196,3))","v":""},{"$f":"IF(KUM18=\"\",\"\",VLOOKUP($Q$10,DATA!$P$2:$R$196,3))","v":""},{"$f":"IF(KUN18=\"\",\"\",VLOOKUP($Q$10,DATA!$P$2:$R$196,3))","v":""},{"$f":"IF(KUO18=\"\",\"\",VLOOKUP($Q$10,DATA!$P$2:$R$196,3))","v":""},{"$f":"IF(KUP18=\"\",\"\",VLOOKUP($Q$10,DATA!$P$2:$R$196,3))","v":""},{"$f":"IF(KUQ18=\"\",\"\",VLOOKUP($Q$10,DATA!$P$2:$R$196,3))","v":""},{"$f":"IF(KUR18=\"\",\"\",VLOOKUP($Q$10,DATA!$P$2:$R$196,3))","v":""},{"$f":"IF(KUS18=\"\",\"\",VLOOKUP($Q$10,DATA!$P$2:$R$196,3))","v":""},{"$f":"IF(KUT18=\"\",\"\",VLOOKUP($Q$10,DATA!$P$2:$R$196,3))","v":""},{"$f":"IF(KUU18=\"\",\"\",VLOOKUP($Q$10,DATA!$P$2:$R$196,3))","v":""},{"$f":"IF(KUV18=\"\",\"\",VLOOKUP($Q$10,DATA!$P$2:$R$196,3))","v":""},{"$f":"IF(KUW18=\"\",\"\",VLOOKUP($Q$10,DATA!$P$2:$R$196,3))","v":""},{"$f":"IF(KUX18=\"\",\"\",VLOOKUP($Q$10,DATA!$P$2:$R$196,3))","v":""},{"$f":"IF(KUY18=\"\",\"\",VLOOKUP($Q$10,DATA!$P$2:$R$196,3))","v":""},{"$f":"IF(KUZ18=\"\",\"\",VLOOKUP($Q$10,DATA!$P$2:$R$196,3))","v":""},{"$f":"IF(KVA18=\"\",\"\",VLOOKUP($Q$10,DATA!$P$2:$R$196,3))","v":""},{"$f":"IF(KVB18=\"\",\"\",VLOOKUP($Q$10,DATA!$P$2:$R$196,3))","v":""},{"$f":"IF(KVC18=\"\",\"\",VLOOKUP($Q$10,DATA!$P$2:$R$196,3))","v":""},{"$f":"IF(KVD18=\"\",\"\",VLOOKUP($Q$10,DATA!$P$2:$R$196,3))","v":""},{"$f":"IF(KVE18=\"\",\"\",VLOOKUP($Q$10,DATA!$P$2:$R$196,3))","v":""},{"$f":"IF(KVF18=\"\",\"\",VLOOKUP($Q$10,DATA!$P$2:$R$196,3))","v":""},{"$f":"IF(KVG18=\"\",\"\",VLOOKUP($Q$10,DATA!$P$2:$R$196,3))","v":""},{"$f":"IF(KVH18=\"\",\"\",VLOOKUP($Q$10,DATA!$P$2:$R$196,3))","v":""},{"$f":"IF(KVI18=\"\",\"\",VLOOKUP($Q$10,DATA!$P$2:$R$196,3))","v":""},{"$f":"IF(KVJ18=\"\",\"\",VLOOKUP($Q$10,DATA!$P$2:$R$196,3))","v":""},{"$f":"IF(KVK18=\"\",\"\",VLOOKUP($Q$10,DATA!$P$2:$R$196,3))","v":""},{"$f":"IF(KVL18=\"\",\"\",VLOOKUP($Q$10,DATA!$P$2:$R$196,3))","v":""},{"$f":"IF(KVM18=\"\",\"\",VLOOKUP($Q$10,DATA!$P$2:$R$196,3))","v":""},{"$f":"IF(KVN18=\"\",\"\",VLOOKUP($Q$10,DATA!$P$2:$R$196,3))","v":""},{"$f":"IF(KVO18=\"\",\"\",VLOOKUP($Q$10,DATA!$P$2:$R$196,3))","v":""},{"$f":"IF(KVP18=\"\",\"\",VLOOKUP($Q$10,DATA!$P$2:$R$196,3))","v":""},{"$f":"IF(KVQ18=\"\",\"\",VLOOKUP($Q$10,DATA!$P$2:$R$196,3))","v":""},{"$f":"IF(KVR18=\"\",\"\",VLOOKUP($Q$10,DATA!$P$2:$R$196,3))","v":""},{"$f":"IF(KVS18=\"\",\"\",VLOOKUP($Q$10,DATA!$P$2:$R$196,3))","v":""},{"$f":"IF(KVT18=\"\",\"\",VLOOKUP($Q$10,DATA!$P$2:$R$196,3))","v":""},{"$f":"IF(KVU18=\"\",\"\",VLOOKUP($Q$10,DATA!$P$2:$R$196,3))","v":""},{"$f":"IF(KVV18=\"\",\"\",VLOOKUP($Q$10,DATA!$P$2:$R$196,3))","v":""},{"$f":"IF(KVW18=\"\",\"\",VLOOKUP($Q$10,DATA!$P$2:$R$196,3))","v":""},{"$f":"IF(KVX18=\"\",\"\",VLOOKUP($Q$10,DATA!$P$2:$R$196,3))","v":""},{"$f":"IF(KVY18=\"\",\"\",VLOOKUP($Q$10,DATA!$P$2:$R$196,3))","v":""},{"$f":"IF(KVZ18=\"\",\"\",VLOOKUP($Q$10,DATA!$P$2:$R$196,3))","v":""},{"$f":"IF(KWA18=\"\",\"\",VLOOKUP($Q$10,DATA!$P$2:$R$196,3))","v":""},{"$f":"IF(KWB18=\"\",\"\",VLOOKUP($Q$10,DATA!$P$2:$R$196,3))","v":""},{"$f":"IF(KWC18=\"\",\"\",VLOOKUP($Q$10,DATA!$P$2:$R$196,3))","v":""},{"$f":"IF(KWD18=\"\",\"\",VLOOKUP($Q$10,DATA!$P$2:$R$196,3))","v":""},{"$f":"IF(KWE18=\"\",\"\",VLOOKUP($Q$10,DATA!$P$2:$R$196,3))","v":""},{"$f":"IF(KWF18=\"\",\"\",VLOOKUP($Q$10,DATA!$P$2:$R$196,3))","v":""},{"$f":"IF(KWG18=\"\",\"\",VLOOKUP($Q$10,DATA!$P$2:$R$196,3))","v":""},{"$f":"IF(KWH18=\"\",\"\",VLOOKUP($Q$10,DATA!$P$2:$R$196,3))","v":""},{"$f":"IF(KWI18=\"\",\"\",VLOOKUP($Q$10,DATA!$P$2:$R$196,3))","v":""},{"$f":"IF(KWJ18=\"\",\"\",VLOOKUP($Q$10,DATA!$P$2:$R$196,3))","v":""},{"$f":"IF(KWK18=\"\",\"\",VLOOKUP($Q$10,DATA!$P$2:$R$196,3))","v":""},{"$f":"IF(KWL18=\"\",\"\",VLOOKUP($Q$10,DATA!$P$2:$R$196,3))","v":""},{"$f":"IF(KWM18=\"\",\"\",VLOOKUP($Q$10,DATA!$P$2:$R$196,3))","v":""},{"$f":"IF(KWN18=\"\",\"\",VLOOKUP($Q$10,DATA!$P$2:$R$196,3))","v":""},{"$f":"IF(KWO18=\"\",\"\",VLOOKUP($Q$10,DATA!$P$2:$R$196,3))","v":""},{"$f":"IF(KWP18=\"\",\"\",VLOOKUP($Q$10,DATA!$P$2:$R$196,3))","v":""},{"$f":"IF(KWQ18=\"\",\"\",VLOOKUP($Q$10,DATA!$P$2:$R$196,3))","v":""},{"$f":"IF(KWR18=\"\",\"\",VLOOKUP($Q$10,DATA!$P$2:$R$196,3))","v":""},{"$f":"IF(KWS18=\"\",\"\",VLOOKUP($Q$10,DATA!$P$2:$R$196,3))","v":""},{"$f":"IF(KWT18=\"\",\"\",VLOOKUP($Q$10,DATA!$P$2:$R$196,3))","v":""},{"$f":"IF(KWU18=\"\",\"\",VLOOKUP($Q$10,DATA!$P$2:$R$196,3))","v":""},{"$f":"IF(KWV18=\"\",\"\",VLOOKUP($Q$10,DATA!$P$2:$R$196,3))","v":""},{"$f":"IF(KWW18=\"\",\"\",VLOOKUP($Q$10,DATA!$P$2:$R$196,3))","v":""},{"$f":"IF(KWX18=\"\",\"\",VLOOKUP($Q$10,DATA!$P$2:$R$196,3))","v":""},{"$f":"IF(KWY18=\"\",\"\",VLOOKUP($Q$10,DATA!$P$2:$R$196,3))","v":""},{"$f":"IF(KWZ18=\"\",\"\",VLOOKUP($Q$10,DATA!$P$2:$R$196,3))","v":""},{"$f":"IF(KXA18=\"\",\"\",VLOOKUP($Q$10,DATA!$P$2:$R$196,3))","v":""},{"$f":"IF(KXB18=\"\",\"\",VLOOKUP($Q$10,DATA!$P$2:$R$196,3))","v":""},{"$f":"IF(KXC18=\"\",\"\",VLOOKUP($Q$10,DATA!$P$2:$R$196,3))","v":""},{"$f":"IF(KXD18=\"\",\"\",VLOOKUP($Q$10,DATA!$P$2:$R$196,3))","v":""},{"$f":"IF(KXE18=\"\",\"\",VLOOKUP($Q$10,DATA!$P$2:$R$196,3))","v":""},{"$f":"IF(KXF18=\"\",\"\",VLOOKUP($Q$10,DATA!$P$2:$R$196,3))","v":""},{"$f":"IF(KXG18=\"\",\"\",VLOOKUP($Q$10,DATA!$P$2:$R$196,3))","v":""},{"$f":"IF(KXH18=\"\",\"\",VLOOKUP($Q$10,DATA!$P$2:$R$196,3))","v":""},{"$f":"IF(KXI18=\"\",\"\",VLOOKUP($Q$10,DATA!$P$2:$R$196,3))","v":""},{"$f":"IF(KXJ18=\"\",\"\",VLOOKUP($Q$10,DATA!$P$2:$R$196,3))","v":""},{"$f":"IF(KXK18=\"\",\"\",VLOOKUP($Q$10,DATA!$P$2:$R$196,3))","v":""},{"$f":"IF(KXL18=\"\",\"\",VLOOKUP($Q$10,DATA!$P$2:$R$196,3))","v":""},{"$f":"IF(KXM18=\"\",\"\",VLOOKUP($Q$10,DATA!$P$2:$R$196,3))","v":""},{"$f":"IF(KXN18=\"\",\"\",VLOOKUP($Q$10,DATA!$P$2:$R$196,3))","v":""},{"$f":"IF(KXO18=\"\",\"\",VLOOKUP($Q$10,DATA!$P$2:$R$196,3))","v":""},{"$f":"IF(KXP18=\"\",\"\",VLOOKUP($Q$10,DATA!$P$2:$R$196,3))","v":""},{"$f":"IF(KXQ18=\"\",\"\",VLOOKUP($Q$10,DATA!$P$2:$R$196,3))","v":""},{"$f":"IF(KXR18=\"\",\"\",VLOOKUP($Q$10,DATA!$P$2:$R$196,3))","v":""},{"$f":"IF(KXS18=\"\",\"\",VLOOKUP($Q$10,DATA!$P$2:$R$196,3))","v":""},{"$f":"IF(KXT18=\"\",\"\",VLOOKUP($Q$10,DATA!$P$2:$R$196,3))","v":""},{"$f":"IF(KXU18=\"\",\"\",VLOOKUP($Q$10,DATA!$P$2:$R$196,3))","v":""},{"$f":"IF(KXV18=\"\",\"\",VLOOKUP($Q$10,DATA!$P$2:$R$196,3))","v":""},{"$f":"IF(KXW18=\"\",\"\",VLOOKUP($Q$10,DATA!$P$2:$R$196,3))","v":""},{"$f":"IF(KXX18=\"\",\"\",VLOOKUP($Q$10,DATA!$P$2:$R$196,3))","v":""},{"$f":"IF(KXY18=\"\",\"\",VLOOKUP($Q$10,DATA!$P$2:$R$196,3))","v":""},{"$f":"IF(KXZ18=\"\",\"\",VLOOKUP($Q$10,DATA!$P$2:$R$196,3))","v":""},{"$f":"IF(KYA18=\"\",\"\",VLOOKUP($Q$10,DATA!$P$2:$R$196,3))","v":""},{"$f":"IF(KYB18=\"\",\"\",VLOOKUP($Q$10,DATA!$P$2:$R$196,3))","v":""},{"$f":"IF(KYC18=\"\",\"\",VLOOKUP($Q$10,DATA!$P$2:$R$196,3))","v":""},{"$f":"IF(KYD18=\"\",\"\",VLOOKUP($Q$10,DATA!$P$2:$R$196,3))","v":""},{"$f":"IF(KYE18=\"\",\"\",VLOOKUP($Q$10,DATA!$P$2:$R$196,3))","v":""},{"$f":"IF(KYF18=\"\",\"\",VLOOKUP($Q$10,DATA!$P$2:$R$196,3))","v":""},{"$f":"IF(KYG18=\"\",\"\",VLOOKUP($Q$10,DATA!$P$2:$R$196,3))","v":""},{"$f":"IF(KYH18=\"\",\"\",VLOOKUP($Q$10,DATA!$P$2:$R$196,3))","v":""},{"$f":"IF(KYI18=\"\",\"\",VLOOKUP($Q$10,DATA!$P$2:$R$196,3))","v":""},{"$f":"IF(KYJ18=\"\",\"\",VLOOKUP($Q$10,DATA!$P$2:$R$196,3))","v":""},{"$f":"IF(KYK18=\"\",\"\",VLOOKUP($Q$10,DATA!$P$2:$R$196,3))","v":""},{"$f":"IF(KYL18=\"\",\"\",VLOOKUP($Q$10,DATA!$P$2:$R$196,3))","v":""},{"$f":"IF(KYM18=\"\",\"\",VLOOKUP($Q$10,DATA!$P$2:$R$196,3))","v":""},{"$f":"IF(KYN18=\"\",\"\",VLOOKUP($Q$10,DATA!$P$2:$R$196,3))","v":""},{"$f":"IF(KYO18=\"\",\"\",VLOOKUP($Q$10,DATA!$P$2:$R$196,3))","v":""},{"$f":"IF(KYP18=\"\",\"\",VLOOKUP($Q$10,DATA!$P$2:$R$196,3))","v":""},{"$f":"IF(KYQ18=\"\",\"\",VLOOKUP($Q$10,DATA!$P$2:$R$196,3))","v":""},{"$f":"IF(KYR18=\"\",\"\",VLOOKUP($Q$10,DATA!$P$2:$R$196,3))","v":""},{"$f":"IF(KYS18=\"\",\"\",VLOOKUP($Q$10,DATA!$P$2:$R$196,3))","v":""},{"$f":"IF(KYT18=\"\",\"\",VLOOKUP($Q$10,DATA!$P$2:$R$196,3))","v":""},{"$f":"IF(KYU18=\"\",\"\",VLOOKUP($Q$10,DATA!$P$2:$R$196,3))","v":""},{"$f":"IF(KYV18=\"\",\"\",VLOOKUP($Q$10,DATA!$P$2:$R$196,3))","v":""},{"$f":"IF(KYW18=\"\",\"\",VLOOKUP($Q$10,DATA!$P$2:$R$196,3))","v":""},{"$f":"IF(KYX18=\"\",\"\",VLOOKUP($Q$10,DATA!$P$2:$R$196,3))","v":""},{"$f":"IF(KYY18=\"\",\"\",VLOOKUP($Q$10,DATA!$P$2:$R$196,3))","v":""},{"$f":"IF(KYZ18=\"\",\"\",VLOOKUP($Q$10,DATA!$P$2:$R$196,3))","v":""},{"$f":"IF(KZA18=\"\",\"\",VLOOKUP($Q$10,DATA!$P$2:$R$196,3))","v":""},{"$f":"IF(KZB18=\"\",\"\",VLOOKUP($Q$10,DATA!$P$2:$R$196,3))","v":""},{"$f":"IF(KZC18=\"\",\"\",VLOOKUP($Q$10,DATA!$P$2:$R$196,3))","v":""},{"$f":"IF(KZD18=\"\",\"\",VLOOKUP($Q$10,DATA!$P$2:$R$196,3))","v":""},{"$f":"IF(KZE18=\"\",\"\",VLOOKUP($Q$10,DATA!$P$2:$R$196,3))","v":""},{"$f":"IF(KZF18=\"\",\"\",VLOOKUP($Q$10,DATA!$P$2:$R$196,3))","v":""},{"$f":"IF(KZG18=\"\",\"\",VLOOKUP($Q$10,DATA!$P$2:$R$196,3))","v":""},{"$f":"IF(KZH18=\"\",\"\",VLOOKUP($Q$10,DATA!$P$2:$R$196,3))","v":""},{"$f":"IF(KZI18=\"\",\"\",VLOOKUP($Q$10,DATA!$P$2:$R$196,3))","v":""},{"$f":"IF(KZJ18=\"\",\"\",VLOOKUP($Q$10,DATA!$P$2:$R$196,3))","v":""},{"$f":"IF(KZK18=\"\",\"\",VLOOKUP($Q$10,DATA!$P$2:$R$196,3))","v":""},{"$f":"IF(KZL18=\"\",\"\",VLOOKUP($Q$10,DATA!$P$2:$R$196,3))","v":""},{"$f":"IF(KZM18=\"\",\"\",VLOOKUP($Q$10,DATA!$P$2:$R$196,3))","v":""},{"$f":"IF(KZN18=\"\",\"\",VLOOKUP($Q$10,DATA!$P$2:$R$196,3))","v":""},{"$f":"IF(KZO18=\"\",\"\",VLOOKUP($Q$10,DATA!$P$2:$R$196,3))","v":""},{"$f":"IF(KZP18=\"\",\"\",VLOOKUP($Q$10,DATA!$P$2:$R$196,3))","v":""},{"$f":"IF(KZQ18=\"\",\"\",VLOOKUP($Q$10,DATA!$P$2:$R$196,3))","v":""},{"$f":"IF(KZR18=\"\",\"\",VLOOKUP($Q$10,DATA!$P$2:$R$196,3))","v":""},{"$f":"IF(KZS18=\"\",\"\",VLOOKUP($Q$10,DATA!$P$2:$R$196,3))","v":""},{"$f":"IF(KZT18=\"\",\"\",VLOOKUP($Q$10,DATA!$P$2:$R$196,3))","v":""},{"$f":"IF(KZU18=\"\",\"\",VLOOKUP($Q$10,DATA!$P$2:$R$196,3))","v":""},{"$f":"IF(KZV18=\"\",\"\",VLOOKUP($Q$10,DATA!$P$2:$R$196,3))","v":""},{"$f":"IF(KZW18=\"\",\"\",VLOOKUP($Q$10,DATA!$P$2:$R$196,3))","v":""},{"$f":"IF(KZX18=\"\",\"\",VLOOKUP($Q$10,DATA!$P$2:$R$196,3))","v":""},{"$f":"IF(KZY18=\"\",\"\",VLOOKUP($Q$10,DATA!$P$2:$R$196,3))","v":""},{"$f":"IF(KZZ18=\"\",\"\",VLOOKUP($Q$10,DATA!$P$2:$R$196,3))","v":""},{"$f":"IF(LAA18=\"\",\"\",VLOOKUP($Q$10,DATA!$P$2:$R$196,3))","v":""},{"$f":"IF(LAB18=\"\",\"\",VLOOKUP($Q$10,DATA!$P$2:$R$196,3))","v":""},{"$f":"IF(LAC18=\"\",\"\",VLOOKUP($Q$10,DATA!$P$2:$R$196,3))","v":""},{"$f":"IF(LAD18=\"\",\"\",VLOOKUP($Q$10,DATA!$P$2:$R$196,3))","v":""},{"$f":"IF(LAE18=\"\",\"\",VLOOKUP($Q$10,DATA!$P$2:$R$196,3))","v":""},{"$f":"IF(LAF18=\"\",\"\",VLOOKUP($Q$10,DATA!$P$2:$R$196,3))","v":""},{"$f":"IF(LAG18=\"\",\"\",VLOOKUP($Q$10,DATA!$P$2:$R$196,3))","v":""},{"$f":"IF(LAH18=\"\",\"\",VLOOKUP($Q$10,DATA!$P$2:$R$196,3))","v":""},{"$f":"IF(LAI18=\"\",\"\",VLOOKUP($Q$10,DATA!$P$2:$R$196,3))","v":""},{"$f":"IF(LAJ18=\"\",\"\",VLOOKUP($Q$10,DATA!$P$2:$R$196,3))","v":""},{"$f":"IF(LAK18=\"\",\"\",VLOOKUP($Q$10,DATA!$P$2:$R$196,3))","v":""},{"$f":"IF(LAL18=\"\",\"\",VLOOKUP($Q$10,DATA!$P$2:$R$196,3))","v":""},{"$f":"IF(LAM18=\"\",\"\",VLOOKUP($Q$10,DATA!$P$2:$R$196,3))","v":""},{"$f":"IF(LAN18=\"\",\"\",VLOOKUP($Q$10,DATA!$P$2:$R$196,3))","v":""},{"$f":"IF(LAO18=\"\",\"\",VLOOKUP($Q$10,DATA!$P$2:$R$196,3))","v":""},{"$f":"IF(LAP18=\"\",\"\",VLOOKUP($Q$10,DATA!$P$2:$R$196,3))","v":""},{"$f":"IF(LAQ18=\"\",\"\",VLOOKUP($Q$10,DATA!$P$2:$R$196,3))","v":""},{"$f":"IF(LAR18=\"\",\"\",VLOOKUP($Q$10,DATA!$P$2:$R$196,3))","v":""},{"$f":"IF(LAS18=\"\",\"\",VLOOKUP($Q$10,DATA!$P$2:$R$196,3))","v":""},{"$f":"IF(LAT18=\"\",\"\",VLOOKUP($Q$10,DATA!$P$2:$R$196,3))","v":""},{"$f":"IF(LAU18=\"\",\"\",VLOOKUP($Q$10,DATA!$P$2:$R$196,3))","v":""},{"$f":"IF(LAV18=\"\",\"\",VLOOKUP($Q$10,DATA!$P$2:$R$196,3))","v":""},{"$f":"IF(LAW18=\"\",\"\",VLOOKUP($Q$10,DATA!$P$2:$R$196,3))","v":""},{"$f":"IF(LAX18=\"\",\"\",VLOOKUP($Q$10,DATA!$P$2:$R$196,3))","v":""},{"$f":"IF(LAY18=\"\",\"\",VLOOKUP($Q$10,DATA!$P$2:$R$196,3))","v":""},{"$f":"IF(LAZ18=\"\",\"\",VLOOKUP($Q$10,DATA!$P$2:$R$196,3))","v":""},{"$f":"IF(LBA18=\"\",\"\",VLOOKUP($Q$10,DATA!$P$2:$R$196,3))","v":""},{"$f":"IF(LBB18=\"\",\"\",VLOOKUP($Q$10,DATA!$P$2:$R$196,3))","v":""},{"$f":"IF(LBC18=\"\",\"\",VLOOKUP($Q$10,DATA!$P$2:$R$196,3))","v":""},{"$f":"IF(LBD18=\"\",\"\",VLOOKUP($Q$10,DATA!$P$2:$R$196,3))","v":""},{"$f":"IF(LBE18=\"\",\"\",VLOOKUP($Q$10,DATA!$P$2:$R$196,3))","v":""},{"$f":"IF(LBF18=\"\",\"\",VLOOKUP($Q$10,DATA!$P$2:$R$196,3))","v":""},{"$f":"IF(LBG18=\"\",\"\",VLOOKUP($Q$10,DATA!$P$2:$R$196,3))","v":""},{"$f":"IF(LBH18=\"\",\"\",VLOOKUP($Q$10,DATA!$P$2:$R$196,3))","v":""},{"$f":"IF(LBI18=\"\",\"\",VLOOKUP($Q$10,DATA!$P$2:$R$196,3))","v":""},{"$f":"IF(LBJ18=\"\",\"\",VLOOKUP($Q$10,DATA!$P$2:$R$196,3))","v":""},{"$f":"IF(LBK18=\"\",\"\",VLOOKUP($Q$10,DATA!$P$2:$R$196,3))","v":""},{"$f":"IF(LBL18=\"\",\"\",VLOOKUP($Q$10,DATA!$P$2:$R$196,3))","v":""},{"$f":"IF(LBM18=\"\",\"\",VLOOKUP($Q$10,DATA!$P$2:$R$196,3))","v":""},{"$f":"IF(LBN18=\"\",\"\",VLOOKUP($Q$10,DATA!$P$2:$R$196,3))","v":""},{"$f":"IF(LBO18=\"\",\"\",VLOOKUP($Q$10,DATA!$P$2:$R$196,3))","v":""},{"$f":"IF(LBP18=\"\",\"\",VLOOKUP($Q$10,DATA!$P$2:$R$196,3))","v":""},{"$f":"IF(LBQ18=\"\",\"\",VLOOKUP($Q$10,DATA!$P$2:$R$196,3))","v":""},{"$f":"IF(LBR18=\"\",\"\",VLOOKUP($Q$10,DATA!$P$2:$R$196,3))","v":""},{"$f":"IF(LBS18=\"\",\"\",VLOOKUP($Q$10,DATA!$P$2:$R$196,3))","v":""},{"$f":"IF(LBT18=\"\",\"\",VLOOKUP($Q$10,DATA!$P$2:$R$196,3))","v":""},{"$f":"IF(LBU18=\"\",\"\",VLOOKUP($Q$10,DATA!$P$2:$R$196,3))","v":""},{"$f":"IF(LBV18=\"\",\"\",VLOOKUP($Q$10,DATA!$P$2:$R$196,3))","v":""},{"$f":"IF(LBW18=\"\",\"\",VLOOKUP($Q$10,DATA!$P$2:$R$196,3))","v":""},{"$f":"IF(LBX18=\"\",\"\",VLOOKUP($Q$10,DATA!$P$2:$R$196,3))","v":""},{"$f":"IF(LBY18=\"\",\"\",VLOOKUP($Q$10,DATA!$P$2:$R$196,3))","v":""},{"$f":"IF(LBZ18=\"\",\"\",VLOOKUP($Q$10,DATA!$P$2:$R$196,3))","v":""},{"$f":"IF(LCA18=\"\",\"\",VLOOKUP($Q$10,DATA!$P$2:$R$196,3))","v":""},{"$f":"IF(LCB18=\"\",\"\",VLOOKUP($Q$10,DATA!$P$2:$R$196,3))","v":""},{"$f":"IF(LCC18=\"\",\"\",VLOOKUP($Q$10,DATA!$P$2:$R$196,3))","v":""},{"$f":"IF(LCD18=\"\",\"\",VLOOKUP($Q$10,DATA!$P$2:$R$196,3))","v":""},{"$f":"IF(LCE18=\"\",\"\",VLOOKUP($Q$10,DATA!$P$2:$R$196,3))","v":""},{"$f":"IF(LCF18=\"\",\"\",VLOOKUP($Q$10,DATA!$P$2:$R$196,3))","v":""},{"$f":"IF(LCG18=\"\",\"\",VLOOKUP($Q$10,DATA!$P$2:$R$196,3))","v":""},{"$f":"IF(LCH18=\"\",\"\",VLOOKUP($Q$10,DATA!$P$2:$R$196,3))","v":""},{"$f":"IF(LCI18=\"\",\"\",VLOOKUP($Q$10,DATA!$P$2:$R$196,3))","v":""},{"$f":"IF(LCJ18=\"\",\"\",VLOOKUP($Q$10,DATA!$P$2:$R$196,3))","v":""},{"$f":"IF(LCK18=\"\",\"\",VLOOKUP($Q$10,DATA!$P$2:$R$196,3))","v":""},{"$f":"IF(LCL18=\"\",\"\",VLOOKUP($Q$10,DATA!$P$2:$R$196,3))","v":""},{"$f":"IF(LCM18=\"\",\"\",VLOOKUP($Q$10,DATA!$P$2:$R$196,3))","v":""},{"$f":"IF(LCN18=\"\",\"\",VLOOKUP($Q$10,DATA!$P$2:$R$196,3))","v":""},{"$f":"IF(LCO18=\"\",\"\",VLOOKUP($Q$10,DATA!$P$2:$R$196,3))","v":""},{"$f":"IF(LCP18=\"\",\"\",VLOOKUP($Q$10,DATA!$P$2:$R$196,3))","v":""},{"$f":"IF(LCQ18=\"\",\"\",VLOOKUP($Q$10,DATA!$P$2:$R$196,3))","v":""},{"$f":"IF(LCR18=\"\",\"\",VLOOKUP($Q$10,DATA!$P$2:$R$196,3))","v":""},{"$f":"IF(LCS18=\"\",\"\",VLOOKUP($Q$10,DATA!$P$2:$R$196,3))","v":""},{"$f":"IF(LCT18=\"\",\"\",VLOOKUP($Q$10,DATA!$P$2:$R$196,3))","v":""},{"$f":"IF(LCU18=\"\",\"\",VLOOKUP($Q$10,DATA!$P$2:$R$196,3))","v":""},{"$f":"IF(LCV18=\"\",\"\",VLOOKUP($Q$10,DATA!$P$2:$R$196,3))","v":""},{"$f":"IF(LCW18=\"\",\"\",VLOOKUP($Q$10,DATA!$P$2:$R$196,3))","v":""},{"$f":"IF(LCX18=\"\",\"\",VLOOKUP($Q$10,DATA!$P$2:$R$196,3))","v":""},{"$f":"IF(LCY18=\"\",\"\",VLOOKUP($Q$10,DATA!$P$2:$R$196,3))","v":""},{"$f":"IF(LCZ18=\"\",\"\",VLOOKUP($Q$10,DATA!$P$2:$R$196,3))","v":""},{"$f":"IF(LDA18=\"\",\"\",VLOOKUP($Q$10,DATA!$P$2:$R$196,3))","v":""},{"$f":"IF(LDB18=\"\",\"\",VLOOKUP($Q$10,DATA!$P$2:$R$196,3))","v":""},{"$f":"IF(LDC18=\"\",\"\",VLOOKUP($Q$10,DATA!$P$2:$R$196,3))","v":""},{"$f":"IF(LDD18=\"\",\"\",VLOOKUP($Q$10,DATA!$P$2:$R$196,3))","v":""},{"$f":"IF(LDE18=\"\",\"\",VLOOKUP($Q$10,DATA!$P$2:$R$196,3))","v":""},{"$f":"IF(LDF18=\"\",\"\",VLOOKUP($Q$10,DATA!$P$2:$R$196,3))","v":""},{"$f":"IF(LDG18=\"\",\"\",VLOOKUP($Q$10,DATA!$P$2:$R$196,3))","v":""},{"$f":"IF(LDH18=\"\",\"\",VLOOKUP($Q$10,DATA!$P$2:$R$196,3))","v":""},{"$f":"IF(LDI18=\"\",\"\",VLOOKUP($Q$10,DATA!$P$2:$R$196,3))","v":""},{"$f":"IF(LDJ18=\"\",\"\",VLOOKUP($Q$10,DATA!$P$2:$R$196,3))","v":""},{"$f":"IF(LDK18=\"\",\"\",VLOOKUP($Q$10,DATA!$P$2:$R$196,3))","v":""},{"$f":"IF(LDL18=\"\",\"\",VLOOKUP($Q$10,DATA!$P$2:$R$196,3))","v":""},{"$f":"IF(LDM18=\"\",\"\",VLOOKUP($Q$10,DATA!$P$2:$R$196,3))","v":""},{"$f":"IF(LDN18=\"\",\"\",VLOOKUP($Q$10,DATA!$P$2:$R$196,3))","v":""},{"$f":"IF(LDO18=\"\",\"\",VLOOKUP($Q$10,DATA!$P$2:$R$196,3))","v":""},{"$f":"IF(LDP18=\"\",\"\",VLOOKUP($Q$10,DATA!$P$2:$R$196,3))","v":""},{"$f":"IF(LDQ18=\"\",\"\",VLOOKUP($Q$10,DATA!$P$2:$R$196,3))","v":""},{"$f":"IF(LDR18=\"\",\"\",VLOOKUP($Q$10,DATA!$P$2:$R$196,3))","v":""},{"$f":"IF(LDS18=\"\",\"\",VLOOKUP($Q$10,DATA!$P$2:$R$196,3))","v":""},{"$f":"IF(LDT18=\"\",\"\",VLOOKUP($Q$10,DATA!$P$2:$R$196,3))","v":""},{"$f":"IF(LDU18=\"\",\"\",VLOOKUP($Q$10,DATA!$P$2:$R$196,3))","v":""},{"$f":"IF(LDV18=\"\",\"\",VLOOKUP($Q$10,DATA!$P$2:$R$196,3))","v":""},{"$f":"IF(LDW18=\"\",\"\",VLOOKUP($Q$10,DATA!$P$2:$R$196,3))","v":""},{"$f":"IF(LDX18=\"\",\"\",VLOOKUP($Q$10,DATA!$P$2:$R$196,3))","v":""},{"$f":"IF(LDY18=\"\",\"\",VLOOKUP($Q$10,DATA!$P$2:$R$196,3))","v":""},{"$f":"IF(LDZ18=\"\",\"\",VLOOKUP($Q$10,DATA!$P$2:$R$196,3))","v":""},{"$f":"IF(LEA18=\"\",\"\",VLOOKUP($Q$10,DATA!$P$2:$R$196,3))","v":""},{"$f":"IF(LEB18=\"\",\"\",VLOOKUP($Q$10,DATA!$P$2:$R$196,3))","v":""},{"$f":"IF(LEC18=\"\",\"\",VLOOKUP($Q$10,DATA!$P$2:$R$196,3))","v":""},{"$f":"IF(LED18=\"\",\"\",VLOOKUP($Q$10,DATA!$P$2:$R$196,3))","v":""},{"$f":"IF(LEE18=\"\",\"\",VLOOKUP($Q$10,DATA!$P$2:$R$196,3))","v":""},{"$f":"IF(LEF18=\"\",\"\",VLOOKUP($Q$10,DATA!$P$2:$R$196,3))","v":""},{"$f":"IF(LEG18=\"\",\"\",VLOOKUP($Q$10,DATA!$P$2:$R$196,3))","v":""},{"$f":"IF(LEH18=\"\",\"\",VLOOKUP($Q$10,DATA!$P$2:$R$196,3))","v":""},{"$f":"IF(LEI18=\"\",\"\",VLOOKUP($Q$10,DATA!$P$2:$R$196,3))","v":""},{"$f":"IF(LEJ18=\"\",\"\",VLOOKUP($Q$10,DATA!$P$2:$R$196,3))","v":""},{"$f":"IF(LEK18=\"\",\"\",VLOOKUP($Q$10,DATA!$P$2:$R$196,3))","v":""},{"$f":"IF(LEL18=\"\",\"\",VLOOKUP($Q$10,DATA!$P$2:$R$196,3))","v":""},{"$f":"IF(LEM18=\"\",\"\",VLOOKUP($Q$10,DATA!$P$2:$R$196,3))","v":""},{"$f":"IF(LEN18=\"\",\"\",VLOOKUP($Q$10,DATA!$P$2:$R$196,3))","v":""},{"$f":"IF(LEO18=\"\",\"\",VLOOKUP($Q$10,DATA!$P$2:$R$196,3))","v":""},{"$f":"IF(LEP18=\"\",\"\",VLOOKUP($Q$10,DATA!$P$2:$R$196,3))","v":""},{"$f":"IF(LEQ18=\"\",\"\",VLOOKUP($Q$10,DATA!$P$2:$R$196,3))","v":""},{"$f":"IF(LER18=\"\",\"\",VLOOKUP($Q$10,DATA!$P$2:$R$196,3))","v":""},{"$f":"IF(LES18=\"\",\"\",VLOOKUP($Q$10,DATA!$P$2:$R$196,3))","v":""},{"$f":"IF(LET18=\"\",\"\",VLOOKUP($Q$10,DATA!$P$2:$R$196,3))","v":""},{"$f":"IF(LEU18=\"\",\"\",VLOOKUP($Q$10,DATA!$P$2:$R$196,3))","v":""},{"$f":"IF(LEV18=\"\",\"\",VLOOKUP($Q$10,DATA!$P$2:$R$196,3))","v":""},{"$f":"IF(LEW18=\"\",\"\",VLOOKUP($Q$10,DATA!$P$2:$R$196,3))","v":""},{"$f":"IF(LEX18=\"\",\"\",VLOOKUP($Q$10,DATA!$P$2:$R$196,3))","v":""},{"$f":"IF(LEY18=\"\",\"\",VLOOKUP($Q$10,DATA!$P$2:$R$196,3))","v":""},{"$f":"IF(LEZ18=\"\",\"\",VLOOKUP($Q$10,DATA!$P$2:$R$196,3))","v":""},{"$f":"IF(LFA18=\"\",\"\",VLOOKUP($Q$10,DATA!$P$2:$R$196,3))","v":""},{"$f":"IF(LFB18=\"\",\"\",VLOOKUP($Q$10,DATA!$P$2:$R$196,3))","v":""},{"$f":"IF(LFC18=\"\",\"\",VLOOKUP($Q$10,DATA!$P$2:$R$196,3))","v":""},{"$f":"IF(LFD18=\"\",\"\",VLOOKUP($Q$10,DATA!$P$2:$R$196,3))","v":""},{"$f":"IF(LFE18=\"\",\"\",VLOOKUP($Q$10,DATA!$P$2:$R$196,3))","v":""},{"$f":"IF(LFF18=\"\",\"\",VLOOKUP($Q$10,DATA!$P$2:$R$196,3))","v":""},{"$f":"IF(LFG18=\"\",\"\",VLOOKUP($Q$10,DATA!$P$2:$R$196,3))","v":""},{"$f":"IF(LFH18=\"\",\"\",VLOOKUP($Q$10,DATA!$P$2:$R$196,3))","v":""},{"$f":"IF(LFI18=\"\",\"\",VLOOKUP($Q$10,DATA!$P$2:$R$196,3))","v":""},{"$f":"IF(LFJ18=\"\",\"\",VLOOKUP($Q$10,DATA!$P$2:$R$196,3))","v":""},{"$f":"IF(LFK18=\"\",\"\",VLOOKUP($Q$10,DATA!$P$2:$R$196,3))","v":""},{"$f":"IF(LFL18=\"\",\"\",VLOOKUP($Q$10,DATA!$P$2:$R$196,3))","v":""},{"$f":"IF(LFM18=\"\",\"\",VLOOKUP($Q$10,DATA!$P$2:$R$196,3))","v":""},{"$f":"IF(LFN18=\"\",\"\",VLOOKUP($Q$10,DATA!$P$2:$R$196,3))","v":""},{"$f":"IF(LFO18=\"\",\"\",VLOOKUP($Q$10,DATA!$P$2:$R$196,3))","v":""},{"$f":"IF(LFP18=\"\",\"\",VLOOKUP($Q$10,DATA!$P$2:$R$196,3))","v":""},{"$f":"IF(LFQ18=\"\",\"\",VLOOKUP($Q$10,DATA!$P$2:$R$196,3))","v":""},{"$f":"IF(LFR18=\"\",\"\",VLOOKUP($Q$10,DATA!$P$2:$R$196,3))","v":""},{"$f":"IF(LFS18=\"\",\"\",VLOOKUP($Q$10,DATA!$P$2:$R$196,3))","v":""},{"$f":"IF(LFT18=\"\",\"\",VLOOKUP($Q$10,DATA!$P$2:$R$196,3))","v":""},{"$f":"IF(LFU18=\"\",\"\",VLOOKUP($Q$10,DATA!$P$2:$R$196,3))","v":""},{"$f":"IF(LFV18=\"\",\"\",VLOOKUP($Q$10,DATA!$P$2:$R$196,3))","v":""},{"$f":"IF(LFW18=\"\",\"\",VLOOKUP($Q$10,DATA!$P$2:$R$196,3))","v":""},{"$f":"IF(LFX18=\"\",\"\",VLOOKUP($Q$10,DATA!$P$2:$R$196,3))","v":""},{"$f":"IF(LFY18=\"\",\"\",VLOOKUP($Q$10,DATA!$P$2:$R$196,3))","v":""},{"$f":"IF(LFZ18=\"\",\"\",VLOOKUP($Q$10,DATA!$P$2:$R$196,3))","v":""},{"$f":"IF(LGA18=\"\",\"\",VLOOKUP($Q$10,DATA!$P$2:$R$196,3))","v":""},{"$f":"IF(LGB18=\"\",\"\",VLOOKUP($Q$10,DATA!$P$2:$R$196,3))","v":""},{"$f":"IF(LGC18=\"\",\"\",VLOOKUP($Q$10,DATA!$P$2:$R$196,3))","v":""},{"$f":"IF(LGD18=\"\",\"\",VLOOKUP($Q$10,DATA!$P$2:$R$196,3))","v":""},{"$f":"IF(LGE18=\"\",\"\",VLOOKUP($Q$10,DATA!$P$2:$R$196,3))","v":""},{"$f":"IF(LGF18=\"\",\"\",VLOOKUP($Q$10,DATA!$P$2:$R$196,3))","v":""},{"$f":"IF(LGG18=\"\",\"\",VLOOKUP($Q$10,DATA!$P$2:$R$196,3))","v":""},{"$f":"IF(LGH18=\"\",\"\",VLOOKUP($Q$10,DATA!$P$2:$R$196,3))","v":""},{"$f":"IF(LGI18=\"\",\"\",VLOOKUP($Q$10,DATA!$P$2:$R$196,3))","v":""},{"$f":"IF(LGJ18=\"\",\"\",VLOOKUP($Q$10,DATA!$P$2:$R$196,3))","v":""},{"$f":"IF(LGK18=\"\",\"\",VLOOKUP($Q$10,DATA!$P$2:$R$196,3))","v":""},{"$f":"IF(LGL18=\"\",\"\",VLOOKUP($Q$10,DATA!$P$2:$R$196,3))","v":""},{"$f":"IF(LGM18=\"\",\"\",VLOOKUP($Q$10,DATA!$P$2:$R$196,3))","v":""},{"$f":"IF(LGN18=\"\",\"\",VLOOKUP($Q$10,DATA!$P$2:$R$196,3))","v":""},{"$f":"IF(LGO18=\"\",\"\",VLOOKUP($Q$10,DATA!$P$2:$R$196,3))","v":""},{"$f":"IF(LGP18=\"\",\"\",VLOOKUP($Q$10,DATA!$P$2:$R$196,3))","v":""},{"$f":"IF(LGQ18=\"\",\"\",VLOOKUP($Q$10,DATA!$P$2:$R$196,3))","v":""},{"$f":"IF(LGR18=\"\",\"\",VLOOKUP($Q$10,DATA!$P$2:$R$196,3))","v":""},{"$f":"IF(LGS18=\"\",\"\",VLOOKUP($Q$10,DATA!$P$2:$R$196,3))","v":""},{"$f":"IF(LGT18=\"\",\"\",VLOOKUP($Q$10,DATA!$P$2:$R$196,3))","v":""},{"$f":"IF(LGU18=\"\",\"\",VLOOKUP($Q$10,DATA!$P$2:$R$196,3))","v":""},{"$f":"IF(LGV18=\"\",\"\",VLOOKUP($Q$10,DATA!$P$2:$R$196,3))","v":""},{"$f":"IF(LGW18=\"\",\"\",VLOOKUP($Q$10,DATA!$P$2:$R$196,3))","v":""},{"$f":"IF(LGX18=\"\",\"\",VLOOKUP($Q$10,DATA!$P$2:$R$196,3))","v":""},{"$f":"IF(LGY18=\"\",\"\",VLOOKUP($Q$10,DATA!$P$2:$R$196,3))","v":""},{"$f":"IF(LGZ18=\"\",\"\",VLOOKUP($Q$10,DATA!$P$2:$R$196,3))","v":""},{"$f":"IF(LHA18=\"\",\"\",VLOOKUP($Q$10,DATA!$P$2:$R$196,3))","v":""},{"$f":"IF(LHB18=\"\",\"\",VLOOKUP($Q$10,DATA!$P$2:$R$196,3))","v":""},{"$f":"IF(LHC18=\"\",\"\",VLOOKUP($Q$10,DATA!$P$2:$R$196,3))","v":""},{"$f":"IF(LHD18=\"\",\"\",VLOOKUP($Q$10,DATA!$P$2:$R$196,3))","v":""},{"$f":"IF(LHE18=\"\",\"\",VLOOKUP($Q$10,DATA!$P$2:$R$196,3))","v":""},{"$f":"IF(LHF18=\"\",\"\",VLOOKUP($Q$10,DATA!$P$2:$R$196,3))","v":""},{"$f":"IF(LHG18=\"\",\"\",VLOOKUP($Q$10,DATA!$P$2:$R$196,3))","v":""},{"$f":"IF(LHH18=\"\",\"\",VLOOKUP($Q$10,DATA!$P$2:$R$196,3))","v":""},{"$f":"IF(LHI18=\"\",\"\",VLOOKUP($Q$10,DATA!$P$2:$R$196,3))","v":""},{"$f":"IF(LHJ18=\"\",\"\",VLOOKUP($Q$10,DATA!$P$2:$R$196,3))","v":""},{"$f":"IF(LHK18=\"\",\"\",VLOOKUP($Q$10,DATA!$P$2:$R$196,3))","v":""},{"$f":"IF(LHL18=\"\",\"\",VLOOKUP($Q$10,DATA!$P$2:$R$196,3))","v":""},{"$f":"IF(LHM18=\"\",\"\",VLOOKUP($Q$10,DATA!$P$2:$R$196,3))","v":""},{"$f":"IF(LHN18=\"\",\"\",VLOOKUP($Q$10,DATA!$P$2:$R$196,3))","v":""},{"$f":"IF(LHO18=\"\",\"\",VLOOKUP($Q$10,DATA!$P$2:$R$196,3))","v":""},{"$f":"IF(LHP18=\"\",\"\",VLOOKUP($Q$10,DATA!$P$2:$R$196,3))","v":""},{"$f":"IF(LHQ18=\"\",\"\",VLOOKUP($Q$10,DATA!$P$2:$R$196,3))","v":""},{"$f":"IF(LHR18=\"\",\"\",VLOOKUP($Q$10,DATA!$P$2:$R$196,3))","v":""},{"$f":"IF(LHS18=\"\",\"\",VLOOKUP($Q$10,DATA!$P$2:$R$196,3))","v":""},{"$f":"IF(LHT18=\"\",\"\",VLOOKUP($Q$10,DATA!$P$2:$R$196,3))","v":""},{"$f":"IF(LHU18=\"\",\"\",VLOOKUP($Q$10,DATA!$P$2:$R$196,3))","v":""},{"$f":"IF(LHV18=\"\",\"\",VLOOKUP($Q$10,DATA!$P$2:$R$196,3))","v":""},{"$f":"IF(LHW18=\"\",\"\",VLOOKUP($Q$10,DATA!$P$2:$R$196,3))","v":""},{"$f":"IF(LHX18=\"\",\"\",VLOOKUP($Q$10,DATA!$P$2:$R$196,3))","v":""},{"$f":"IF(LHY18=\"\",\"\",VLOOKUP($Q$10,DATA!$P$2:$R$196,3))","v":""},{"$f":"IF(LHZ18=\"\",\"\",VLOOKUP($Q$10,DATA!$P$2:$R$196,3))","v":""},{"$f":"IF(LIA18=\"\",\"\",VLOOKUP($Q$10,DATA!$P$2:$R$196,3))","v":""},{"$f":"IF(LIB18=\"\",\"\",VLOOKUP($Q$10,DATA!$P$2:$R$196,3))","v":""},{"$f":"IF(LIC18=\"\",\"\",VLOOKUP($Q$10,DATA!$P$2:$R$196,3))","v":""},{"$f":"IF(LID18=\"\",\"\",VLOOKUP($Q$10,DATA!$P$2:$R$196,3))","v":""},{"$f":"IF(LIE18=\"\",\"\",VLOOKUP($Q$10,DATA!$P$2:$R$196,3))","v":""},{"$f":"IF(LIF18=\"\",\"\",VLOOKUP($Q$10,DATA!$P$2:$R$196,3))","v":""},{"$f":"IF(LIG18=\"\",\"\",VLOOKUP($Q$10,DATA!$P$2:$R$196,3))","v":""},{"$f":"IF(LIH18=\"\",\"\",VLOOKUP($Q$10,DATA!$P$2:$R$196,3))","v":""},{"$f":"IF(LII18=\"\",\"\",VLOOKUP($Q$10,DATA!$P$2:$R$196,3))","v":""},{"$f":"IF(LIJ18=\"\",\"\",VLOOKUP($Q$10,DATA!$P$2:$R$196,3))","v":""},{"$f":"IF(LIK18=\"\",\"\",VLOOKUP($Q$10,DATA!$P$2:$R$196,3))","v":""},{"$f":"IF(LIL18=\"\",\"\",VLOOKUP($Q$10,DATA!$P$2:$R$196,3))","v":""},{"$f":"IF(LIM18=\"\",\"\",VLOOKUP($Q$10,DATA!$P$2:$R$196,3))","v":""},{"$f":"IF(LIN18=\"\",\"\",VLOOKUP($Q$10,DATA!$P$2:$R$196,3))","v":""},{"$f":"IF(LIO18=\"\",\"\",VLOOKUP($Q$10,DATA!$P$2:$R$196,3))","v":""},{"$f":"IF(LIP18=\"\",\"\",VLOOKUP($Q$10,DATA!$P$2:$R$196,3))","v":""},{"$f":"IF(LIQ18=\"\",\"\",VLOOKUP($Q$10,DATA!$P$2:$R$196,3))","v":""},{"$f":"IF(LIR18=\"\",\"\",VLOOKUP($Q$10,DATA!$P$2:$R$196,3))","v":""},{"$f":"IF(LIS18=\"\",\"\",VLOOKUP($Q$10,DATA!$P$2:$R$196,3))","v":""},{"$f":"IF(LIT18=\"\",\"\",VLOOKUP($Q$10,DATA!$P$2:$R$196,3))","v":""},{"$f":"IF(LIU18=\"\",\"\",VLOOKUP($Q$10,DATA!$P$2:$R$196,3))","v":""},{"$f":"IF(LIV18=\"\",\"\",VLOOKUP($Q$10,DATA!$P$2:$R$196,3))","v":""},{"$f":"IF(LIW18=\"\",\"\",VLOOKUP($Q$10,DATA!$P$2:$R$196,3))","v":""},{"$f":"IF(LIX18=\"\",\"\",VLOOKUP($Q$10,DATA!$P$2:$R$196,3))","v":""},{"$f":"IF(LIY18=\"\",\"\",VLOOKUP($Q$10,DATA!$P$2:$R$196,3))","v":""},{"$f":"IF(LIZ18=\"\",\"\",VLOOKUP($Q$10,DATA!$P$2:$R$196,3))","v":""},{"$f":"IF(LJA18=\"\",\"\",VLOOKUP($Q$10,DATA!$P$2:$R$196,3))","v":""},{"$f":"IF(LJB18=\"\",\"\",VLOOKUP($Q$10,DATA!$P$2:$R$196,3))","v":""},{"$f":"IF(LJC18=\"\",\"\",VLOOKUP($Q$10,DATA!$P$2:$R$196,3))","v":""},{"$f":"IF(LJD18=\"\",\"\",VLOOKUP($Q$10,DATA!$P$2:$R$196,3))","v":""},{"$f":"IF(LJE18=\"\",\"\",VLOOKUP($Q$10,DATA!$P$2:$R$196,3))","v":""},{"$f":"IF(LJF18=\"\",\"\",VLOOKUP($Q$10,DATA!$P$2:$R$196,3))","v":""},{"$f":"IF(LJG18=\"\",\"\",VLOOKUP($Q$10,DATA!$P$2:$R$196,3))","v":""},{"$f":"IF(LJH18=\"\",\"\",VLOOKUP($Q$10,DATA!$P$2:$R$196,3))","v":""},{"$f":"IF(LJI18=\"\",\"\",VLOOKUP($Q$10,DATA!$P$2:$R$196,3))","v":""},{"$f":"IF(LJJ18=\"\",\"\",VLOOKUP($Q$10,DATA!$P$2:$R$196,3))","v":""},{"$f":"IF(LJK18=\"\",\"\",VLOOKUP($Q$10,DATA!$P$2:$R$196,3))","v":""},{"$f":"IF(LJL18=\"\",\"\",VLOOKUP($Q$10,DATA!$P$2:$R$196,3))","v":""},{"$f":"IF(LJM18=\"\",\"\",VLOOKUP($Q$10,DATA!$P$2:$R$196,3))","v":""},{"$f":"IF(LJN18=\"\",\"\",VLOOKUP($Q$10,DATA!$P$2:$R$196,3))","v":""},{"$f":"IF(LJO18=\"\",\"\",VLOOKUP($Q$10,DATA!$P$2:$R$196,3))","v":""},{"$f":"IF(LJP18=\"\",\"\",VLOOKUP($Q$10,DATA!$P$2:$R$196,3))","v":""},{"$f":"IF(LJQ18=\"\",\"\",VLOOKUP($Q$10,DATA!$P$2:$R$196,3))","v":""},{"$f":"IF(LJR18=\"\",\"\",VLOOKUP($Q$10,DATA!$P$2:$R$196,3))","v":""},{"$f":"IF(LJS18=\"\",\"\",VLOOKUP($Q$10,DATA!$P$2:$R$196,3))","v":""},{"$f":"IF(LJT18=\"\",\"\",VLOOKUP($Q$10,DATA!$P$2:$R$196,3))","v":""},{"$f":"IF(LJU18=\"\",\"\",VLOOKUP($Q$10,DATA!$P$2:$R$196,3))","v":""},{"$f":"IF(LJV18=\"\",\"\",VLOOKUP($Q$10,DATA!$P$2:$R$196,3))","v":""},{"$f":"IF(LJW18=\"\",\"\",VLOOKUP($Q$10,DATA!$P$2:$R$196,3))","v":""},{"$f":"IF(LJX18=\"\",\"\",VLOOKUP($Q$10,DATA!$P$2:$R$196,3))","v":""},{"$f":"IF(LJY18=\"\",\"\",VLOOKUP($Q$10,DATA!$P$2:$R$196,3))","v":""},{"$f":"IF(LJZ18=\"\",\"\",VLOOKUP($Q$10,DATA!$P$2:$R$196,3))","v":""},{"$f":"IF(LKA18=\"\",\"\",VLOOKUP($Q$10,DATA!$P$2:$R$196,3))","v":""},{"$f":"IF(LKB18=\"\",\"\",VLOOKUP($Q$10,DATA!$P$2:$R$196,3))","v":""},{"$f":"IF(LKC18=\"\",\"\",VLOOKUP($Q$10,DATA!$P$2:$R$196,3))","v":""},{"$f":"IF(LKD18=\"\",\"\",VLOOKUP($Q$10,DATA!$P$2:$R$196,3))","v":""},{"$f":"IF(LKE18=\"\",\"\",VLOOKUP($Q$10,DATA!$P$2:$R$196,3))","v":""},{"$f":"IF(LKF18=\"\",\"\",VLOOKUP($Q$10,DATA!$P$2:$R$196,3))","v":""},{"$f":"IF(LKG18=\"\",\"\",VLOOKUP($Q$10,DATA!$P$2:$R$196,3))","v":""},{"$f":"IF(LKH18=\"\",\"\",VLOOKUP($Q$10,DATA!$P$2:$R$196,3))","v":""},{"$f":"IF(LKI18=\"\",\"\",VLOOKUP($Q$10,DATA!$P$2:$R$196,3))","v":""},{"$f":"IF(LKJ18=\"\",\"\",VLOOKUP($Q$10,DATA!$P$2:$R$196,3))","v":""},{"$f":"IF(LKK18=\"\",\"\",VLOOKUP($Q$10,DATA!$P$2:$R$196,3))","v":""},{"$f":"IF(LKL18=\"\",\"\",VLOOKUP($Q$10,DATA!$P$2:$R$196,3))","v":""},{"$f":"IF(LKM18=\"\",\"\",VLOOKUP($Q$10,DATA!$P$2:$R$196,3))","v":""},{"$f":"IF(LKN18=\"\",\"\",VLOOKUP($Q$10,DATA!$P$2:$R$196,3))","v":""},{"$f":"IF(LKO18=\"\",\"\",VLOOKUP($Q$10,DATA!$P$2:$R$196,3))","v":""},{"$f":"IF(LKP18=\"\",\"\",VLOOKUP($Q$10,DATA!$P$2:$R$196,3))","v":""},{"$f":"IF(LKQ18=\"\",\"\",VLOOKUP($Q$10,DATA!$P$2:$R$196,3))","v":""},{"$f":"IF(LKR18=\"\",\"\",VLOOKUP($Q$10,DATA!$P$2:$R$196,3))","v":""},{"$f":"IF(LKS18=\"\",\"\",VLOOKUP($Q$10,DATA!$P$2:$R$196,3))","v":""},{"$f":"IF(LKT18=\"\",\"\",VLOOKUP($Q$10,DATA!$P$2:$R$196,3))","v":""},{"$f":"IF(LKU18=\"\",\"\",VLOOKUP($Q$10,DATA!$P$2:$R$196,3))","v":""},{"$f":"IF(LKV18=\"\",\"\",VLOOKUP($Q$10,DATA!$P$2:$R$196,3))","v":""},{"$f":"IF(LKW18=\"\",\"\",VLOOKUP($Q$10,DATA!$P$2:$R$196,3))","v":""},{"$f":"IF(LKX18=\"\",\"\",VLOOKUP($Q$10,DATA!$P$2:$R$196,3))","v":""},{"$f":"IF(LKY18=\"\",\"\",VLOOKUP($Q$10,DATA!$P$2:$R$196,3))","v":""},{"$f":"IF(LKZ18=\"\",\"\",VLOOKUP($Q$10,DATA!$P$2:$R$196,3))","v":""},{"$f":"IF(LLA18=\"\",\"\",VLOOKUP($Q$10,DATA!$P$2:$R$196,3))","v":""},{"$f":"IF(LLB18=\"\",\"\",VLOOKUP($Q$10,DATA!$P$2:$R$196,3))","v":""},{"$f":"IF(LLC18=\"\",\"\",VLOOKUP($Q$10,DATA!$P$2:$R$196,3))","v":""},{"$f":"IF(LLD18=\"\",\"\",VLOOKUP($Q$10,DATA!$P$2:$R$196,3))","v":""},{"$f":"IF(LLE18=\"\",\"\",VLOOKUP($Q$10,DATA!$P$2:$R$196,3))","v":""},{"$f":"IF(LLF18=\"\",\"\",VLOOKUP($Q$10,DATA!$P$2:$R$196,3))","v":""},{"$f":"IF(LLG18=\"\",\"\",VLOOKUP($Q$10,DATA!$P$2:$R$196,3))","v":""},{"$f":"IF(LLH18=\"\",\"\",VLOOKUP($Q$10,DATA!$P$2:$R$196,3))","v":""},{"$f":"IF(LLI18=\"\",\"\",VLOOKUP($Q$10,DATA!$P$2:$R$196,3))","v":""},{"$f":"IF(LLJ18=\"\",\"\",VLOOKUP($Q$10,DATA!$P$2:$R$196,3))","v":""},{"$f":"IF(LLK18=\"\",\"\",VLOOKUP($Q$10,DATA!$P$2:$R$196,3))","v":""},{"$f":"IF(LLL18=\"\",\"\",VLOOKUP($Q$10,DATA!$P$2:$R$196,3))","v":""},{"$f":"IF(LLM18=\"\",\"\",VLOOKUP($Q$10,DATA!$P$2:$R$196,3))","v":""},{"$f":"IF(LLN18=\"\",\"\",VLOOKUP($Q$10,DATA!$P$2:$R$196,3))","v":""},{"$f":"IF(LLO18=\"\",\"\",VLOOKUP($Q$10,DATA!$P$2:$R$196,3))","v":""},{"$f":"IF(LLP18=\"\",\"\",VLOOKUP($Q$10,DATA!$P$2:$R$196,3))","v":""},{"$f":"IF(LLQ18=\"\",\"\",VLOOKUP($Q$10,DATA!$P$2:$R$196,3))","v":""},{"$f":"IF(LLR18=\"\",\"\",VLOOKUP($Q$10,DATA!$P$2:$R$196,3))","v":""},{"$f":"IF(LLS18=\"\",\"\",VLOOKUP($Q$10,DATA!$P$2:$R$196,3))","v":""},{"$f":"IF(LLT18=\"\",\"\",VLOOKUP($Q$10,DATA!$P$2:$R$196,3))","v":""},{"$f":"IF(LLU18=\"\",\"\",VLOOKUP($Q$10,DATA!$P$2:$R$196,3))","v":""},{"$f":"IF(LLV18=\"\",\"\",VLOOKUP($Q$10,DATA!$P$2:$R$196,3))","v":""},{"$f":"IF(LLW18=\"\",\"\",VLOOKUP($Q$10,DATA!$P$2:$R$196,3))","v":""},{"$f":"IF(LLX18=\"\",\"\",VLOOKUP($Q$10,DATA!$P$2:$R$196,3))","v":""},{"$f":"IF(LLY18=\"\",\"\",VLOOKUP($Q$10,DATA!$P$2:$R$196,3))","v":""},{"$f":"IF(LLZ18=\"\",\"\",VLOOKUP($Q$10,DATA!$P$2:$R$196,3))","v":""},{"$f":"IF(LMA18=\"\",\"\",VLOOKUP($Q$10,DATA!$P$2:$R$196,3))","v":""},{"$f":"IF(LMB18=\"\",\"\",VLOOKUP($Q$10,DATA!$P$2:$R$196,3))","v":""},{"$f":"IF(LMC18=\"\",\"\",VLOOKUP($Q$10,DATA!$P$2:$R$196,3))","v":""},{"$f":"IF(LMD18=\"\",\"\",VLOOKUP($Q$10,DATA!$P$2:$R$196,3))","v":""},{"$f":"IF(LME18=\"\",\"\",VLOOKUP($Q$10,DATA!$P$2:$R$196,3))","v":""},{"$f":"IF(LMF18=\"\",\"\",VLOOKUP($Q$10,DATA!$P$2:$R$196,3))","v":""},{"$f":"IF(LMG18=\"\",\"\",VLOOKUP($Q$10,DATA!$P$2:$R$196,3))","v":""},{"$f":"IF(LMH18=\"\",\"\",VLOOKUP($Q$10,DATA!$P$2:$R$196,3))","v":""},{"$f":"IF(LMI18=\"\",\"\",VLOOKUP($Q$10,DATA!$P$2:$R$196,3))","v":""},{"$f":"IF(LMJ18=\"\",\"\",VLOOKUP($Q$10,DATA!$P$2:$R$196,3))","v":""},{"$f":"IF(LMK18=\"\",\"\",VLOOKUP($Q$10,DATA!$P$2:$R$196,3))","v":""},{"$f":"IF(LML18=\"\",\"\",VLOOKUP($Q$10,DATA!$P$2:$R$196,3))","v":""},{"$f":"IF(LMM18=\"\",\"\",VLOOKUP($Q$10,DATA!$P$2:$R$196,3))","v":""},{"$f":"IF(LMN18=\"\",\"\",VLOOKUP($Q$10,DATA!$P$2:$R$196,3))","v":""},{"$f":"IF(LMO18=\"\",\"\",VLOOKUP($Q$10,DATA!$P$2:$R$196,3))","v":""},{"$f":"IF(LMP18=\"\",\"\",VLOOKUP($Q$10,DATA!$P$2:$R$196,3))","v":""},{"$f":"IF(LMQ18=\"\",\"\",VLOOKUP($Q$10,DATA!$P$2:$R$196,3))","v":""},{"$f":"IF(LMR18=\"\",\"\",VLOOKUP($Q$10,DATA!$P$2:$R$196,3))","v":""},{"$f":"IF(LMS18=\"\",\"\",VLOOKUP($Q$10,DATA!$P$2:$R$196,3))","v":""},{"$f":"IF(LMT18=\"\",\"\",VLOOKUP($Q$10,DATA!$P$2:$R$196,3))","v":""},{"$f":"IF(LMU18=\"\",\"\",VLOOKUP($Q$10,DATA!$P$2:$R$196,3))","v":""},{"$f":"IF(LMV18=\"\",\"\",VLOOKUP($Q$10,DATA!$P$2:$R$196,3))","v":""},{"$f":"IF(LMW18=\"\",\"\",VLOOKUP($Q$10,DATA!$P$2:$R$196,3))","v":""},{"$f":"IF(LMX18=\"\",\"\",VLOOKUP($Q$10,DATA!$P$2:$R$196,3))","v":""},{"$f":"IF(LMY18=\"\",\"\",VLOOKUP($Q$10,DATA!$P$2:$R$196,3))","v":""},{"$f":"IF(LMZ18=\"\",\"\",VLOOKUP($Q$10,DATA!$P$2:$R$196,3))","v":""},{"$f":"IF(LNA18=\"\",\"\",VLOOKUP($Q$10,DATA!$P$2:$R$196,3))","v":""},{"$f":"IF(LNB18=\"\",\"\",VLOOKUP($Q$10,DATA!$P$2:$R$196,3))","v":""},{"$f":"IF(LNC18=\"\",\"\",VLOOKUP($Q$10,DATA!$P$2:$R$196,3))","v":""},{"$f":"IF(LND18=\"\",\"\",VLOOKUP($Q$10,DATA!$P$2:$R$196,3))","v":""},{"$f":"IF(LNE18=\"\",\"\",VLOOKUP($Q$10,DATA!$P$2:$R$196,3))","v":""},{"$f":"IF(LNF18=\"\",\"\",VLOOKUP($Q$10,DATA!$P$2:$R$196,3))","v":""},{"$f":"IF(LNG18=\"\",\"\",VLOOKUP($Q$10,DATA!$P$2:$R$196,3))","v":""},{"$f":"IF(LNH18=\"\",\"\",VLOOKUP($Q$10,DATA!$P$2:$R$196,3))","v":""},{"$f":"IF(LNI18=\"\",\"\",VLOOKUP($Q$10,DATA!$P$2:$R$196,3))","v":""},{"$f":"IF(LNJ18=\"\",\"\",VLOOKUP($Q$10,DATA!$P$2:$R$196,3))","v":""},{"$f":"IF(LNK18=\"\",\"\",VLOOKUP($Q$10,DATA!$P$2:$R$196,3))","v":""},{"$f":"IF(LNL18=\"\",\"\",VLOOKUP($Q$10,DATA!$P$2:$R$196,3))","v":""},{"$f":"IF(LNM18=\"\",\"\",VLOOKUP($Q$10,DATA!$P$2:$R$196,3))","v":""},{"$f":"IF(LNN18=\"\",\"\",VLOOKUP($Q$10,DATA!$P$2:$R$196,3))","v":""},{"$f":"IF(LNO18=\"\",\"\",VLOOKUP($Q$10,DATA!$P$2:$R$196,3))","v":""},{"$f":"IF(LNP18=\"\",\"\",VLOOKUP($Q$10,DATA!$P$2:$R$196,3))","v":""},{"$f":"IF(LNQ18=\"\",\"\",VLOOKUP($Q$10,DATA!$P$2:$R$196,3))","v":""},{"$f":"IF(LNR18=\"\",\"\",VLOOKUP($Q$10,DATA!$P$2:$R$196,3))","v":""},{"$f":"IF(LNS18=\"\",\"\",VLOOKUP($Q$10,DATA!$P$2:$R$196,3))","v":""},{"$f":"IF(LNT18=\"\",\"\",VLOOKUP($Q$10,DATA!$P$2:$R$196,3))","v":""},{"$f":"IF(LNU18=\"\",\"\",VLOOKUP($Q$10,DATA!$P$2:$R$196,3))","v":""},{"$f":"IF(LNV18=\"\",\"\",VLOOKUP($Q$10,DATA!$P$2:$R$196,3))","v":""},{"$f":"IF(LNW18=\"\",\"\",VLOOKUP($Q$10,DATA!$P$2:$R$196,3))","v":""},{"$f":"IF(LNX18=\"\",\"\",VLOOKUP($Q$10,DATA!$P$2:$R$196,3))","v":""},{"$f":"IF(LNY18=\"\",\"\",VLOOKUP($Q$10,DATA!$P$2:$R$196,3))","v":""},{"$f":"IF(LNZ18=\"\",\"\",VLOOKUP($Q$10,DATA!$P$2:$R$196,3))","v":""},{"$f":"IF(LOA18=\"\",\"\",VLOOKUP($Q$10,DATA!$P$2:$R$196,3))","v":""},{"$f":"IF(LOB18=\"\",\"\",VLOOKUP($Q$10,DATA!$P$2:$R$196,3))","v":""},{"$f":"IF(LOC18=\"\",\"\",VLOOKUP($Q$10,DATA!$P$2:$R$196,3))","v":""},{"$f":"IF(LOD18=\"\",\"\",VLOOKUP($Q$10,DATA!$P$2:$R$196,3))","v":""},{"$f":"IF(LOE18=\"\",\"\",VLOOKUP($Q$10,DATA!$P$2:$R$196,3))","v":""},{"$f":"IF(LOF18=\"\",\"\",VLOOKUP($Q$10,DATA!$P$2:$R$196,3))","v":""},{"$f":"IF(LOG18=\"\",\"\",VLOOKUP($Q$10,DATA!$P$2:$R$196,3))","v":""},{"$f":"IF(LOH18=\"\",\"\",VLOOKUP($Q$10,DATA!$P$2:$R$196,3))","v":""},{"$f":"IF(LOI18=\"\",\"\",VLOOKUP($Q$10,DATA!$P$2:$R$196,3))","v":""},{"$f":"IF(LOJ18=\"\",\"\",VLOOKUP($Q$10,DATA!$P$2:$R$196,3))","v":""},{"$f":"IF(LOK18=\"\",\"\",VLOOKUP($Q$10,DATA!$P$2:$R$196,3))","v":""},{"$f":"IF(LOL18=\"\",\"\",VLOOKUP($Q$10,DATA!$P$2:$R$196,3))","v":""},{"$f":"IF(LOM18=\"\",\"\",VLOOKUP($Q$10,DATA!$P$2:$R$196,3))","v":""},{"$f":"IF(LON18=\"\",\"\",VLOOKUP($Q$10,DATA!$P$2:$R$196,3))","v":""},{"$f":"IF(LOO18=\"\",\"\",VLOOKUP($Q$10,DATA!$P$2:$R$196,3))","v":""},{"$f":"IF(LOP18=\"\",\"\",VLOOKUP($Q$10,DATA!$P$2:$R$196,3))","v":""},{"$f":"IF(LOQ18=\"\",\"\",VLOOKUP($Q$10,DATA!$P$2:$R$196,3))","v":""},{"$f":"IF(LOR18=\"\",\"\",VLOOKUP($Q$10,DATA!$P$2:$R$196,3))","v":""},{"$f":"IF(LOS18=\"\",\"\",VLOOKUP($Q$10,DATA!$P$2:$R$196,3))","v":""},{"$f":"IF(LOT18=\"\",\"\",VLOOKUP($Q$10,DATA!$P$2:$R$196,3))","v":""},{"$f":"IF(LOU18=\"\",\"\",VLOOKUP($Q$10,DATA!$P$2:$R$196,3))","v":""},{"$f":"IF(LOV18=\"\",\"\",VLOOKUP($Q$10,DATA!$P$2:$R$196,3))","v":""},{"$f":"IF(LOW18=\"\",\"\",VLOOKUP($Q$10,DATA!$P$2:$R$196,3))","v":""},{"$f":"IF(LOX18=\"\",\"\",VLOOKUP($Q$10,DATA!$P$2:$R$196,3))","v":""},{"$f":"IF(LOY18=\"\",\"\",VLOOKUP($Q$10,DATA!$P$2:$R$196,3))","v":""},{"$f":"IF(LOZ18=\"\",\"\",VLOOKUP($Q$10,DATA!$P$2:$R$196,3))","v":""},{"$f":"IF(LPA18=\"\",\"\",VLOOKUP($Q$10,DATA!$P$2:$R$196,3))","v":""},{"$f":"IF(LPB18=\"\",\"\",VLOOKUP($Q$10,DATA!$P$2:$R$196,3))","v":""},{"$f":"IF(LPC18=\"\",\"\",VLOOKUP($Q$10,DATA!$P$2:$R$196,3))","v":""},{"$f":"IF(LPD18=\"\",\"\",VLOOKUP($Q$10,DATA!$P$2:$R$196,3))","v":""},{"$f":"IF(LPE18=\"\",\"\",VLOOKUP($Q$10,DATA!$P$2:$R$196,3))","v":""},{"$f":"IF(LPF18=\"\",\"\",VLOOKUP($Q$10,DATA!$P$2:$R$196,3))","v":""},{"$f":"IF(LPG18=\"\",\"\",VLOOKUP($Q$10,DATA!$P$2:$R$196,3))","v":""},{"$f":"IF(LPH18=\"\",\"\",VLOOKUP($Q$10,DATA!$P$2:$R$196,3))","v":""},{"$f":"IF(LPI18=\"\",\"\",VLOOKUP($Q$10,DATA!$P$2:$R$196,3))","v":""},{"$f":"IF(LPJ18=\"\",\"\",VLOOKUP($Q$10,DATA!$P$2:$R$196,3))","v":""},{"$f":"IF(LPK18=\"\",\"\",VLOOKUP($Q$10,DATA!$P$2:$R$196,3))","v":""},{"$f":"IF(LPL18=\"\",\"\",VLOOKUP($Q$10,DATA!$P$2:$R$196,3))","v":""},{"$f":"IF(LPM18=\"\",\"\",VLOOKUP($Q$10,DATA!$P$2:$R$196,3))","v":""},{"$f":"IF(LPN18=\"\",\"\",VLOOKUP($Q$10,DATA!$P$2:$R$196,3))","v":""},{"$f":"IF(LPO18=\"\",\"\",VLOOKUP($Q$10,DATA!$P$2:$R$196,3))","v":""},{"$f":"IF(LPP18=\"\",\"\",VLOOKUP($Q$10,DATA!$P$2:$R$196,3))","v":""},{"$f":"IF(LPQ18=\"\",\"\",VLOOKUP($Q$10,DATA!$P$2:$R$196,3))","v":""},{"$f":"IF(LPR18=\"\",\"\",VLOOKUP($Q$10,DATA!$P$2:$R$196,3))","v":""},{"$f":"IF(LPS18=\"\",\"\",VLOOKUP($Q$10,DATA!$P$2:$R$196,3))","v":""},{"$f":"IF(LPT18=\"\",\"\",VLOOKUP($Q$10,DATA!$P$2:$R$196,3))","v":""},{"$f":"IF(LPU18=\"\",\"\",VLOOKUP($Q$10,DATA!$P$2:$R$196,3))","v":""},{"$f":"IF(LPV18=\"\",\"\",VLOOKUP($Q$10,DATA!$P$2:$R$196,3))","v":""},{"$f":"IF(LPW18=\"\",\"\",VLOOKUP($Q$10,DATA!$P$2:$R$196,3))","v":""},{"$f":"IF(LPX18=\"\",\"\",VLOOKUP($Q$10,DATA!$P$2:$R$196,3))","v":""},{"$f":"IF(LPY18=\"\",\"\",VLOOKUP($Q$10,DATA!$P$2:$R$196,3))","v":""},{"$f":"IF(LPZ18=\"\",\"\",VLOOKUP($Q$10,DATA!$P$2:$R$196,3))","v":""},{"$f":"IF(LQA18=\"\",\"\",VLOOKUP($Q$10,DATA!$P$2:$R$196,3))","v":""},{"$f":"IF(LQB18=\"\",\"\",VLOOKUP($Q$10,DATA!$P$2:$R$196,3))","v":""},{"$f":"IF(LQC18=\"\",\"\",VLOOKUP($Q$10,DATA!$P$2:$R$196,3))","v":""},{"$f":"IF(LQD18=\"\",\"\",VLOOKUP($Q$10,DATA!$P$2:$R$196,3))","v":""},{"$f":"IF(LQE18=\"\",\"\",VLOOKUP($Q$10,DATA!$P$2:$R$196,3))","v":""},{"$f":"IF(LQF18=\"\",\"\",VLOOKUP($Q$10,DATA!$P$2:$R$196,3))","v":""},{"$f":"IF(LQG18=\"\",\"\",VLOOKUP($Q$10,DATA!$P$2:$R$196,3))","v":""},{"$f":"IF(LQH18=\"\",\"\",VLOOKUP($Q$10,DATA!$P$2:$R$196,3))","v":""},{"$f":"IF(LQI18=\"\",\"\",VLOOKUP($Q$10,DATA!$P$2:$R$196,3))","v":""},{"$f":"IF(LQJ18=\"\",\"\",VLOOKUP($Q$10,DATA!$P$2:$R$196,3))","v":""},{"$f":"IF(LQK18=\"\",\"\",VLOOKUP($Q$10,DATA!$P$2:$R$196,3))","v":""},{"$f":"IF(LQL18=\"\",\"\",VLOOKUP($Q$10,DATA!$P$2:$R$196,3))","v":""},{"$f":"IF(LQM18=\"\",\"\",VLOOKUP($Q$10,DATA!$P$2:$R$196,3))","v":""},{"$f":"IF(LQN18=\"\",\"\",VLOOKUP($Q$10,DATA!$P$2:$R$196,3))","v":""},{"$f":"IF(LQO18=\"\",\"\",VLOOKUP($Q$10,DATA!$P$2:$R$196,3))","v":""},{"$f":"IF(LQP18=\"\",\"\",VLOOKUP($Q$10,DATA!$P$2:$R$196,3))","v":""},{"$f":"IF(LQQ18=\"\",\"\",VLOOKUP($Q$10,DATA!$P$2:$R$196,3))","v":""},{"$f":"IF(LQR18=\"\",\"\",VLOOKUP($Q$10,DATA!$P$2:$R$196,3))","v":""},{"$f":"IF(LQS18=\"\",\"\",VLOOKUP($Q$10,DATA!$P$2:$R$196,3))","v":""},{"$f":"IF(LQT18=\"\",\"\",VLOOKUP($Q$10,DATA!$P$2:$R$196,3))","v":""},{"$f":"IF(LQU18=\"\",\"\",VLOOKUP($Q$10,DATA!$P$2:$R$196,3))","v":""},{"$f":"IF(LQV18=\"\",\"\",VLOOKUP($Q$10,DATA!$P$2:$R$196,3))","v":""},{"$f":"IF(LQW18=\"\",\"\",VLOOKUP($Q$10,DATA!$P$2:$R$196,3))","v":""},{"$f":"IF(LQX18=\"\",\"\",VLOOKUP($Q$10,DATA!$P$2:$R$196,3))","v":""},{"$f":"IF(LQY18=\"\",\"\",VLOOKUP($Q$10,DATA!$P$2:$R$196,3))","v":""},{"$f":"IF(LQZ18=\"\",\"\",VLOOKUP($Q$10,DATA!$P$2:$R$196,3))","v":""},{"$f":"IF(LRA18=\"\",\"\",VLOOKUP($Q$10,DATA!$P$2:$R$196,3))","v":""},{"$f":"IF(LRB18=\"\",\"\",VLOOKUP($Q$10,DATA!$P$2:$R$196,3))","v":""},{"$f":"IF(LRC18=\"\",\"\",VLOOKUP($Q$10,DATA!$P$2:$R$196,3))","v":""},{"$f":"IF(LRD18=\"\",\"\",VLOOKUP($Q$10,DATA!$P$2:$R$196,3))","v":""},{"$f":"IF(LRE18=\"\",\"\",VLOOKUP($Q$10,DATA!$P$2:$R$196,3))","v":""},{"$f":"IF(LRF18=\"\",\"\",VLOOKUP($Q$10,DATA!$P$2:$R$196,3))","v":""},{"$f":"IF(LRG18=\"\",\"\",VLOOKUP($Q$10,DATA!$P$2:$R$196,3))","v":""},{"$f":"IF(LRH18=\"\",\"\",VLOOKUP($Q$10,DATA!$P$2:$R$196,3))","v":""},{"$f":"IF(LRI18=\"\",\"\",VLOOKUP($Q$10,DATA!$P$2:$R$196,3))","v":""},{"$f":"IF(LRJ18=\"\",\"\",VLOOKUP($Q$10,DATA!$P$2:$R$196,3))","v":""},{"$f":"IF(LRK18=\"\",\"\",VLOOKUP($Q$10,DATA!$P$2:$R$196,3))","v":""},{"$f":"IF(LRL18=\"\",\"\",VLOOKUP($Q$10,DATA!$P$2:$R$196,3))","v":""},{"$f":"IF(LRM18=\"\",\"\",VLOOKUP($Q$10,DATA!$P$2:$R$196,3))","v":""},{"$f":"IF(LRN18=\"\",\"\",VLOOKUP($Q$10,DATA!$P$2:$R$196,3))","v":""},{"$f":"IF(LRO18=\"\",\"\",VLOOKUP($Q$10,DATA!$P$2:$R$196,3))","v":""},{"$f":"IF(LRP18=\"\",\"\",VLOOKUP($Q$10,DATA!$P$2:$R$196,3))","v":""},{"$f":"IF(LRQ18=\"\",\"\",VLOOKUP($Q$10,DATA!$P$2:$R$196,3))","v":""},{"$f":"IF(LRR18=\"\",\"\",VLOOKUP($Q$10,DATA!$P$2:$R$196,3))","v":""},{"$f":"IF(LRS18=\"\",\"\",VLOOKUP($Q$10,DATA!$P$2:$R$196,3))","v":""},{"$f":"IF(LRT18=\"\",\"\",VLOOKUP($Q$10,DATA!$P$2:$R$196,3))","v":""},{"$f":"IF(LRU18=\"\",\"\",VLOOKUP($Q$10,DATA!$P$2:$R$196,3))","v":""},{"$f":"IF(LRV18=\"\",\"\",VLOOKUP($Q$10,DATA!$P$2:$R$196,3))","v":""},{"$f":"IF(LRW18=\"\",\"\",VLOOKUP($Q$10,DATA!$P$2:$R$196,3))","v":""},{"$f":"IF(LRX18=\"\",\"\",VLOOKUP($Q$10,DATA!$P$2:$R$196,3))","v":""},{"$f":"IF(LRY18=\"\",\"\",VLOOKUP($Q$10,DATA!$P$2:$R$196,3))","v":""},{"$f":"IF(LRZ18=\"\",\"\",VLOOKUP($Q$10,DATA!$P$2:$R$196,3))","v":""},{"$f":"IF(LSA18=\"\",\"\",VLOOKUP($Q$10,DATA!$P$2:$R$196,3))","v":""},{"$f":"IF(LSB18=\"\",\"\",VLOOKUP($Q$10,DATA!$P$2:$R$196,3))","v":""},{"$f":"IF(LSC18=\"\",\"\",VLOOKUP($Q$10,DATA!$P$2:$R$196,3))","v":""},{"$f":"IF(LSD18=\"\",\"\",VLOOKUP($Q$10,DATA!$P$2:$R$196,3))","v":""},{"$f":"IF(LSE18=\"\",\"\",VLOOKUP($Q$10,DATA!$P$2:$R$196,3))","v":""},{"$f":"IF(LSF18=\"\",\"\",VLOOKUP($Q$10,DATA!$P$2:$R$196,3))","v":""},{"$f":"IF(LSG18=\"\",\"\",VLOOKUP($Q$10,DATA!$P$2:$R$196,3))","v":""},{"$f":"IF(LSH18=\"\",\"\",VLOOKUP($Q$10,DATA!$P$2:$R$196,3))","v":""},{"$f":"IF(LSI18=\"\",\"\",VLOOKUP($Q$10,DATA!$P$2:$R$196,3))","v":""},{"$f":"IF(LSJ18=\"\",\"\",VLOOKUP($Q$10,DATA!$P$2:$R$196,3))","v":""},{"$f":"IF(LSK18=\"\",\"\",VLOOKUP($Q$10,DATA!$P$2:$R$196,3))","v":""},{"$f":"IF(LSL18=\"\",\"\",VLOOKUP($Q$10,DATA!$P$2:$R$196,3))","v":""},{"$f":"IF(LSM18=\"\",\"\",VLOOKUP($Q$10,DATA!$P$2:$R$196,3))","v":""},{"$f":"IF(LSN18=\"\",\"\",VLOOKUP($Q$10,DATA!$P$2:$R$196,3))","v":""},{"$f":"IF(LSO18=\"\",\"\",VLOOKUP($Q$10,DATA!$P$2:$R$196,3))","v":""},{"$f":"IF(LSP18=\"\",\"\",VLOOKUP($Q$10,DATA!$P$2:$R$196,3))","v":""},{"$f":"IF(LSQ18=\"\",\"\",VLOOKUP($Q$10,DATA!$P$2:$R$196,3))","v":""},{"$f":"IF(LSR18=\"\",\"\",VLOOKUP($Q$10,DATA!$P$2:$R$196,3))","v":""},{"$f":"IF(LSS18=\"\",\"\",VLOOKUP($Q$10,DATA!$P$2:$R$196,3))","v":""},{"$f":"IF(LST18=\"\",\"\",VLOOKUP($Q$10,DATA!$P$2:$R$196,3))","v":""},{"$f":"IF(LSU18=\"\",\"\",VLOOKUP($Q$10,DATA!$P$2:$R$196,3))","v":""},{"$f":"IF(LSV18=\"\",\"\",VLOOKUP($Q$10,DATA!$P$2:$R$196,3))","v":""},{"$f":"IF(LSW18=\"\",\"\",VLOOKUP($Q$10,DATA!$P$2:$R$196,3))","v":""},{"$f":"IF(LSX18=\"\",\"\",VLOOKUP($Q$10,DATA!$P$2:$R$196,3))","v":""},{"$f":"IF(LSY18=\"\",\"\",VLOOKUP($Q$10,DATA!$P$2:$R$196,3))","v":""},{"$f":"IF(LSZ18=\"\",\"\",VLOOKUP($Q$10,DATA!$P$2:$R$196,3))","v":""},{"$f":"IF(LTA18=\"\",\"\",VLOOKUP($Q$10,DATA!$P$2:$R$196,3))","v":""},{"$f":"IF(LTB18=\"\",\"\",VLOOKUP($Q$10,DATA!$P$2:$R$196,3))","v":""},{"$f":"IF(LTC18=\"\",\"\",VLOOKUP($Q$10,DATA!$P$2:$R$196,3))","v":""},{"$f":"IF(LTD18=\"\",\"\",VLOOKUP($Q$10,DATA!$P$2:$R$196,3))","v":""},{"$f":"IF(LTE18=\"\",\"\",VLOOKUP($Q$10,DATA!$P$2:$R$196,3))","v":""},{"$f":"IF(LTF18=\"\",\"\",VLOOKUP($Q$10,DATA!$P$2:$R$196,3))","v":""},{"$f":"IF(LTG18=\"\",\"\",VLOOKUP($Q$10,DATA!$P$2:$R$196,3))","v":""},{"$f":"IF(LTH18=\"\",\"\",VLOOKUP($Q$10,DATA!$P$2:$R$196,3))","v":""},{"$f":"IF(LTI18=\"\",\"\",VLOOKUP($Q$10,DATA!$P$2:$R$196,3))","v":""},{"$f":"IF(LTJ18=\"\",\"\",VLOOKUP($Q$10,DATA!$P$2:$R$196,3))","v":""},{"$f":"IF(LTK18=\"\",\"\",VLOOKUP($Q$10,DATA!$P$2:$R$196,3))","v":""},{"$f":"IF(LTL18=\"\",\"\",VLOOKUP($Q$10,DATA!$P$2:$R$196,3))","v":""},{"$f":"IF(LTM18=\"\",\"\",VLOOKUP($Q$10,DATA!$P$2:$R$196,3))","v":""},{"$f":"IF(LTN18=\"\",\"\",VLOOKUP($Q$10,DATA!$P$2:$R$196,3))","v":""},{"$f":"IF(LTO18=\"\",\"\",VLOOKUP($Q$10,DATA!$P$2:$R$196,3))","v":""},{"$f":"IF(LTP18=\"\",\"\",VLOOKUP($Q$10,DATA!$P$2:$R$196,3))","v":""},{"$f":"IF(LTQ18=\"\",\"\",VLOOKUP($Q$10,DATA!$P$2:$R$196,3))","v":""},{"$f":"IF(LTR18=\"\",\"\",VLOOKUP($Q$10,DATA!$P$2:$R$196,3))","v":""},{"$f":"IF(LTS18=\"\",\"\",VLOOKUP($Q$10,DATA!$P$2:$R$196,3))","v":""},{"$f":"IF(LTT18=\"\",\"\",VLOOKUP($Q$10,DATA!$P$2:$R$196,3))","v":""},{"$f":"IF(LTU18=\"\",\"\",VLOOKUP($Q$10,DATA!$P$2:$R$196,3))","v":""},{"$f":"IF(LTV18=\"\",\"\",VLOOKUP($Q$10,DATA!$P$2:$R$196,3))","v":""},{"$f":"IF(LTW18=\"\",\"\",VLOOKUP($Q$10,DATA!$P$2:$R$196,3))","v":""},{"$f":"IF(LTX18=\"\",\"\",VLOOKUP($Q$10,DATA!$P$2:$R$196,3))","v":""},{"$f":"IF(LTY18=\"\",\"\",VLOOKUP($Q$10,DATA!$P$2:$R$196,3))","v":""},{"$f":"IF(LTZ18=\"\",\"\",VLOOKUP($Q$10,DATA!$P$2:$R$196,3))","v":""},{"$f":"IF(LUA18=\"\",\"\",VLOOKUP($Q$10,DATA!$P$2:$R$196,3))","v":""},{"$f":"IF(LUB18=\"\",\"\",VLOOKUP($Q$10,DATA!$P$2:$R$196,3))","v":""},{"$f":"IF(LUC18=\"\",\"\",VLOOKUP($Q$10,DATA!$P$2:$R$196,3))","v":""},{"$f":"IF(LUD18=\"\",\"\",VLOOKUP($Q$10,DATA!$P$2:$R$196,3))","v":""},{"$f":"IF(LUE18=\"\",\"\",VLOOKUP($Q$10,DATA!$P$2:$R$196,3))","v":""},{"$f":"IF(LUF18=\"\",\"\",VLOOKUP($Q$10,DATA!$P$2:$R$196,3))","v":""},{"$f":"IF(LUG18=\"\",\"\",VLOOKUP($Q$10,DATA!$P$2:$R$196,3))","v":""},{"$f":"IF(LUH18=\"\",\"\",VLOOKUP($Q$10,DATA!$P$2:$R$196,3))","v":""},{"$f":"IF(LUI18=\"\",\"\",VLOOKUP($Q$10,DATA!$P$2:$R$196,3))","v":""},{"$f":"IF(LUJ18=\"\",\"\",VLOOKUP($Q$10,DATA!$P$2:$R$196,3))","v":""},{"$f":"IF(LUK18=\"\",\"\",VLOOKUP($Q$10,DATA!$P$2:$R$196,3))","v":""},{"$f":"IF(LUL18=\"\",\"\",VLOOKUP($Q$10,DATA!$P$2:$R$196,3))","v":""},{"$f":"IF(LUM18=\"\",\"\",VLOOKUP($Q$10,DATA!$P$2:$R$196,3))","v":""},{"$f":"IF(LUN18=\"\",\"\",VLOOKUP($Q$10,DATA!$P$2:$R$196,3))","v":""},{"$f":"IF(LUO18=\"\",\"\",VLOOKUP($Q$10,DATA!$P$2:$R$196,3))","v":""},{"$f":"IF(LUP18=\"\",\"\",VLOOKUP($Q$10,DATA!$P$2:$R$196,3))","v":""},{"$f":"IF(LUQ18=\"\",\"\",VLOOKUP($Q$10,DATA!$P$2:$R$196,3))","v":""},{"$f":"IF(LUR18=\"\",\"\",VLOOKUP($Q$10,DATA!$P$2:$R$196,3))","v":""},{"$f":"IF(LUS18=\"\",\"\",VLOOKUP($Q$10,DATA!$P$2:$R$196,3))","v":""},{"$f":"IF(LUT18=\"\",\"\",VLOOKUP($Q$10,DATA!$P$2:$R$196,3))","v":""},{"$f":"IF(LUU18=\"\",\"\",VLOOKUP($Q$10,DATA!$P$2:$R$196,3))","v":""},{"$f":"IF(LUV18=\"\",\"\",VLOOKUP($Q$10,DATA!$P$2:$R$196,3))","v":""},{"$f":"IF(LUW18=\"\",\"\",VLOOKUP($Q$10,DATA!$P$2:$R$196,3))","v":""},{"$f":"IF(LUX18=\"\",\"\",VLOOKUP($Q$10,DATA!$P$2:$R$196,3))","v":""},{"$f":"IF(LUY18=\"\",\"\",VLOOKUP($Q$10,DATA!$P$2:$R$196,3))","v":""},{"$f":"IF(LUZ18=\"\",\"\",VLOOKUP($Q$10,DATA!$P$2:$R$196,3))","v":""},{"$f":"IF(LVA18=\"\",\"\",VLOOKUP($Q$10,DATA!$P$2:$R$196,3))","v":""},{"$f":"IF(LVB18=\"\",\"\",VLOOKUP($Q$10,DATA!$P$2:$R$196,3))","v":""},{"$f":"IF(LVC18=\"\",\"\",VLOOKUP($Q$10,DATA!$P$2:$R$196,3))","v":""},{"$f":"IF(LVD18=\"\",\"\",VLOOKUP($Q$10,DATA!$P$2:$R$196,3))","v":""},{"$f":"IF(LVE18=\"\",\"\",VLOOKUP($Q$10,DATA!$P$2:$R$196,3))","v":""},{"$f":"IF(LVF18=\"\",\"\",VLOOKUP($Q$10,DATA!$P$2:$R$196,3))","v":""},{"$f":"IF(LVG18=\"\",\"\",VLOOKUP($Q$10,DATA!$P$2:$R$196,3))","v":""},{"$f":"IF(LVH18=\"\",\"\",VLOOKUP($Q$10,DATA!$P$2:$R$196,3))","v":""},{"$f":"IF(LVI18=\"\",\"\",VLOOKUP($Q$10,DATA!$P$2:$R$196,3))","v":""},{"$f":"IF(LVJ18=\"\",\"\",VLOOKUP($Q$10,DATA!$P$2:$R$196,3))","v":""},{"$f":"IF(LVK18=\"\",\"\",VLOOKUP($Q$10,DATA!$P$2:$R$196,3))","v":""},{"$f":"IF(LVL18=\"\",\"\",VLOOKUP($Q$10,DATA!$P$2:$R$196,3))","v":""},{"$f":"IF(LVM18=\"\",\"\",VLOOKUP($Q$10,DATA!$P$2:$R$196,3))","v":""},{"$f":"IF(LVN18=\"\",\"\",VLOOKUP($Q$10,DATA!$P$2:$R$196,3))","v":""},{"$f":"IF(LVO18=\"\",\"\",VLOOKUP($Q$10,DATA!$P$2:$R$196,3))","v":""},{"$f":"IF(LVP18=\"\",\"\",VLOOKUP($Q$10,DATA!$P$2:$R$196,3))","v":""},{"$f":"IF(LVQ18=\"\",\"\",VLOOKUP($Q$10,DATA!$P$2:$R$196,3))","v":""},{"$f":"IF(LVR18=\"\",\"\",VLOOKUP($Q$10,DATA!$P$2:$R$196,3))","v":""},{"$f":"IF(LVS18=\"\",\"\",VLOOKUP($Q$10,DATA!$P$2:$R$196,3))","v":""},{"$f":"IF(LVT18=\"\",\"\",VLOOKUP($Q$10,DATA!$P$2:$R$196,3))","v":""},{"$f":"IF(LVU18=\"\",\"\",VLOOKUP($Q$10,DATA!$P$2:$R$196,3))","v":""},{"$f":"IF(LVV18=\"\",\"\",VLOOKUP($Q$10,DATA!$P$2:$R$196,3))","v":""},{"$f":"IF(LVW18=\"\",\"\",VLOOKUP($Q$10,DATA!$P$2:$R$196,3))","v":""},{"$f":"IF(LVX18=\"\",\"\",VLOOKUP($Q$10,DATA!$P$2:$R$196,3))","v":""},{"$f":"IF(LVY18=\"\",\"\",VLOOKUP($Q$10,DATA!$P$2:$R$196,3))","v":""},{"$f":"IF(LVZ18=\"\",\"\",VLOOKUP($Q$10,DATA!$P$2:$R$196,3))","v":""},{"$f":"IF(LWA18=\"\",\"\",VLOOKUP($Q$10,DATA!$P$2:$R$196,3))","v":""},{"$f":"IF(LWB18=\"\",\"\",VLOOKUP($Q$10,DATA!$P$2:$R$196,3))","v":""},{"$f":"IF(LWC18=\"\",\"\",VLOOKUP($Q$10,DATA!$P$2:$R$196,3))","v":""},{"$f":"IF(LWD18=\"\",\"\",VLOOKUP($Q$10,DATA!$P$2:$R$196,3))","v":""},{"$f":"IF(LWE18=\"\",\"\",VLOOKUP($Q$10,DATA!$P$2:$R$196,3))","v":""},{"$f":"IF(LWF18=\"\",\"\",VLOOKUP($Q$10,DATA!$P$2:$R$196,3))","v":""},{"$f":"IF(LWG18=\"\",\"\",VLOOKUP($Q$10,DATA!$P$2:$R$196,3))","v":""},{"$f":"IF(LWH18=\"\",\"\",VLOOKUP($Q$10,DATA!$P$2:$R$196,3))","v":""},{"$f":"IF(LWI18=\"\",\"\",VLOOKUP($Q$10,DATA!$P$2:$R$196,3))","v":""},{"$f":"IF(LWJ18=\"\",\"\",VLOOKUP($Q$10,DATA!$P$2:$R$196,3))","v":""},{"$f":"IF(LWK18=\"\",\"\",VLOOKUP($Q$10,DATA!$P$2:$R$196,3))","v":""},{"$f":"IF(LWL18=\"\",\"\",VLOOKUP($Q$10,DATA!$P$2:$R$196,3))","v":""},{"$f":"IF(LWM18=\"\",\"\",VLOOKUP($Q$10,DATA!$P$2:$R$196,3))","v":""},{"$f":"IF(LWN18=\"\",\"\",VLOOKUP($Q$10,DATA!$P$2:$R$196,3))","v":""},{"$f":"IF(LWO18=\"\",\"\",VLOOKUP($Q$10,DATA!$P$2:$R$196,3))","v":""},{"$f":"IF(LWP18=\"\",\"\",VLOOKUP($Q$10,DATA!$P$2:$R$196,3))","v":""},{"$f":"IF(LWQ18=\"\",\"\",VLOOKUP($Q$10,DATA!$P$2:$R$196,3))","v":""},{"$f":"IF(LWR18=\"\",\"\",VLOOKUP($Q$10,DATA!$P$2:$R$196,3))","v":""},{"$f":"IF(LWS18=\"\",\"\",VLOOKUP($Q$10,DATA!$P$2:$R$196,3))","v":""},{"$f":"IF(LWT18=\"\",\"\",VLOOKUP($Q$10,DATA!$P$2:$R$196,3))","v":""},{"$f":"IF(LWU18=\"\",\"\",VLOOKUP($Q$10,DATA!$P$2:$R$196,3))","v":""},{"$f":"IF(LWV18=\"\",\"\",VLOOKUP($Q$10,DATA!$P$2:$R$196,3))","v":""},{"$f":"IF(LWW18=\"\",\"\",VLOOKUP($Q$10,DATA!$P$2:$R$196,3))","v":""},{"$f":"IF(LWX18=\"\",\"\",VLOOKUP($Q$10,DATA!$P$2:$R$196,3))","v":""},{"$f":"IF(LWY18=\"\",\"\",VLOOKUP($Q$10,DATA!$P$2:$R$196,3))","v":""},{"$f":"IF(LWZ18=\"\",\"\",VLOOKUP($Q$10,DATA!$P$2:$R$196,3))","v":""},{"$f":"IF(LXA18=\"\",\"\",VLOOKUP($Q$10,DATA!$P$2:$R$196,3))","v":""},{"$f":"IF(LXB18=\"\",\"\",VLOOKUP($Q$10,DATA!$P$2:$R$196,3))","v":""},{"$f":"IF(LXC18=\"\",\"\",VLOOKUP($Q$10,DATA!$P$2:$R$196,3))","v":""},{"$f":"IF(LXD18=\"\",\"\",VLOOKUP($Q$10,DATA!$P$2:$R$196,3))","v":""},{"$f":"IF(LXE18=\"\",\"\",VLOOKUP($Q$10,DATA!$P$2:$R$196,3))","v":""},{"$f":"IF(LXF18=\"\",\"\",VLOOKUP($Q$10,DATA!$P$2:$R$196,3))","v":""},{"$f":"IF(LXG18=\"\",\"\",VLOOKUP($Q$10,DATA!$P$2:$R$196,3))","v":""},{"$f":"IF(LXH18=\"\",\"\",VLOOKUP($Q$10,DATA!$P$2:$R$196,3))","v":""},{"$f":"IF(LXI18=\"\",\"\",VLOOKUP($Q$10,DATA!$P$2:$R$196,3))","v":""},{"$f":"IF(LXJ18=\"\",\"\",VLOOKUP($Q$10,DATA!$P$2:$R$196,3))","v":""},{"$f":"IF(LXK18=\"\",\"\",VLOOKUP($Q$10,DATA!$P$2:$R$196,3))","v":""},{"$f":"IF(LXL18=\"\",\"\",VLOOKUP($Q$10,DATA!$P$2:$R$196,3))","v":""},{"$f":"IF(LXM18=\"\",\"\",VLOOKUP($Q$10,DATA!$P$2:$R$196,3))","v":""},{"$f":"IF(LXN18=\"\",\"\",VLOOKUP($Q$10,DATA!$P$2:$R$196,3))","v":""},{"$f":"IF(LXO18=\"\",\"\",VLOOKUP($Q$10,DATA!$P$2:$R$196,3))","v":""},{"$f":"IF(LXP18=\"\",\"\",VLOOKUP($Q$10,DATA!$P$2:$R$196,3))","v":""},{"$f":"IF(LXQ18=\"\",\"\",VLOOKUP($Q$10,DATA!$P$2:$R$196,3))","v":""},{"$f":"IF(LXR18=\"\",\"\",VLOOKUP($Q$10,DATA!$P$2:$R$196,3))","v":""},{"$f":"IF(LXS18=\"\",\"\",VLOOKUP($Q$10,DATA!$P$2:$R$196,3))","v":""},{"$f":"IF(LXT18=\"\",\"\",VLOOKUP($Q$10,DATA!$P$2:$R$196,3))","v":""},{"$f":"IF(LXU18=\"\",\"\",VLOOKUP($Q$10,DATA!$P$2:$R$196,3))","v":""},{"$f":"IF(LXV18=\"\",\"\",VLOOKUP($Q$10,DATA!$P$2:$R$196,3))","v":""},{"$f":"IF(LXW18=\"\",\"\",VLOOKUP($Q$10,DATA!$P$2:$R$196,3))","v":""},{"$f":"IF(LXX18=\"\",\"\",VLOOKUP($Q$10,DATA!$P$2:$R$196,3))","v":""},{"$f":"IF(LXY18=\"\",\"\",VLOOKUP($Q$10,DATA!$P$2:$R$196,3))","v":""},{"$f":"IF(LXZ18=\"\",\"\",VLOOKUP($Q$10,DATA!$P$2:$R$196,3))","v":""},{"$f":"IF(LYA18=\"\",\"\",VLOOKUP($Q$10,DATA!$P$2:$R$196,3))","v":""},{"$f":"IF(LYB18=\"\",\"\",VLOOKUP($Q$10,DATA!$P$2:$R$196,3))","v":""},{"$f":"IF(LYC18=\"\",\"\",VLOOKUP($Q$10,DATA!$P$2:$R$196,3))","v":""},{"$f":"IF(LYD18=\"\",\"\",VLOOKUP($Q$10,DATA!$P$2:$R$196,3))","v":""},{"$f":"IF(LYE18=\"\",\"\",VLOOKUP($Q$10,DATA!$P$2:$R$196,3))","v":""},{"$f":"IF(LYF18=\"\",\"\",VLOOKUP($Q$10,DATA!$P$2:$R$196,3))","v":""},{"$f":"IF(LYG18=\"\",\"\",VLOOKUP($Q$10,DATA!$P$2:$R$196,3))","v":""},{"$f":"IF(LYH18=\"\",\"\",VLOOKUP($Q$10,DATA!$P$2:$R$196,3))","v":""},{"$f":"IF(LYI18=\"\",\"\",VLOOKUP($Q$10,DATA!$P$2:$R$196,3))","v":""},{"$f":"IF(LYJ18=\"\",\"\",VLOOKUP($Q$10,DATA!$P$2:$R$196,3))","v":""},{"$f":"IF(LYK18=\"\",\"\",VLOOKUP($Q$10,DATA!$P$2:$R$196,3))","v":""},{"$f":"IF(LYL18=\"\",\"\",VLOOKUP($Q$10,DATA!$P$2:$R$196,3))","v":""},{"$f":"IF(LYM18=\"\",\"\",VLOOKUP($Q$10,DATA!$P$2:$R$196,3))","v":""},{"$f":"IF(LYN18=\"\",\"\",VLOOKUP($Q$10,DATA!$P$2:$R$196,3))","v":""},{"$f":"IF(LYO18=\"\",\"\",VLOOKUP($Q$10,DATA!$P$2:$R$196,3))","v":""},{"$f":"IF(LYP18=\"\",\"\",VLOOKUP($Q$10,DATA!$P$2:$R$196,3))","v":""},{"$f":"IF(LYQ18=\"\",\"\",VLOOKUP($Q$10,DATA!$P$2:$R$196,3))","v":""},{"$f":"IF(LYR18=\"\",\"\",VLOOKUP($Q$10,DATA!$P$2:$R$196,3))","v":""},{"$f":"IF(LYS18=\"\",\"\",VLOOKUP($Q$10,DATA!$P$2:$R$196,3))","v":""},{"$f":"IF(LYT18=\"\",\"\",VLOOKUP($Q$10,DATA!$P$2:$R$196,3))","v":""},{"$f":"IF(LYU18=\"\",\"\",VLOOKUP($Q$10,DATA!$P$2:$R$196,3))","v":""},{"$f":"IF(LYV18=\"\",\"\",VLOOKUP($Q$10,DATA!$P$2:$R$196,3))","v":""},{"$f":"IF(LYW18=\"\",\"\",VLOOKUP($Q$10,DATA!$P$2:$R$196,3))","v":""},{"$f":"IF(LYX18=\"\",\"\",VLOOKUP($Q$10,DATA!$P$2:$R$196,3))","v":""},{"$f":"IF(LYY18=\"\",\"\",VLOOKUP($Q$10,DATA!$P$2:$R$196,3))","v":""},{"$f":"IF(LYZ18=\"\",\"\",VLOOKUP($Q$10,DATA!$P$2:$R$196,3))","v":""},{"$f":"IF(LZA18=\"\",\"\",VLOOKUP($Q$10,DATA!$P$2:$R$196,3))","v":""},{"$f":"IF(LZB18=\"\",\"\",VLOOKUP($Q$10,DATA!$P$2:$R$196,3))","v":""},{"$f":"IF(LZC18=\"\",\"\",VLOOKUP($Q$10,DATA!$P$2:$R$196,3))","v":""},{"$f":"IF(LZD18=\"\",\"\",VLOOKUP($Q$10,DATA!$P$2:$R$196,3))","v":""},{"$f":"IF(LZE18=\"\",\"\",VLOOKUP($Q$10,DATA!$P$2:$R$196,3))","v":""},{"$f":"IF(LZF18=\"\",\"\",VLOOKUP($Q$10,DATA!$P$2:$R$196,3))","v":""},{"$f":"IF(LZG18=\"\",\"\",VLOOKUP($Q$10,DATA!$P$2:$R$196,3))","v":""},{"$f":"IF(LZH18=\"\",\"\",VLOOKUP($Q$10,DATA!$P$2:$R$196,3))","v":""},{"$f":"IF(LZI18=\"\",\"\",VLOOKUP($Q$10,DATA!$P$2:$R$196,3))","v":""},{"$f":"IF(LZJ18=\"\",\"\",VLOOKUP($Q$10,DATA!$P$2:$R$196,3))","v":""},{"$f":"IF(LZK18=\"\",\"\",VLOOKUP($Q$10,DATA!$P$2:$R$196,3))","v":""},{"$f":"IF(LZL18=\"\",\"\",VLOOKUP($Q$10,DATA!$P$2:$R$196,3))","v":""},{"$f":"IF(LZM18=\"\",\"\",VLOOKUP($Q$10,DATA!$P$2:$R$196,3))","v":""},{"$f":"IF(LZN18=\"\",\"\",VLOOKUP($Q$10,DATA!$P$2:$R$196,3))","v":""},{"$f":"IF(LZO18=\"\",\"\",VLOOKUP($Q$10,DATA!$P$2:$R$196,3))","v":""},{"$f":"IF(LZP18=\"\",\"\",VLOOKUP($Q$10,DATA!$P$2:$R$196,3))","v":""},{"$f":"IF(LZQ18=\"\",\"\",VLOOKUP($Q$10,DATA!$P$2:$R$196,3))","v":""},{"$f":"IF(LZR18=\"\",\"\",VLOOKUP($Q$10,DATA!$P$2:$R$196,3))","v":""},{"$f":"IF(LZS18=\"\",\"\",VLOOKUP($Q$10,DATA!$P$2:$R$196,3))","v":""},{"$f":"IF(LZT18=\"\",\"\",VLOOKUP($Q$10,DATA!$P$2:$R$196,3))","v":""},{"$f":"IF(LZU18=\"\",\"\",VLOOKUP($Q$10,DATA!$P$2:$R$196,3))","v":""},{"$f":"IF(LZV18=\"\",\"\",VLOOKUP($Q$10,DATA!$P$2:$R$196,3))","v":""},{"$f":"IF(LZW18=\"\",\"\",VLOOKUP($Q$10,DATA!$P$2:$R$196,3))","v":""},{"$f":"IF(LZX18=\"\",\"\",VLOOKUP($Q$10,DATA!$P$2:$R$196,3))","v":""},{"$f":"IF(LZY18=\"\",\"\",VLOOKUP($Q$10,DATA!$P$2:$R$196,3))","v":""},{"$f":"IF(LZZ18=\"\",\"\",VLOOKUP($Q$10,DATA!$P$2:$R$196,3))","v":""},{"$f":"IF(MAA18=\"\",\"\",VLOOKUP($Q$10,DATA!$P$2:$R$196,3))","v":""},{"$f":"IF(MAB18=\"\",\"\",VLOOKUP($Q$10,DATA!$P$2:$R$196,3))","v":""},{"$f":"IF(MAC18=\"\",\"\",VLOOKUP($Q$10,DATA!$P$2:$R$196,3))","v":""},{"$f":"IF(MAD18=\"\",\"\",VLOOKUP($Q$10,DATA!$P$2:$R$196,3))","v":""},{"$f":"IF(MAE18=\"\",\"\",VLOOKUP($Q$10,DATA!$P$2:$R$196,3))","v":""},{"$f":"IF(MAF18=\"\",\"\",VLOOKUP($Q$10,DATA!$P$2:$R$196,3))","v":""},{"$f":"IF(MAG18=\"\",\"\",VLOOKUP($Q$10,DATA!$P$2:$R$196,3))","v":""},{"$f":"IF(MAH18=\"\",\"\",VLOOKUP($Q$10,DATA!$P$2:$R$196,3))","v":""},{"$f":"IF(MAI18=\"\",\"\",VLOOKUP($Q$10,DATA!$P$2:$R$196,3))","v":""},{"$f":"IF(MAJ18=\"\",\"\",VLOOKUP($Q$10,DATA!$P$2:$R$196,3))","v":""},{"$f":"IF(MAK18=\"\",\"\",VLOOKUP($Q$10,DATA!$P$2:$R$196,3))","v":""},{"$f":"IF(MAL18=\"\",\"\",VLOOKUP($Q$10,DATA!$P$2:$R$196,3))","v":""},{"$f":"IF(MAM18=\"\",\"\",VLOOKUP($Q$10,DATA!$P$2:$R$196,3))","v":""},{"$f":"IF(MAN18=\"\",\"\",VLOOKUP($Q$10,DATA!$P$2:$R$196,3))","v":""},{"$f":"IF(MAO18=\"\",\"\",VLOOKUP($Q$10,DATA!$P$2:$R$196,3))","v":""},{"$f":"IF(MAP18=\"\",\"\",VLOOKUP($Q$10,DATA!$P$2:$R$196,3))","v":""},{"$f":"IF(MAQ18=\"\",\"\",VLOOKUP($Q$10,DATA!$P$2:$R$196,3))","v":""},{"$f":"IF(MAR18=\"\",\"\",VLOOKUP($Q$10,DATA!$P$2:$R$196,3))","v":""},{"$f":"IF(MAS18=\"\",\"\",VLOOKUP($Q$10,DATA!$P$2:$R$196,3))","v":""},{"$f":"IF(MAT18=\"\",\"\",VLOOKUP($Q$10,DATA!$P$2:$R$196,3))","v":""},{"$f":"IF(MAU18=\"\",\"\",VLOOKUP($Q$10,DATA!$P$2:$R$196,3))","v":""},{"$f":"IF(MAV18=\"\",\"\",VLOOKUP($Q$10,DATA!$P$2:$R$196,3))","v":""},{"$f":"IF(MAW18=\"\",\"\",VLOOKUP($Q$10,DATA!$P$2:$R$196,3))","v":""},{"$f":"IF(MAX18=\"\",\"\",VLOOKUP($Q$10,DATA!$P$2:$R$196,3))","v":""},{"$f":"IF(MAY18=\"\",\"\",VLOOKUP($Q$10,DATA!$P$2:$R$196,3))","v":""},{"$f":"IF(MAZ18=\"\",\"\",VLOOKUP($Q$10,DATA!$P$2:$R$196,3))","v":""},{"$f":"IF(MBA18=\"\",\"\",VLOOKUP($Q$10,DATA!$P$2:$R$196,3))","v":""},{"$f":"IF(MBB18=\"\",\"\",VLOOKUP($Q$10,DATA!$P$2:$R$196,3))","v":""},{"$f":"IF(MBC18=\"\",\"\",VLOOKUP($Q$10,DATA!$P$2:$R$196,3))","v":""},{"$f":"IF(MBD18=\"\",\"\",VLOOKUP($Q$10,DATA!$P$2:$R$196,3))","v":""},{"$f":"IF(MBE18=\"\",\"\",VLOOKUP($Q$10,DATA!$P$2:$R$196,3))","v":""},{"$f":"IF(MBF18=\"\",\"\",VLOOKUP($Q$10,DATA!$P$2:$R$196,3))","v":""},{"$f":"IF(MBG18=\"\",\"\",VLOOKUP($Q$10,DATA!$P$2:$R$196,3))","v":""},{"$f":"IF(MBH18=\"\",\"\",VLOOKUP($Q$10,DATA!$P$2:$R$196,3))","v":""},{"$f":"IF(MBI18=\"\",\"\",VLOOKUP($Q$10,DATA!$P$2:$R$196,3))","v":""},{"$f":"IF(MBJ18=\"\",\"\",VLOOKUP($Q$10,DATA!$P$2:$R$196,3))","v":""},{"$f":"IF(MBK18=\"\",\"\",VLOOKUP($Q$10,DATA!$P$2:$R$196,3))","v":""},{"$f":"IF(MBL18=\"\",\"\",VLOOKUP($Q$10,DATA!$P$2:$R$196,3))","v":""},{"$f":"IF(MBM18=\"\",\"\",VLOOKUP($Q$10,DATA!$P$2:$R$196,3))","v":""},{"$f":"IF(MBN18=\"\",\"\",VLOOKUP($Q$10,DATA!$P$2:$R$196,3))","v":""},{"$f":"IF(MBO18=\"\",\"\",VLOOKUP($Q$10,DATA!$P$2:$R$196,3))","v":""},{"$f":"IF(MBP18=\"\",\"\",VLOOKUP($Q$10,DATA!$P$2:$R$196,3))","v":""},{"$f":"IF(MBQ18=\"\",\"\",VLOOKUP($Q$10,DATA!$P$2:$R$196,3))","v":""},{"$f":"IF(MBR18=\"\",\"\",VLOOKUP($Q$10,DATA!$P$2:$R$196,3))","v":""},{"$f":"IF(MBS18=\"\",\"\",VLOOKUP($Q$10,DATA!$P$2:$R$196,3))","v":""},{"$f":"IF(MBT18=\"\",\"\",VLOOKUP($Q$10,DATA!$P$2:$R$196,3))","v":""},{"$f":"IF(MBU18=\"\",\"\",VLOOKUP($Q$10,DATA!$P$2:$R$196,3))","v":""},{"$f":"IF(MBV18=\"\",\"\",VLOOKUP($Q$10,DATA!$P$2:$R$196,3))","v":""},{"$f":"IF(MBW18=\"\",\"\",VLOOKUP($Q$10,DATA!$P$2:$R$196,3))","v":""},{"$f":"IF(MBX18=\"\",\"\",VLOOKUP($Q$10,DATA!$P$2:$R$196,3))","v":""},{"$f":"IF(MBY18=\"\",\"\",VLOOKUP($Q$10,DATA!$P$2:$R$196,3))","v":""},{"$f":"IF(MBZ18=\"\",\"\",VLOOKUP($Q$10,DATA!$P$2:$R$196,3))","v":""},{"$f":"IF(MCA18=\"\",\"\",VLOOKUP($Q$10,DATA!$P$2:$R$196,3))","v":""},{"$f":"IF(MCB18=\"\",\"\",VLOOKUP($Q$10,DATA!$P$2:$R$196,3))","v":""},{"$f":"IF(MCC18=\"\",\"\",VLOOKUP($Q$10,DATA!$P$2:$R$196,3))","v":""},{"$f":"IF(MCD18=\"\",\"\",VLOOKUP($Q$10,DATA!$P$2:$R$196,3))","v":""},{"$f":"IF(MCE18=\"\",\"\",VLOOKUP($Q$10,DATA!$P$2:$R$196,3))","v":""},{"$f":"IF(MCF18=\"\",\"\",VLOOKUP($Q$10,DATA!$P$2:$R$196,3))","v":""},{"$f":"IF(MCG18=\"\",\"\",VLOOKUP($Q$10,DATA!$P$2:$R$196,3))","v":""},{"$f":"IF(MCH18=\"\",\"\",VLOOKUP($Q$10,DATA!$P$2:$R$196,3))","v":""},{"$f":"IF(MCI18=\"\",\"\",VLOOKUP($Q$10,DATA!$P$2:$R$196,3))","v":""},{"$f":"IF(MCJ18=\"\",\"\",VLOOKUP($Q$10,DATA!$P$2:$R$196,3))","v":""},{"$f":"IF(MCK18=\"\",\"\",VLOOKUP($Q$10,DATA!$P$2:$R$196,3))","v":""},{"$f":"IF(MCL18=\"\",\"\",VLOOKUP($Q$10,DATA!$P$2:$R$196,3))","v":""},{"$f":"IF(MCM18=\"\",\"\",VLOOKUP($Q$10,DATA!$P$2:$R$196,3))","v":""},{"$f":"IF(MCN18=\"\",\"\",VLOOKUP($Q$10,DATA!$P$2:$R$196,3))","v":""},{"$f":"IF(MCO18=\"\",\"\",VLOOKUP($Q$10,DATA!$P$2:$R$196,3))","v":""},{"$f":"IF(MCP18=\"\",\"\",VLOOKUP($Q$10,DATA!$P$2:$R$196,3))","v":""},{"$f":"IF(MCQ18=\"\",\"\",VLOOKUP($Q$10,DATA!$P$2:$R$196,3))","v":""},{"$f":"IF(MCR18=\"\",\"\",VLOOKUP($Q$10,DATA!$P$2:$R$196,3))","v":""},{"$f":"IF(MCS18=\"\",\"\",VLOOKUP($Q$10,DATA!$P$2:$R$196,3))","v":""},{"$f":"IF(MCT18=\"\",\"\",VLOOKUP($Q$10,DATA!$P$2:$R$196,3))","v":""},{"$f":"IF(MCU18=\"\",\"\",VLOOKUP($Q$10,DATA!$P$2:$R$196,3))","v":""},{"$f":"IF(MCV18=\"\",\"\",VLOOKUP($Q$10,DATA!$P$2:$R$196,3))","v":""},{"$f":"IF(MCW18=\"\",\"\",VLOOKUP($Q$10,DATA!$P$2:$R$196,3))","v":""},{"$f":"IF(MCX18=\"\",\"\",VLOOKUP($Q$10,DATA!$P$2:$R$196,3))","v":""},{"$f":"IF(MCY18=\"\",\"\",VLOOKUP($Q$10,DATA!$P$2:$R$196,3))","v":""},{"$f":"IF(MCZ18=\"\",\"\",VLOOKUP($Q$10,DATA!$P$2:$R$196,3))","v":""},{"$f":"IF(MDA18=\"\",\"\",VLOOKUP($Q$10,DATA!$P$2:$R$196,3))","v":""},{"$f":"IF(MDB18=\"\",\"\",VLOOKUP($Q$10,DATA!$P$2:$R$196,3))","v":""},{"$f":"IF(MDC18=\"\",\"\",VLOOKUP($Q$10,DATA!$P$2:$R$196,3))","v":""},{"$f":"IF(MDD18=\"\",\"\",VLOOKUP($Q$10,DATA!$P$2:$R$196,3))","v":""},{"$f":"IF(MDE18=\"\",\"\",VLOOKUP($Q$10,DATA!$P$2:$R$196,3))","v":""},{"$f":"IF(MDF18=\"\",\"\",VLOOKUP($Q$10,DATA!$P$2:$R$196,3))","v":""},{"$f":"IF(MDG18=\"\",\"\",VLOOKUP($Q$10,DATA!$P$2:$R$196,3))","v":""},{"$f":"IF(MDH18=\"\",\"\",VLOOKUP($Q$10,DATA!$P$2:$R$196,3))","v":""},{"$f":"IF(MDI18=\"\",\"\",VLOOKUP($Q$10,DATA!$P$2:$R$196,3))","v":""},{"$f":"IF(MDJ18=\"\",\"\",VLOOKUP($Q$10,DATA!$P$2:$R$196,3))","v":""},{"$f":"IF(MDK18=\"\",\"\",VLOOKUP($Q$10,DATA!$P$2:$R$196,3))","v":""},{"$f":"IF(MDL18=\"\",\"\",VLOOKUP($Q$10,DATA!$P$2:$R$196,3))","v":""},{"$f":"IF(MDM18=\"\",\"\",VLOOKUP($Q$10,DATA!$P$2:$R$196,3))","v":""},{"$f":"IF(MDN18=\"\",\"\",VLOOKUP($Q$10,DATA!$P$2:$R$196,3))","v":""},{"$f":"IF(MDO18=\"\",\"\",VLOOKUP($Q$10,DATA!$P$2:$R$196,3))","v":""},{"$f":"IF(MDP18=\"\",\"\",VLOOKUP($Q$10,DATA!$P$2:$R$196,3))","v":""},{"$f":"IF(MDQ18=\"\",\"\",VLOOKUP($Q$10,DATA!$P$2:$R$196,3))","v":""},{"$f":"IF(MDR18=\"\",\"\",VLOOKUP($Q$10,DATA!$P$2:$R$196,3))","v":""},{"$f":"IF(MDS18=\"\",\"\",VLOOKUP($Q$10,DATA!$P$2:$R$196,3))","v":""},{"$f":"IF(MDT18=\"\",\"\",VLOOKUP($Q$10,DATA!$P$2:$R$196,3))","v":""},{"$f":"IF(MDU18=\"\",\"\",VLOOKUP($Q$10,DATA!$P$2:$R$196,3))","v":""},{"$f":"IF(MDV18=\"\",\"\",VLOOKUP($Q$10,DATA!$P$2:$R$196,3))","v":""},{"$f":"IF(MDW18=\"\",\"\",VLOOKUP($Q$10,DATA!$P$2:$R$196,3))","v":""},{"$f":"IF(MDX18=\"\",\"\",VLOOKUP($Q$10,DATA!$P$2:$R$196,3))","v":""},{"$f":"IF(MDY18=\"\",\"\",VLOOKUP($Q$10,DATA!$P$2:$R$196,3))","v":""},{"$f":"IF(MDZ18=\"\",\"\",VLOOKUP($Q$10,DATA!$P$2:$R$196,3))","v":""},{"$f":"IF(MEA18=\"\",\"\",VLOOKUP($Q$10,DATA!$P$2:$R$196,3))","v":""},{"$f":"IF(MEB18=\"\",\"\",VLOOKUP($Q$10,DATA!$P$2:$R$196,3))","v":""},{"$f":"IF(MEC18=\"\",\"\",VLOOKUP($Q$10,DATA!$P$2:$R$196,3))","v":""},{"$f":"IF(MED18=\"\",\"\",VLOOKUP($Q$10,DATA!$P$2:$R$196,3))","v":""},{"$f":"IF(MEE18=\"\",\"\",VLOOKUP($Q$10,DATA!$P$2:$R$196,3))","v":""},{"$f":"IF(MEF18=\"\",\"\",VLOOKUP($Q$10,DATA!$P$2:$R$196,3))","v":""},{"$f":"IF(MEG18=\"\",\"\",VLOOKUP($Q$10,DATA!$P$2:$R$196,3))","v":""},{"$f":"IF(MEH18=\"\",\"\",VLOOKUP($Q$10,DATA!$P$2:$R$196,3))","v":""},{"$f":"IF(MEI18=\"\",\"\",VLOOKUP($Q$10,DATA!$P$2:$R$196,3))","v":""},{"$f":"IF(MEJ18=\"\",\"\",VLOOKUP($Q$10,DATA!$P$2:$R$196,3))","v":""},{"$f":"IF(MEK18=\"\",\"\",VLOOKUP($Q$10,DATA!$P$2:$R$196,3))","v":""},{"$f":"IF(MEL18=\"\",\"\",VLOOKUP($Q$10,DATA!$P$2:$R$196,3))","v":""},{"$f":"IF(MEM18=\"\",\"\",VLOOKUP($Q$10,DATA!$P$2:$R$196,3))","v":""},{"$f":"IF(MEN18=\"\",\"\",VLOOKUP($Q$10,DATA!$P$2:$R$196,3))","v":""},{"$f":"IF(MEO18=\"\",\"\",VLOOKUP($Q$10,DATA!$P$2:$R$196,3))","v":""},{"$f":"IF(MEP18=\"\",\"\",VLOOKUP($Q$10,DATA!$P$2:$R$196,3))","v":""},{"$f":"IF(MEQ18=\"\",\"\",VLOOKUP($Q$10,DATA!$P$2:$R$196,3))","v":""},{"$f":"IF(MER18=\"\",\"\",VLOOKUP($Q$10,DATA!$P$2:$R$196,3))","v":""},{"$f":"IF(MES18=\"\",\"\",VLOOKUP($Q$10,DATA!$P$2:$R$196,3))","v":""},{"$f":"IF(MET18=\"\",\"\",VLOOKUP($Q$10,DATA!$P$2:$R$196,3))","v":""},{"$f":"IF(MEU18=\"\",\"\",VLOOKUP($Q$10,DATA!$P$2:$R$196,3))","v":""},{"$f":"IF(MEV18=\"\",\"\",VLOOKUP($Q$10,DATA!$P$2:$R$196,3))","v":""},{"$f":"IF(MEW18=\"\",\"\",VLOOKUP($Q$10,DATA!$P$2:$R$196,3))","v":""},{"$f":"IF(MEX18=\"\",\"\",VLOOKUP($Q$10,DATA!$P$2:$R$196,3))","v":""},{"$f":"IF(MEY18=\"\",\"\",VLOOKUP($Q$10,DATA!$P$2:$R$196,3))","v":""},{"$f":"IF(MEZ18=\"\",\"\",VLOOKUP($Q$10,DATA!$P$2:$R$196,3))","v":""},{"$f":"IF(MFA18=\"\",\"\",VLOOKUP($Q$10,DATA!$P$2:$R$196,3))","v":""},{"$f":"IF(MFB18=\"\",\"\",VLOOKUP($Q$10,DATA!$P$2:$R$196,3))","v":""},{"$f":"IF(MFC18=\"\",\"\",VLOOKUP($Q$10,DATA!$P$2:$R$196,3))","v":""},{"$f":"IF(MFD18=\"\",\"\",VLOOKUP($Q$10,DATA!$P$2:$R$196,3))","v":""},{"$f":"IF(MFE18=\"\",\"\",VLOOKUP($Q$10,DATA!$P$2:$R$196,3))","v":""},{"$f":"IF(MFF18=\"\",\"\",VLOOKUP($Q$10,DATA!$P$2:$R$196,3))","v":""},{"$f":"IF(MFG18=\"\",\"\",VLOOKUP($Q$10,DATA!$P$2:$R$196,3))","v":""},{"$f":"IF(MFH18=\"\",\"\",VLOOKUP($Q$10,DATA!$P$2:$R$196,3))","v":""},{"$f":"IF(MFI18=\"\",\"\",VLOOKUP($Q$10,DATA!$P$2:$R$196,3))","v":""},{"$f":"IF(MFJ18=\"\",\"\",VLOOKUP($Q$10,DATA!$P$2:$R$196,3))","v":""},{"$f":"IF(MFK18=\"\",\"\",VLOOKUP($Q$10,DATA!$P$2:$R$196,3))","v":""},{"$f":"IF(MFL18=\"\",\"\",VLOOKUP($Q$10,DATA!$P$2:$R$196,3))","v":""},{"$f":"IF(MFM18=\"\",\"\",VLOOKUP($Q$10,DATA!$P$2:$R$196,3))","v":""},{"$f":"IF(MFN18=\"\",\"\",VLOOKUP($Q$10,DATA!$P$2:$R$196,3))","v":""},{"$f":"IF(MFO18=\"\",\"\",VLOOKUP($Q$10,DATA!$P$2:$R$196,3))","v":""},{"$f":"IF(MFP18=\"\",\"\",VLOOKUP($Q$10,DATA!$P$2:$R$196,3))","v":""},{"$f":"IF(MFQ18=\"\",\"\",VLOOKUP($Q$10,DATA!$P$2:$R$196,3))","v":""},{"$f":"IF(MFR18=\"\",\"\",VLOOKUP($Q$10,DATA!$P$2:$R$196,3))","v":""},{"$f":"IF(MFS18=\"\",\"\",VLOOKUP($Q$10,DATA!$P$2:$R$196,3))","v":""},{"$f":"IF(MFT18=\"\",\"\",VLOOKUP($Q$10,DATA!$P$2:$R$196,3))","v":""},{"$f":"IF(MFU18=\"\",\"\",VLOOKUP($Q$10,DATA!$P$2:$R$196,3))","v":""},{"$f":"IF(MFV18=\"\",\"\",VLOOKUP($Q$10,DATA!$P$2:$R$196,3))","v":""},{"$f":"IF(MFW18=\"\",\"\",VLOOKUP($Q$10,DATA!$P$2:$R$196,3))","v":""},{"$f":"IF(MFX18=\"\",\"\",VLOOKUP($Q$10,DATA!$P$2:$R$196,3))","v":""},{"$f":"IF(MFY18=\"\",\"\",VLOOKUP($Q$10,DATA!$P$2:$R$196,3))","v":""},{"$f":"IF(MFZ18=\"\",\"\",VLOOKUP($Q$10,DATA!$P$2:$R$196,3))","v":""},{"$f":"IF(MGA18=\"\",\"\",VLOOKUP($Q$10,DATA!$P$2:$R$196,3))","v":""},{"$f":"IF(MGB18=\"\",\"\",VLOOKUP($Q$10,DATA!$P$2:$R$196,3))","v":""},{"$f":"IF(MGC18=\"\",\"\",VLOOKUP($Q$10,DATA!$P$2:$R$196,3))","v":""},{"$f":"IF(MGD18=\"\",\"\",VLOOKUP($Q$10,DATA!$P$2:$R$196,3))","v":""},{"$f":"IF(MGE18=\"\",\"\",VLOOKUP($Q$10,DATA!$P$2:$R$196,3))","v":""},{"$f":"IF(MGF18=\"\",\"\",VLOOKUP($Q$10,DATA!$P$2:$R$196,3))","v":""},{"$f":"IF(MGG18=\"\",\"\",VLOOKUP($Q$10,DATA!$P$2:$R$196,3))","v":""},{"$f":"IF(MGH18=\"\",\"\",VLOOKUP($Q$10,DATA!$P$2:$R$196,3))","v":""},{"$f":"IF(MGI18=\"\",\"\",VLOOKUP($Q$10,DATA!$P$2:$R$196,3))","v":""},{"$f":"IF(MGJ18=\"\",\"\",VLOOKUP($Q$10,DATA!$P$2:$R$196,3))","v":""},{"$f":"IF(MGK18=\"\",\"\",VLOOKUP($Q$10,DATA!$P$2:$R$196,3))","v":""},{"$f":"IF(MGL18=\"\",\"\",VLOOKUP($Q$10,DATA!$P$2:$R$196,3))","v":""},{"$f":"IF(MGM18=\"\",\"\",VLOOKUP($Q$10,DATA!$P$2:$R$196,3))","v":""},{"$f":"IF(MGN18=\"\",\"\",VLOOKUP($Q$10,DATA!$P$2:$R$196,3))","v":""},{"$f":"IF(MGO18=\"\",\"\",VLOOKUP($Q$10,DATA!$P$2:$R$196,3))","v":""},{"$f":"IF(MGP18=\"\",\"\",VLOOKUP($Q$10,DATA!$P$2:$R$196,3))","v":""},{"$f":"IF(MGQ18=\"\",\"\",VLOOKUP($Q$10,DATA!$P$2:$R$196,3))","v":""},{"$f":"IF(MGR18=\"\",\"\",VLOOKUP($Q$10,DATA!$P$2:$R$196,3))","v":""},{"$f":"IF(MGS18=\"\",\"\",VLOOKUP($Q$10,DATA!$P$2:$R$196,3))","v":""},{"$f":"IF(MGT18=\"\",\"\",VLOOKUP($Q$10,DATA!$P$2:$R$196,3))","v":""},{"$f":"IF(MGU18=\"\",\"\",VLOOKUP($Q$10,DATA!$P$2:$R$196,3))","v":""},{"$f":"IF(MGV18=\"\",\"\",VLOOKUP($Q$10,DATA!$P$2:$R$196,3))","v":""},{"$f":"IF(MGW18=\"\",\"\",VLOOKUP($Q$10,DATA!$P$2:$R$196,3))","v":""},{"$f":"IF(MGX18=\"\",\"\",VLOOKUP($Q$10,DATA!$P$2:$R$196,3))","v":""},{"$f":"IF(MGY18=\"\",\"\",VLOOKUP($Q$10,DATA!$P$2:$R$196,3))","v":""},{"$f":"IF(MGZ18=\"\",\"\",VLOOKUP($Q$10,DATA!$P$2:$R$196,3))","v":""},{"$f":"IF(MHA18=\"\",\"\",VLOOKUP($Q$10,DATA!$P$2:$R$196,3))","v":""},{"$f":"IF(MHB18=\"\",\"\",VLOOKUP($Q$10,DATA!$P$2:$R$196,3))","v":""},{"$f":"IF(MHC18=\"\",\"\",VLOOKUP($Q$10,DATA!$P$2:$R$196,3))","v":""},{"$f":"IF(MHD18=\"\",\"\",VLOOKUP($Q$10,DATA!$P$2:$R$196,3))","v":""},{"$f":"IF(MHE18=\"\",\"\",VLOOKUP($Q$10,DATA!$P$2:$R$196,3))","v":""},{"$f":"IF(MHF18=\"\",\"\",VLOOKUP($Q$10,DATA!$P$2:$R$196,3))","v":""},{"$f":"IF(MHG18=\"\",\"\",VLOOKUP($Q$10,DATA!$P$2:$R$196,3))","v":""},{"$f":"IF(MHH18=\"\",\"\",VLOOKUP($Q$10,DATA!$P$2:$R$196,3))","v":""},{"$f":"IF(MHI18=\"\",\"\",VLOOKUP($Q$10,DATA!$P$2:$R$196,3))","v":""},{"$f":"IF(MHJ18=\"\",\"\",VLOOKUP($Q$10,DATA!$P$2:$R$196,3))","v":""},{"$f":"IF(MHK18=\"\",\"\",VLOOKUP($Q$10,DATA!$P$2:$R$196,3))","v":""},{"$f":"IF(MHL18=\"\",\"\",VLOOKUP($Q$10,DATA!$P$2:$R$196,3))","v":""},{"$f":"IF(MHM18=\"\",\"\",VLOOKUP($Q$10,DATA!$P$2:$R$196,3))","v":""},{"$f":"IF(MHN18=\"\",\"\",VLOOKUP($Q$10,DATA!$P$2:$R$196,3))","v":""},{"$f":"IF(MHO18=\"\",\"\",VLOOKUP($Q$10,DATA!$P$2:$R$196,3))","v":""},{"$f":"IF(MHP18=\"\",\"\",VLOOKUP($Q$10,DATA!$P$2:$R$196,3))","v":""},{"$f":"IF(MHQ18=\"\",\"\",VLOOKUP($Q$10,DATA!$P$2:$R$196,3))","v":""},{"$f":"IF(MHR18=\"\",\"\",VLOOKUP($Q$10,DATA!$P$2:$R$196,3))","v":""},{"$f":"IF(MHS18=\"\",\"\",VLOOKUP($Q$10,DATA!$P$2:$R$196,3))","v":""},{"$f":"IF(MHT18=\"\",\"\",VLOOKUP($Q$10,DATA!$P$2:$R$196,3))","v":""},{"$f":"IF(MHU18=\"\",\"\",VLOOKUP($Q$10,DATA!$P$2:$R$196,3))","v":""},{"$f":"IF(MHV18=\"\",\"\",VLOOKUP($Q$10,DATA!$P$2:$R$196,3))","v":""},{"$f":"IF(MHW18=\"\",\"\",VLOOKUP($Q$10,DATA!$P$2:$R$196,3))","v":""},{"$f":"IF(MHX18=\"\",\"\",VLOOKUP($Q$10,DATA!$P$2:$R$196,3))","v":""},{"$f":"IF(MHY18=\"\",\"\",VLOOKUP($Q$10,DATA!$P$2:$R$196,3))","v":""},{"$f":"IF(MHZ18=\"\",\"\",VLOOKUP($Q$10,DATA!$P$2:$R$196,3))","v":""},{"$f":"IF(MIA18=\"\",\"\",VLOOKUP($Q$10,DATA!$P$2:$R$196,3))","v":""},{"$f":"IF(MIB18=\"\",\"\",VLOOKUP($Q$10,DATA!$P$2:$R$196,3))","v":""},{"$f":"IF(MIC18=\"\",\"\",VLOOKUP($Q$10,DATA!$P$2:$R$196,3))","v":""},{"$f":"IF(MID18=\"\",\"\",VLOOKUP($Q$10,DATA!$P$2:$R$196,3))","v":""},{"$f":"IF(MIE18=\"\",\"\",VLOOKUP($Q$10,DATA!$P$2:$R$196,3))","v":""},{"$f":"IF(MIF18=\"\",\"\",VLOOKUP($Q$10,DATA!$P$2:$R$196,3))","v":""},{"$f":"IF(MIG18=\"\",\"\",VLOOKUP($Q$10,DATA!$P$2:$R$196,3))","v":""},{"$f":"IF(MIH18=\"\",\"\",VLOOKUP($Q$10,DATA!$P$2:$R$196,3))","v":""},{"$f":"IF(MII18=\"\",\"\",VLOOKUP($Q$10,DATA!$P$2:$R$196,3))","v":""},{"$f":"IF(MIJ18=\"\",\"\",VLOOKUP($Q$10,DATA!$P$2:$R$196,3))","v":""},{"$f":"IF(MIK18=\"\",\"\",VLOOKUP($Q$10,DATA!$P$2:$R$196,3))","v":""},{"$f":"IF(MIL18=\"\",\"\",VLOOKUP($Q$10,DATA!$P$2:$R$196,3))","v":""},{"$f":"IF(MIM18=\"\",\"\",VLOOKUP($Q$10,DATA!$P$2:$R$196,3))","v":""},{"$f":"IF(MIN18=\"\",\"\",VLOOKUP($Q$10,DATA!$P$2:$R$196,3))","v":""},{"$f":"IF(MIO18=\"\",\"\",VLOOKUP($Q$10,DATA!$P$2:$R$196,3))","v":""},{"$f":"IF(MIP18=\"\",\"\",VLOOKUP($Q$10,DATA!$P$2:$R$196,3))","v":""},{"$f":"IF(MIQ18=\"\",\"\",VLOOKUP($Q$10,DATA!$P$2:$R$196,3))","v":""},{"$f":"IF(MIR18=\"\",\"\",VLOOKUP($Q$10,DATA!$P$2:$R$196,3))","v":""},{"$f":"IF(MIS18=\"\",\"\",VLOOKUP($Q$10,DATA!$P$2:$R$196,3))","v":""},{"$f":"IF(MIT18=\"\",\"\",VLOOKUP($Q$10,DATA!$P$2:$R$196,3))","v":""},{"$f":"IF(MIU18=\"\",\"\",VLOOKUP($Q$10,DATA!$P$2:$R$196,3))","v":""},{"$f":"IF(MIV18=\"\",\"\",VLOOKUP($Q$10,DATA!$P$2:$R$196,3))","v":""},{"$f":"IF(MIW18=\"\",\"\",VLOOKUP($Q$10,DATA!$P$2:$R$196,3))","v":""},{"$f":"IF(MIX18=\"\",\"\",VLOOKUP($Q$10,DATA!$P$2:$R$196,3))","v":""},{"$f":"IF(MIY18=\"\",\"\",VLOOKUP($Q$10,DATA!$P$2:$R$196,3))","v":""},{"$f":"IF(MIZ18=\"\",\"\",VLOOKUP($Q$10,DATA!$P$2:$R$196,3))","v":""},{"$f":"IF(MJA18=\"\",\"\",VLOOKUP($Q$10,DATA!$P$2:$R$196,3))","v":""},{"$f":"IF(MJB18=\"\",\"\",VLOOKUP($Q$10,DATA!$P$2:$R$196,3))","v":""},{"$f":"IF(MJC18=\"\",\"\",VLOOKUP($Q$10,DATA!$P$2:$R$196,3))","v":""},{"$f":"IF(MJD18=\"\",\"\",VLOOKUP($Q$10,DATA!$P$2:$R$196,3))","v":""},{"$f":"IF(MJE18=\"\",\"\",VLOOKUP($Q$10,DATA!$P$2:$R$196,3))","v":""},{"$f":"IF(MJF18=\"\",\"\",VLOOKUP($Q$10,DATA!$P$2:$R$196,3))","v":""},{"$f":"IF(MJG18=\"\",\"\",VLOOKUP($Q$10,DATA!$P$2:$R$196,3))","v":""},{"$f":"IF(MJH18=\"\",\"\",VLOOKUP($Q$10,DATA!$P$2:$R$196,3))","v":""},{"$f":"IF(MJI18=\"\",\"\",VLOOKUP($Q$10,DATA!$P$2:$R$196,3))","v":""},{"$f":"IF(MJJ18=\"\",\"\",VLOOKUP($Q$10,DATA!$P$2:$R$196,3))","v":""},{"$f":"IF(MJK18=\"\",\"\",VLOOKUP($Q$10,DATA!$P$2:$R$196,3))","v":""},{"$f":"IF(MJL18=\"\",\"\",VLOOKUP($Q$10,DATA!$P$2:$R$196,3))","v":""},{"$f":"IF(MJM18=\"\",\"\",VLOOKUP($Q$10,DATA!$P$2:$R$196,3))","v":""},{"$f":"IF(MJN18=\"\",\"\",VLOOKUP($Q$10,DATA!$P$2:$R$196,3))","v":""},{"$f":"IF(MJO18=\"\",\"\",VLOOKUP($Q$10,DATA!$P$2:$R$196,3))","v":""},{"$f":"IF(MJP18=\"\",\"\",VLOOKUP($Q$10,DATA!$P$2:$R$196,3))","v":""},{"$f":"IF(MJQ18=\"\",\"\",VLOOKUP($Q$10,DATA!$P$2:$R$196,3))","v":""},{"$f":"IF(MJR18=\"\",\"\",VLOOKUP($Q$10,DATA!$P$2:$R$196,3))","v":""},{"$f":"IF(MJS18=\"\",\"\",VLOOKUP($Q$10,DATA!$P$2:$R$196,3))","v":""},{"$f":"IF(MJT18=\"\",\"\",VLOOKUP($Q$10,DATA!$P$2:$R$196,3))","v":""},{"$f":"IF(MJU18=\"\",\"\",VLOOKUP($Q$10,DATA!$P$2:$R$196,3))","v":""},{"$f":"IF(MJV18=\"\",\"\",VLOOKUP($Q$10,DATA!$P$2:$R$196,3))","v":""},{"$f":"IF(MJW18=\"\",\"\",VLOOKUP($Q$10,DATA!$P$2:$R$196,3))","v":""},{"$f":"IF(MJX18=\"\",\"\",VLOOKUP($Q$10,DATA!$P$2:$R$196,3))","v":""},{"$f":"IF(MJY18=\"\",\"\",VLOOKUP($Q$10,DATA!$P$2:$R$196,3))","v":""},{"$f":"IF(MJZ18=\"\",\"\",VLOOKUP($Q$10,DATA!$P$2:$R$196,3))","v":""},{"$f":"IF(MKA18=\"\",\"\",VLOOKUP($Q$10,DATA!$P$2:$R$196,3))","v":""},{"$f":"IF(MKB18=\"\",\"\",VLOOKUP($Q$10,DATA!$P$2:$R$196,3))","v":""},{"$f":"IF(MKC18=\"\",\"\",VLOOKUP($Q$10,DATA!$P$2:$R$196,3))","v":""},{"$f":"IF(MKD18=\"\",\"\",VLOOKUP($Q$10,DATA!$P$2:$R$196,3))","v":""},{"$f":"IF(MKE18=\"\",\"\",VLOOKUP($Q$10,DATA!$P$2:$R$196,3))","v":""},{"$f":"IF(MKF18=\"\",\"\",VLOOKUP($Q$10,DATA!$P$2:$R$196,3))","v":""},{"$f":"IF(MKG18=\"\",\"\",VLOOKUP($Q$10,DATA!$P$2:$R$196,3))","v":""},{"$f":"IF(MKH18=\"\",\"\",VLOOKUP($Q$10,DATA!$P$2:$R$196,3))","v":""},{"$f":"IF(MKI18=\"\",\"\",VLOOKUP($Q$10,DATA!$P$2:$R$196,3))","v":""},{"$f":"IF(MKJ18=\"\",\"\",VLOOKUP($Q$10,DATA!$P$2:$R$196,3))","v":""},{"$f":"IF(MKK18=\"\",\"\",VLOOKUP($Q$10,DATA!$P$2:$R$196,3))","v":""},{"$f":"IF(MKL18=\"\",\"\",VLOOKUP($Q$10,DATA!$P$2:$R$196,3))","v":""},{"$f":"IF(MKM18=\"\",\"\",VLOOKUP($Q$10,DATA!$P$2:$R$196,3))","v":""},{"$f":"IF(MKN18=\"\",\"\",VLOOKUP($Q$10,DATA!$P$2:$R$196,3))","v":""},{"$f":"IF(MKO18=\"\",\"\",VLOOKUP($Q$10,DATA!$P$2:$R$196,3))","v":""},{"$f":"IF(MKP18=\"\",\"\",VLOOKUP($Q$10,DATA!$P$2:$R$196,3))","v":""},{"$f":"IF(MKQ18=\"\",\"\",VLOOKUP($Q$10,DATA!$P$2:$R$196,3))","v":""},{"$f":"IF(MKR18=\"\",\"\",VLOOKUP($Q$10,DATA!$P$2:$R$196,3))","v":""},{"$f":"IF(MKS18=\"\",\"\",VLOOKUP($Q$10,DATA!$P$2:$R$196,3))","v":""},{"$f":"IF(MKT18=\"\",\"\",VLOOKUP($Q$10,DATA!$P$2:$R$196,3))","v":""},{"$f":"IF(MKU18=\"\",\"\",VLOOKUP($Q$10,DATA!$P$2:$R$196,3))","v":""},{"$f":"IF(MKV18=\"\",\"\",VLOOKUP($Q$10,DATA!$P$2:$R$196,3))","v":""},{"$f":"IF(MKW18=\"\",\"\",VLOOKUP($Q$10,DATA!$P$2:$R$196,3))","v":""},{"$f":"IF(MKX18=\"\",\"\",VLOOKUP($Q$10,DATA!$P$2:$R$196,3))","v":""},{"$f":"IF(MKY18=\"\",\"\",VLOOKUP($Q$10,DATA!$P$2:$R$196,3))","v":""},{"$f":"IF(MKZ18=\"\",\"\",VLOOKUP($Q$10,DATA!$P$2:$R$196,3))","v":""},{"$f":"IF(MLA18=\"\",\"\",VLOOKUP($Q$10,DATA!$P$2:$R$196,3))","v":""},{"$f":"IF(MLB18=\"\",\"\",VLOOKUP($Q$10,DATA!$P$2:$R$196,3))","v":""},{"$f":"IF(MLC18=\"\",\"\",VLOOKUP($Q$10,DATA!$P$2:$R$196,3))","v":""},{"$f":"IF(MLD18=\"\",\"\",VLOOKUP($Q$10,DATA!$P$2:$R$196,3))","v":""},{"$f":"IF(MLE18=\"\",\"\",VLOOKUP($Q$10,DATA!$P$2:$R$196,3))","v":""},{"$f":"IF(MLF18=\"\",\"\",VLOOKUP($Q$10,DATA!$P$2:$R$196,3))","v":""},{"$f":"IF(MLG18=\"\",\"\",VLOOKUP($Q$10,DATA!$P$2:$R$196,3))","v":""},{"$f":"IF(MLH18=\"\",\"\",VLOOKUP($Q$10,DATA!$P$2:$R$196,3))","v":""},{"$f":"IF(MLI18=\"\",\"\",VLOOKUP($Q$10,DATA!$P$2:$R$196,3))","v":""},{"$f":"IF(MLJ18=\"\",\"\",VLOOKUP($Q$10,DATA!$P$2:$R$196,3))","v":""},{"$f":"IF(MLK18=\"\",\"\",VLOOKUP($Q$10,DATA!$P$2:$R$196,3))","v":""},{"$f":"IF(MLL18=\"\",\"\",VLOOKUP($Q$10,DATA!$P$2:$R$196,3))","v":""},{"$f":"IF(MLM18=\"\",\"\",VLOOKUP($Q$10,DATA!$P$2:$R$196,3))","v":""},{"$f":"IF(MLN18=\"\",\"\",VLOOKUP($Q$10,DATA!$P$2:$R$196,3))","v":""},{"$f":"IF(MLO18=\"\",\"\",VLOOKUP($Q$10,DATA!$P$2:$R$196,3))","v":""},{"$f":"IF(MLP18=\"\",\"\",VLOOKUP($Q$10,DATA!$P$2:$R$196,3))","v":""},{"$f":"IF(MLQ18=\"\",\"\",VLOOKUP($Q$10,DATA!$P$2:$R$196,3))","v":""},{"$f":"IF(MLR18=\"\",\"\",VLOOKUP($Q$10,DATA!$P$2:$R$196,3))","v":""},{"$f":"IF(MLS18=\"\",\"\",VLOOKUP($Q$10,DATA!$P$2:$R$196,3))","v":""},{"$f":"IF(MLT18=\"\",\"\",VLOOKUP($Q$10,DATA!$P$2:$R$196,3))","v":""},{"$f":"IF(MLU18=\"\",\"\",VLOOKUP($Q$10,DATA!$P$2:$R$196,3))","v":""},{"$f":"IF(MLV18=\"\",\"\",VLOOKUP($Q$10,DATA!$P$2:$R$196,3))","v":""},{"$f":"IF(MLW18=\"\",\"\",VLOOKUP($Q$10,DATA!$P$2:$R$196,3))","v":""},{"$f":"IF(MLX18=\"\",\"\",VLOOKUP($Q$10,DATA!$P$2:$R$196,3))","v":""},{"$f":"IF(MLY18=\"\",\"\",VLOOKUP($Q$10,DATA!$P$2:$R$196,3))","v":""},{"$f":"IF(MLZ18=\"\",\"\",VLOOKUP($Q$10,DATA!$P$2:$R$196,3))","v":""},{"$f":"IF(MMA18=\"\",\"\",VLOOKUP($Q$10,DATA!$P$2:$R$196,3))","v":""},{"$f":"IF(MMB18=\"\",\"\",VLOOKUP($Q$10,DATA!$P$2:$R$196,3))","v":""},{"$f":"IF(MMC18=\"\",\"\",VLOOKUP($Q$10,DATA!$P$2:$R$196,3))","v":""},{"$f":"IF(MMD18=\"\",\"\",VLOOKUP($Q$10,DATA!$P$2:$R$196,3))","v":""},{"$f":"IF(MME18=\"\",\"\",VLOOKUP($Q$10,DATA!$P$2:$R$196,3))","v":""},{"$f":"IF(MMF18=\"\",\"\",VLOOKUP($Q$10,DATA!$P$2:$R$196,3))","v":""},{"$f":"IF(MMG18=\"\",\"\",VLOOKUP($Q$10,DATA!$P$2:$R$196,3))","v":""},{"$f":"IF(MMH18=\"\",\"\",VLOOKUP($Q$10,DATA!$P$2:$R$196,3))","v":""},{"$f":"IF(MMI18=\"\",\"\",VLOOKUP($Q$10,DATA!$P$2:$R$196,3))","v":""},{"$f":"IF(MMJ18=\"\",\"\",VLOOKUP($Q$10,DATA!$P$2:$R$196,3))","v":""},{"$f":"IF(MMK18=\"\",\"\",VLOOKUP($Q$10,DATA!$P$2:$R$196,3))","v":""},{"$f":"IF(MML18=\"\",\"\",VLOOKUP($Q$10,DATA!$P$2:$R$196,3))","v":""},{"$f":"IF(MMM18=\"\",\"\",VLOOKUP($Q$10,DATA!$P$2:$R$196,3))","v":""},{"$f":"IF(MMN18=\"\",\"\",VLOOKUP($Q$10,DATA!$P$2:$R$196,3))","v":""},{"$f":"IF(MMO18=\"\",\"\",VLOOKUP($Q$10,DATA!$P$2:$R$196,3))","v":""},{"$f":"IF(MMP18=\"\",\"\",VLOOKUP($Q$10,DATA!$P$2:$R$196,3))","v":""},{"$f":"IF(MMQ18=\"\",\"\",VLOOKUP($Q$10,DATA!$P$2:$R$196,3))","v":""},{"$f":"IF(MMR18=\"\",\"\",VLOOKUP($Q$10,DATA!$P$2:$R$196,3))","v":""},{"$f":"IF(MMS18=\"\",\"\",VLOOKUP($Q$10,DATA!$P$2:$R$196,3))","v":""},{"$f":"IF(MMT18=\"\",\"\",VLOOKUP($Q$10,DATA!$P$2:$R$196,3))","v":""},{"$f":"IF(MMU18=\"\",\"\",VLOOKUP($Q$10,DATA!$P$2:$R$196,3))","v":""},{"$f":"IF(MMV18=\"\",\"\",VLOOKUP($Q$10,DATA!$P$2:$R$196,3))","v":""},{"$f":"IF(MMW18=\"\",\"\",VLOOKUP($Q$10,DATA!$P$2:$R$196,3))","v":""},{"$f":"IF(MMX18=\"\",\"\",VLOOKUP($Q$10,DATA!$P$2:$R$196,3))","v":""},{"$f":"IF(MMY18=\"\",\"\",VLOOKUP($Q$10,DATA!$P$2:$R$196,3))","v":""},{"$f":"IF(MMZ18=\"\",\"\",VLOOKUP($Q$10,DATA!$P$2:$R$196,3))","v":""},{"$f":"IF(MNA18=\"\",\"\",VLOOKUP($Q$10,DATA!$P$2:$R$196,3))","v":""},{"$f":"IF(MNB18=\"\",\"\",VLOOKUP($Q$10,DATA!$P$2:$R$196,3))","v":""},{"$f":"IF(MNC18=\"\",\"\",VLOOKUP($Q$10,DATA!$P$2:$R$196,3))","v":""},{"$f":"IF(MND18=\"\",\"\",VLOOKUP($Q$10,DATA!$P$2:$R$196,3))","v":""},{"$f":"IF(MNE18=\"\",\"\",VLOOKUP($Q$10,DATA!$P$2:$R$196,3))","v":""},{"$f":"IF(MNF18=\"\",\"\",VLOOKUP($Q$10,DATA!$P$2:$R$196,3))","v":""},{"$f":"IF(MNG18=\"\",\"\",VLOOKUP($Q$10,DATA!$P$2:$R$196,3))","v":""},{"$f":"IF(MNH18=\"\",\"\",VLOOKUP($Q$10,DATA!$P$2:$R$196,3))","v":""},{"$f":"IF(MNI18=\"\",\"\",VLOOKUP($Q$10,DATA!$P$2:$R$196,3))","v":""},{"$f":"IF(MNJ18=\"\",\"\",VLOOKUP($Q$10,DATA!$P$2:$R$196,3))","v":""},{"$f":"IF(MNK18=\"\",\"\",VLOOKUP($Q$10,DATA!$P$2:$R$196,3))","v":""},{"$f":"IF(MNL18=\"\",\"\",VLOOKUP($Q$10,DATA!$P$2:$R$196,3))","v":""},{"$f":"IF(MNM18=\"\",\"\",VLOOKUP($Q$10,DATA!$P$2:$R$196,3))","v":""},{"$f":"IF(MNN18=\"\",\"\",VLOOKUP($Q$10,DATA!$P$2:$R$196,3))","v":""},{"$f":"IF(MNO18=\"\",\"\",VLOOKUP($Q$10,DATA!$P$2:$R$196,3))","v":""},{"$f":"IF(MNP18=\"\",\"\",VLOOKUP($Q$10,DATA!$P$2:$R$196,3))","v":""},{"$f":"IF(MNQ18=\"\",\"\",VLOOKUP($Q$10,DATA!$P$2:$R$196,3))","v":""},{"$f":"IF(MNR18=\"\",\"\",VLOOKUP($Q$10,DATA!$P$2:$R$196,3))","v":""},{"$f":"IF(MNS18=\"\",\"\",VLOOKUP($Q$10,DATA!$P$2:$R$196,3))","v":""},{"$f":"IF(MNT18=\"\",\"\",VLOOKUP($Q$10,DATA!$P$2:$R$196,3))","v":""},{"$f":"IF(MNU18=\"\",\"\",VLOOKUP($Q$10,DATA!$P$2:$R$196,3))","v":""},{"$f":"IF(MNV18=\"\",\"\",VLOOKUP($Q$10,DATA!$P$2:$R$196,3))","v":""},{"$f":"IF(MNW18=\"\",\"\",VLOOKUP($Q$10,DATA!$P$2:$R$196,3))","v":""},{"$f":"IF(MNX18=\"\",\"\",VLOOKUP($Q$10,DATA!$P$2:$R$196,3))","v":""},{"$f":"IF(MNY18=\"\",\"\",VLOOKUP($Q$10,DATA!$P$2:$R$196,3))","v":""},{"$f":"IF(MNZ18=\"\",\"\",VLOOKUP($Q$10,DATA!$P$2:$R$196,3))","v":""},{"$f":"IF(MOA18=\"\",\"\",VLOOKUP($Q$10,DATA!$P$2:$R$196,3))","v":""},{"$f":"IF(MOB18=\"\",\"\",VLOOKUP($Q$10,DATA!$P$2:$R$196,3))","v":""},{"$f":"IF(MOC18=\"\",\"\",VLOOKUP($Q$10,DATA!$P$2:$R$196,3))","v":""},{"$f":"IF(MOD18=\"\",\"\",VLOOKUP($Q$10,DATA!$P$2:$R$196,3))","v":""},{"$f":"IF(MOE18=\"\",\"\",VLOOKUP($Q$10,DATA!$P$2:$R$196,3))","v":""},{"$f":"IF(MOF18=\"\",\"\",VLOOKUP($Q$10,DATA!$P$2:$R$196,3))","v":""},{"$f":"IF(MOG18=\"\",\"\",VLOOKUP($Q$10,DATA!$P$2:$R$196,3))","v":""},{"$f":"IF(MOH18=\"\",\"\",VLOOKUP($Q$10,DATA!$P$2:$R$196,3))","v":""},{"$f":"IF(MOI18=\"\",\"\",VLOOKUP($Q$10,DATA!$P$2:$R$196,3))","v":""},{"$f":"IF(MOJ18=\"\",\"\",VLOOKUP($Q$10,DATA!$P$2:$R$196,3))","v":""},{"$f":"IF(MOK18=\"\",\"\",VLOOKUP($Q$10,DATA!$P$2:$R$196,3))","v":""},{"$f":"IF(MOL18=\"\",\"\",VLOOKUP($Q$10,DATA!$P$2:$R$196,3))","v":""},{"$f":"IF(MOM18=\"\",\"\",VLOOKUP($Q$10,DATA!$P$2:$R$196,3))","v":""},{"$f":"IF(MON18=\"\",\"\",VLOOKUP($Q$10,DATA!$P$2:$R$196,3))","v":""},{"$f":"IF(MOO18=\"\",\"\",VLOOKUP($Q$10,DATA!$P$2:$R$196,3))","v":""},{"$f":"IF(MOP18=\"\",\"\",VLOOKUP($Q$10,DATA!$P$2:$R$196,3))","v":""},{"$f":"IF(MOQ18=\"\",\"\",VLOOKUP($Q$10,DATA!$P$2:$R$196,3))","v":""},{"$f":"IF(MOR18=\"\",\"\",VLOOKUP($Q$10,DATA!$P$2:$R$196,3))","v":""},{"$f":"IF(MOS18=\"\",\"\",VLOOKUP($Q$10,DATA!$P$2:$R$196,3))","v":""},{"$f":"IF(MOT18=\"\",\"\",VLOOKUP($Q$10,DATA!$P$2:$R$196,3))","v":""},{"$f":"IF(MOU18=\"\",\"\",VLOOKUP($Q$10,DATA!$P$2:$R$196,3))","v":""},{"$f":"IF(MOV18=\"\",\"\",VLOOKUP($Q$10,DATA!$P$2:$R$196,3))","v":""},{"$f":"IF(MOW18=\"\",\"\",VLOOKUP($Q$10,DATA!$P$2:$R$196,3))","v":""},{"$f":"IF(MOX18=\"\",\"\",VLOOKUP($Q$10,DATA!$P$2:$R$196,3))","v":""},{"$f":"IF(MOY18=\"\",\"\",VLOOKUP($Q$10,DATA!$P$2:$R$196,3))","v":""},{"$f":"IF(MOZ18=\"\",\"\",VLOOKUP($Q$10,DATA!$P$2:$R$196,3))","v":""},{"$f":"IF(MPA18=\"\",\"\",VLOOKUP($Q$10,DATA!$P$2:$R$196,3))","v":""},{"$f":"IF(MPB18=\"\",\"\",VLOOKUP($Q$10,DATA!$P$2:$R$196,3))","v":""},{"$f":"IF(MPC18=\"\",\"\",VLOOKUP($Q$10,DATA!$P$2:$R$196,3))","v":""},{"$f":"IF(MPD18=\"\",\"\",VLOOKUP($Q$10,DATA!$P$2:$R$196,3))","v":""},{"$f":"IF(MPE18=\"\",\"\",VLOOKUP($Q$10,DATA!$P$2:$R$196,3))","v":""},{"$f":"IF(MPF18=\"\",\"\",VLOOKUP($Q$10,DATA!$P$2:$R$196,3))","v":""},{"$f":"IF(MPG18=\"\",\"\",VLOOKUP($Q$10,DATA!$P$2:$R$196,3))","v":""},{"$f":"IF(MPH18=\"\",\"\",VLOOKUP($Q$10,DATA!$P$2:$R$196,3))","v":""},{"$f":"IF(MPI18=\"\",\"\",VLOOKUP($Q$10,DATA!$P$2:$R$196,3))","v":""},{"$f":"IF(MPJ18=\"\",\"\",VLOOKUP($Q$10,DATA!$P$2:$R$196,3))","v":""},{"$f":"IF(MPK18=\"\",\"\",VLOOKUP($Q$10,DATA!$P$2:$R$196,3))","v":""},{"$f":"IF(MPL18=\"\",\"\",VLOOKUP($Q$10,DATA!$P$2:$R$196,3))","v":""},{"$f":"IF(MPM18=\"\",\"\",VLOOKUP($Q$10,DATA!$P$2:$R$196,3))","v":""},{"$f":"IF(MPN18=\"\",\"\",VLOOKUP($Q$10,DATA!$P$2:$R$196,3))","v":""},{"$f":"IF(MPO18=\"\",\"\",VLOOKUP($Q$10,DATA!$P$2:$R$196,3))","v":""},{"$f":"IF(MPP18=\"\",\"\",VLOOKUP($Q$10,DATA!$P$2:$R$196,3))","v":""},{"$f":"IF(MPQ18=\"\",\"\",VLOOKUP($Q$10,DATA!$P$2:$R$196,3))","v":""},{"$f":"IF(MPR18=\"\",\"\",VLOOKUP($Q$10,DATA!$P$2:$R$196,3))","v":""},{"$f":"IF(MPS18=\"\",\"\",VLOOKUP($Q$10,DATA!$P$2:$R$196,3))","v":""},{"$f":"IF(MPT18=\"\",\"\",VLOOKUP($Q$10,DATA!$P$2:$R$196,3))","v":""},{"$f":"IF(MPU18=\"\",\"\",VLOOKUP($Q$10,DATA!$P$2:$R$196,3))","v":""},{"$f":"IF(MPV18=\"\",\"\",VLOOKUP($Q$10,DATA!$P$2:$R$196,3))","v":""},{"$f":"IF(MPW18=\"\",\"\",VLOOKUP($Q$10,DATA!$P$2:$R$196,3))","v":""},{"$f":"IF(MPX18=\"\",\"\",VLOOKUP($Q$10,DATA!$P$2:$R$196,3))","v":""},{"$f":"IF(MPY18=\"\",\"\",VLOOKUP($Q$10,DATA!$P$2:$R$196,3))","v":""},{"$f":"IF(MPZ18=\"\",\"\",VLOOKUP($Q$10,DATA!$P$2:$R$196,3))","v":""},{"$f":"IF(MQA18=\"\",\"\",VLOOKUP($Q$10,DATA!$P$2:$R$196,3))","v":""},{"$f":"IF(MQB18=\"\",\"\",VLOOKUP($Q$10,DATA!$P$2:$R$196,3))","v":""},{"$f":"IF(MQC18=\"\",\"\",VLOOKUP($Q$10,DATA!$P$2:$R$196,3))","v":""},{"$f":"IF(MQD18=\"\",\"\",VLOOKUP($Q$10,DATA!$P$2:$R$196,3))","v":""},{"$f":"IF(MQE18=\"\",\"\",VLOOKUP($Q$10,DATA!$P$2:$R$196,3))","v":""},{"$f":"IF(MQF18=\"\",\"\",VLOOKUP($Q$10,DATA!$P$2:$R$196,3))","v":""},{"$f":"IF(MQG18=\"\",\"\",VLOOKUP($Q$10,DATA!$P$2:$R$196,3))","v":""},{"$f":"IF(MQH18=\"\",\"\",VLOOKUP($Q$10,DATA!$P$2:$R$196,3))","v":""},{"$f":"IF(MQI18=\"\",\"\",VLOOKUP($Q$10,DATA!$P$2:$R$196,3))","v":""},{"$f":"IF(MQJ18=\"\",\"\",VLOOKUP($Q$10,DATA!$P$2:$R$196,3))","v":""},{"$f":"IF(MQK18=\"\",\"\",VLOOKUP($Q$10,DATA!$P$2:$R$196,3))","v":""},{"$f":"IF(MQL18=\"\",\"\",VLOOKUP($Q$10,DATA!$P$2:$R$196,3))","v":""},{"$f":"IF(MQM18=\"\",\"\",VLOOKUP($Q$10,DATA!$P$2:$R$196,3))","v":""},{"$f":"IF(MQN18=\"\",\"\",VLOOKUP($Q$10,DATA!$P$2:$R$196,3))","v":""},{"$f":"IF(MQO18=\"\",\"\",VLOOKUP($Q$10,DATA!$P$2:$R$196,3))","v":""},{"$f":"IF(MQP18=\"\",\"\",VLOOKUP($Q$10,DATA!$P$2:$R$196,3))","v":""},{"$f":"IF(MQQ18=\"\",\"\",VLOOKUP($Q$10,DATA!$P$2:$R$196,3))","v":""},{"$f":"IF(MQR18=\"\",\"\",VLOOKUP($Q$10,DATA!$P$2:$R$196,3))","v":""},{"$f":"IF(MQS18=\"\",\"\",VLOOKUP($Q$10,DATA!$P$2:$R$196,3))","v":""},{"$f":"IF(MQT18=\"\",\"\",VLOOKUP($Q$10,DATA!$P$2:$R$196,3))","v":""},{"$f":"IF(MQU18=\"\",\"\",VLOOKUP($Q$10,DATA!$P$2:$R$196,3))","v":""},{"$f":"IF(MQV18=\"\",\"\",VLOOKUP($Q$10,DATA!$P$2:$R$196,3))","v":""},{"$f":"IF(MQW18=\"\",\"\",VLOOKUP($Q$10,DATA!$P$2:$R$196,3))","v":""},{"$f":"IF(MQX18=\"\",\"\",VLOOKUP($Q$10,DATA!$P$2:$R$196,3))","v":""},{"$f":"IF(MQY18=\"\",\"\",VLOOKUP($Q$10,DATA!$P$2:$R$196,3))","v":""},{"$f":"IF(MQZ18=\"\",\"\",VLOOKUP($Q$10,DATA!$P$2:$R$196,3))","v":""},{"$f":"IF(MRA18=\"\",\"\",VLOOKUP($Q$10,DATA!$P$2:$R$196,3))","v":""},{"$f":"IF(MRB18=\"\",\"\",VLOOKUP($Q$10,DATA!$P$2:$R$196,3))","v":""},{"$f":"IF(MRC18=\"\",\"\",VLOOKUP($Q$10,DATA!$P$2:$R$196,3))","v":""},{"$f":"IF(MRD18=\"\",\"\",VLOOKUP($Q$10,DATA!$P$2:$R$196,3))","v":""},{"$f":"IF(MRE18=\"\",\"\",VLOOKUP($Q$10,DATA!$P$2:$R$196,3))","v":""},{"$f":"IF(MRF18=\"\",\"\",VLOOKUP($Q$10,DATA!$P$2:$R$196,3))","v":""},{"$f":"IF(MRG18=\"\",\"\",VLOOKUP($Q$10,DATA!$P$2:$R$196,3))","v":""},{"$f":"IF(MRH18=\"\",\"\",VLOOKUP($Q$10,DATA!$P$2:$R$196,3))","v":""},{"$f":"IF(MRI18=\"\",\"\",VLOOKUP($Q$10,DATA!$P$2:$R$196,3))","v":""},{"$f":"IF(MRJ18=\"\",\"\",VLOOKUP($Q$10,DATA!$P$2:$R$196,3))","v":""},{"$f":"IF(MRK18=\"\",\"\",VLOOKUP($Q$10,DATA!$P$2:$R$196,3))","v":""},{"$f":"IF(MRL18=\"\",\"\",VLOOKUP($Q$10,DATA!$P$2:$R$196,3))","v":""},{"$f":"IF(MRM18=\"\",\"\",VLOOKUP($Q$10,DATA!$P$2:$R$196,3))","v":""},{"$f":"IF(MRN18=\"\",\"\",VLOOKUP($Q$10,DATA!$P$2:$R$196,3))","v":""},{"$f":"IF(MRO18=\"\",\"\",VLOOKUP($Q$10,DATA!$P$2:$R$196,3))","v":""},{"$f":"IF(MRP18=\"\",\"\",VLOOKUP($Q$10,DATA!$P$2:$R$196,3))","v":""},{"$f":"IF(MRQ18=\"\",\"\",VLOOKUP($Q$10,DATA!$P$2:$R$196,3))","v":""},{"$f":"IF(MRR18=\"\",\"\",VLOOKUP($Q$10,DATA!$P$2:$R$196,3))","v":""},{"$f":"IF(MRS18=\"\",\"\",VLOOKUP($Q$10,DATA!$P$2:$R$196,3))","v":""},{"$f":"IF(MRT18=\"\",\"\",VLOOKUP($Q$10,DATA!$P$2:$R$196,3))","v":""},{"$f":"IF(MRU18=\"\",\"\",VLOOKUP($Q$10,DATA!$P$2:$R$196,3))","v":""},{"$f":"IF(MRV18=\"\",\"\",VLOOKUP($Q$10,DATA!$P$2:$R$196,3))","v":""},{"$f":"IF(MRW18=\"\",\"\",VLOOKUP($Q$10,DATA!$P$2:$R$196,3))","v":""},{"$f":"IF(MRX18=\"\",\"\",VLOOKUP($Q$10,DATA!$P$2:$R$196,3))","v":""},{"$f":"IF(MRY18=\"\",\"\",VLOOKUP($Q$10,DATA!$P$2:$R$196,3))","v":""},{"$f":"IF(MRZ18=\"\",\"\",VLOOKUP($Q$10,DATA!$P$2:$R$196,3))","v":""},{"$f":"IF(MSA18=\"\",\"\",VLOOKUP($Q$10,DATA!$P$2:$R$196,3))","v":""},{"$f":"IF(MSB18=\"\",\"\",VLOOKUP($Q$10,DATA!$P$2:$R$196,3))","v":""},{"$f":"IF(MSC18=\"\",\"\",VLOOKUP($Q$10,DATA!$P$2:$R$196,3))","v":""},{"$f":"IF(MSD18=\"\",\"\",VLOOKUP($Q$10,DATA!$P$2:$R$196,3))","v":""},{"$f":"IF(MSE18=\"\",\"\",VLOOKUP($Q$10,DATA!$P$2:$R$196,3))","v":""},{"$f":"IF(MSF18=\"\",\"\",VLOOKUP($Q$10,DATA!$P$2:$R$196,3))","v":""},{"$f":"IF(MSG18=\"\",\"\",VLOOKUP($Q$10,DATA!$P$2:$R$196,3))","v":""},{"$f":"IF(MSH18=\"\",\"\",VLOOKUP($Q$10,DATA!$P$2:$R$196,3))","v":""},{"$f":"IF(MSI18=\"\",\"\",VLOOKUP($Q$10,DATA!$P$2:$R$196,3))","v":""},{"$f":"IF(MSJ18=\"\",\"\",VLOOKUP($Q$10,DATA!$P$2:$R$196,3))","v":""},{"$f":"IF(MSK18=\"\",\"\",VLOOKUP($Q$10,DATA!$P$2:$R$196,3))","v":""},{"$f":"IF(MSL18=\"\",\"\",VLOOKUP($Q$10,DATA!$P$2:$R$196,3))","v":""},{"$f":"IF(MSM18=\"\",\"\",VLOOKUP($Q$10,DATA!$P$2:$R$196,3))","v":""},{"$f":"IF(MSN18=\"\",\"\",VLOOKUP($Q$10,DATA!$P$2:$R$196,3))","v":""},{"$f":"IF(MSO18=\"\",\"\",VLOOKUP($Q$10,DATA!$P$2:$R$196,3))","v":""},{"$f":"IF(MSP18=\"\",\"\",VLOOKUP($Q$10,DATA!$P$2:$R$196,3))","v":""},{"$f":"IF(MSQ18=\"\",\"\",VLOOKUP($Q$10,DATA!$P$2:$R$196,3))","v":""},{"$f":"IF(MSR18=\"\",\"\",VLOOKUP($Q$10,DATA!$P$2:$R$196,3))","v":""},{"$f":"IF(MSS18=\"\",\"\",VLOOKUP($Q$10,DATA!$P$2:$R$196,3))","v":""},{"$f":"IF(MST18=\"\",\"\",VLOOKUP($Q$10,DATA!$P$2:$R$196,3))","v":""},{"$f":"IF(MSU18=\"\",\"\",VLOOKUP($Q$10,DATA!$P$2:$R$196,3))","v":""},{"$f":"IF(MSV18=\"\",\"\",VLOOKUP($Q$10,DATA!$P$2:$R$196,3))","v":""},{"$f":"IF(MSW18=\"\",\"\",VLOOKUP($Q$10,DATA!$P$2:$R$196,3))","v":""},{"$f":"IF(MSX18=\"\",\"\",VLOOKUP($Q$10,DATA!$P$2:$R$196,3))","v":""},{"$f":"IF(MSY18=\"\",\"\",VLOOKUP($Q$10,DATA!$P$2:$R$196,3))","v":""},{"$f":"IF(MSZ18=\"\",\"\",VLOOKUP($Q$10,DATA!$P$2:$R$196,3))","v":""},{"$f":"IF(MTA18=\"\",\"\",VLOOKUP($Q$10,DATA!$P$2:$R$196,3))","v":""},{"$f":"IF(MTB18=\"\",\"\",VLOOKUP($Q$10,DATA!$P$2:$R$196,3))","v":""},{"$f":"IF(MTC18=\"\",\"\",VLOOKUP($Q$10,DATA!$P$2:$R$196,3))","v":""},{"$f":"IF(MTD18=\"\",\"\",VLOOKUP($Q$10,DATA!$P$2:$R$196,3))","v":""},{"$f":"IF(MTE18=\"\",\"\",VLOOKUP($Q$10,DATA!$P$2:$R$196,3))","v":""},{"$f":"IF(MTF18=\"\",\"\",VLOOKUP($Q$10,DATA!$P$2:$R$196,3))","v":""},{"$f":"IF(MTG18=\"\",\"\",VLOOKUP($Q$10,DATA!$P$2:$R$196,3))","v":""},{"$f":"IF(MTH18=\"\",\"\",VLOOKUP($Q$10,DATA!$P$2:$R$196,3))","v":""},{"$f":"IF(MTI18=\"\",\"\",VLOOKUP($Q$10,DATA!$P$2:$R$196,3))","v":""},{"$f":"IF(MTJ18=\"\",\"\",VLOOKUP($Q$10,DATA!$P$2:$R$196,3))","v":""},{"$f":"IF(MTK18=\"\",\"\",VLOOKUP($Q$10,DATA!$P$2:$R$196,3))","v":""},{"$f":"IF(MTL18=\"\",\"\",VLOOKUP($Q$10,DATA!$P$2:$R$196,3))","v":""},{"$f":"IF(MTM18=\"\",\"\",VLOOKUP($Q$10,DATA!$P$2:$R$196,3))","v":""},{"$f":"IF(MTN18=\"\",\"\",VLOOKUP($Q$10,DATA!$P$2:$R$196,3))","v":""},{"$f":"IF(MTO18=\"\",\"\",VLOOKUP($Q$10,DATA!$P$2:$R$196,3))","v":""},{"$f":"IF(MTP18=\"\",\"\",VLOOKUP($Q$10,DATA!$P$2:$R$196,3))","v":""},{"$f":"IF(MTQ18=\"\",\"\",VLOOKUP($Q$10,DATA!$P$2:$R$196,3))","v":""},{"$f":"IF(MTR18=\"\",\"\",VLOOKUP($Q$10,DATA!$P$2:$R$196,3))","v":""},{"$f":"IF(MTS18=\"\",\"\",VLOOKUP($Q$10,DATA!$P$2:$R$196,3))","v":""},{"$f":"IF(MTT18=\"\",\"\",VLOOKUP($Q$10,DATA!$P$2:$R$196,3))","v":""},{"$f":"IF(MTU18=\"\",\"\",VLOOKUP($Q$10,DATA!$P$2:$R$196,3))","v":""},{"$f":"IF(MTV18=\"\",\"\",VLOOKUP($Q$10,DATA!$P$2:$R$196,3))","v":""},{"$f":"IF(MTW18=\"\",\"\",VLOOKUP($Q$10,DATA!$P$2:$R$196,3))","v":""},{"$f":"IF(MTX18=\"\",\"\",VLOOKUP($Q$10,DATA!$P$2:$R$196,3))","v":""},{"$f":"IF(MTY18=\"\",\"\",VLOOKUP($Q$10,DATA!$P$2:$R$196,3))","v":""},{"$f":"IF(MTZ18=\"\",\"\",VLOOKUP($Q$10,DATA!$P$2:$R$196,3))","v":""},{"$f":"IF(MUA18=\"\",\"\",VLOOKUP($Q$10,DATA!$P$2:$R$196,3))","v":""},{"$f":"IF(MUB18=\"\",\"\",VLOOKUP($Q$10,DATA!$P$2:$R$196,3))","v":""},{"$f":"IF(MUC18=\"\",\"\",VLOOKUP($Q$10,DATA!$P$2:$R$196,3))","v":""},{"$f":"IF(MUD18=\"\",\"\",VLOOKUP($Q$10,DATA!$P$2:$R$196,3))","v":""},{"$f":"IF(MUE18=\"\",\"\",VLOOKUP($Q$10,DATA!$P$2:$R$196,3))","v":""},{"$f":"IF(MUF18=\"\",\"\",VLOOKUP($Q$10,DATA!$P$2:$R$196,3))","v":""},{"$f":"IF(MUG18=\"\",\"\",VLOOKUP($Q$10,DATA!$P$2:$R$196,3))","v":""},{"$f":"IF(MUH18=\"\",\"\",VLOOKUP($Q$10,DATA!$P$2:$R$196,3))","v":""},{"$f":"IF(MUI18=\"\",\"\",VLOOKUP($Q$10,DATA!$P$2:$R$196,3))","v":""},{"$f":"IF(MUJ18=\"\",\"\",VLOOKUP($Q$10,DATA!$P$2:$R$196,3))","v":""},{"$f":"IF(MUK18=\"\",\"\",VLOOKUP($Q$10,DATA!$P$2:$R$196,3))","v":""},{"$f":"IF(MUL18=\"\",\"\",VLOOKUP($Q$10,DATA!$P$2:$R$196,3))","v":""},{"$f":"IF(MUM18=\"\",\"\",VLOOKUP($Q$10,DATA!$P$2:$R$196,3))","v":""},{"$f":"IF(MUN18=\"\",\"\",VLOOKUP($Q$10,DATA!$P$2:$R$196,3))","v":""},{"$f":"IF(MUO18=\"\",\"\",VLOOKUP($Q$10,DATA!$P$2:$R$196,3))","v":""},{"$f":"IF(MUP18=\"\",\"\",VLOOKUP($Q$10,DATA!$P$2:$R$196,3))","v":""},{"$f":"IF(MUQ18=\"\",\"\",VLOOKUP($Q$10,DATA!$P$2:$R$196,3))","v":""},{"$f":"IF(MUR18=\"\",\"\",VLOOKUP($Q$10,DATA!$P$2:$R$196,3))","v":""},{"$f":"IF(MUS18=\"\",\"\",VLOOKUP($Q$10,DATA!$P$2:$R$196,3))","v":""},{"$f":"IF(MUT18=\"\",\"\",VLOOKUP($Q$10,DATA!$P$2:$R$196,3))","v":""},{"$f":"IF(MUU18=\"\",\"\",VLOOKUP($Q$10,DATA!$P$2:$R$196,3))","v":""},{"$f":"IF(MUV18=\"\",\"\",VLOOKUP($Q$10,DATA!$P$2:$R$196,3))","v":""},{"$f":"IF(MUW18=\"\",\"\",VLOOKUP($Q$10,DATA!$P$2:$R$196,3))","v":""},{"$f":"IF(MUX18=\"\",\"\",VLOOKUP($Q$10,DATA!$P$2:$R$196,3))","v":""},{"$f":"IF(MUY18=\"\",\"\",VLOOKUP($Q$10,DATA!$P$2:$R$196,3))","v":""},{"$f":"IF(MUZ18=\"\",\"\",VLOOKUP($Q$10,DATA!$P$2:$R$196,3))","v":""},{"$f":"IF(MVA18=\"\",\"\",VLOOKUP($Q$10,DATA!$P$2:$R$196,3))","v":""},{"$f":"IF(MVB18=\"\",\"\",VLOOKUP($Q$10,DATA!$P$2:$R$196,3))","v":""},{"$f":"IF(MVC18=\"\",\"\",VLOOKUP($Q$10,DATA!$P$2:$R$196,3))","v":""},{"$f":"IF(MVD18=\"\",\"\",VLOOKUP($Q$10,DATA!$P$2:$R$196,3))","v":""},{"$f":"IF(MVE18=\"\",\"\",VLOOKUP($Q$10,DATA!$P$2:$R$196,3))","v":""},{"$f":"IF(MVF18=\"\",\"\",VLOOKUP($Q$10,DATA!$P$2:$R$196,3))","v":""},{"$f":"IF(MVG18=\"\",\"\",VLOOKUP($Q$10,DATA!$P$2:$R$196,3))","v":""},{"$f":"IF(MVH18=\"\",\"\",VLOOKUP($Q$10,DATA!$P$2:$R$196,3))","v":""},{"$f":"IF(MVI18=\"\",\"\",VLOOKUP($Q$10,DATA!$P$2:$R$196,3))","v":""},{"$f":"IF(MVJ18=\"\",\"\",VLOOKUP($Q$10,DATA!$P$2:$R$196,3))","v":""},{"$f":"IF(MVK18=\"\",\"\",VLOOKUP($Q$10,DATA!$P$2:$R$196,3))","v":""},{"$f":"IF(MVL18=\"\",\"\",VLOOKUP($Q$10,DATA!$P$2:$R$196,3))","v":""},{"$f":"IF(MVM18=\"\",\"\",VLOOKUP($Q$10,DATA!$P$2:$R$196,3))","v":""},{"$f":"IF(MVN18=\"\",\"\",VLOOKUP($Q$10,DATA!$P$2:$R$196,3))","v":""},{"$f":"IF(MVO18=\"\",\"\",VLOOKUP($Q$10,DATA!$P$2:$R$196,3))","v":""},{"$f":"IF(MVP18=\"\",\"\",VLOOKUP($Q$10,DATA!$P$2:$R$196,3))","v":""},{"$f":"IF(MVQ18=\"\",\"\",VLOOKUP($Q$10,DATA!$P$2:$R$196,3))","v":""},{"$f":"IF(MVR18=\"\",\"\",VLOOKUP($Q$10,DATA!$P$2:$R$196,3))","v":""},{"$f":"IF(MVS18=\"\",\"\",VLOOKUP($Q$10,DATA!$P$2:$R$196,3))","v":""},{"$f":"IF(MVT18=\"\",\"\",VLOOKUP($Q$10,DATA!$P$2:$R$196,3))","v":""},{"$f":"IF(MVU18=\"\",\"\",VLOOKUP($Q$10,DATA!$P$2:$R$196,3))","v":""},{"$f":"IF(MVV18=\"\",\"\",VLOOKUP($Q$10,DATA!$P$2:$R$196,3))","v":""},{"$f":"IF(MVW18=\"\",\"\",VLOOKUP($Q$10,DATA!$P$2:$R$196,3))","v":""},{"$f":"IF(MVX18=\"\",\"\",VLOOKUP($Q$10,DATA!$P$2:$R$196,3))","v":""},{"$f":"IF(MVY18=\"\",\"\",VLOOKUP($Q$10,DATA!$P$2:$R$196,3))","v":""},{"$f":"IF(MVZ18=\"\",\"\",VLOOKUP($Q$10,DATA!$P$2:$R$196,3))","v":""},{"$f":"IF(MWA18=\"\",\"\",VLOOKUP($Q$10,DATA!$P$2:$R$196,3))","v":""},{"$f":"IF(MWB18=\"\",\"\",VLOOKUP($Q$10,DATA!$P$2:$R$196,3))","v":""},{"$f":"IF(MWC18=\"\",\"\",VLOOKUP($Q$10,DATA!$P$2:$R$196,3))","v":""},{"$f":"IF(MWD18=\"\",\"\",VLOOKUP($Q$10,DATA!$P$2:$R$196,3))","v":""},{"$f":"IF(MWE18=\"\",\"\",VLOOKUP($Q$10,DATA!$P$2:$R$196,3))","v":""},{"$f":"IF(MWF18=\"\",\"\",VLOOKUP($Q$10,DATA!$P$2:$R$196,3))","v":""},{"$f":"IF(MWG18=\"\",\"\",VLOOKUP($Q$10,DATA!$P$2:$R$196,3))","v":""},{"$f":"IF(MWH18=\"\",\"\",VLOOKUP($Q$10,DATA!$P$2:$R$196,3))","v":""},{"$f":"IF(MWI18=\"\",\"\",VLOOKUP($Q$10,DATA!$P$2:$R$196,3))","v":""},{"$f":"IF(MWJ18=\"\",\"\",VLOOKUP($Q$10,DATA!$P$2:$R$196,3))","v":""},{"$f":"IF(MWK18=\"\",\"\",VLOOKUP($Q$10,DATA!$P$2:$R$196,3))","v":""},{"$f":"IF(MWL18=\"\",\"\",VLOOKUP($Q$10,DATA!$P$2:$R$196,3))","v":""},{"$f":"IF(MWM18=\"\",\"\",VLOOKUP($Q$10,DATA!$P$2:$R$196,3))","v":""},{"$f":"IF(MWN18=\"\",\"\",VLOOKUP($Q$10,DATA!$P$2:$R$196,3))","v":""},{"$f":"IF(MWO18=\"\",\"\",VLOOKUP($Q$10,DATA!$P$2:$R$196,3))","v":""},{"$f":"IF(MWP18=\"\",\"\",VLOOKUP($Q$10,DATA!$P$2:$R$196,3))","v":""},{"$f":"IF(MWQ18=\"\",\"\",VLOOKUP($Q$10,DATA!$P$2:$R$196,3))","v":""},{"$f":"IF(MWR18=\"\",\"\",VLOOKUP($Q$10,DATA!$P$2:$R$196,3))","v":""},{"$f":"IF(MWS18=\"\",\"\",VLOOKUP($Q$10,DATA!$P$2:$R$196,3))","v":""},{"$f":"IF(MWT18=\"\",\"\",VLOOKUP($Q$10,DATA!$P$2:$R$196,3))","v":""},{"$f":"IF(MWU18=\"\",\"\",VLOOKUP($Q$10,DATA!$P$2:$R$196,3))","v":""},{"$f":"IF(MWV18=\"\",\"\",VLOOKUP($Q$10,DATA!$P$2:$R$196,3))","v":""},{"$f":"IF(MWW18=\"\",\"\",VLOOKUP($Q$10,DATA!$P$2:$R$196,3))","v":""},{"$f":"IF(MWX18=\"\",\"\",VLOOKUP($Q$10,DATA!$P$2:$R$196,3))","v":""},{"$f":"IF(MWY18=\"\",\"\",VLOOKUP($Q$10,DATA!$P$2:$R$196,3))","v":""},{"$f":"IF(MWZ18=\"\",\"\",VLOOKUP($Q$10,DATA!$P$2:$R$196,3))","v":""},{"$f":"IF(MXA18=\"\",\"\",VLOOKUP($Q$10,DATA!$P$2:$R$196,3))","v":""},{"$f":"IF(MXB18=\"\",\"\",VLOOKUP($Q$10,DATA!$P$2:$R$196,3))","v":""},{"$f":"IF(MXC18=\"\",\"\",VLOOKUP($Q$10,DATA!$P$2:$R$196,3))","v":""},{"$f":"IF(MXD18=\"\",\"\",VLOOKUP($Q$10,DATA!$P$2:$R$196,3))","v":""},{"$f":"IF(MXE18=\"\",\"\",VLOOKUP($Q$10,DATA!$P$2:$R$196,3))","v":""},{"$f":"IF(MXF18=\"\",\"\",VLOOKUP($Q$10,DATA!$P$2:$R$196,3))","v":""},{"$f":"IF(MXG18=\"\",\"\",VLOOKUP($Q$10,DATA!$P$2:$R$196,3))","v":""},{"$f":"IF(MXH18=\"\",\"\",VLOOKUP($Q$10,DATA!$P$2:$R$196,3))","v":""},{"$f":"IF(MXI18=\"\",\"\",VLOOKUP($Q$10,DATA!$P$2:$R$196,3))","v":""},{"$f":"IF(MXJ18=\"\",\"\",VLOOKUP($Q$10,DATA!$P$2:$R$196,3))","v":""},{"$f":"IF(MXK18=\"\",\"\",VLOOKUP($Q$10,DATA!$P$2:$R$196,3))","v":""},{"$f":"IF(MXL18=\"\",\"\",VLOOKUP($Q$10,DATA!$P$2:$R$196,3))","v":""},{"$f":"IF(MXM18=\"\",\"\",VLOOKUP($Q$10,DATA!$P$2:$R$196,3))","v":""},{"$f":"IF(MXN18=\"\",\"\",VLOOKUP($Q$10,DATA!$P$2:$R$196,3))","v":""},{"$f":"IF(MXO18=\"\",\"\",VLOOKUP($Q$10,DATA!$P$2:$R$196,3))","v":""},{"$f":"IF(MXP18=\"\",\"\",VLOOKUP($Q$10,DATA!$P$2:$R$196,3))","v":""},{"$f":"IF(MXQ18=\"\",\"\",VLOOKUP($Q$10,DATA!$P$2:$R$196,3))","v":""},{"$f":"IF(MXR18=\"\",\"\",VLOOKUP($Q$10,DATA!$P$2:$R$196,3))","v":""},{"$f":"IF(MXS18=\"\",\"\",VLOOKUP($Q$10,DATA!$P$2:$R$196,3))","v":""},{"$f":"IF(MXT18=\"\",\"\",VLOOKUP($Q$10,DATA!$P$2:$R$196,3))","v":""},{"$f":"IF(MXU18=\"\",\"\",VLOOKUP($Q$10,DATA!$P$2:$R$196,3))","v":""},{"$f":"IF(MXV18=\"\",\"\",VLOOKUP($Q$10,DATA!$P$2:$R$196,3))","v":""},{"$f":"IF(MXW18=\"\",\"\",VLOOKUP($Q$10,DATA!$P$2:$R$196,3))","v":""},{"$f":"IF(MXX18=\"\",\"\",VLOOKUP($Q$10,DATA!$P$2:$R$196,3))","v":""},{"$f":"IF(MXY18=\"\",\"\",VLOOKUP($Q$10,DATA!$P$2:$R$196,3))","v":""},{"$f":"IF(MXZ18=\"\",\"\",VLOOKUP($Q$10,DATA!$P$2:$R$196,3))","v":""},{"$f":"IF(MYA18=\"\",\"\",VLOOKUP($Q$10,DATA!$P$2:$R$196,3))","v":""},{"$f":"IF(MYB18=\"\",\"\",VLOOKUP($Q$10,DATA!$P$2:$R$196,3))","v":""},{"$f":"IF(MYC18=\"\",\"\",VLOOKUP($Q$10,DATA!$P$2:$R$196,3))","v":""},{"$f":"IF(MYD18=\"\",\"\",VLOOKUP($Q$10,DATA!$P$2:$R$196,3))","v":""},{"$f":"IF(MYE18=\"\",\"\",VLOOKUP($Q$10,DATA!$P$2:$R$196,3))","v":""},{"$f":"IF(MYF18=\"\",\"\",VLOOKUP($Q$10,DATA!$P$2:$R$196,3))","v":""},{"$f":"IF(MYG18=\"\",\"\",VLOOKUP($Q$10,DATA!$P$2:$R$196,3))","v":""},{"$f":"IF(MYH18=\"\",\"\",VLOOKUP($Q$10,DATA!$P$2:$R$196,3))","v":""},{"$f":"IF(MYI18=\"\",\"\",VLOOKUP($Q$10,DATA!$P$2:$R$196,3))","v":""},{"$f":"IF(MYJ18=\"\",\"\",VLOOKUP($Q$10,DATA!$P$2:$R$196,3))","v":""},{"$f":"IF(MYK18=\"\",\"\",VLOOKUP($Q$10,DATA!$P$2:$R$196,3))","v":""},{"$f":"IF(MYL18=\"\",\"\",VLOOKUP($Q$10,DATA!$P$2:$R$196,3))","v":""},{"$f":"IF(MYM18=\"\",\"\",VLOOKUP($Q$10,DATA!$P$2:$R$196,3))","v":""},{"$f":"IF(MYN18=\"\",\"\",VLOOKUP($Q$10,DATA!$P$2:$R$196,3))","v":""},{"$f":"IF(MYO18=\"\",\"\",VLOOKUP($Q$10,DATA!$P$2:$R$196,3))","v":""},{"$f":"IF(MYP18=\"\",\"\",VLOOKUP($Q$10,DATA!$P$2:$R$196,3))","v":""},{"$f":"IF(MYQ18=\"\",\"\",VLOOKUP($Q$10,DATA!$P$2:$R$196,3))","v":""},{"$f":"IF(MYR18=\"\",\"\",VLOOKUP($Q$10,DATA!$P$2:$R$196,3))","v":""},{"$f":"IF(MYS18=\"\",\"\",VLOOKUP($Q$10,DATA!$P$2:$R$196,3))","v":""},{"$f":"IF(MYT18=\"\",\"\",VLOOKUP($Q$10,DATA!$P$2:$R$196,3))","v":""},{"$f":"IF(MYU18=\"\",\"\",VLOOKUP($Q$10,DATA!$P$2:$R$196,3))","v":""},{"$f":"IF(MYV18=\"\",\"\",VLOOKUP($Q$10,DATA!$P$2:$R$196,3))","v":""},{"$f":"IF(MYW18=\"\",\"\",VLOOKUP($Q$10,DATA!$P$2:$R$196,3))","v":""},{"$f":"IF(MYX18=\"\",\"\",VLOOKUP($Q$10,DATA!$P$2:$R$196,3))","v":""},{"$f":"IF(MYY18=\"\",\"\",VLOOKUP($Q$10,DATA!$P$2:$R$196,3))","v":""},{"$f":"IF(MYZ18=\"\",\"\",VLOOKUP($Q$10,DATA!$P$2:$R$196,3))","v":""},{"$f":"IF(MZA18=\"\",\"\",VLOOKUP($Q$10,DATA!$P$2:$R$196,3))","v":""},{"$f":"IF(MZB18=\"\",\"\",VLOOKUP($Q$10,DATA!$P$2:$R$196,3))","v":""},{"$f":"IF(MZC18=\"\",\"\",VLOOKUP($Q$10,DATA!$P$2:$R$196,3))","v":""},{"$f":"IF(MZD18=\"\",\"\",VLOOKUP($Q$10,DATA!$P$2:$R$196,3))","v":""},{"$f":"IF(MZE18=\"\",\"\",VLOOKUP($Q$10,DATA!$P$2:$R$196,3))","v":""},{"$f":"IF(MZF18=\"\",\"\",VLOOKUP($Q$10,DATA!$P$2:$R$196,3))","v":""},{"$f":"IF(MZG18=\"\",\"\",VLOOKUP($Q$10,DATA!$P$2:$R$196,3))","v":""},{"$f":"IF(MZH18=\"\",\"\",VLOOKUP($Q$10,DATA!$P$2:$R$196,3))","v":""},{"$f":"IF(MZI18=\"\",\"\",VLOOKUP($Q$10,DATA!$P$2:$R$196,3))","v":""},{"$f":"IF(MZJ18=\"\",\"\",VLOOKUP($Q$10,DATA!$P$2:$R$196,3))","v":""},{"$f":"IF(MZK18=\"\",\"\",VLOOKUP($Q$10,DATA!$P$2:$R$196,3))","v":""},{"$f":"IF(MZL18=\"\",\"\",VLOOKUP($Q$10,DATA!$P$2:$R$196,3))","v":""},{"$f":"IF(MZM18=\"\",\"\",VLOOKUP($Q$10,DATA!$P$2:$R$196,3))","v":""},{"$f":"IF(MZN18=\"\",\"\",VLOOKUP($Q$10,DATA!$P$2:$R$196,3))","v":""},{"$f":"IF(MZO18=\"\",\"\",VLOOKUP($Q$10,DATA!$P$2:$R$196,3))","v":""},{"$f":"IF(MZP18=\"\",\"\",VLOOKUP($Q$10,DATA!$P$2:$R$196,3))","v":""},{"$f":"IF(MZQ18=\"\",\"\",VLOOKUP($Q$10,DATA!$P$2:$R$196,3))","v":""},{"$f":"IF(MZR18=\"\",\"\",VLOOKUP($Q$10,DATA!$P$2:$R$196,3))","v":""},{"$f":"IF(MZS18=\"\",\"\",VLOOKUP($Q$10,DATA!$P$2:$R$196,3))","v":""},{"$f":"IF(MZT18=\"\",\"\",VLOOKUP($Q$10,DATA!$P$2:$R$196,3))","v":""},{"$f":"IF(MZU18=\"\",\"\",VLOOKUP($Q$10,DATA!$P$2:$R$196,3))","v":""},{"$f":"IF(MZV18=\"\",\"\",VLOOKUP($Q$10,DATA!$P$2:$R$196,3))","v":""},{"$f":"IF(MZW18=\"\",\"\",VLOOKUP($Q$10,DATA!$P$2:$R$196,3))","v":""},{"$f":"IF(MZX18=\"\",\"\",VLOOKUP($Q$10,DATA!$P$2:$R$196,3))","v":""},{"$f":"IF(MZY18=\"\",\"\",VLOOKUP($Q$10,DATA!$P$2:$R$196,3))","v":""},{"$f":"IF(MZZ18=\"\",\"\",VLOOKUP($Q$10,DATA!$P$2:$R$196,3))","v":""},{"$f":"IF(NAA18=\"\",\"\",VLOOKUP($Q$10,DATA!$P$2:$R$196,3))","v":""},{"$f":"IF(NAB18=\"\",\"\",VLOOKUP($Q$10,DATA!$P$2:$R$196,3))","v":""},{"$f":"IF(NAC18=\"\",\"\",VLOOKUP($Q$10,DATA!$P$2:$R$196,3))","v":""},{"$f":"IF(NAD18=\"\",\"\",VLOOKUP($Q$10,DATA!$P$2:$R$196,3))","v":""},{"$f":"IF(NAE18=\"\",\"\",VLOOKUP($Q$10,DATA!$P$2:$R$196,3))","v":""},{"$f":"IF(NAF18=\"\",\"\",VLOOKUP($Q$10,DATA!$P$2:$R$196,3))","v":""},{"$f":"IF(NAG18=\"\",\"\",VLOOKUP($Q$10,DATA!$P$2:$R$196,3))","v":""},{"$f":"IF(NAH18=\"\",\"\",VLOOKUP($Q$10,DATA!$P$2:$R$196,3))","v":""},{"$f":"IF(NAI18=\"\",\"\",VLOOKUP($Q$10,DATA!$P$2:$R$196,3))","v":""},{"$f":"IF(NAJ18=\"\",\"\",VLOOKUP($Q$10,DATA!$P$2:$R$196,3))","v":""},{"$f":"IF(NAK18=\"\",\"\",VLOOKUP($Q$10,DATA!$P$2:$R$196,3))","v":""},{"$f":"IF(NAL18=\"\",\"\",VLOOKUP($Q$10,DATA!$P$2:$R$196,3))","v":""},{"$f":"IF(NAM18=\"\",\"\",VLOOKUP($Q$10,DATA!$P$2:$R$196,3))","v":""},{"$f":"IF(NAN18=\"\",\"\",VLOOKUP($Q$10,DATA!$P$2:$R$196,3))","v":""},{"$f":"IF(NAO18=\"\",\"\",VLOOKUP($Q$10,DATA!$P$2:$R$196,3))","v":""},{"$f":"IF(NAP18=\"\",\"\",VLOOKUP($Q$10,DATA!$P$2:$R$196,3))","v":""},{"$f":"IF(NAQ18=\"\",\"\",VLOOKUP($Q$10,DATA!$P$2:$R$196,3))","v":""},{"$f":"IF(NAR18=\"\",\"\",VLOOKUP($Q$10,DATA!$P$2:$R$196,3))","v":""},{"$f":"IF(NAS18=\"\",\"\",VLOOKUP($Q$10,DATA!$P$2:$R$196,3))","v":""},{"$f":"IF(NAT18=\"\",\"\",VLOOKUP($Q$10,DATA!$P$2:$R$196,3))","v":""},{"$f":"IF(NAU18=\"\",\"\",VLOOKUP($Q$10,DATA!$P$2:$R$196,3))","v":""},{"$f":"IF(NAV18=\"\",\"\",VLOOKUP($Q$10,DATA!$P$2:$R$196,3))","v":""},{"$f":"IF(NAW18=\"\",\"\",VLOOKUP($Q$10,DATA!$P$2:$R$196,3))","v":""},{"$f":"IF(NAX18=\"\",\"\",VLOOKUP($Q$10,DATA!$P$2:$R$196,3))","v":""},{"$f":"IF(NAY18=\"\",\"\",VLOOKUP($Q$10,DATA!$P$2:$R$196,3))","v":""},{"$f":"IF(NAZ18=\"\",\"\",VLOOKUP($Q$10,DATA!$P$2:$R$196,3))","v":""},{"$f":"IF(NBA18=\"\",\"\",VLOOKUP($Q$10,DATA!$P$2:$R$196,3))","v":""},{"$f":"IF(NBB18=\"\",\"\",VLOOKUP($Q$10,DATA!$P$2:$R$196,3))","v":""},{"$f":"IF(NBC18=\"\",\"\",VLOOKUP($Q$10,DATA!$P$2:$R$196,3))","v":""},{"$f":"IF(NBD18=\"\",\"\",VLOOKUP($Q$10,DATA!$P$2:$R$196,3))","v":""},{"$f":"IF(NBE18=\"\",\"\",VLOOKUP($Q$10,DATA!$P$2:$R$196,3))","v":""},{"$f":"IF(NBF18=\"\",\"\",VLOOKUP($Q$10,DATA!$P$2:$R$196,3))","v":""},{"$f":"IF(NBG18=\"\",\"\",VLOOKUP($Q$10,DATA!$P$2:$R$196,3))","v":""},{"$f":"IF(NBH18=\"\",\"\",VLOOKUP($Q$10,DATA!$P$2:$R$196,3))","v":""},{"$f":"IF(NBI18=\"\",\"\",VLOOKUP($Q$10,DATA!$P$2:$R$196,3))","v":""},{"$f":"IF(NBJ18=\"\",\"\",VLOOKUP($Q$10,DATA!$P$2:$R$196,3))","v":""},{"$f":"IF(NBK18=\"\",\"\",VLOOKUP($Q$10,DATA!$P$2:$R$196,3))","v":""},{"$f":"IF(NBL18=\"\",\"\",VLOOKUP($Q$10,DATA!$P$2:$R$196,3))","v":""},{"$f":"IF(NBM18=\"\",\"\",VLOOKUP($Q$10,DATA!$P$2:$R$196,3))","v":""},{"$f":"IF(NBN18=\"\",\"\",VLOOKUP($Q$10,DATA!$P$2:$R$196,3))","v":""},{"$f":"IF(NBO18=\"\",\"\",VLOOKUP($Q$10,DATA!$P$2:$R$196,3))","v":""},{"$f":"IF(NBP18=\"\",\"\",VLOOKUP($Q$10,DATA!$P$2:$R$196,3))","v":""},{"$f":"IF(NBQ18=\"\",\"\",VLOOKUP($Q$10,DATA!$P$2:$R$196,3))","v":""},{"$f":"IF(NBR18=\"\",\"\",VLOOKUP($Q$10,DATA!$P$2:$R$196,3))","v":""},{"$f":"IF(NBS18=\"\",\"\",VLOOKUP($Q$10,DATA!$P$2:$R$196,3))","v":""},{"$f":"IF(NBT18=\"\",\"\",VLOOKUP($Q$10,DATA!$P$2:$R$196,3))","v":""},{"$f":"IF(NBU18=\"\",\"\",VLOOKUP($Q$10,DATA!$P$2:$R$196,3))","v":""},{"$f":"IF(NBV18=\"\",\"\",VLOOKUP($Q$10,DATA!$P$2:$R$196,3))","v":""},{"$f":"IF(NBW18=\"\",\"\",VLOOKUP($Q$10,DATA!$P$2:$R$196,3))","v":""},{"$f":"IF(NBX18=\"\",\"\",VLOOKUP($Q$10,DATA!$P$2:$R$196,3))","v":""},{"$f":"IF(NBY18=\"\",\"\",VLOOKUP($Q$10,DATA!$P$2:$R$196,3))","v":""},{"$f":"IF(NBZ18=\"\",\"\",VLOOKUP($Q$10,DATA!$P$2:$R$196,3))","v":""},{"$f":"IF(NCA18=\"\",\"\",VLOOKUP($Q$10,DATA!$P$2:$R$196,3))","v":""},{"$f":"IF(NCB18=\"\",\"\",VLOOKUP($Q$10,DATA!$P$2:$R$196,3))","v":""},{"$f":"IF(NCC18=\"\",\"\",VLOOKUP($Q$10,DATA!$P$2:$R$196,3))","v":""},{"$f":"IF(NCD18=\"\",\"\",VLOOKUP($Q$10,DATA!$P$2:$R$196,3))","v":""},{"$f":"IF(NCE18=\"\",\"\",VLOOKUP($Q$10,DATA!$P$2:$R$196,3))","v":""},{"$f":"IF(NCF18=\"\",\"\",VLOOKUP($Q$10,DATA!$P$2:$R$196,3))","v":""},{"$f":"IF(NCG18=\"\",\"\",VLOOKUP($Q$10,DATA!$P$2:$R$196,3))","v":""},{"$f":"IF(NCH18=\"\",\"\",VLOOKUP($Q$10,DATA!$P$2:$R$196,3))","v":""},{"$f":"IF(NCI18=\"\",\"\",VLOOKUP($Q$10,DATA!$P$2:$R$196,3))","v":""},{"$f":"IF(NCJ18=\"\",\"\",VLOOKUP($Q$10,DATA!$P$2:$R$196,3))","v":""},{"$f":"IF(NCK18=\"\",\"\",VLOOKUP($Q$10,DATA!$P$2:$R$196,3))","v":""},{"$f":"IF(NCL18=\"\",\"\",VLOOKUP($Q$10,DATA!$P$2:$R$196,3))","v":""},{"$f":"IF(NCM18=\"\",\"\",VLOOKUP($Q$10,DATA!$P$2:$R$196,3))","v":""},{"$f":"IF(NCN18=\"\",\"\",VLOOKUP($Q$10,DATA!$P$2:$R$196,3))","v":""},{"$f":"IF(NCO18=\"\",\"\",VLOOKUP($Q$10,DATA!$P$2:$R$196,3))","v":""},{"$f":"IF(NCP18=\"\",\"\",VLOOKUP($Q$10,DATA!$P$2:$R$196,3))","v":""},{"$f":"IF(NCQ18=\"\",\"\",VLOOKUP($Q$10,DATA!$P$2:$R$196,3))","v":""},{"$f":"IF(NCR18=\"\",\"\",VLOOKUP($Q$10,DATA!$P$2:$R$196,3))","v":""},{"$f":"IF(NCS18=\"\",\"\",VLOOKUP($Q$10,DATA!$P$2:$R$196,3))","v":""},{"$f":"IF(NCT18=\"\",\"\",VLOOKUP($Q$10,DATA!$P$2:$R$196,3))","v":""},{"$f":"IF(NCU18=\"\",\"\",VLOOKUP($Q$10,DATA!$P$2:$R$196,3))","v":""},{"$f":"IF(NCV18=\"\",\"\",VLOOKUP($Q$10,DATA!$P$2:$R$196,3))","v":""},{"$f":"IF(NCW18=\"\",\"\",VLOOKUP($Q$10,DATA!$P$2:$R$196,3))","v":""},{"$f":"IF(NCX18=\"\",\"\",VLOOKUP($Q$10,DATA!$P$2:$R$196,3))","v":""},{"$f":"IF(NCY18=\"\",\"\",VLOOKUP($Q$10,DATA!$P$2:$R$196,3))","v":""},{"$f":"IF(NCZ18=\"\",\"\",VLOOKUP($Q$10,DATA!$P$2:$R$196,3))","v":""},{"$f":"IF(NDA18=\"\",\"\",VLOOKUP($Q$10,DATA!$P$2:$R$196,3))","v":""},{"$f":"IF(NDB18=\"\",\"\",VLOOKUP($Q$10,DATA!$P$2:$R$196,3))","v":""},{"$f":"IF(NDC18=\"\",\"\",VLOOKUP($Q$10,DATA!$P$2:$R$196,3))","v":""},{"$f":"IF(NDD18=\"\",\"\",VLOOKUP($Q$10,DATA!$P$2:$R$196,3))","v":""},{"$f":"IF(NDE18=\"\",\"\",VLOOKUP($Q$10,DATA!$P$2:$R$196,3))","v":""},{"$f":"IF(NDF18=\"\",\"\",VLOOKUP($Q$10,DATA!$P$2:$R$196,3))","v":""},{"$f":"IF(NDG18=\"\",\"\",VLOOKUP($Q$10,DATA!$P$2:$R$196,3))","v":""},{"$f":"IF(NDH18=\"\",\"\",VLOOKUP($Q$10,DATA!$P$2:$R$196,3))","v":""},{"$f":"IF(NDI18=\"\",\"\",VLOOKUP($Q$10,DATA!$P$2:$R$196,3))","v":""},{"$f":"IF(NDJ18=\"\",\"\",VLOOKUP($Q$10,DATA!$P$2:$R$196,3))","v":""},{"$f":"IF(NDK18=\"\",\"\",VLOOKUP($Q$10,DATA!$P$2:$R$196,3))","v":""},{"$f":"IF(NDL18=\"\",\"\",VLOOKUP($Q$10,DATA!$P$2:$R$196,3))","v":""},{"$f":"IF(NDM18=\"\",\"\",VLOOKUP($Q$10,DATA!$P$2:$R$196,3))","v":""},{"$f":"IF(NDN18=\"\",\"\",VLOOKUP($Q$10,DATA!$P$2:$R$196,3))","v":""},{"$f":"IF(NDO18=\"\",\"\",VLOOKUP($Q$10,DATA!$P$2:$R$196,3))","v":""},{"$f":"IF(NDP18=\"\",\"\",VLOOKUP($Q$10,DATA!$P$2:$R$196,3))","v":""},{"$f":"IF(NDQ18=\"\",\"\",VLOOKUP($Q$10,DATA!$P$2:$R$196,3))","v":""},{"$f":"IF(NDR18=\"\",\"\",VLOOKUP($Q$10,DATA!$P$2:$R$196,3))","v":""},{"$f":"IF(NDS18=\"\",\"\",VLOOKUP($Q$10,DATA!$P$2:$R$196,3))","v":""},{"$f":"IF(NDT18=\"\",\"\",VLOOKUP($Q$10,DATA!$P$2:$R$196,3))","v":""},{"$f":"IF(NDU18=\"\",\"\",VLOOKUP($Q$10,DATA!$P$2:$R$196,3))","v":""},{"$f":"IF(NDV18=\"\",\"\",VLOOKUP($Q$10,DATA!$P$2:$R$196,3))","v":""},{"$f":"IF(NDW18=\"\",\"\",VLOOKUP($Q$10,DATA!$P$2:$R$196,3))","v":""},{"$f":"IF(NDX18=\"\",\"\",VLOOKUP($Q$10,DATA!$P$2:$R$196,3))","v":""},{"$f":"IF(NDY18=\"\",\"\",VLOOKUP($Q$10,DATA!$P$2:$R$196,3))","v":""},{"$f":"IF(NDZ18=\"\",\"\",VLOOKUP($Q$10,DATA!$P$2:$R$196,3))","v":""},{"$f":"IF(NEA18=\"\",\"\",VLOOKUP($Q$10,DATA!$P$2:$R$196,3))","v":""},{"$f":"IF(NEB18=\"\",\"\",VLOOKUP($Q$10,DATA!$P$2:$R$196,3))","v":""},{"$f":"IF(NEC18=\"\",\"\",VLOOKUP($Q$10,DATA!$P$2:$R$196,3))","v":""},{"$f":"IF(NED18=\"\",\"\",VLOOKUP($Q$10,DATA!$P$2:$R$196,3))","v":""},{"$f":"IF(NEE18=\"\",\"\",VLOOKUP($Q$10,DATA!$P$2:$R$196,3))","v":""},{"$f":"IF(NEF18=\"\",\"\",VLOOKUP($Q$10,DATA!$P$2:$R$196,3))","v":""},{"$f":"IF(NEG18=\"\",\"\",VLOOKUP($Q$10,DATA!$P$2:$R$196,3))","v":""},{"$f":"IF(NEH18=\"\",\"\",VLOOKUP($Q$10,DATA!$P$2:$R$196,3))","v":""},{"$f":"IF(NEI18=\"\",\"\",VLOOKUP($Q$10,DATA!$P$2:$R$196,3))","v":""},{"$f":"IF(NEJ18=\"\",\"\",VLOOKUP($Q$10,DATA!$P$2:$R$196,3))","v":""},{"$f":"IF(NEK18=\"\",\"\",VLOOKUP($Q$10,DATA!$P$2:$R$196,3))","v":""},{"$f":"IF(NEL18=\"\",\"\",VLOOKUP($Q$10,DATA!$P$2:$R$196,3))","v":""},{"$f":"IF(NEM18=\"\",\"\",VLOOKUP($Q$10,DATA!$P$2:$R$196,3))","v":""},{"$f":"IF(NEN18=\"\",\"\",VLOOKUP($Q$10,DATA!$P$2:$R$196,3))","v":""},{"$f":"IF(NEO18=\"\",\"\",VLOOKUP($Q$10,DATA!$P$2:$R$196,3))","v":""},{"$f":"IF(NEP18=\"\",\"\",VLOOKUP($Q$10,DATA!$P$2:$R$196,3))","v":""},{"$f":"IF(NEQ18=\"\",\"\",VLOOKUP($Q$10,DATA!$P$2:$R$196,3))","v":""},{"$f":"IF(NER18=\"\",\"\",VLOOKUP($Q$10,DATA!$P$2:$R$196,3))","v":""},{"$f":"IF(NES18=\"\",\"\",VLOOKUP($Q$10,DATA!$P$2:$R$196,3))","v":""},{"$f":"IF(NET18=\"\",\"\",VLOOKUP($Q$10,DATA!$P$2:$R$196,3))","v":""},{"$f":"IF(NEU18=\"\",\"\",VLOOKUP($Q$10,DATA!$P$2:$R$196,3))","v":""},{"$f":"IF(NEV18=\"\",\"\",VLOOKUP($Q$10,DATA!$P$2:$R$196,3))","v":""},{"$f":"IF(NEW18=\"\",\"\",VLOOKUP($Q$10,DATA!$P$2:$R$196,3))","v":""},{"$f":"IF(NEX18=\"\",\"\",VLOOKUP($Q$10,DATA!$P$2:$R$196,3))","v":""},{"$f":"IF(NEY18=\"\",\"\",VLOOKUP($Q$10,DATA!$P$2:$R$196,3))","v":""},{"$f":"IF(NEZ18=\"\",\"\",VLOOKUP($Q$10,DATA!$P$2:$R$196,3))","v":""},{"$f":"IF(NFA18=\"\",\"\",VLOOKUP($Q$10,DATA!$P$2:$R$196,3))","v":""},{"$f":"IF(NFB18=\"\",\"\",VLOOKUP($Q$10,DATA!$P$2:$R$196,3))","v":""},{"$f":"IF(NFC18=\"\",\"\",VLOOKUP($Q$10,DATA!$P$2:$R$196,3))","v":""},{"$f":"IF(NFD18=\"\",\"\",VLOOKUP($Q$10,DATA!$P$2:$R$196,3))","v":""},{"$f":"IF(NFE18=\"\",\"\",VLOOKUP($Q$10,DATA!$P$2:$R$196,3))","v":""},{"$f":"IF(NFF18=\"\",\"\",VLOOKUP($Q$10,DATA!$P$2:$R$196,3))","v":""},{"$f":"IF(NFG18=\"\",\"\",VLOOKUP($Q$10,DATA!$P$2:$R$196,3))","v":""},{"$f":"IF(NFH18=\"\",\"\",VLOOKUP($Q$10,DATA!$P$2:$R$196,3))","v":""},{"$f":"IF(NFI18=\"\",\"\",VLOOKUP($Q$10,DATA!$P$2:$R$196,3))","v":""},{"$f":"IF(NFJ18=\"\",\"\",VLOOKUP($Q$10,DATA!$P$2:$R$196,3))","v":""},{"$f":"IF(NFK18=\"\",\"\",VLOOKUP($Q$10,DATA!$P$2:$R$196,3))","v":""},{"$f":"IF(NFL18=\"\",\"\",VLOOKUP($Q$10,DATA!$P$2:$R$196,3))","v":""},{"$f":"IF(NFM18=\"\",\"\",VLOOKUP($Q$10,DATA!$P$2:$R$196,3))","v":""},{"$f":"IF(NFN18=\"\",\"\",VLOOKUP($Q$10,DATA!$P$2:$R$196,3))","v":""},{"$f":"IF(NFO18=\"\",\"\",VLOOKUP($Q$10,DATA!$P$2:$R$196,3))","v":""},{"$f":"IF(NFP18=\"\",\"\",VLOOKUP($Q$10,DATA!$P$2:$R$196,3))","v":""},{"$f":"IF(NFQ18=\"\",\"\",VLOOKUP($Q$10,DATA!$P$2:$R$196,3))","v":""},{"$f":"IF(NFR18=\"\",\"\",VLOOKUP($Q$10,DATA!$P$2:$R$196,3))","v":""},{"$f":"IF(NFS18=\"\",\"\",VLOOKUP($Q$10,DATA!$P$2:$R$196,3))","v":""},{"$f":"IF(NFT18=\"\",\"\",VLOOKUP($Q$10,DATA!$P$2:$R$196,3))","v":""},{"$f":"IF(NFU18=\"\",\"\",VLOOKUP($Q$10,DATA!$P$2:$R$196,3))","v":""},{"$f":"IF(NFV18=\"\",\"\",VLOOKUP($Q$10,DATA!$P$2:$R$196,3))","v":""},{"$f":"IF(NFW18=\"\",\"\",VLOOKUP($Q$10,DATA!$P$2:$R$196,3))","v":""},{"$f":"IF(NFX18=\"\",\"\",VLOOKUP($Q$10,DATA!$P$2:$R$196,3))","v":""},{"$f":"IF(NFY18=\"\",\"\",VLOOKUP($Q$10,DATA!$P$2:$R$196,3))","v":""},{"$f":"IF(NFZ18=\"\",\"\",VLOOKUP($Q$10,DATA!$P$2:$R$196,3))","v":""},{"$f":"IF(NGA18=\"\",\"\",VLOOKUP($Q$10,DATA!$P$2:$R$196,3))","v":""},{"$f":"IF(NGB18=\"\",\"\",VLOOKUP($Q$10,DATA!$P$2:$R$196,3))","v":""},{"$f":"IF(NGC18=\"\",\"\",VLOOKUP($Q$10,DATA!$P$2:$R$196,3))","v":""},{"$f":"IF(NGD18=\"\",\"\",VLOOKUP($Q$10,DATA!$P$2:$R$196,3))","v":""},{"$f":"IF(NGE18=\"\",\"\",VLOOKUP($Q$10,DATA!$P$2:$R$196,3))","v":""},{"$f":"IF(NGF18=\"\",\"\",VLOOKUP($Q$10,DATA!$P$2:$R$196,3))","v":""},{"$f":"IF(NGG18=\"\",\"\",VLOOKUP($Q$10,DATA!$P$2:$R$196,3))","v":""},{"$f":"IF(NGH18=\"\",\"\",VLOOKUP($Q$10,DATA!$P$2:$R$196,3))","v":""},{"$f":"IF(NGI18=\"\",\"\",VLOOKUP($Q$10,DATA!$P$2:$R$196,3))","v":""},{"$f":"IF(NGJ18=\"\",\"\",VLOOKUP($Q$10,DATA!$P$2:$R$196,3))","v":""},{"$f":"IF(NGK18=\"\",\"\",VLOOKUP($Q$10,DATA!$P$2:$R$196,3))","v":""},{"$f":"IF(NGL18=\"\",\"\",VLOOKUP($Q$10,DATA!$P$2:$R$196,3))","v":""},{"$f":"IF(NGM18=\"\",\"\",VLOOKUP($Q$10,DATA!$P$2:$R$196,3))","v":""},{"$f":"IF(NGN18=\"\",\"\",VLOOKUP($Q$10,DATA!$P$2:$R$196,3))","v":""},{"$f":"IF(NGO18=\"\",\"\",VLOOKUP($Q$10,DATA!$P$2:$R$196,3))","v":""},{"$f":"IF(NGP18=\"\",\"\",VLOOKUP($Q$10,DATA!$P$2:$R$196,3))","v":""},{"$f":"IF(NGQ18=\"\",\"\",VLOOKUP($Q$10,DATA!$P$2:$R$196,3))","v":""},{"$f":"IF(NGR18=\"\",\"\",VLOOKUP($Q$10,DATA!$P$2:$R$196,3))","v":""},{"$f":"IF(NGS18=\"\",\"\",VLOOKUP($Q$10,DATA!$P$2:$R$196,3))","v":""},{"$f":"IF(NGT18=\"\",\"\",VLOOKUP($Q$10,DATA!$P$2:$R$196,3))","v":""},{"$f":"IF(NGU18=\"\",\"\",VLOOKUP($Q$10,DATA!$P$2:$R$196,3))","v":""},{"$f":"IF(NGV18=\"\",\"\",VLOOKUP($Q$10,DATA!$P$2:$R$196,3))","v":""},{"$f":"IF(NGW18=\"\",\"\",VLOOKUP($Q$10,DATA!$P$2:$R$196,3))","v":""},{"$f":"IF(NGX18=\"\",\"\",VLOOKUP($Q$10,DATA!$P$2:$R$196,3))","v":""},{"$f":"IF(NGY18=\"\",\"\",VLOOKUP($Q$10,DATA!$P$2:$R$196,3))","v":""},{"$f":"IF(NGZ18=\"\",\"\",VLOOKUP($Q$10,DATA!$P$2:$R$196,3))","v":""},{"$f":"IF(NHA18=\"\",\"\",VLOOKUP($Q$10,DATA!$P$2:$R$196,3))","v":""},{"$f":"IF(NHB18=\"\",\"\",VLOOKUP($Q$10,DATA!$P$2:$R$196,3))","v":""},{"$f":"IF(NHC18=\"\",\"\",VLOOKUP($Q$10,DATA!$P$2:$R$196,3))","v":""},{"$f":"IF(NHD18=\"\",\"\",VLOOKUP($Q$10,DATA!$P$2:$R$196,3))","v":""},{"$f":"IF(NHE18=\"\",\"\",VLOOKUP($Q$10,DATA!$P$2:$R$196,3))","v":""},{"$f":"IF(NHF18=\"\",\"\",VLOOKUP($Q$10,DATA!$P$2:$R$196,3))","v":""},{"$f":"IF(NHG18=\"\",\"\",VLOOKUP($Q$10,DATA!$P$2:$R$196,3))","v":""},{"$f":"IF(NHH18=\"\",\"\",VLOOKUP($Q$10,DATA!$P$2:$R$196,3))","v":""},{"$f":"IF(NHI18=\"\",\"\",VLOOKUP($Q$10,DATA!$P$2:$R$196,3))","v":""},{"$f":"IF(NHJ18=\"\",\"\",VLOOKUP($Q$10,DATA!$P$2:$R$196,3))","v":""},{"$f":"IF(NHK18=\"\",\"\",VLOOKUP($Q$10,DATA!$P$2:$R$196,3))","v":""},{"$f":"IF(NHL18=\"\",\"\",VLOOKUP($Q$10,DATA!$P$2:$R$196,3))","v":""},{"$f":"IF(NHM18=\"\",\"\",VLOOKUP($Q$10,DATA!$P$2:$R$196,3))","v":""},{"$f":"IF(NHN18=\"\",\"\",VLOOKUP($Q$10,DATA!$P$2:$R$196,3))","v":""},{"$f":"IF(NHO18=\"\",\"\",VLOOKUP($Q$10,DATA!$P$2:$R$196,3))","v":""},{"$f":"IF(NHP18=\"\",\"\",VLOOKUP($Q$10,DATA!$P$2:$R$196,3))","v":""},{"$f":"IF(NHQ18=\"\",\"\",VLOOKUP($Q$10,DATA!$P$2:$R$196,3))","v":""},{"$f":"IF(NHR18=\"\",\"\",VLOOKUP($Q$10,DATA!$P$2:$R$196,3))","v":""},{"$f":"IF(NHS18=\"\",\"\",VLOOKUP($Q$10,DATA!$P$2:$R$196,3))","v":""},{"$f":"IF(NHT18=\"\",\"\",VLOOKUP($Q$10,DATA!$P$2:$R$196,3))","v":""},{"$f":"IF(NHU18=\"\",\"\",VLOOKUP($Q$10,DATA!$P$2:$R$196,3))","v":""},{"$f":"IF(NHV18=\"\",\"\",VLOOKUP($Q$10,DATA!$P$2:$R$196,3))","v":""},{"$f":"IF(NHW18=\"\",\"\",VLOOKUP($Q$10,DATA!$P$2:$R$196,3))","v":""},{"$f":"IF(NHX18=\"\",\"\",VLOOKUP($Q$10,DATA!$P$2:$R$196,3))","v":""},{"$f":"IF(NHY18=\"\",\"\",VLOOKUP($Q$10,DATA!$P$2:$R$196,3))","v":""},{"$f":"IF(NHZ18=\"\",\"\",VLOOKUP($Q$10,DATA!$P$2:$R$196,3))","v":""},{"$f":"IF(NIA18=\"\",\"\",VLOOKUP($Q$10,DATA!$P$2:$R$196,3))","v":""},{"$f":"IF(NIB18=\"\",\"\",VLOOKUP($Q$10,DATA!$P$2:$R$196,3))","v":""},{"$f":"IF(NIC18=\"\",\"\",VLOOKUP($Q$10,DATA!$P$2:$R$196,3))","v":""},{"$f":"IF(NID18=\"\",\"\",VLOOKUP($Q$10,DATA!$P$2:$R$196,3))","v":""},{"$f":"IF(NIE18=\"\",\"\",VLOOKUP($Q$10,DATA!$P$2:$R$196,3))","v":""},{"$f":"IF(NIF18=\"\",\"\",VLOOKUP($Q$10,DATA!$P$2:$R$196,3))","v":""},{"$f":"IF(NIG18=\"\",\"\",VLOOKUP($Q$10,DATA!$P$2:$R$196,3))","v":""},{"$f":"IF(NIH18=\"\",\"\",VLOOKUP($Q$10,DATA!$P$2:$R$196,3))","v":""},{"$f":"IF(NII18=\"\",\"\",VLOOKUP($Q$10,DATA!$P$2:$R$196,3))","v":""},{"$f":"IF(NIJ18=\"\",\"\",VLOOKUP($Q$10,DATA!$P$2:$R$196,3))","v":""},{"$f":"IF(NIK18=\"\",\"\",VLOOKUP($Q$10,DATA!$P$2:$R$196,3))","v":""},{"$f":"IF(NIL18=\"\",\"\",VLOOKUP($Q$10,DATA!$P$2:$R$196,3))","v":""},{"$f":"IF(NIM18=\"\",\"\",VLOOKUP($Q$10,DATA!$P$2:$R$196,3))","v":""},{"$f":"IF(NIN18=\"\",\"\",VLOOKUP($Q$10,DATA!$P$2:$R$196,3))","v":""},{"$f":"IF(NIO18=\"\",\"\",VLOOKUP($Q$10,DATA!$P$2:$R$196,3))","v":""},{"$f":"IF(NIP18=\"\",\"\",VLOOKUP($Q$10,DATA!$P$2:$R$196,3))","v":""},{"$f":"IF(NIQ18=\"\",\"\",VLOOKUP($Q$10,DATA!$P$2:$R$196,3))","v":""},{"$f":"IF(NIR18=\"\",\"\",VLOOKUP($Q$10,DATA!$P$2:$R$196,3))","v":""},{"$f":"IF(NIS18=\"\",\"\",VLOOKUP($Q$10,DATA!$P$2:$R$196,3))","v":""},{"$f":"IF(NIT18=\"\",\"\",VLOOKUP($Q$10,DATA!$P$2:$R$196,3))","v":""},{"$f":"IF(NIU18=\"\",\"\",VLOOKUP($Q$10,DATA!$P$2:$R$196,3))","v":""},{"$f":"IF(NIV18=\"\",\"\",VLOOKUP($Q$10,DATA!$P$2:$R$196,3))","v":""},{"$f":"IF(NIW18=\"\",\"\",VLOOKUP($Q$10,DATA!$P$2:$R$196,3))","v":""},{"$f":"IF(NIX18=\"\",\"\",VLOOKUP($Q$10,DATA!$P$2:$R$196,3))","v":""},{"$f":"IF(NIY18=\"\",\"\",VLOOKUP($Q$10,DATA!$P$2:$R$196,3))","v":""},{"$f":"IF(NIZ18=\"\",\"\",VLOOKUP($Q$10,DATA!$P$2:$R$196,3))","v":""},{"$f":"IF(NJA18=\"\",\"\",VLOOKUP($Q$10,DATA!$P$2:$R$196,3))","v":""},{"$f":"IF(NJB18=\"\",\"\",VLOOKUP($Q$10,DATA!$P$2:$R$196,3))","v":""},{"$f":"IF(NJC18=\"\",\"\",VLOOKUP($Q$10,DATA!$P$2:$R$196,3))","v":""},{"$f":"IF(NJD18=\"\",\"\",VLOOKUP($Q$10,DATA!$P$2:$R$196,3))","v":""},{"$f":"IF(NJE18=\"\",\"\",VLOOKUP($Q$10,DATA!$P$2:$R$196,3))","v":""},{"$f":"IF(NJF18=\"\",\"\",VLOOKUP($Q$10,DATA!$P$2:$R$196,3))","v":""},{"$f":"IF(NJG18=\"\",\"\",VLOOKUP($Q$10,DATA!$P$2:$R$196,3))","v":""},{"$f":"IF(NJH18=\"\",\"\",VLOOKUP($Q$10,DATA!$P$2:$R$196,3))","v":""},{"$f":"IF(NJI18=\"\",\"\",VLOOKUP($Q$10,DATA!$P$2:$R$196,3))","v":""},{"$f":"IF(NJJ18=\"\",\"\",VLOOKUP($Q$10,DATA!$P$2:$R$196,3))","v":""},{"$f":"IF(NJK18=\"\",\"\",VLOOKUP($Q$10,DATA!$P$2:$R$196,3))","v":""},{"$f":"IF(NJL18=\"\",\"\",VLOOKUP($Q$10,DATA!$P$2:$R$196,3))","v":""},{"$f":"IF(NJM18=\"\",\"\",VLOOKUP($Q$10,DATA!$P$2:$R$196,3))","v":""},{"$f":"IF(NJN18=\"\",\"\",VLOOKUP($Q$10,DATA!$P$2:$R$196,3))","v":""},{"$f":"IF(NJO18=\"\",\"\",VLOOKUP($Q$10,DATA!$P$2:$R$196,3))","v":""},{"$f":"IF(NJP18=\"\",\"\",VLOOKUP($Q$10,DATA!$P$2:$R$196,3))","v":""},{"$f":"IF(NJQ18=\"\",\"\",VLOOKUP($Q$10,DATA!$P$2:$R$196,3))","v":""},{"$f":"IF(NJR18=\"\",\"\",VLOOKUP($Q$10,DATA!$P$2:$R$196,3))","v":""},{"$f":"IF(NJS18=\"\",\"\",VLOOKUP($Q$10,DATA!$P$2:$R$196,3))","v":""},{"$f":"IF(NJT18=\"\",\"\",VLOOKUP($Q$10,DATA!$P$2:$R$196,3))","v":""},{"$f":"IF(NJU18=\"\",\"\",VLOOKUP($Q$10,DATA!$P$2:$R$196,3))","v":""},{"$f":"IF(NJV18=\"\",\"\",VLOOKUP($Q$10,DATA!$P$2:$R$196,3))","v":""},{"$f":"IF(NJW18=\"\",\"\",VLOOKUP($Q$10,DATA!$P$2:$R$196,3))","v":""},{"$f":"IF(NJX18=\"\",\"\",VLOOKUP($Q$10,DATA!$P$2:$R$196,3))","v":""},{"$f":"IF(NJY18=\"\",\"\",VLOOKUP($Q$10,DATA!$P$2:$R$196,3))","v":""},{"$f":"IF(NJZ18=\"\",\"\",VLOOKUP($Q$10,DATA!$P$2:$R$196,3))","v":""},{"$f":"IF(NKA18=\"\",\"\",VLOOKUP($Q$10,DATA!$P$2:$R$196,3))","v":""},{"$f":"IF(NKB18=\"\",\"\",VLOOKUP($Q$10,DATA!$P$2:$R$196,3))","v":""},{"$f":"IF(NKC18=\"\",\"\",VLOOKUP($Q$10,DATA!$P$2:$R$196,3))","v":""},{"$f":"IF(NKD18=\"\",\"\",VLOOKUP($Q$10,DATA!$P$2:$R$196,3))","v":""},{"$f":"IF(NKE18=\"\",\"\",VLOOKUP($Q$10,DATA!$P$2:$R$196,3))","v":""},{"$f":"IF(NKF18=\"\",\"\",VLOOKUP($Q$10,DATA!$P$2:$R$196,3))","v":""},{"$f":"IF(NKG18=\"\",\"\",VLOOKUP($Q$10,DATA!$P$2:$R$196,3))","v":""},{"$f":"IF(NKH18=\"\",\"\",VLOOKUP($Q$10,DATA!$P$2:$R$196,3))","v":""},{"$f":"IF(NKI18=\"\",\"\",VLOOKUP($Q$10,DATA!$P$2:$R$196,3))","v":""},{"$f":"IF(NKJ18=\"\",\"\",VLOOKUP($Q$10,DATA!$P$2:$R$196,3))","v":""},{"$f":"IF(NKK18=\"\",\"\",VLOOKUP($Q$10,DATA!$P$2:$R$196,3))","v":""},{"$f":"IF(NKL18=\"\",\"\",VLOOKUP($Q$10,DATA!$P$2:$R$196,3))","v":""},{"$f":"IF(NKM18=\"\",\"\",VLOOKUP($Q$10,DATA!$P$2:$R$196,3))","v":""},{"$f":"IF(NKN18=\"\",\"\",VLOOKUP($Q$10,DATA!$P$2:$R$196,3))","v":""},{"$f":"IF(NKO18=\"\",\"\",VLOOKUP($Q$10,DATA!$P$2:$R$196,3))","v":""},{"$f":"IF(NKP18=\"\",\"\",VLOOKUP($Q$10,DATA!$P$2:$R$196,3))","v":""},{"$f":"IF(NKQ18=\"\",\"\",VLOOKUP($Q$10,DATA!$P$2:$R$196,3))","v":""},{"$f":"IF(NKR18=\"\",\"\",VLOOKUP($Q$10,DATA!$P$2:$R$196,3))","v":""},{"$f":"IF(NKS18=\"\",\"\",VLOOKUP($Q$10,DATA!$P$2:$R$196,3))","v":""},{"$f":"IF(NKT18=\"\",\"\",VLOOKUP($Q$10,DATA!$P$2:$R$196,3))","v":""},{"$f":"IF(NKU18=\"\",\"\",VLOOKUP($Q$10,DATA!$P$2:$R$196,3))","v":""},{"$f":"IF(NKV18=\"\",\"\",VLOOKUP($Q$10,DATA!$P$2:$R$196,3))","v":""},{"$f":"IF(NKW18=\"\",\"\",VLOOKUP($Q$10,DATA!$P$2:$R$196,3))","v":""},{"$f":"IF(NKX18=\"\",\"\",VLOOKUP($Q$10,DATA!$P$2:$R$196,3))","v":""},{"$f":"IF(NKY18=\"\",\"\",VLOOKUP($Q$10,DATA!$P$2:$R$196,3))","v":""},{"$f":"IF(NKZ18=\"\",\"\",VLOOKUP($Q$10,DATA!$P$2:$R$196,3))","v":""},{"$f":"IF(NLA18=\"\",\"\",VLOOKUP($Q$10,DATA!$P$2:$R$196,3))","v":""},{"$f":"IF(NLB18=\"\",\"\",VLOOKUP($Q$10,DATA!$P$2:$R$196,3))","v":""},{"$f":"IF(NLC18=\"\",\"\",VLOOKUP($Q$10,DATA!$P$2:$R$196,3))","v":""},{"$f":"IF(NLD18=\"\",\"\",VLOOKUP($Q$10,DATA!$P$2:$R$196,3))","v":""},{"$f":"IF(NLE18=\"\",\"\",VLOOKUP($Q$10,DATA!$P$2:$R$196,3))","v":""},{"$f":"IF(NLF18=\"\",\"\",VLOOKUP($Q$10,DATA!$P$2:$R$196,3))","v":""},{"$f":"IF(NLG18=\"\",\"\",VLOOKUP($Q$10,DATA!$P$2:$R$196,3))","v":""},{"$f":"IF(NLH18=\"\",\"\",VLOOKUP($Q$10,DATA!$P$2:$R$196,3))","v":""},{"$f":"IF(NLI18=\"\",\"\",VLOOKUP($Q$10,DATA!$P$2:$R$196,3))","v":""},{"$f":"IF(NLJ18=\"\",\"\",VLOOKUP($Q$10,DATA!$P$2:$R$196,3))","v":""},{"$f":"IF(NLK18=\"\",\"\",VLOOKUP($Q$10,DATA!$P$2:$R$196,3))","v":""},{"$f":"IF(NLL18=\"\",\"\",VLOOKUP($Q$10,DATA!$P$2:$R$196,3))","v":""},{"$f":"IF(NLM18=\"\",\"\",VLOOKUP($Q$10,DATA!$P$2:$R$196,3))","v":""},{"$f":"IF(NLN18=\"\",\"\",VLOOKUP($Q$10,DATA!$P$2:$R$196,3))","v":""},{"$f":"IF(NLO18=\"\",\"\",VLOOKUP($Q$10,DATA!$P$2:$R$196,3))","v":""},{"$f":"IF(NLP18=\"\",\"\",VLOOKUP($Q$10,DATA!$P$2:$R$196,3))","v":""},{"$f":"IF(NLQ18=\"\",\"\",VLOOKUP($Q$10,DATA!$P$2:$R$196,3))","v":""},{"$f":"IF(NLR18=\"\",\"\",VLOOKUP($Q$10,DATA!$P$2:$R$196,3))","v":""},{"$f":"IF(NLS18=\"\",\"\",VLOOKUP($Q$10,DATA!$P$2:$R$196,3))","v":""},{"$f":"IF(NLT18=\"\",\"\",VLOOKUP($Q$10,DATA!$P$2:$R$196,3))","v":""},{"$f":"IF(NLU18=\"\",\"\",VLOOKUP($Q$10,DATA!$P$2:$R$196,3))","v":""},{"$f":"IF(NLV18=\"\",\"\",VLOOKUP($Q$10,DATA!$P$2:$R$196,3))","v":""},{"$f":"IF(NLW18=\"\",\"\",VLOOKUP($Q$10,DATA!$P$2:$R$196,3))","v":""},{"$f":"IF(NLX18=\"\",\"\",VLOOKUP($Q$10,DATA!$P$2:$R$196,3))","v":""},{"$f":"IF(NLY18=\"\",\"\",VLOOKUP($Q$10,DATA!$P$2:$R$196,3))","v":""},{"$f":"IF(NLZ18=\"\",\"\",VLOOKUP($Q$10,DATA!$P$2:$R$196,3))","v":""},{"$f":"IF(NMA18=\"\",\"\",VLOOKUP($Q$10,DATA!$P$2:$R$196,3))","v":""},{"$f":"IF(NMB18=\"\",\"\",VLOOKUP($Q$10,DATA!$P$2:$R$196,3))","v":""},{"$f":"IF(NMC18=\"\",\"\",VLOOKUP($Q$10,DATA!$P$2:$R$196,3))","v":""},{"$f":"IF(NMD18=\"\",\"\",VLOOKUP($Q$10,DATA!$P$2:$R$196,3))","v":""},{"$f":"IF(NME18=\"\",\"\",VLOOKUP($Q$10,DATA!$P$2:$R$196,3))","v":""},{"$f":"IF(NMF18=\"\",\"\",VLOOKUP($Q$10,DATA!$P$2:$R$196,3))","v":""},{"$f":"IF(NMG18=\"\",\"\",VLOOKUP($Q$10,DATA!$P$2:$R$196,3))","v":""},{"$f":"IF(NMH18=\"\",\"\",VLOOKUP($Q$10,DATA!$P$2:$R$196,3))","v":""},{"$f":"IF(NMI18=\"\",\"\",VLOOKUP($Q$10,DATA!$P$2:$R$196,3))","v":""},{"$f":"IF(NMJ18=\"\",\"\",VLOOKUP($Q$10,DATA!$P$2:$R$196,3))","v":""},{"$f":"IF(NMK18=\"\",\"\",VLOOKUP($Q$10,DATA!$P$2:$R$196,3))","v":""},{"$f":"IF(NML18=\"\",\"\",VLOOKUP($Q$10,DATA!$P$2:$R$196,3))","v":""},{"$f":"IF(NMM18=\"\",\"\",VLOOKUP($Q$10,DATA!$P$2:$R$196,3))","v":""},{"$f":"IF(NMN18=\"\",\"\",VLOOKUP($Q$10,DATA!$P$2:$R$196,3))","v":""},{"$f":"IF(NMO18=\"\",\"\",VLOOKUP($Q$10,DATA!$P$2:$R$196,3))","v":""},{"$f":"IF(NMP18=\"\",\"\",VLOOKUP($Q$10,DATA!$P$2:$R$196,3))","v":""},{"$f":"IF(NMQ18=\"\",\"\",VLOOKUP($Q$10,DATA!$P$2:$R$196,3))","v":""},{"$f":"IF(NMR18=\"\",\"\",VLOOKUP($Q$10,DATA!$P$2:$R$196,3))","v":""},{"$f":"IF(NMS18=\"\",\"\",VLOOKUP($Q$10,DATA!$P$2:$R$196,3))","v":""},{"$f":"IF(NMT18=\"\",\"\",VLOOKUP($Q$10,DATA!$P$2:$R$196,3))","v":""},{"$f":"IF(NMU18=\"\",\"\",VLOOKUP($Q$10,DATA!$P$2:$R$196,3))","v":""},{"$f":"IF(NMV18=\"\",\"\",VLOOKUP($Q$10,DATA!$P$2:$R$196,3))","v":""},{"$f":"IF(NMW18=\"\",\"\",VLOOKUP($Q$10,DATA!$P$2:$R$196,3))","v":""},{"$f":"IF(NMX18=\"\",\"\",VLOOKUP($Q$10,DATA!$P$2:$R$196,3))","v":""},{"$f":"IF(NMY18=\"\",\"\",VLOOKUP($Q$10,DATA!$P$2:$R$196,3))","v":""},{"$f":"IF(NMZ18=\"\",\"\",VLOOKUP($Q$10,DATA!$P$2:$R$196,3))","v":""},{"$f":"IF(NNA18=\"\",\"\",VLOOKUP($Q$10,DATA!$P$2:$R$196,3))","v":""},{"$f":"IF(NNB18=\"\",\"\",VLOOKUP($Q$10,DATA!$P$2:$R$196,3))","v":""},{"$f":"IF(NNC18=\"\",\"\",VLOOKUP($Q$10,DATA!$P$2:$R$196,3))","v":""},{"$f":"IF(NND18=\"\",\"\",VLOOKUP($Q$10,DATA!$P$2:$R$196,3))","v":""},{"$f":"IF(NNE18=\"\",\"\",VLOOKUP($Q$10,DATA!$P$2:$R$196,3))","v":""},{"$f":"IF(NNF18=\"\",\"\",VLOOKUP($Q$10,DATA!$P$2:$R$196,3))","v":""},{"$f":"IF(NNG18=\"\",\"\",VLOOKUP($Q$10,DATA!$P$2:$R$196,3))","v":""},{"$f":"IF(NNH18=\"\",\"\",VLOOKUP($Q$10,DATA!$P$2:$R$196,3))","v":""},{"$f":"IF(NNI18=\"\",\"\",VLOOKUP($Q$10,DATA!$P$2:$R$196,3))","v":""},{"$f":"IF(NNJ18=\"\",\"\",VLOOKUP($Q$10,DATA!$P$2:$R$196,3))","v":""},{"$f":"IF(NNK18=\"\",\"\",VLOOKUP($Q$10,DATA!$P$2:$R$196,3))","v":""},{"$f":"IF(NNL18=\"\",\"\",VLOOKUP($Q$10,DATA!$P$2:$R$196,3))","v":""},{"$f":"IF(NNM18=\"\",\"\",VLOOKUP($Q$10,DATA!$P$2:$R$196,3))","v":""},{"$f":"IF(NNN18=\"\",\"\",VLOOKUP($Q$10,DATA!$P$2:$R$196,3))","v":""},{"$f":"IF(NNO18=\"\",\"\",VLOOKUP($Q$10,DATA!$P$2:$R$196,3))","v":""},{"$f":"IF(NNP18=\"\",\"\",VLOOKUP($Q$10,DATA!$P$2:$R$196,3))","v":""},{"$f":"IF(NNQ18=\"\",\"\",VLOOKUP($Q$10,DATA!$P$2:$R$196,3))","v":""},{"$f":"IF(NNR18=\"\",\"\",VLOOKUP($Q$10,DATA!$P$2:$R$196,3))","v":""},{"$f":"IF(NNS18=\"\",\"\",VLOOKUP($Q$10,DATA!$P$2:$R$196,3))","v":""},{"$f":"IF(NNT18=\"\",\"\",VLOOKUP($Q$10,DATA!$P$2:$R$196,3))","v":""},{"$f":"IF(NNU18=\"\",\"\",VLOOKUP($Q$10,DATA!$P$2:$R$196,3))","v":""},{"$f":"IF(NNV18=\"\",\"\",VLOOKUP($Q$10,DATA!$P$2:$R$196,3))","v":""},{"$f":"IF(NNW18=\"\",\"\",VLOOKUP($Q$10,DATA!$P$2:$R$196,3))","v":""},{"$f":"IF(NNX18=\"\",\"\",VLOOKUP($Q$10,DATA!$P$2:$R$196,3))","v":""},{"$f":"IF(NNY18=\"\",\"\",VLOOKUP($Q$10,DATA!$P$2:$R$196,3))","v":""},{"$f":"IF(NNZ18=\"\",\"\",VLOOKUP($Q$10,DATA!$P$2:$R$196,3))","v":""},{"$f":"IF(NOA18=\"\",\"\",VLOOKUP($Q$10,DATA!$P$2:$R$196,3))","v":""},{"$f":"IF(NOB18=\"\",\"\",VLOOKUP($Q$10,DATA!$P$2:$R$196,3))","v":""},{"$f":"IF(NOC18=\"\",\"\",VLOOKUP($Q$10,DATA!$P$2:$R$196,3))","v":""},{"$f":"IF(NOD18=\"\",\"\",VLOOKUP($Q$10,DATA!$P$2:$R$196,3))","v":""},{"$f":"IF(NOE18=\"\",\"\",VLOOKUP($Q$10,DATA!$P$2:$R$196,3))","v":""},{"$f":"IF(NOF18=\"\",\"\",VLOOKUP($Q$10,DATA!$P$2:$R$196,3))","v":""},{"$f":"IF(NOG18=\"\",\"\",VLOOKUP($Q$10,DATA!$P$2:$R$196,3))","v":""},{"$f":"IF(NOH18=\"\",\"\",VLOOKUP($Q$10,DATA!$P$2:$R$196,3))","v":""},{"$f":"IF(NOI18=\"\",\"\",VLOOKUP($Q$10,DATA!$P$2:$R$196,3))","v":""},{"$f":"IF(NOJ18=\"\",\"\",VLOOKUP($Q$10,DATA!$P$2:$R$196,3))","v":""},{"$f":"IF(NOK18=\"\",\"\",VLOOKUP($Q$10,DATA!$P$2:$R$196,3))","v":""},{"$f":"IF(NOL18=\"\",\"\",VLOOKUP($Q$10,DATA!$P$2:$R$196,3))","v":""},{"$f":"IF(NOM18=\"\",\"\",VLOOKUP($Q$10,DATA!$P$2:$R$196,3))","v":""},{"$f":"IF(NON18=\"\",\"\",VLOOKUP($Q$10,DATA!$P$2:$R$196,3))","v":""},{"$f":"IF(NOO18=\"\",\"\",VLOOKUP($Q$10,DATA!$P$2:$R$196,3))","v":""},{"$f":"IF(NOP18=\"\",\"\",VLOOKUP($Q$10,DATA!$P$2:$R$196,3))","v":""},{"$f":"IF(NOQ18=\"\",\"\",VLOOKUP($Q$10,DATA!$P$2:$R$196,3))","v":""},{"$f":"IF(NOR18=\"\",\"\",VLOOKUP($Q$10,DATA!$P$2:$R$196,3))","v":""},{"$f":"IF(NOS18=\"\",\"\",VLOOKUP($Q$10,DATA!$P$2:$R$196,3))","v":""},{"$f":"IF(NOT18=\"\",\"\",VLOOKUP($Q$10,DATA!$P$2:$R$196,3))","v":""},{"$f":"IF(NOU18=\"\",\"\",VLOOKUP($Q$10,DATA!$P$2:$R$196,3))","v":""},{"$f":"IF(NOV18=\"\",\"\",VLOOKUP($Q$10,DATA!$P$2:$R$196,3))","v":""},{"$f":"IF(NOW18=\"\",\"\",VLOOKUP($Q$10,DATA!$P$2:$R$196,3))","v":""},{"$f":"IF(NOX18=\"\",\"\",VLOOKUP($Q$10,DATA!$P$2:$R$196,3))","v":""},{"$f":"IF(NOY18=\"\",\"\",VLOOKUP($Q$10,DATA!$P$2:$R$196,3))","v":""},{"$f":"IF(NOZ18=\"\",\"\",VLOOKUP($Q$10,DATA!$P$2:$R$196,3))","v":""},{"$f":"IF(NPA18=\"\",\"\",VLOOKUP($Q$10,DATA!$P$2:$R$196,3))","v":""},{"$f":"IF(NPB18=\"\",\"\",VLOOKUP($Q$10,DATA!$P$2:$R$196,3))","v":""},{"$f":"IF(NPC18=\"\",\"\",VLOOKUP($Q$10,DATA!$P$2:$R$196,3))","v":""},{"$f":"IF(NPD18=\"\",\"\",VLOOKUP($Q$10,DATA!$P$2:$R$196,3))","v":""},{"$f":"IF(NPE18=\"\",\"\",VLOOKUP($Q$10,DATA!$P$2:$R$196,3))","v":""},{"$f":"IF(NPF18=\"\",\"\",VLOOKUP($Q$10,DATA!$P$2:$R$196,3))","v":""},{"$f":"IF(NPG18=\"\",\"\",VLOOKUP($Q$10,DATA!$P$2:$R$196,3))","v":""},{"$f":"IF(NPH18=\"\",\"\",VLOOKUP($Q$10,DATA!$P$2:$R$196,3))","v":""},{"$f":"IF(NPI18=\"\",\"\",VLOOKUP($Q$10,DATA!$P$2:$R$196,3))","v":""},{"$f":"IF(NPJ18=\"\",\"\",VLOOKUP($Q$10,DATA!$P$2:$R$196,3))","v":""},{"$f":"IF(NPK18=\"\",\"\",VLOOKUP($Q$10,DATA!$P$2:$R$196,3))","v":""},{"$f":"IF(NPL18=\"\",\"\",VLOOKUP($Q$10,DATA!$P$2:$R$196,3))","v":""},{"$f":"IF(NPM18=\"\",\"\",VLOOKUP($Q$10,DATA!$P$2:$R$196,3))","v":""},{"$f":"IF(NPN18=\"\",\"\",VLOOKUP($Q$10,DATA!$P$2:$R$196,3))","v":""},{"$f":"IF(NPO18=\"\",\"\",VLOOKUP($Q$10,DATA!$P$2:$R$196,3))","v":""},{"$f":"IF(NPP18=\"\",\"\",VLOOKUP($Q$10,DATA!$P$2:$R$196,3))","v":""},{"$f":"IF(NPQ18=\"\",\"\",VLOOKUP($Q$10,DATA!$P$2:$R$196,3))","v":""},{"$f":"IF(NPR18=\"\",\"\",VLOOKUP($Q$10,DATA!$P$2:$R$196,3))","v":""},{"$f":"IF(NPS18=\"\",\"\",VLOOKUP($Q$10,DATA!$P$2:$R$196,3))","v":""},{"$f":"IF(NPT18=\"\",\"\",VLOOKUP($Q$10,DATA!$P$2:$R$196,3))","v":""},{"$f":"IF(NPU18=\"\",\"\",VLOOKUP($Q$10,DATA!$P$2:$R$196,3))","v":""},{"$f":"IF(NPV18=\"\",\"\",VLOOKUP($Q$10,DATA!$P$2:$R$196,3))","v":""},{"$f":"IF(NPW18=\"\",\"\",VLOOKUP($Q$10,DATA!$P$2:$R$196,3))","v":""},{"$f":"IF(NPX18=\"\",\"\",VLOOKUP($Q$10,DATA!$P$2:$R$196,3))","v":""},{"$f":"IF(NPY18=\"\",\"\",VLOOKUP($Q$10,DATA!$P$2:$R$196,3))","v":""},{"$f":"IF(NPZ18=\"\",\"\",VLOOKUP($Q$10,DATA!$P$2:$R$196,3))","v":""},{"$f":"IF(NQA18=\"\",\"\",VLOOKUP($Q$10,DATA!$P$2:$R$196,3))","v":""},{"$f":"IF(NQB18=\"\",\"\",VLOOKUP($Q$10,DATA!$P$2:$R$196,3))","v":""},{"$f":"IF(NQC18=\"\",\"\",VLOOKUP($Q$10,DATA!$P$2:$R$196,3))","v":""},{"$f":"IF(NQD18=\"\",\"\",VLOOKUP($Q$10,DATA!$P$2:$R$196,3))","v":""},{"$f":"IF(NQE18=\"\",\"\",VLOOKUP($Q$10,DATA!$P$2:$R$196,3))","v":""},{"$f":"IF(NQF18=\"\",\"\",VLOOKUP($Q$10,DATA!$P$2:$R$196,3))","v":""},{"$f":"IF(NQG18=\"\",\"\",VLOOKUP($Q$10,DATA!$P$2:$R$196,3))","v":""},{"$f":"IF(NQH18=\"\",\"\",VLOOKUP($Q$10,DATA!$P$2:$R$196,3))","v":""},{"$f":"IF(NQI18=\"\",\"\",VLOOKUP($Q$10,DATA!$P$2:$R$196,3))","v":""},{"$f":"IF(NQJ18=\"\",\"\",VLOOKUP($Q$10,DATA!$P$2:$R$196,3))","v":""},{"$f":"IF(NQK18=\"\",\"\",VLOOKUP($Q$10,DATA!$P$2:$R$196,3))","v":""},{"$f":"IF(NQL18=\"\",\"\",VLOOKUP($Q$10,DATA!$P$2:$R$196,3))","v":""},{"$f":"IF(NQM18=\"\",\"\",VLOOKUP($Q$10,DATA!$P$2:$R$196,3))","v":""},{"$f":"IF(NQN18=\"\",\"\",VLOOKUP($Q$10,DATA!$P$2:$R$196,3))","v":""},{"$f":"IF(NQO18=\"\",\"\",VLOOKUP($Q$10,DATA!$P$2:$R$196,3))","v":""},{"$f":"IF(NQP18=\"\",\"\",VLOOKUP($Q$10,DATA!$P$2:$R$196,3))","v":""},{"$f":"IF(NQQ18=\"\",\"\",VLOOKUP($Q$10,DATA!$P$2:$R$196,3))","v":""},{"$f":"IF(NQR18=\"\",\"\",VLOOKUP($Q$10,DATA!$P$2:$R$196,3))","v":""},{"$f":"IF(NQS18=\"\",\"\",VLOOKUP($Q$10,DATA!$P$2:$R$196,3))","v":""},{"$f":"IF(NQT18=\"\",\"\",VLOOKUP($Q$10,DATA!$P$2:$R$196,3))","v":""},{"$f":"IF(NQU18=\"\",\"\",VLOOKUP($Q$10,DATA!$P$2:$R$196,3))","v":""},{"$f":"IF(NQV18=\"\",\"\",VLOOKUP($Q$10,DATA!$P$2:$R$196,3))","v":""},{"$f":"IF(NQW18=\"\",\"\",VLOOKUP($Q$10,DATA!$P$2:$R$196,3))","v":""},{"$f":"IF(NQX18=\"\",\"\",VLOOKUP($Q$10,DATA!$P$2:$R$196,3))","v":""},{"$f":"IF(NQY18=\"\",\"\",VLOOKUP($Q$10,DATA!$P$2:$R$196,3))","v":""},{"$f":"IF(NQZ18=\"\",\"\",VLOOKUP($Q$10,DATA!$P$2:$R$196,3))","v":""},{"$f":"IF(NRA18=\"\",\"\",VLOOKUP($Q$10,DATA!$P$2:$R$196,3))","v":""},{"$f":"IF(NRB18=\"\",\"\",VLOOKUP($Q$10,DATA!$P$2:$R$196,3))","v":""},{"$f":"IF(NRC18=\"\",\"\",VLOOKUP($Q$10,DATA!$P$2:$R$196,3))","v":""},{"$f":"IF(NRD18=\"\",\"\",VLOOKUP($Q$10,DATA!$P$2:$R$196,3))","v":""},{"$f":"IF(NRE18=\"\",\"\",VLOOKUP($Q$10,DATA!$P$2:$R$196,3))","v":""},{"$f":"IF(NRF18=\"\",\"\",VLOOKUP($Q$10,DATA!$P$2:$R$196,3))","v":""},{"$f":"IF(NRG18=\"\",\"\",VLOOKUP($Q$10,DATA!$P$2:$R$196,3))","v":""},{"$f":"IF(NRH18=\"\",\"\",VLOOKUP($Q$10,DATA!$P$2:$R$196,3))","v":""},{"$f":"IF(NRI18=\"\",\"\",VLOOKUP($Q$10,DATA!$P$2:$R$196,3))","v":""},{"$f":"IF(NRJ18=\"\",\"\",VLOOKUP($Q$10,DATA!$P$2:$R$196,3))","v":""},{"$f":"IF(NRK18=\"\",\"\",VLOOKUP($Q$10,DATA!$P$2:$R$196,3))","v":""},{"$f":"IF(NRL18=\"\",\"\",VLOOKUP($Q$10,DATA!$P$2:$R$196,3))","v":""},{"$f":"IF(NRM18=\"\",\"\",VLOOKUP($Q$10,DATA!$P$2:$R$196,3))","v":""},{"$f":"IF(NRN18=\"\",\"\",VLOOKUP($Q$10,DATA!$P$2:$R$196,3))","v":""},{"$f":"IF(NRO18=\"\",\"\",VLOOKUP($Q$10,DATA!$P$2:$R$196,3))","v":""},{"$f":"IF(NRP18=\"\",\"\",VLOOKUP($Q$10,DATA!$P$2:$R$196,3))","v":""},{"$f":"IF(NRQ18=\"\",\"\",VLOOKUP($Q$10,DATA!$P$2:$R$196,3))","v":""},{"$f":"IF(NRR18=\"\",\"\",VLOOKUP($Q$10,DATA!$P$2:$R$196,3))","v":""},{"$f":"IF(NRS18=\"\",\"\",VLOOKUP($Q$10,DATA!$P$2:$R$196,3))","v":""},{"$f":"IF(NRT18=\"\",\"\",VLOOKUP($Q$10,DATA!$P$2:$R$196,3))","v":""},{"$f":"IF(NRU18=\"\",\"\",VLOOKUP($Q$10,DATA!$P$2:$R$196,3))","v":""},{"$f":"IF(NRV18=\"\",\"\",VLOOKUP($Q$10,DATA!$P$2:$R$196,3))","v":""},{"$f":"IF(NRW18=\"\",\"\",VLOOKUP($Q$10,DATA!$P$2:$R$196,3))","v":""},{"$f":"IF(NRX18=\"\",\"\",VLOOKUP($Q$10,DATA!$P$2:$R$196,3))","v":""},{"$f":"IF(NRY18=\"\",\"\",VLOOKUP($Q$10,DATA!$P$2:$R$196,3))","v":""},{"$f":"IF(NRZ18=\"\",\"\",VLOOKUP($Q$10,DATA!$P$2:$R$196,3))","v":""},{"$f":"IF(NSA18=\"\",\"\",VLOOKUP($Q$10,DATA!$P$2:$R$196,3))","v":""},{"$f":"IF(NSB18=\"\",\"\",VLOOKUP($Q$10,DATA!$P$2:$R$196,3))","v":""},{"$f":"IF(NSC18=\"\",\"\",VLOOKUP($Q$10,DATA!$P$2:$R$196,3))","v":""},{"$f":"IF(NSD18=\"\",\"\",VLOOKUP($Q$10,DATA!$P$2:$R$196,3))","v":""},{"$f":"IF(NSE18=\"\",\"\",VLOOKUP($Q$10,DATA!$P$2:$R$196,3))","v":""},{"$f":"IF(NSF18=\"\",\"\",VLOOKUP($Q$10,DATA!$P$2:$R$196,3))","v":""},{"$f":"IF(NSG18=\"\",\"\",VLOOKUP($Q$10,DATA!$P$2:$R$196,3))","v":""},{"$f":"IF(NSH18=\"\",\"\",VLOOKUP($Q$10,DATA!$P$2:$R$196,3))","v":""},{"$f":"IF(NSI18=\"\",\"\",VLOOKUP($Q$10,DATA!$P$2:$R$196,3))","v":""},{"$f":"IF(NSJ18=\"\",\"\",VLOOKUP($Q$10,DATA!$P$2:$R$196,3))","v":""},{"$f":"IF(NSK18=\"\",\"\",VLOOKUP($Q$10,DATA!$P$2:$R$196,3))","v":""},{"$f":"IF(NSL18=\"\",\"\",VLOOKUP($Q$10,DATA!$P$2:$R$196,3))","v":""},{"$f":"IF(NSM18=\"\",\"\",VLOOKUP($Q$10,DATA!$P$2:$R$196,3))","v":""},{"$f":"IF(NSN18=\"\",\"\",VLOOKUP($Q$10,DATA!$P$2:$R$196,3))","v":""},{"$f":"IF(NSO18=\"\",\"\",VLOOKUP($Q$10,DATA!$P$2:$R$196,3))","v":""},{"$f":"IF(NSP18=\"\",\"\",VLOOKUP($Q$10,DATA!$P$2:$R$196,3))","v":""},{"$f":"IF(NSQ18=\"\",\"\",VLOOKUP($Q$10,DATA!$P$2:$R$196,3))","v":""},{"$f":"IF(NSR18=\"\",\"\",VLOOKUP($Q$10,DATA!$P$2:$R$196,3))","v":""},{"$f":"IF(NSS18=\"\",\"\",VLOOKUP($Q$10,DATA!$P$2:$R$196,3))","v":""},{"$f":"IF(NST18=\"\",\"\",VLOOKUP($Q$10,DATA!$P$2:$R$196,3))","v":""},{"$f":"IF(NSU18=\"\",\"\",VLOOKUP($Q$10,DATA!$P$2:$R$196,3))","v":""},{"$f":"IF(NSV18=\"\",\"\",VLOOKUP($Q$10,DATA!$P$2:$R$196,3))","v":""},{"$f":"IF(NSW18=\"\",\"\",VLOOKUP($Q$10,DATA!$P$2:$R$196,3))","v":""},{"$f":"IF(NSX18=\"\",\"\",VLOOKUP($Q$10,DATA!$P$2:$R$196,3))","v":""},{"$f":"IF(NSY18=\"\",\"\",VLOOKUP($Q$10,DATA!$P$2:$R$196,3))","v":""},{"$f":"IF(NSZ18=\"\",\"\",VLOOKUP($Q$10,DATA!$P$2:$R$196,3))","v":""},{"$f":"IF(NTA18=\"\",\"\",VLOOKUP($Q$10,DATA!$P$2:$R$196,3))","v":""},{"$f":"IF(NTB18=\"\",\"\",VLOOKUP($Q$10,DATA!$P$2:$R$196,3))","v":""},{"$f":"IF(NTC18=\"\",\"\",VLOOKUP($Q$10,DATA!$P$2:$R$196,3))","v":""},{"$f":"IF(NTD18=\"\",\"\",VLOOKUP($Q$10,DATA!$P$2:$R$196,3))","v":""},{"$f":"IF(NTE18=\"\",\"\",VLOOKUP($Q$10,DATA!$P$2:$R$196,3))","v":""},{"$f":"IF(NTF18=\"\",\"\",VLOOKUP($Q$10,DATA!$P$2:$R$196,3))","v":""},{"$f":"IF(NTG18=\"\",\"\",VLOOKUP($Q$10,DATA!$P$2:$R$196,3))","v":""},{"$f":"IF(NTH18=\"\",\"\",VLOOKUP($Q$10,DATA!$P$2:$R$196,3))","v":""},{"$f":"IF(NTI18=\"\",\"\",VLOOKUP($Q$10,DATA!$P$2:$R$196,3))","v":""},{"$f":"IF(NTJ18=\"\",\"\",VLOOKUP($Q$10,DATA!$P$2:$R$196,3))","v":""},{"$f":"IF(NTK18=\"\",\"\",VLOOKUP($Q$10,DATA!$P$2:$R$196,3))","v":""},{"$f":"IF(NTL18=\"\",\"\",VLOOKUP($Q$10,DATA!$P$2:$R$196,3))","v":""},{"$f":"IF(NTM18=\"\",\"\",VLOOKUP($Q$10,DATA!$P$2:$R$196,3))","v":""},{"$f":"IF(NTN18=\"\",\"\",VLOOKUP($Q$10,DATA!$P$2:$R$196,3))","v":""},{"$f":"IF(NTO18=\"\",\"\",VLOOKUP($Q$10,DATA!$P$2:$R$196,3))","v":""},{"$f":"IF(NTP18=\"\",\"\",VLOOKUP($Q$10,DATA!$P$2:$R$196,3))","v":""},{"$f":"IF(NTQ18=\"\",\"\",VLOOKUP($Q$10,DATA!$P$2:$R$196,3))","v":""},{"$f":"IF(NTR18=\"\",\"\",VLOOKUP($Q$10,DATA!$P$2:$R$196,3))","v":""},{"$f":"IF(NTS18=\"\",\"\",VLOOKUP($Q$10,DATA!$P$2:$R$196,3))","v":""},{"$f":"IF(NTT18=\"\",\"\",VLOOKUP($Q$10,DATA!$P$2:$R$196,3))","v":""},{"$f":"IF(NTU18=\"\",\"\",VLOOKUP($Q$10,DATA!$P$2:$R$196,3))","v":""},{"$f":"IF(NTV18=\"\",\"\",VLOOKUP($Q$10,DATA!$P$2:$R$196,3))","v":""},{"$f":"IF(NTW18=\"\",\"\",VLOOKUP($Q$10,DATA!$P$2:$R$196,3))","v":""},{"$f":"IF(NTX18=\"\",\"\",VLOOKUP($Q$10,DATA!$P$2:$R$196,3))","v":""},{"$f":"IF(NTY18=\"\",\"\",VLOOKUP($Q$10,DATA!$P$2:$R$196,3))","v":""},{"$f":"IF(NTZ18=\"\",\"\",VLOOKUP($Q$10,DATA!$P$2:$R$196,3))","v":""},{"$f":"IF(NUA18=\"\",\"\",VLOOKUP($Q$10,DATA!$P$2:$R$196,3))","v":""},{"$f":"IF(NUB18=\"\",\"\",VLOOKUP($Q$10,DATA!$P$2:$R$196,3))","v":""},{"$f":"IF(NUC18=\"\",\"\",VLOOKUP($Q$10,DATA!$P$2:$R$196,3))","v":""},{"$f":"IF(NUD18=\"\",\"\",VLOOKUP($Q$10,DATA!$P$2:$R$196,3))","v":""},{"$f":"IF(NUE18=\"\",\"\",VLOOKUP($Q$10,DATA!$P$2:$R$196,3))","v":""},{"$f":"IF(NUF18=\"\",\"\",VLOOKUP($Q$10,DATA!$P$2:$R$196,3))","v":""},{"$f":"IF(NUG18=\"\",\"\",VLOOKUP($Q$10,DATA!$P$2:$R$196,3))","v":""},{"$f":"IF(NUH18=\"\",\"\",VLOOKUP($Q$10,DATA!$P$2:$R$196,3))","v":""},{"$f":"IF(NUI18=\"\",\"\",VLOOKUP($Q$10,DATA!$P$2:$R$196,3))","v":""},{"$f":"IF(NUJ18=\"\",\"\",VLOOKUP($Q$10,DATA!$P$2:$R$196,3))","v":""},{"$f":"IF(NUK18=\"\",\"\",VLOOKUP($Q$10,DATA!$P$2:$R$196,3))","v":""},{"$f":"IF(NUL18=\"\",\"\",VLOOKUP($Q$10,DATA!$P$2:$R$196,3))","v":""},{"$f":"IF(NUM18=\"\",\"\",VLOOKUP($Q$10,DATA!$P$2:$R$196,3))","v":""},{"$f":"IF(NUN18=\"\",\"\",VLOOKUP($Q$10,DATA!$P$2:$R$196,3))","v":""},{"$f":"IF(NUO18=\"\",\"\",VLOOKUP($Q$10,DATA!$P$2:$R$196,3))","v":""},{"$f":"IF(NUP18=\"\",\"\",VLOOKUP($Q$10,DATA!$P$2:$R$196,3))","v":""},{"$f":"IF(NUQ18=\"\",\"\",VLOOKUP($Q$10,DATA!$P$2:$R$196,3))","v":""},{"$f":"IF(NUR18=\"\",\"\",VLOOKUP($Q$10,DATA!$P$2:$R$196,3))","v":""},{"$f":"IF(NUS18=\"\",\"\",VLOOKUP($Q$10,DATA!$P$2:$R$196,3))","v":""},{"$f":"IF(NUT18=\"\",\"\",VLOOKUP($Q$10,DATA!$P$2:$R$196,3))","v":""},{"$f":"IF(NUU18=\"\",\"\",VLOOKUP($Q$10,DATA!$P$2:$R$196,3))","v":""},{"$f":"IF(NUV18=\"\",\"\",VLOOKUP($Q$10,DATA!$P$2:$R$196,3))","v":""},{"$f":"IF(NUW18=\"\",\"\",VLOOKUP($Q$10,DATA!$P$2:$R$196,3))","v":""},{"$f":"IF(NUX18=\"\",\"\",VLOOKUP($Q$10,DATA!$P$2:$R$196,3))","v":""},{"$f":"IF(NUY18=\"\",\"\",VLOOKUP($Q$10,DATA!$P$2:$R$196,3))","v":""},{"$f":"IF(NUZ18=\"\",\"\",VLOOKUP($Q$10,DATA!$P$2:$R$196,3))","v":""},{"$f":"IF(NVA18=\"\",\"\",VLOOKUP($Q$10,DATA!$P$2:$R$196,3))","v":""},{"$f":"IF(NVB18=\"\",\"\",VLOOKUP($Q$10,DATA!$P$2:$R$196,3))","v":""},{"$f":"IF(NVC18=\"\",\"\",VLOOKUP($Q$10,DATA!$P$2:$R$196,3))","v":""},{"$f":"IF(NVD18=\"\",\"\",VLOOKUP($Q$10,DATA!$P$2:$R$196,3))","v":""},{"$f":"IF(NVE18=\"\",\"\",VLOOKUP($Q$10,DATA!$P$2:$R$196,3))","v":""},{"$f":"IF(NVF18=\"\",\"\",VLOOKUP($Q$10,DATA!$P$2:$R$196,3))","v":""},{"$f":"IF(NVG18=\"\",\"\",VLOOKUP($Q$10,DATA!$P$2:$R$196,3))","v":""},{"$f":"IF(NVH18=\"\",\"\",VLOOKUP($Q$10,DATA!$P$2:$R$196,3))","v":""},{"$f":"IF(NVI18=\"\",\"\",VLOOKUP($Q$10,DATA!$P$2:$R$196,3))","v":""},{"$f":"IF(NVJ18=\"\",\"\",VLOOKUP($Q$10,DATA!$P$2:$R$196,3))","v":""},{"$f":"IF(NVK18=\"\",\"\",VLOOKUP($Q$10,DATA!$P$2:$R$196,3))","v":""},{"$f":"IF(NVL18=\"\",\"\",VLOOKUP($Q$10,DATA!$P$2:$R$196,3))","v":""},{"$f":"IF(NVM18=\"\",\"\",VLOOKUP($Q$10,DATA!$P$2:$R$196,3))","v":""},{"$f":"IF(NVN18=\"\",\"\",VLOOKUP($Q$10,DATA!$P$2:$R$196,3))","v":""},{"$f":"IF(NVO18=\"\",\"\",VLOOKUP($Q$10,DATA!$P$2:$R$196,3))","v":""},{"$f":"IF(NVP18=\"\",\"\",VLOOKUP($Q$10,DATA!$P$2:$R$196,3))","v":""},{"$f":"IF(NVQ18=\"\",\"\",VLOOKUP($Q$10,DATA!$P$2:$R$196,3))","v":""},{"$f":"IF(NVR18=\"\",\"\",VLOOKUP($Q$10,DATA!$P$2:$R$196,3))","v":""},{"$f":"IF(NVS18=\"\",\"\",VLOOKUP($Q$10,DATA!$P$2:$R$196,3))","v":""},{"$f":"IF(NVT18=\"\",\"\",VLOOKUP($Q$10,DATA!$P$2:$R$196,3))","v":""},{"$f":"IF(NVU18=\"\",\"\",VLOOKUP($Q$10,DATA!$P$2:$R$196,3))","v":""},{"$f":"IF(NVV18=\"\",\"\",VLOOKUP($Q$10,DATA!$P$2:$R$196,3))","v":""},{"$f":"IF(NVW18=\"\",\"\",VLOOKUP($Q$10,DATA!$P$2:$R$196,3))","v":""},{"$f":"IF(NVX18=\"\",\"\",VLOOKUP($Q$10,DATA!$P$2:$R$196,3))","v":""},{"$f":"IF(NVY18=\"\",\"\",VLOOKUP($Q$10,DATA!$P$2:$R$196,3))","v":""},{"$f":"IF(NVZ18=\"\",\"\",VLOOKUP($Q$10,DATA!$P$2:$R$196,3))","v":""},{"$f":"IF(NWA18=\"\",\"\",VLOOKUP($Q$10,DATA!$P$2:$R$196,3))","v":""},{"$f":"IF(NWB18=\"\",\"\",VLOOKUP($Q$10,DATA!$P$2:$R$196,3))","v":""},{"$f":"IF(NWC18=\"\",\"\",VLOOKUP($Q$10,DATA!$P$2:$R$196,3))","v":""},{"$f":"IF(NWD18=\"\",\"\",VLOOKUP($Q$10,DATA!$P$2:$R$196,3))","v":""},{"$f":"IF(NWE18=\"\",\"\",VLOOKUP($Q$10,DATA!$P$2:$R$196,3))","v":""},{"$f":"IF(NWF18=\"\",\"\",VLOOKUP($Q$10,DATA!$P$2:$R$196,3))","v":""},{"$f":"IF(NWG18=\"\",\"\",VLOOKUP($Q$10,DATA!$P$2:$R$196,3))","v":""},{"$f":"IF(NWH18=\"\",\"\",VLOOKUP($Q$10,DATA!$P$2:$R$196,3))","v":""},{"$f":"IF(NWI18=\"\",\"\",VLOOKUP($Q$10,DATA!$P$2:$R$196,3))","v":""},{"$f":"IF(NWJ18=\"\",\"\",VLOOKUP($Q$10,DATA!$P$2:$R$196,3))","v":""},{"$f":"IF(NWK18=\"\",\"\",VLOOKUP($Q$10,DATA!$P$2:$R$196,3))","v":""},{"$f":"IF(NWL18=\"\",\"\",VLOOKUP($Q$10,DATA!$P$2:$R$196,3))","v":""},{"$f":"IF(NWM18=\"\",\"\",VLOOKUP($Q$10,DATA!$P$2:$R$196,3))","v":""},{"$f":"IF(NWN18=\"\",\"\",VLOOKUP($Q$10,DATA!$P$2:$R$196,3))","v":""},{"$f":"IF(NWO18=\"\",\"\",VLOOKUP($Q$10,DATA!$P$2:$R$196,3))","v":""},{"$f":"IF(NWP18=\"\",\"\",VLOOKUP($Q$10,DATA!$P$2:$R$196,3))","v":""},{"$f":"IF(NWQ18=\"\",\"\",VLOOKUP($Q$10,DATA!$P$2:$R$196,3))","v":""},{"$f":"IF(NWR18=\"\",\"\",VLOOKUP($Q$10,DATA!$P$2:$R$196,3))","v":""},{"$f":"IF(NWS18=\"\",\"\",VLOOKUP($Q$10,DATA!$P$2:$R$196,3))","v":""},{"$f":"IF(NWT18=\"\",\"\",VLOOKUP($Q$10,DATA!$P$2:$R$196,3))","v":""},{"$f":"IF(NWU18=\"\",\"\",VLOOKUP($Q$10,DATA!$P$2:$R$196,3))","v":""},{"$f":"IF(NWV18=\"\",\"\",VLOOKUP($Q$10,DATA!$P$2:$R$196,3))","v":""},{"$f":"IF(NWW18=\"\",\"\",VLOOKUP($Q$10,DATA!$P$2:$R$196,3))","v":""},{"$f":"IF(NWX18=\"\",\"\",VLOOKUP($Q$10,DATA!$P$2:$R$196,3))","v":""},{"$f":"IF(NWY18=\"\",\"\",VLOOKUP($Q$10,DATA!$P$2:$R$196,3))","v":""},{"$f":"IF(NWZ18=\"\",\"\",VLOOKUP($Q$10,DATA!$P$2:$R$196,3))","v":""},{"$f":"IF(NXA18=\"\",\"\",VLOOKUP($Q$10,DATA!$P$2:$R$196,3))","v":""},{"$f":"IF(NXB18=\"\",\"\",VLOOKUP($Q$10,DATA!$P$2:$R$196,3))","v":""},{"$f":"IF(NXC18=\"\",\"\",VLOOKUP($Q$10,DATA!$P$2:$R$196,3))","v":""},{"$f":"IF(NXD18=\"\",\"\",VLOOKUP($Q$10,DATA!$P$2:$R$196,3))","v":""},{"$f":"IF(NXE18=\"\",\"\",VLOOKUP($Q$10,DATA!$P$2:$R$196,3))","v":""},{"$f":"IF(NXF18=\"\",\"\",VLOOKUP($Q$10,DATA!$P$2:$R$196,3))","v":""},{"$f":"IF(NXG18=\"\",\"\",VLOOKUP($Q$10,DATA!$P$2:$R$196,3))","v":""},{"$f":"IF(NXH18=\"\",\"\",VLOOKUP($Q$10,DATA!$P$2:$R$196,3))","v":""},{"$f":"IF(NXI18=\"\",\"\",VLOOKUP($Q$10,DATA!$P$2:$R$196,3))","v":""},{"$f":"IF(NXJ18=\"\",\"\",VLOOKUP($Q$10,DATA!$P$2:$R$196,3))","v":""},{"$f":"IF(NXK18=\"\",\"\",VLOOKUP($Q$10,DATA!$P$2:$R$196,3))","v":""},{"$f":"IF(NXL18=\"\",\"\",VLOOKUP($Q$10,DATA!$P$2:$R$196,3))","v":""},{"$f":"IF(NXM18=\"\",\"\",VLOOKUP($Q$10,DATA!$P$2:$R$196,3))","v":""},{"$f":"IF(NXN18=\"\",\"\",VLOOKUP($Q$10,DATA!$P$2:$R$196,3))","v":""},{"$f":"IF(NXO18=\"\",\"\",VLOOKUP($Q$10,DATA!$P$2:$R$196,3))","v":""},{"$f":"IF(NXP18=\"\",\"\",VLOOKUP($Q$10,DATA!$P$2:$R$196,3))","v":""},{"$f":"IF(NXQ18=\"\",\"\",VLOOKUP($Q$10,DATA!$P$2:$R$196,3))","v":""},{"$f":"IF(NXR18=\"\",\"\",VLOOKUP($Q$10,DATA!$P$2:$R$196,3))","v":""},{"$f":"IF(NXS18=\"\",\"\",VLOOKUP($Q$10,DATA!$P$2:$R$196,3))","v":""},{"$f":"IF(NXT18=\"\",\"\",VLOOKUP($Q$10,DATA!$P$2:$R$196,3))","v":""},{"$f":"IF(NXU18=\"\",\"\",VLOOKUP($Q$10,DATA!$P$2:$R$196,3))","v":""},{"$f":"IF(NXV18=\"\",\"\",VLOOKUP($Q$10,DATA!$P$2:$R$196,3))","v":""},{"$f":"IF(NXW18=\"\",\"\",VLOOKUP($Q$10,DATA!$P$2:$R$196,3))","v":""},{"$f":"IF(NXX18=\"\",\"\",VLOOKUP($Q$10,DATA!$P$2:$R$196,3))","v":""},{"$f":"IF(NXY18=\"\",\"\",VLOOKUP($Q$10,DATA!$P$2:$R$196,3))","v":""},{"$f":"IF(NXZ18=\"\",\"\",VLOOKUP($Q$10,DATA!$P$2:$R$196,3))","v":""},{"$f":"IF(NYA18=\"\",\"\",VLOOKUP($Q$10,DATA!$P$2:$R$196,3))","v":""},{"$f":"IF(NYB18=\"\",\"\",VLOOKUP($Q$10,DATA!$P$2:$R$196,3))","v":""},{"$f":"IF(NYC18=\"\",\"\",VLOOKUP($Q$10,DATA!$P$2:$R$196,3))","v":""},{"$f":"IF(NYD18=\"\",\"\",VLOOKUP($Q$10,DATA!$P$2:$R$196,3))","v":""},{"$f":"IF(NYE18=\"\",\"\",VLOOKUP($Q$10,DATA!$P$2:$R$196,3))","v":""},{"$f":"IF(NYF18=\"\",\"\",VLOOKUP($Q$10,DATA!$P$2:$R$196,3))","v":""},{"$f":"IF(NYG18=\"\",\"\",VLOOKUP($Q$10,DATA!$P$2:$R$196,3))","v":""},{"$f":"IF(NYH18=\"\",\"\",VLOOKUP($Q$10,DATA!$P$2:$R$196,3))","v":""},{"$f":"IF(NYI18=\"\",\"\",VLOOKUP($Q$10,DATA!$P$2:$R$196,3))","v":""},{"$f":"IF(NYJ18=\"\",\"\",VLOOKUP($Q$10,DATA!$P$2:$R$196,3))","v":""},{"$f":"IF(NYK18=\"\",\"\",VLOOKUP($Q$10,DATA!$P$2:$R$196,3))","v":""},{"$f":"IF(NYL18=\"\",\"\",VLOOKUP($Q$10,DATA!$P$2:$R$196,3))","v":""},{"$f":"IF(NYM18=\"\",\"\",VLOOKUP($Q$10,DATA!$P$2:$R$196,3))","v":""},{"$f":"IF(NYN18=\"\",\"\",VLOOKUP($Q$10,DATA!$P$2:$R$196,3))","v":""},{"$f":"IF(NYO18=\"\",\"\",VLOOKUP($Q$10,DATA!$P$2:$R$196,3))","v":""},{"$f":"IF(NYP18=\"\",\"\",VLOOKUP($Q$10,DATA!$P$2:$R$196,3))","v":""},{"$f":"IF(NYQ18=\"\",\"\",VLOOKUP($Q$10,DATA!$P$2:$R$196,3))","v":""},{"$f":"IF(NYR18=\"\",\"\",VLOOKUP($Q$10,DATA!$P$2:$R$196,3))","v":""},{"$f":"IF(NYS18=\"\",\"\",VLOOKUP($Q$10,DATA!$P$2:$R$196,3))","v":""},{"$f":"IF(NYT18=\"\",\"\",VLOOKUP($Q$10,DATA!$P$2:$R$196,3))","v":""},{"$f":"IF(NYU18=\"\",\"\",VLOOKUP($Q$10,DATA!$P$2:$R$196,3))","v":""},{"$f":"IF(NYV18=\"\",\"\",VLOOKUP($Q$10,DATA!$P$2:$R$196,3))","v":""},{"$f":"IF(NYW18=\"\",\"\",VLOOKUP($Q$10,DATA!$P$2:$R$196,3))","v":""},{"$f":"IF(NYX18=\"\",\"\",VLOOKUP($Q$10,DATA!$P$2:$R$196,3))","v":""},{"$f":"IF(NYY18=\"\",\"\",VLOOKUP($Q$10,DATA!$P$2:$R$196,3))","v":""},{"$f":"IF(NYZ18=\"\",\"\",VLOOKUP($Q$10,DATA!$P$2:$R$196,3))","v":""},{"$f":"IF(NZA18=\"\",\"\",VLOOKUP($Q$10,DATA!$P$2:$R$196,3))","v":""},{"$f":"IF(NZB18=\"\",\"\",VLOOKUP($Q$10,DATA!$P$2:$R$196,3))","v":""},{"$f":"IF(NZC18=\"\",\"\",VLOOKUP($Q$10,DATA!$P$2:$R$196,3))","v":""},{"$f":"IF(NZD18=\"\",\"\",VLOOKUP($Q$10,DATA!$P$2:$R$196,3))","v":""},{"$f":"IF(NZE18=\"\",\"\",VLOOKUP($Q$10,DATA!$P$2:$R$196,3))","v":""},{"$f":"IF(NZF18=\"\",\"\",VLOOKUP($Q$10,DATA!$P$2:$R$196,3))","v":""},{"$f":"IF(NZG18=\"\",\"\",VLOOKUP($Q$10,DATA!$P$2:$R$196,3))","v":""},{"$f":"IF(NZH18=\"\",\"\",VLOOKUP($Q$10,DATA!$P$2:$R$196,3))","v":""},{"$f":"IF(NZI18=\"\",\"\",VLOOKUP($Q$10,DATA!$P$2:$R$196,3))","v":""},{"$f":"IF(NZJ18=\"\",\"\",VLOOKUP($Q$10,DATA!$P$2:$R$196,3))","v":""},{"$f":"IF(NZK18=\"\",\"\",VLOOKUP($Q$10,DATA!$P$2:$R$196,3))","v":""},{"$f":"IF(NZL18=\"\",\"\",VLOOKUP($Q$10,DATA!$P$2:$R$196,3))","v":""},{"$f":"IF(NZM18=\"\",\"\",VLOOKUP($Q$10,DATA!$P$2:$R$196,3))","v":""},{"$f":"IF(NZN18=\"\",\"\",VLOOKUP($Q$10,DATA!$P$2:$R$196,3))","v":""},{"$f":"IF(NZO18=\"\",\"\",VLOOKUP($Q$10,DATA!$P$2:$R$196,3))","v":""},{"$f":"IF(NZP18=\"\",\"\",VLOOKUP($Q$10,DATA!$P$2:$R$196,3))","v":""},{"$f":"IF(NZQ18=\"\",\"\",VLOOKUP($Q$10,DATA!$P$2:$R$196,3))","v":""},{"$f":"IF(NZR18=\"\",\"\",VLOOKUP($Q$10,DATA!$P$2:$R$196,3))","v":""},{"$f":"IF(NZS18=\"\",\"\",VLOOKUP($Q$10,DATA!$P$2:$R$196,3))","v":""},{"$f":"IF(NZT18=\"\",\"\",VLOOKUP($Q$10,DATA!$P$2:$R$196,3))","v":""},{"$f":"IF(NZU18=\"\",\"\",VLOOKUP($Q$10,DATA!$P$2:$R$196,3))","v":""},{"$f":"IF(NZV18=\"\",\"\",VLOOKUP($Q$10,DATA!$P$2:$R$196,3))","v":""},{"$f":"IF(NZW18=\"\",\"\",VLOOKUP($Q$10,DATA!$P$2:$R$196,3))","v":""},{"$f":"IF(NZX18=\"\",\"\",VLOOKUP($Q$10,DATA!$P$2:$R$196,3))","v":""},{"$f":"IF(NZY18=\"\",\"\",VLOOKUP($Q$10,DATA!$P$2:$R$196,3))","v":""},{"$f":"IF(NZZ18=\"\",\"\",VLOOKUP($Q$10,DATA!$P$2:$R$196,3))","v":""},{"$f":"IF(OAA18=\"\",\"\",VLOOKUP($Q$10,DATA!$P$2:$R$196,3))","v":""},{"$f":"IF(OAB18=\"\",\"\",VLOOKUP($Q$10,DATA!$P$2:$R$196,3))","v":""},{"$f":"IF(OAC18=\"\",\"\",VLOOKUP($Q$10,DATA!$P$2:$R$196,3))","v":""},{"$f":"IF(OAD18=\"\",\"\",VLOOKUP($Q$10,DATA!$P$2:$R$196,3))","v":""},{"$f":"IF(OAE18=\"\",\"\",VLOOKUP($Q$10,DATA!$P$2:$R$196,3))","v":""},{"$f":"IF(OAF18=\"\",\"\",VLOOKUP($Q$10,DATA!$P$2:$R$196,3))","v":""},{"$f":"IF(OAG18=\"\",\"\",VLOOKUP($Q$10,DATA!$P$2:$R$196,3))","v":""},{"$f":"IF(OAH18=\"\",\"\",VLOOKUP($Q$10,DATA!$P$2:$R$196,3))","v":""},{"$f":"IF(OAI18=\"\",\"\",VLOOKUP($Q$10,DATA!$P$2:$R$196,3))","v":""},{"$f":"IF(OAJ18=\"\",\"\",VLOOKUP($Q$10,DATA!$P$2:$R$196,3))","v":""},{"$f":"IF(OAK18=\"\",\"\",VLOOKUP($Q$10,DATA!$P$2:$R$196,3))","v":""},{"$f":"IF(OAL18=\"\",\"\",VLOOKUP($Q$10,DATA!$P$2:$R$196,3))","v":""},{"$f":"IF(OAM18=\"\",\"\",VLOOKUP($Q$10,DATA!$P$2:$R$196,3))","v":""},{"$f":"IF(OAN18=\"\",\"\",VLOOKUP($Q$10,DATA!$P$2:$R$196,3))","v":""},{"$f":"IF(OAO18=\"\",\"\",VLOOKUP($Q$10,DATA!$P$2:$R$196,3))","v":""},{"$f":"IF(OAP18=\"\",\"\",VLOOKUP($Q$10,DATA!$P$2:$R$196,3))","v":""},{"$f":"IF(OAQ18=\"\",\"\",VLOOKUP($Q$10,DATA!$P$2:$R$196,3))","v":""},{"$f":"IF(OAR18=\"\",\"\",VLOOKUP($Q$10,DATA!$P$2:$R$196,3))","v":""},{"$f":"IF(OAS18=\"\",\"\",VLOOKUP($Q$10,DATA!$P$2:$R$196,3))","v":""},{"$f":"IF(OAT18=\"\",\"\",VLOOKUP($Q$10,DATA!$P$2:$R$196,3))","v":""},{"$f":"IF(OAU18=\"\",\"\",VLOOKUP($Q$10,DATA!$P$2:$R$196,3))","v":""},{"$f":"IF(OAV18=\"\",\"\",VLOOKUP($Q$10,DATA!$P$2:$R$196,3))","v":""},{"$f":"IF(OAW18=\"\",\"\",VLOOKUP($Q$10,DATA!$P$2:$R$196,3))","v":""},{"$f":"IF(OAX18=\"\",\"\",VLOOKUP($Q$10,DATA!$P$2:$R$196,3))","v":""},{"$f":"IF(OAY18=\"\",\"\",VLOOKUP($Q$10,DATA!$P$2:$R$196,3))","v":""},{"$f":"IF(OAZ18=\"\",\"\",VLOOKUP($Q$10,DATA!$P$2:$R$196,3))","v":""},{"$f":"IF(OBA18=\"\",\"\",VLOOKUP($Q$10,DATA!$P$2:$R$196,3))","v":""},{"$f":"IF(OBB18=\"\",\"\",VLOOKUP($Q$10,DATA!$P$2:$R$196,3))","v":""},{"$f":"IF(OBC18=\"\",\"\",VLOOKUP($Q$10,DATA!$P$2:$R$196,3))","v":""},{"$f":"IF(OBD18=\"\",\"\",VLOOKUP($Q$10,DATA!$P$2:$R$196,3))","v":""},{"$f":"IF(OBE18=\"\",\"\",VLOOKUP($Q$10,DATA!$P$2:$R$196,3))","v":""},{"$f":"IF(OBF18=\"\",\"\",VLOOKUP($Q$10,DATA!$P$2:$R$196,3))","v":""},{"$f":"IF(OBG18=\"\",\"\",VLOOKUP($Q$10,DATA!$P$2:$R$196,3))","v":""},{"$f":"IF(OBH18=\"\",\"\",VLOOKUP($Q$10,DATA!$P$2:$R$196,3))","v":""},{"$f":"IF(OBI18=\"\",\"\",VLOOKUP($Q$10,DATA!$P$2:$R$196,3))","v":""},{"$f":"IF(OBJ18=\"\",\"\",VLOOKUP($Q$10,DATA!$P$2:$R$196,3))","v":""},{"$f":"IF(OBK18=\"\",\"\",VLOOKUP($Q$10,DATA!$P$2:$R$196,3))","v":""},{"$f":"IF(OBL18=\"\",\"\",VLOOKUP($Q$10,DATA!$P$2:$R$196,3))","v":""},{"$f":"IF(OBM18=\"\",\"\",VLOOKUP($Q$10,DATA!$P$2:$R$196,3))","v":""},{"$f":"IF(OBN18=\"\",\"\",VLOOKUP($Q$10,DATA!$P$2:$R$196,3))","v":""},{"$f":"IF(OBO18=\"\",\"\",VLOOKUP($Q$10,DATA!$P$2:$R$196,3))","v":""},{"$f":"IF(OBP18=\"\",\"\",VLOOKUP($Q$10,DATA!$P$2:$R$196,3))","v":""},{"$f":"IF(OBQ18=\"\",\"\",VLOOKUP($Q$10,DATA!$P$2:$R$196,3))","v":""},{"$f":"IF(OBR18=\"\",\"\",VLOOKUP($Q$10,DATA!$P$2:$R$196,3))","v":""},{"$f":"IF(OBS18=\"\",\"\",VLOOKUP($Q$10,DATA!$P$2:$R$196,3))","v":""},{"$f":"IF(OBT18=\"\",\"\",VLOOKUP($Q$10,DATA!$P$2:$R$196,3))","v":""},{"$f":"IF(OBU18=\"\",\"\",VLOOKUP($Q$10,DATA!$P$2:$R$196,3))","v":""},{"$f":"IF(OBV18=\"\",\"\",VLOOKUP($Q$10,DATA!$P$2:$R$196,3))","v":""},{"$f":"IF(OBW18=\"\",\"\",VLOOKUP($Q$10,DATA!$P$2:$R$196,3))","v":""},{"$f":"IF(OBX18=\"\",\"\",VLOOKUP($Q$10,DATA!$P$2:$R$196,3))","v":""},{"$f":"IF(OBY18=\"\",\"\",VLOOKUP($Q$10,DATA!$P$2:$R$196,3))","v":""},{"$f":"IF(OBZ18=\"\",\"\",VLOOKUP($Q$10,DATA!$P$2:$R$196,3))","v":""},{"$f":"IF(OCA18=\"\",\"\",VLOOKUP($Q$10,DATA!$P$2:$R$196,3))","v":""},{"$f":"IF(OCB18=\"\",\"\",VLOOKUP($Q$10,DATA!$P$2:$R$196,3))","v":""},{"$f":"IF(OCC18=\"\",\"\",VLOOKUP($Q$10,DATA!$P$2:$R$196,3))","v":""},{"$f":"IF(OCD18=\"\",\"\",VLOOKUP($Q$10,DATA!$P$2:$R$196,3))","v":""},{"$f":"IF(OCE18=\"\",\"\",VLOOKUP($Q$10,DATA!$P$2:$R$196,3))","v":""},{"$f":"IF(OCF18=\"\",\"\",VLOOKUP($Q$10,DATA!$P$2:$R$196,3))","v":""},{"$f":"IF(OCG18=\"\",\"\",VLOOKUP($Q$10,DATA!$P$2:$R$196,3))","v":""},{"$f":"IF(OCH18=\"\",\"\",VLOOKUP($Q$10,DATA!$P$2:$R$196,3))","v":""},{"$f":"IF(OCI18=\"\",\"\",VLOOKUP($Q$10,DATA!$P$2:$R$196,3))","v":""},{"$f":"IF(OCJ18=\"\",\"\",VLOOKUP($Q$10,DATA!$P$2:$R$196,3))","v":""},{"$f":"IF(OCK18=\"\",\"\",VLOOKUP($Q$10,DATA!$P$2:$R$196,3))","v":""},{"$f":"IF(OCL18=\"\",\"\",VLOOKUP($Q$10,DATA!$P$2:$R$196,3))","v":""},{"$f":"IF(OCM18=\"\",\"\",VLOOKUP($Q$10,DATA!$P$2:$R$196,3))","v":""},{"$f":"IF(OCN18=\"\",\"\",VLOOKUP($Q$10,DATA!$P$2:$R$196,3))","v":""},{"$f":"IF(OCO18=\"\",\"\",VLOOKUP($Q$10,DATA!$P$2:$R$196,3))","v":""},{"$f":"IF(OCP18=\"\",\"\",VLOOKUP($Q$10,DATA!$P$2:$R$196,3))","v":""},{"$f":"IF(OCQ18=\"\",\"\",VLOOKUP($Q$10,DATA!$P$2:$R$196,3))","v":""},{"$f":"IF(OCR18=\"\",\"\",VLOOKUP($Q$10,DATA!$P$2:$R$196,3))","v":""},{"$f":"IF(OCS18=\"\",\"\",VLOOKUP($Q$10,DATA!$P$2:$R$196,3))","v":""},{"$f":"IF(OCT18=\"\",\"\",VLOOKUP($Q$10,DATA!$P$2:$R$196,3))","v":""},{"$f":"IF(OCU18=\"\",\"\",VLOOKUP($Q$10,DATA!$P$2:$R$196,3))","v":""},{"$f":"IF(OCV18=\"\",\"\",VLOOKUP($Q$10,DATA!$P$2:$R$196,3))","v":""},{"$f":"IF(OCW18=\"\",\"\",VLOOKUP($Q$10,DATA!$P$2:$R$196,3))","v":""},{"$f":"IF(OCX18=\"\",\"\",VLOOKUP($Q$10,DATA!$P$2:$R$196,3))","v":""},{"$f":"IF(OCY18=\"\",\"\",VLOOKUP($Q$10,DATA!$P$2:$R$196,3))","v":""},{"$f":"IF(OCZ18=\"\",\"\",VLOOKUP($Q$10,DATA!$P$2:$R$196,3))","v":""},{"$f":"IF(ODA18=\"\",\"\",VLOOKUP($Q$10,DATA!$P$2:$R$196,3))","v":""},{"$f":"IF(ODB18=\"\",\"\",VLOOKUP($Q$10,DATA!$P$2:$R$196,3))","v":""},{"$f":"IF(ODC18=\"\",\"\",VLOOKUP($Q$10,DATA!$P$2:$R$196,3))","v":""},{"$f":"IF(ODD18=\"\",\"\",VLOOKUP($Q$10,DATA!$P$2:$R$196,3))","v":""},{"$f":"IF(ODE18=\"\",\"\",VLOOKUP($Q$10,DATA!$P$2:$R$196,3))","v":""},{"$f":"IF(ODF18=\"\",\"\",VLOOKUP($Q$10,DATA!$P$2:$R$196,3))","v":""},{"$f":"IF(ODG18=\"\",\"\",VLOOKUP($Q$10,DATA!$P$2:$R$196,3))","v":""},{"$f":"IF(ODH18=\"\",\"\",VLOOKUP($Q$10,DATA!$P$2:$R$196,3))","v":""},{"$f":"IF(ODI18=\"\",\"\",VLOOKUP($Q$10,DATA!$P$2:$R$196,3))","v":""},{"$f":"IF(ODJ18=\"\",\"\",VLOOKUP($Q$10,DATA!$P$2:$R$196,3))","v":""},{"$f":"IF(ODK18=\"\",\"\",VLOOKUP($Q$10,DATA!$P$2:$R$196,3))","v":""},{"$f":"IF(ODL18=\"\",\"\",VLOOKUP($Q$10,DATA!$P$2:$R$196,3))","v":""},{"$f":"IF(ODM18=\"\",\"\",VLOOKUP($Q$10,DATA!$P$2:$R$196,3))","v":""},{"$f":"IF(ODN18=\"\",\"\",VLOOKUP($Q$10,DATA!$P$2:$R$196,3))","v":""},{"$f":"IF(ODO18=\"\",\"\",VLOOKUP($Q$10,DATA!$P$2:$R$196,3))","v":""},{"$f":"IF(ODP18=\"\",\"\",VLOOKUP($Q$10,DATA!$P$2:$R$196,3))","v":""},{"$f":"IF(ODQ18=\"\",\"\",VLOOKUP($Q$10,DATA!$P$2:$R$196,3))","v":""},{"$f":"IF(ODR18=\"\",\"\",VLOOKUP($Q$10,DATA!$P$2:$R$196,3))","v":""},{"$f":"IF(ODS18=\"\",\"\",VLOOKUP($Q$10,DATA!$P$2:$R$196,3))","v":""},{"$f":"IF(ODT18=\"\",\"\",VLOOKUP($Q$10,DATA!$P$2:$R$196,3))","v":""},{"$f":"IF(ODU18=\"\",\"\",VLOOKUP($Q$10,DATA!$P$2:$R$196,3))","v":""},{"$f":"IF(ODV18=\"\",\"\",VLOOKUP($Q$10,DATA!$P$2:$R$196,3))","v":""},{"$f":"IF(ODW18=\"\",\"\",VLOOKUP($Q$10,DATA!$P$2:$R$196,3))","v":""},{"$f":"IF(ODX18=\"\",\"\",VLOOKUP($Q$10,DATA!$P$2:$R$196,3))","v":""},{"$f":"IF(ODY18=\"\",\"\",VLOOKUP($Q$10,DATA!$P$2:$R$196,3))","v":""},{"$f":"IF(ODZ18=\"\",\"\",VLOOKUP($Q$10,DATA!$P$2:$R$196,3))","v":""},{"$f":"IF(OEA18=\"\",\"\",VLOOKUP($Q$10,DATA!$P$2:$R$196,3))","v":""},{"$f":"IF(OEB18=\"\",\"\",VLOOKUP($Q$10,DATA!$P$2:$R$196,3))","v":""},{"$f":"IF(OEC18=\"\",\"\",VLOOKUP($Q$10,DATA!$P$2:$R$196,3))","v":""},{"$f":"IF(OED18=\"\",\"\",VLOOKUP($Q$10,DATA!$P$2:$R$196,3))","v":""},{"$f":"IF(OEE18=\"\",\"\",VLOOKUP($Q$10,DATA!$P$2:$R$196,3))","v":""},{"$f":"IF(OEF18=\"\",\"\",VLOOKUP($Q$10,DATA!$P$2:$R$196,3))","v":""},{"$f":"IF(OEG18=\"\",\"\",VLOOKUP($Q$10,DATA!$P$2:$R$196,3))","v":""},{"$f":"IF(OEH18=\"\",\"\",VLOOKUP($Q$10,DATA!$P$2:$R$196,3))","v":""},{"$f":"IF(OEI18=\"\",\"\",VLOOKUP($Q$10,DATA!$P$2:$R$196,3))","v":""},{"$f":"IF(OEJ18=\"\",\"\",VLOOKUP($Q$10,DATA!$P$2:$R$196,3))","v":""},{"$f":"IF(OEK18=\"\",\"\",VLOOKUP($Q$10,DATA!$P$2:$R$196,3))","v":""},{"$f":"IF(OEL18=\"\",\"\",VLOOKUP($Q$10,DATA!$P$2:$R$196,3))","v":""},{"$f":"IF(OEM18=\"\",\"\",VLOOKUP($Q$10,DATA!$P$2:$R$196,3))","v":""},{"$f":"IF(OEN18=\"\",\"\",VLOOKUP($Q$10,DATA!$P$2:$R$196,3))","v":""},{"$f":"IF(OEO18=\"\",\"\",VLOOKUP($Q$10,DATA!$P$2:$R$196,3))","v":""},{"$f":"IF(OEP18=\"\",\"\",VLOOKUP($Q$10,DATA!$P$2:$R$196,3))","v":""},{"$f":"IF(OEQ18=\"\",\"\",VLOOKUP($Q$10,DATA!$P$2:$R$196,3))","v":""},{"$f":"IF(OER18=\"\",\"\",VLOOKUP($Q$10,DATA!$P$2:$R$196,3))","v":""},{"$f":"IF(OES18=\"\",\"\",VLOOKUP($Q$10,DATA!$P$2:$R$196,3))","v":""},{"$f":"IF(OET18=\"\",\"\",VLOOKUP($Q$10,DATA!$P$2:$R$196,3))","v":""},{"$f":"IF(OEU18=\"\",\"\",VLOOKUP($Q$10,DATA!$P$2:$R$196,3))","v":""},{"$f":"IF(OEV18=\"\",\"\",VLOOKUP($Q$10,DATA!$P$2:$R$196,3))","v":""},{"$f":"IF(OEW18=\"\",\"\",VLOOKUP($Q$10,DATA!$P$2:$R$196,3))","v":""},{"$f":"IF(OEX18=\"\",\"\",VLOOKUP($Q$10,DATA!$P$2:$R$196,3))","v":""},{"$f":"IF(OEY18=\"\",\"\",VLOOKUP($Q$10,DATA!$P$2:$R$196,3))","v":""},{"$f":"IF(OEZ18=\"\",\"\",VLOOKUP($Q$10,DATA!$P$2:$R$196,3))","v":""},{"$f":"IF(OFA18=\"\",\"\",VLOOKUP($Q$10,DATA!$P$2:$R$196,3))","v":""},{"$f":"IF(OFB18=\"\",\"\",VLOOKUP($Q$10,DATA!$P$2:$R$196,3))","v":""},{"$f":"IF(OFC18=\"\",\"\",VLOOKUP($Q$10,DATA!$P$2:$R$196,3))","v":""},{"$f":"IF(OFD18=\"\",\"\",VLOOKUP($Q$10,DATA!$P$2:$R$196,3))","v":""},{"$f":"IF(OFE18=\"\",\"\",VLOOKUP($Q$10,DATA!$P$2:$R$196,3))","v":""},{"$f":"IF(OFF18=\"\",\"\",VLOOKUP($Q$10,DATA!$P$2:$R$196,3))","v":""},{"$f":"IF(OFG18=\"\",\"\",VLOOKUP($Q$10,DATA!$P$2:$R$196,3))","v":""},{"$f":"IF(OFH18=\"\",\"\",VLOOKUP($Q$10,DATA!$P$2:$R$196,3))","v":""},{"$f":"IF(OFI18=\"\",\"\",VLOOKUP($Q$10,DATA!$P$2:$R$196,3))","v":""},{"$f":"IF(OFJ18=\"\",\"\",VLOOKUP($Q$10,DATA!$P$2:$R$196,3))","v":""},{"$f":"IF(OFK18=\"\",\"\",VLOOKUP($Q$10,DATA!$P$2:$R$196,3))","v":""},{"$f":"IF(OFL18=\"\",\"\",VLOOKUP($Q$10,DATA!$P$2:$R$196,3))","v":""},{"$f":"IF(OFM18=\"\",\"\",VLOOKUP($Q$10,DATA!$P$2:$R$196,3))","v":""},{"$f":"IF(OFN18=\"\",\"\",VLOOKUP($Q$10,DATA!$P$2:$R$196,3))","v":""},{"$f":"IF(OFO18=\"\",\"\",VLOOKUP($Q$10,DATA!$P$2:$R$196,3))","v":""},{"$f":"IF(OFP18=\"\",\"\",VLOOKUP($Q$10,DATA!$P$2:$R$196,3))","v":""},{"$f":"IF(OFQ18=\"\",\"\",VLOOKUP($Q$10,DATA!$P$2:$R$196,3))","v":""},{"$f":"IF(OFR18=\"\",\"\",VLOOKUP($Q$10,DATA!$P$2:$R$196,3))","v":""},{"$f":"IF(OFS18=\"\",\"\",VLOOKUP($Q$10,DATA!$P$2:$R$196,3))","v":""},{"$f":"IF(OFT18=\"\",\"\",VLOOKUP($Q$10,DATA!$P$2:$R$196,3))","v":""},{"$f":"IF(OFU18=\"\",\"\",VLOOKUP($Q$10,DATA!$P$2:$R$196,3))","v":""},{"$f":"IF(OFV18=\"\",\"\",VLOOKUP($Q$10,DATA!$P$2:$R$196,3))","v":""},{"$f":"IF(OFW18=\"\",\"\",VLOOKUP($Q$10,DATA!$P$2:$R$196,3))","v":""},{"$f":"IF(OFX18=\"\",\"\",VLOOKUP($Q$10,DATA!$P$2:$R$196,3))","v":""},{"$f":"IF(OFY18=\"\",\"\",VLOOKUP($Q$10,DATA!$P$2:$R$196,3))","v":""},{"$f":"IF(OFZ18=\"\",\"\",VLOOKUP($Q$10,DATA!$P$2:$R$196,3))","v":""},{"$f":"IF(OGA18=\"\",\"\",VLOOKUP($Q$10,DATA!$P$2:$R$196,3))","v":""},{"$f":"IF(OGB18=\"\",\"\",VLOOKUP($Q$10,DATA!$P$2:$R$196,3))","v":""},{"$f":"IF(OGC18=\"\",\"\",VLOOKUP($Q$10,DATA!$P$2:$R$196,3))","v":""},{"$f":"IF(OGD18=\"\",\"\",VLOOKUP($Q$10,DATA!$P$2:$R$196,3))","v":""},{"$f":"IF(OGE18=\"\",\"\",VLOOKUP($Q$10,DATA!$P$2:$R$196,3))","v":""},{"$f":"IF(OGF18=\"\",\"\",VLOOKUP($Q$10,DATA!$P$2:$R$196,3))","v":""},{"$f":"IF(OGG18=\"\",\"\",VLOOKUP($Q$10,DATA!$P$2:$R$196,3))","v":""},{"$f":"IF(OGH18=\"\",\"\",VLOOKUP($Q$10,DATA!$P$2:$R$196,3))","v":""},{"$f":"IF(OGI18=\"\",\"\",VLOOKUP($Q$10,DATA!$P$2:$R$196,3))","v":""},{"$f":"IF(OGJ18=\"\",\"\",VLOOKUP($Q$10,DATA!$P$2:$R$196,3))","v":""},{"$f":"IF(OGK18=\"\",\"\",VLOOKUP($Q$10,DATA!$P$2:$R$196,3))","v":""},{"$f":"IF(OGL18=\"\",\"\",VLOOKUP($Q$10,DATA!$P$2:$R$196,3))","v":""},{"$f":"IF(OGM18=\"\",\"\",VLOOKUP($Q$10,DATA!$P$2:$R$196,3))","v":""},{"$f":"IF(OGN18=\"\",\"\",VLOOKUP($Q$10,DATA!$P$2:$R$196,3))","v":""},{"$f":"IF(OGO18=\"\",\"\",VLOOKUP($Q$10,DATA!$P$2:$R$196,3))","v":""},{"$f":"IF(OGP18=\"\",\"\",VLOOKUP($Q$10,DATA!$P$2:$R$196,3))","v":""},{"$f":"IF(OGQ18=\"\",\"\",VLOOKUP($Q$10,DATA!$P$2:$R$196,3))","v":""},{"$f":"IF(OGR18=\"\",\"\",VLOOKUP($Q$10,DATA!$P$2:$R$196,3))","v":""},{"$f":"IF(OGS18=\"\",\"\",VLOOKUP($Q$10,DATA!$P$2:$R$196,3))","v":""},{"$f":"IF(OGT18=\"\",\"\",VLOOKUP($Q$10,DATA!$P$2:$R$196,3))","v":""},{"$f":"IF(OGU18=\"\",\"\",VLOOKUP($Q$10,DATA!$P$2:$R$196,3))","v":""},{"$f":"IF(OGV18=\"\",\"\",VLOOKUP($Q$10,DATA!$P$2:$R$196,3))","v":""},{"$f":"IF(OGW18=\"\",\"\",VLOOKUP($Q$10,DATA!$P$2:$R$196,3))","v":""},{"$f":"IF(OGX18=\"\",\"\",VLOOKUP($Q$10,DATA!$P$2:$R$196,3))","v":""},{"$f":"IF(OGY18=\"\",\"\",VLOOKUP($Q$10,DATA!$P$2:$R$196,3))","v":""},{"$f":"IF(OGZ18=\"\",\"\",VLOOKUP($Q$10,DATA!$P$2:$R$196,3))","v":""},{"$f":"IF(OHA18=\"\",\"\",VLOOKUP($Q$10,DATA!$P$2:$R$196,3))","v":""},{"$f":"IF(OHB18=\"\",\"\",VLOOKUP($Q$10,DATA!$P$2:$R$196,3))","v":""},{"$f":"IF(OHC18=\"\",\"\",VLOOKUP($Q$10,DATA!$P$2:$R$196,3))","v":""},{"$f":"IF(OHD18=\"\",\"\",VLOOKUP($Q$10,DATA!$P$2:$R$196,3))","v":""},{"$f":"IF(OHE18=\"\",\"\",VLOOKUP($Q$10,DATA!$P$2:$R$196,3))","v":""},{"$f":"IF(OHF18=\"\",\"\",VLOOKUP($Q$10,DATA!$P$2:$R$196,3))","v":""},{"$f":"IF(OHG18=\"\",\"\",VLOOKUP($Q$10,DATA!$P$2:$R$196,3))","v":""},{"$f":"IF(OHH18=\"\",\"\",VLOOKUP($Q$10,DATA!$P$2:$R$196,3))","v":""},{"$f":"IF(OHI18=\"\",\"\",VLOOKUP($Q$10,DATA!$P$2:$R$196,3))","v":""},{"$f":"IF(OHJ18=\"\",\"\",VLOOKUP($Q$10,DATA!$P$2:$R$196,3))","v":""},{"$f":"IF(OHK18=\"\",\"\",VLOOKUP($Q$10,DATA!$P$2:$R$196,3))","v":""},{"$f":"IF(OHL18=\"\",\"\",VLOOKUP($Q$10,DATA!$P$2:$R$196,3))","v":""},{"$f":"IF(OHM18=\"\",\"\",VLOOKUP($Q$10,DATA!$P$2:$R$196,3))","v":""},{"$f":"IF(OHN18=\"\",\"\",VLOOKUP($Q$10,DATA!$P$2:$R$196,3))","v":""},{"$f":"IF(OHO18=\"\",\"\",VLOOKUP($Q$10,DATA!$P$2:$R$196,3))","v":""},{"$f":"IF(OHP18=\"\",\"\",VLOOKUP($Q$10,DATA!$P$2:$R$196,3))","v":""},{"$f":"IF(OHQ18=\"\",\"\",VLOOKUP($Q$10,DATA!$P$2:$R$196,3))","v":""},{"$f":"IF(OHR18=\"\",\"\",VLOOKUP($Q$10,DATA!$P$2:$R$196,3))","v":""},{"$f":"IF(OHS18=\"\",\"\",VLOOKUP($Q$10,DATA!$P$2:$R$196,3))","v":""},{"$f":"IF(OHT18=\"\",\"\",VLOOKUP($Q$10,DATA!$P$2:$R$196,3))","v":""},{"$f":"IF(OHU18=\"\",\"\",VLOOKUP($Q$10,DATA!$P$2:$R$196,3))","v":""},{"$f":"IF(OHV18=\"\",\"\",VLOOKUP($Q$10,DATA!$P$2:$R$196,3))","v":""},{"$f":"IF(OHW18=\"\",\"\",VLOOKUP($Q$10,DATA!$P$2:$R$196,3))","v":""},{"$f":"IF(OHX18=\"\",\"\",VLOOKUP($Q$10,DATA!$P$2:$R$196,3))","v":""},{"$f":"IF(OHY18=\"\",\"\",VLOOKUP($Q$10,DATA!$P$2:$R$196,3))","v":""},{"$f":"IF(OHZ18=\"\",\"\",VLOOKUP($Q$10,DATA!$P$2:$R$196,3))","v":""},{"$f":"IF(OIA18=\"\",\"\",VLOOKUP($Q$10,DATA!$P$2:$R$196,3))","v":""},{"$f":"IF(OIB18=\"\",\"\",VLOOKUP($Q$10,DATA!$P$2:$R$196,3))","v":""},{"$f":"IF(OIC18=\"\",\"\",VLOOKUP($Q$10,DATA!$P$2:$R$196,3))","v":""},{"$f":"IF(OID18=\"\",\"\",VLOOKUP($Q$10,DATA!$P$2:$R$196,3))","v":""},{"$f":"IF(OIE18=\"\",\"\",VLOOKUP($Q$10,DATA!$P$2:$R$196,3))","v":""},{"$f":"IF(OIF18=\"\",\"\",VLOOKUP($Q$10,DATA!$P$2:$R$196,3))","v":""},{"$f":"IF(OIG18=\"\",\"\",VLOOKUP($Q$10,DATA!$P$2:$R$196,3))","v":""},{"$f":"IF(OIH18=\"\",\"\",VLOOKUP($Q$10,DATA!$P$2:$R$196,3))","v":""},{"$f":"IF(OII18=\"\",\"\",VLOOKUP($Q$10,DATA!$P$2:$R$196,3))","v":""},{"$f":"IF(OIJ18=\"\",\"\",VLOOKUP($Q$10,DATA!$P$2:$R$196,3))","v":""},{"$f":"IF(OIK18=\"\",\"\",VLOOKUP($Q$10,DATA!$P$2:$R$196,3))","v":""},{"$f":"IF(OIL18=\"\",\"\",VLOOKUP($Q$10,DATA!$P$2:$R$196,3))","v":""},{"$f":"IF(OIM18=\"\",\"\",VLOOKUP($Q$10,DATA!$P$2:$R$196,3))","v":""},{"$f":"IF(OIN18=\"\",\"\",VLOOKUP($Q$10,DATA!$P$2:$R$196,3))","v":""},{"$f":"IF(OIO18=\"\",\"\",VLOOKUP($Q$10,DATA!$P$2:$R$196,3))","v":""},{"$f":"IF(OIP18=\"\",\"\",VLOOKUP($Q$10,DATA!$P$2:$R$196,3))","v":""},{"$f":"IF(OIQ18=\"\",\"\",VLOOKUP($Q$10,DATA!$P$2:$R$196,3))","v":""},{"$f":"IF(OIR18=\"\",\"\",VLOOKUP($Q$10,DATA!$P$2:$R$196,3))","v":""},{"$f":"IF(OIS18=\"\",\"\",VLOOKUP($Q$10,DATA!$P$2:$R$196,3))","v":""},{"$f":"IF(OIT18=\"\",\"\",VLOOKUP($Q$10,DATA!$P$2:$R$196,3))","v":""},{"$f":"IF(OIU18=\"\",\"\",VLOOKUP($Q$10,DATA!$P$2:$R$196,3))","v":""},{"$f":"IF(OIV18=\"\",\"\",VLOOKUP($Q$10,DATA!$P$2:$R$196,3))","v":""},{"$f":"IF(OIW18=\"\",\"\",VLOOKUP($Q$10,DATA!$P$2:$R$196,3))","v":""},{"$f":"IF(OIX18=\"\",\"\",VLOOKUP($Q$10,DATA!$P$2:$R$196,3))","v":""},{"$f":"IF(OIY18=\"\",\"\",VLOOKUP($Q$10,DATA!$P$2:$R$196,3))","v":""},{"$f":"IF(OIZ18=\"\",\"\",VLOOKUP($Q$10,DATA!$P$2:$R$196,3))","v":""},{"$f":"IF(OJA18=\"\",\"\",VLOOKUP($Q$10,DATA!$P$2:$R$196,3))","v":""},{"$f":"IF(OJB18=\"\",\"\",VLOOKUP($Q$10,DATA!$P$2:$R$196,3))","v":""},{"$f":"IF(OJC18=\"\",\"\",VLOOKUP($Q$10,DATA!$P$2:$R$196,3))","v":""},{"$f":"IF(OJD18=\"\",\"\",VLOOKUP($Q$10,DATA!$P$2:$R$196,3))","v":""},{"$f":"IF(OJE18=\"\",\"\",VLOOKUP($Q$10,DATA!$P$2:$R$196,3))","v":""},{"$f":"IF(OJF18=\"\",\"\",VLOOKUP($Q$10,DATA!$P$2:$R$196,3))","v":""},{"$f":"IF(OJG18=\"\",\"\",VLOOKUP($Q$10,DATA!$P$2:$R$196,3))","v":""},{"$f":"IF(OJH18=\"\",\"\",VLOOKUP($Q$10,DATA!$P$2:$R$196,3))","v":""},{"$f":"IF(OJI18=\"\",\"\",VLOOKUP($Q$10,DATA!$P$2:$R$196,3))","v":""},{"$f":"IF(OJJ18=\"\",\"\",VLOOKUP($Q$10,DATA!$P$2:$R$196,3))","v":""},{"$f":"IF(OJK18=\"\",\"\",VLOOKUP($Q$10,DATA!$P$2:$R$196,3))","v":""},{"$f":"IF(OJL18=\"\",\"\",VLOOKUP($Q$10,DATA!$P$2:$R$196,3))","v":""},{"$f":"IF(OJM18=\"\",\"\",VLOOKUP($Q$10,DATA!$P$2:$R$196,3))","v":""},{"$f":"IF(OJN18=\"\",\"\",VLOOKUP($Q$10,DATA!$P$2:$R$196,3))","v":""},{"$f":"IF(OJO18=\"\",\"\",VLOOKUP($Q$10,DATA!$P$2:$R$196,3))","v":""},{"$f":"IF(OJP18=\"\",\"\",VLOOKUP($Q$10,DATA!$P$2:$R$196,3))","v":""},{"$f":"IF(OJQ18=\"\",\"\",VLOOKUP($Q$10,DATA!$P$2:$R$196,3))","v":""},{"$f":"IF(OJR18=\"\",\"\",VLOOKUP($Q$10,DATA!$P$2:$R$196,3))","v":""},{"$f":"IF(OJS18=\"\",\"\",VLOOKUP($Q$10,DATA!$P$2:$R$196,3))","v":""},{"$f":"IF(OJT18=\"\",\"\",VLOOKUP($Q$10,DATA!$P$2:$R$196,3))","v":""},{"$f":"IF(OJU18=\"\",\"\",VLOOKUP($Q$10,DATA!$P$2:$R$196,3))","v":""},{"$f":"IF(OJV18=\"\",\"\",VLOOKUP($Q$10,DATA!$P$2:$R$196,3))","v":""},{"$f":"IF(OJW18=\"\",\"\",VLOOKUP($Q$10,DATA!$P$2:$R$196,3))","v":""},{"$f":"IF(OJX18=\"\",\"\",VLOOKUP($Q$10,DATA!$P$2:$R$196,3))","v":""},{"$f":"IF(OJY18=\"\",\"\",VLOOKUP($Q$10,DATA!$P$2:$R$196,3))","v":""},{"$f":"IF(OJZ18=\"\",\"\",VLOOKUP($Q$10,DATA!$P$2:$R$196,3))","v":""},{"$f":"IF(OKA18=\"\",\"\",VLOOKUP($Q$10,DATA!$P$2:$R$196,3))","v":""},{"$f":"IF(OKB18=\"\",\"\",VLOOKUP($Q$10,DATA!$P$2:$R$196,3))","v":""},{"$f":"IF(OKC18=\"\",\"\",VLOOKUP($Q$10,DATA!$P$2:$R$196,3))","v":""},{"$f":"IF(OKD18=\"\",\"\",VLOOKUP($Q$10,DATA!$P$2:$R$196,3))","v":""},{"$f":"IF(OKE18=\"\",\"\",VLOOKUP($Q$10,DATA!$P$2:$R$196,3))","v":""},{"$f":"IF(OKF18=\"\",\"\",VLOOKUP($Q$10,DATA!$P$2:$R$196,3))","v":""},{"$f":"IF(OKG18=\"\",\"\",VLOOKUP($Q$10,DATA!$P$2:$R$196,3))","v":""},{"$f":"IF(OKH18=\"\",\"\",VLOOKUP($Q$10,DATA!$P$2:$R$196,3))","v":""},{"$f":"IF(OKI18=\"\",\"\",VLOOKUP($Q$10,DATA!$P$2:$R$196,3))","v":""},{"$f":"IF(OKJ18=\"\",\"\",VLOOKUP($Q$10,DATA!$P$2:$R$196,3))","v":""},{"$f":"IF(OKK18=\"\",\"\",VLOOKUP($Q$10,DATA!$P$2:$R$196,3))","v":""},{"$f":"IF(OKL18=\"\",\"\",VLOOKUP($Q$10,DATA!$P$2:$R$196,3))","v":""},{"$f":"IF(OKM18=\"\",\"\",VLOOKUP($Q$10,DATA!$P$2:$R$196,3))","v":""},{"$f":"IF(OKN18=\"\",\"\",VLOOKUP($Q$10,DATA!$P$2:$R$196,3))","v":""},{"$f":"IF(OKO18=\"\",\"\",VLOOKUP($Q$10,DATA!$P$2:$R$196,3))","v":""},{"$f":"IF(OKP18=\"\",\"\",VLOOKUP($Q$10,DATA!$P$2:$R$196,3))","v":""},{"$f":"IF(OKQ18=\"\",\"\",VLOOKUP($Q$10,DATA!$P$2:$R$196,3))","v":""},{"$f":"IF(OKR18=\"\",\"\",VLOOKUP($Q$10,DATA!$P$2:$R$196,3))","v":""},{"$f":"IF(OKS18=\"\",\"\",VLOOKUP($Q$10,DATA!$P$2:$R$196,3))","v":""},{"$f":"IF(OKT18=\"\",\"\",VLOOKUP($Q$10,DATA!$P$2:$R$196,3))","v":""},{"$f":"IF(OKU18=\"\",\"\",VLOOKUP($Q$10,DATA!$P$2:$R$196,3))","v":""},{"$f":"IF(OKV18=\"\",\"\",VLOOKUP($Q$10,DATA!$P$2:$R$196,3))","v":""},{"$f":"IF(OKW18=\"\",\"\",VLOOKUP($Q$10,DATA!$P$2:$R$196,3))","v":""},{"$f":"IF(OKX18=\"\",\"\",VLOOKUP($Q$10,DATA!$P$2:$R$196,3))","v":""},{"$f":"IF(OKY18=\"\",\"\",VLOOKUP($Q$10,DATA!$P$2:$R$196,3))","v":""},{"$f":"IF(OKZ18=\"\",\"\",VLOOKUP($Q$10,DATA!$P$2:$R$196,3))","v":""},{"$f":"IF(OLA18=\"\",\"\",VLOOKUP($Q$10,DATA!$P$2:$R$196,3))","v":""},{"$f":"IF(OLB18=\"\",\"\",VLOOKUP($Q$10,DATA!$P$2:$R$196,3))","v":""},{"$f":"IF(OLC18=\"\",\"\",VLOOKUP($Q$10,DATA!$P$2:$R$196,3))","v":""},{"$f":"IF(OLD18=\"\",\"\",VLOOKUP($Q$10,DATA!$P$2:$R$196,3))","v":""},{"$f":"IF(OLE18=\"\",\"\",VLOOKUP($Q$10,DATA!$P$2:$R$196,3))","v":""},{"$f":"IF(OLF18=\"\",\"\",VLOOKUP($Q$10,DATA!$P$2:$R$196,3))","v":""},{"$f":"IF(OLG18=\"\",\"\",VLOOKUP($Q$10,DATA!$P$2:$R$196,3))","v":""},{"$f":"IF(OLH18=\"\",\"\",VLOOKUP($Q$10,DATA!$P$2:$R$196,3))","v":""},{"$f":"IF(OLI18=\"\",\"\",VLOOKUP($Q$10,DATA!$P$2:$R$196,3))","v":""},{"$f":"IF(OLJ18=\"\",\"\",VLOOKUP($Q$10,DATA!$P$2:$R$196,3))","v":""},{"$f":"IF(OLK18=\"\",\"\",VLOOKUP($Q$10,DATA!$P$2:$R$196,3))","v":""},{"$f":"IF(OLL18=\"\",\"\",VLOOKUP($Q$10,DATA!$P$2:$R$196,3))","v":""},{"$f":"IF(OLM18=\"\",\"\",VLOOKUP($Q$10,DATA!$P$2:$R$196,3))","v":""},{"$f":"IF(OLN18=\"\",\"\",VLOOKUP($Q$10,DATA!$P$2:$R$196,3))","v":""},{"$f":"IF(OLO18=\"\",\"\",VLOOKUP($Q$10,DATA!$P$2:$R$196,3))","v":""},{"$f":"IF(OLP18=\"\",\"\",VLOOKUP($Q$10,DATA!$P$2:$R$196,3))","v":""},{"$f":"IF(OLQ18=\"\",\"\",VLOOKUP($Q$10,DATA!$P$2:$R$196,3))","v":""},{"$f":"IF(OLR18=\"\",\"\",VLOOKUP($Q$10,DATA!$P$2:$R$196,3))","v":""},{"$f":"IF(OLS18=\"\",\"\",VLOOKUP($Q$10,DATA!$P$2:$R$196,3))","v":""},{"$f":"IF(OLT18=\"\",\"\",VLOOKUP($Q$10,DATA!$P$2:$R$196,3))","v":""},{"$f":"IF(OLU18=\"\",\"\",VLOOKUP($Q$10,DATA!$P$2:$R$196,3))","v":""},{"$f":"IF(OLV18=\"\",\"\",VLOOKUP($Q$10,DATA!$P$2:$R$196,3))","v":""},{"$f":"IF(OLW18=\"\",\"\",VLOOKUP($Q$10,DATA!$P$2:$R$196,3))","v":""},{"$f":"IF(OLX18=\"\",\"\",VLOOKUP($Q$10,DATA!$P$2:$R$196,3))","v":""},{"$f":"IF(OLY18=\"\",\"\",VLOOKUP($Q$10,DATA!$P$2:$R$196,3))","v":""},{"$f":"IF(OLZ18=\"\",\"\",VLOOKUP($Q$10,DATA!$P$2:$R$196,3))","v":""},{"$f":"IF(OMA18=\"\",\"\",VLOOKUP($Q$10,DATA!$P$2:$R$196,3))","v":""},{"$f":"IF(OMB18=\"\",\"\",VLOOKUP($Q$10,DATA!$P$2:$R$196,3))","v":""},{"$f":"IF(OMC18=\"\",\"\",VLOOKUP($Q$10,DATA!$P$2:$R$196,3))","v":""},{"$f":"IF(OMD18=\"\",\"\",VLOOKUP($Q$10,DATA!$P$2:$R$196,3))","v":""},{"$f":"IF(OME18=\"\",\"\",VLOOKUP($Q$10,DATA!$P$2:$R$196,3))","v":""},{"$f":"IF(OMF18=\"\",\"\",VLOOKUP($Q$10,DATA!$P$2:$R$196,3))","v":""},{"$f":"IF(OMG18=\"\",\"\",VLOOKUP($Q$10,DATA!$P$2:$R$196,3))","v":""},{"$f":"IF(OMH18=\"\",\"\",VLOOKUP($Q$10,DATA!$P$2:$R$196,3))","v":""},{"$f":"IF(OMI18=\"\",\"\",VLOOKUP($Q$10,DATA!$P$2:$R$196,3))","v":""},{"$f":"IF(OMJ18=\"\",\"\",VLOOKUP($Q$10,DATA!$P$2:$R$196,3))","v":""},{"$f":"IF(OMK18=\"\",\"\",VLOOKUP($Q$10,DATA!$P$2:$R$196,3))","v":""},{"$f":"IF(OML18=\"\",\"\",VLOOKUP($Q$10,DATA!$P$2:$R$196,3))","v":""},{"$f":"IF(OMM18=\"\",\"\",VLOOKUP($Q$10,DATA!$P$2:$R$196,3))","v":""},{"$f":"IF(OMN18=\"\",\"\",VLOOKUP($Q$10,DATA!$P$2:$R$196,3))","v":""},{"$f":"IF(OMO18=\"\",\"\",VLOOKUP($Q$10,DATA!$P$2:$R$196,3))","v":""},{"$f":"IF(OMP18=\"\",\"\",VLOOKUP($Q$10,DATA!$P$2:$R$196,3))","v":""},{"$f":"IF(OMQ18=\"\",\"\",VLOOKUP($Q$10,DATA!$P$2:$R$196,3))","v":""},{"$f":"IF(OMR18=\"\",\"\",VLOOKUP($Q$10,DATA!$P$2:$R$196,3))","v":""},{"$f":"IF(OMS18=\"\",\"\",VLOOKUP($Q$10,DATA!$P$2:$R$196,3))","v":""},{"$f":"IF(OMT18=\"\",\"\",VLOOKUP($Q$10,DATA!$P$2:$R$196,3))","v":""},{"$f":"IF(OMU18=\"\",\"\",VLOOKUP($Q$10,DATA!$P$2:$R$196,3))","v":""},{"$f":"IF(OMV18=\"\",\"\",VLOOKUP($Q$10,DATA!$P$2:$R$196,3))","v":""},{"$f":"IF(OMW18=\"\",\"\",VLOOKUP($Q$10,DATA!$P$2:$R$196,3))","v":""},{"$f":"IF(OMX18=\"\",\"\",VLOOKUP($Q$10,DATA!$P$2:$R$196,3))","v":""},{"$f":"IF(OMY18=\"\",\"\",VLOOKUP($Q$10,DATA!$P$2:$R$196,3))","v":""},{"$f":"IF(OMZ18=\"\",\"\",VLOOKUP($Q$10,DATA!$P$2:$R$196,3))","v":""},{"$f":"IF(ONA18=\"\",\"\",VLOOKUP($Q$10,DATA!$P$2:$R$196,3))","v":""},{"$f":"IF(ONB18=\"\",\"\",VLOOKUP($Q$10,DATA!$P$2:$R$196,3))","v":""},{"$f":"IF(ONC18=\"\",\"\",VLOOKUP($Q$10,DATA!$P$2:$R$196,3))","v":""},{"$f":"IF(OND18=\"\",\"\",VLOOKUP($Q$10,DATA!$P$2:$R$196,3))","v":""},{"$f":"IF(ONE18=\"\",\"\",VLOOKUP($Q$10,DATA!$P$2:$R$196,3))","v":""},{"$f":"IF(ONF18=\"\",\"\",VLOOKUP($Q$10,DATA!$P$2:$R$196,3))","v":""},{"$f":"IF(ONG18=\"\",\"\",VLOOKUP($Q$10,DATA!$P$2:$R$196,3))","v":""},{"$f":"IF(ONH18=\"\",\"\",VLOOKUP($Q$10,DATA!$P$2:$R$196,3))","v":""},{"$f":"IF(ONI18=\"\",\"\",VLOOKUP($Q$10,DATA!$P$2:$R$196,3))","v":""},{"$f":"IF(ONJ18=\"\",\"\",VLOOKUP($Q$10,DATA!$P$2:$R$196,3))","v":""},{"$f":"IF(ONK18=\"\",\"\",VLOOKUP($Q$10,DATA!$P$2:$R$196,3))","v":""},{"$f":"IF(ONL18=\"\",\"\",VLOOKUP($Q$10,DATA!$P$2:$R$196,3))","v":""},{"$f":"IF(ONM18=\"\",\"\",VLOOKUP($Q$10,DATA!$P$2:$R$196,3))","v":""},{"$f":"IF(ONN18=\"\",\"\",VLOOKUP($Q$10,DATA!$P$2:$R$196,3))","v":""},{"$f":"IF(ONO18=\"\",\"\",VLOOKUP($Q$10,DATA!$P$2:$R$196,3))","v":""},{"$f":"IF(ONP18=\"\",\"\",VLOOKUP($Q$10,DATA!$P$2:$R$196,3))","v":""},{"$f":"IF(ONQ18=\"\",\"\",VLOOKUP($Q$10,DATA!$P$2:$R$196,3))","v":""},{"$f":"IF(ONR18=\"\",\"\",VLOOKUP($Q$10,DATA!$P$2:$R$196,3))","v":""},{"$f":"IF(ONS18=\"\",\"\",VLOOKUP($Q$10,DATA!$P$2:$R$196,3))","v":""},{"$f":"IF(ONT18=\"\",\"\",VLOOKUP($Q$10,DATA!$P$2:$R$196,3))","v":""},{"$f":"IF(ONU18=\"\",\"\",VLOOKUP($Q$10,DATA!$P$2:$R$196,3))","v":""},{"$f":"IF(ONV18=\"\",\"\",VLOOKUP($Q$10,DATA!$P$2:$R$196,3))","v":""},{"$f":"IF(ONW18=\"\",\"\",VLOOKUP($Q$10,DATA!$P$2:$R$196,3))","v":""},{"$f":"IF(ONX18=\"\",\"\",VLOOKUP($Q$10,DATA!$P$2:$R$196,3))","v":""},{"$f":"IF(ONY18=\"\",\"\",VLOOKUP($Q$10,DATA!$P$2:$R$196,3))","v":""},{"$f":"IF(ONZ18=\"\",\"\",VLOOKUP($Q$10,DATA!$P$2:$R$196,3))","v":""},{"$f":"IF(OOA18=\"\",\"\",VLOOKUP($Q$10,DATA!$P$2:$R$196,3))","v":""},{"$f":"IF(OOB18=\"\",\"\",VLOOKUP($Q$10,DATA!$P$2:$R$196,3))","v":""},{"$f":"IF(OOC18=\"\",\"\",VLOOKUP($Q$10,DATA!$P$2:$R$196,3))","v":""},{"$f":"IF(OOD18=\"\",\"\",VLOOKUP($Q$10,DATA!$P$2:$R$196,3))","v":""},{"$f":"IF(OOE18=\"\",\"\",VLOOKUP($Q$10,DATA!$P$2:$R$196,3))","v":""},{"$f":"IF(OOF18=\"\",\"\",VLOOKUP($Q$10,DATA!$P$2:$R$196,3))","v":""},{"$f":"IF(OOG18=\"\",\"\",VLOOKUP($Q$10,DATA!$P$2:$R$196,3))","v":""},{"$f":"IF(OOH18=\"\",\"\",VLOOKUP($Q$10,DATA!$P$2:$R$196,3))","v":""},{"$f":"IF(OOI18=\"\",\"\",VLOOKUP($Q$10,DATA!$P$2:$R$196,3))","v":""},{"$f":"IF(OOJ18=\"\",\"\",VLOOKUP($Q$10,DATA!$P$2:$R$196,3))","v":""},{"$f":"IF(OOK18=\"\",\"\",VLOOKUP($Q$10,DATA!$P$2:$R$196,3))","v":""},{"$f":"IF(OOL18=\"\",\"\",VLOOKUP($Q$10,DATA!$P$2:$R$196,3))","v":""},{"$f":"IF(OOM18=\"\",\"\",VLOOKUP($Q$10,DATA!$P$2:$R$196,3))","v":""},{"$f":"IF(OON18=\"\",\"\",VLOOKUP($Q$10,DATA!$P$2:$R$196,3))","v":""},{"$f":"IF(OOO18=\"\",\"\",VLOOKUP($Q$10,DATA!$P$2:$R$196,3))","v":""},{"$f":"IF(OOP18=\"\",\"\",VLOOKUP($Q$10,DATA!$P$2:$R$196,3))","v":""},{"$f":"IF(OOQ18=\"\",\"\",VLOOKUP($Q$10,DATA!$P$2:$R$196,3))","v":""},{"$f":"IF(OOR18=\"\",\"\",VLOOKUP($Q$10,DATA!$P$2:$R$196,3))","v":""},{"$f":"IF(OOS18=\"\",\"\",VLOOKUP($Q$10,DATA!$P$2:$R$196,3))","v":""},{"$f":"IF(OOT18=\"\",\"\",VLOOKUP($Q$10,DATA!$P$2:$R$196,3))","v":""},{"$f":"IF(OOU18=\"\",\"\",VLOOKUP($Q$10,DATA!$P$2:$R$196,3))","v":""},{"$f":"IF(OOV18=\"\",\"\",VLOOKUP($Q$10,DATA!$P$2:$R$196,3))","v":""},{"$f":"IF(OOW18=\"\",\"\",VLOOKUP($Q$10,DATA!$P$2:$R$196,3))","v":""},{"$f":"IF(OOX18=\"\",\"\",VLOOKUP($Q$10,DATA!$P$2:$R$196,3))","v":""},{"$f":"IF(OOY18=\"\",\"\",VLOOKUP($Q$10,DATA!$P$2:$R$196,3))","v":""},{"$f":"IF(OOZ18=\"\",\"\",VLOOKUP($Q$10,DATA!$P$2:$R$196,3))","v":""},{"$f":"IF(OPA18=\"\",\"\",VLOOKUP($Q$10,DATA!$P$2:$R$196,3))","v":""},{"$f":"IF(OPB18=\"\",\"\",VLOOKUP($Q$10,DATA!$P$2:$R$196,3))","v":""},{"$f":"IF(OPC18=\"\",\"\",VLOOKUP($Q$10,DATA!$P$2:$R$196,3))","v":""},{"$f":"IF(OPD18=\"\",\"\",VLOOKUP($Q$10,DATA!$P$2:$R$196,3))","v":""},{"$f":"IF(OPE18=\"\",\"\",VLOOKUP($Q$10,DATA!$P$2:$R$196,3))","v":""},{"$f":"IF(OPF18=\"\",\"\",VLOOKUP($Q$10,DATA!$P$2:$R$196,3))","v":""},{"$f":"IF(OPG18=\"\",\"\",VLOOKUP($Q$10,DATA!$P$2:$R$196,3))","v":""},{"$f":"IF(OPH18=\"\",\"\",VLOOKUP($Q$10,DATA!$P$2:$R$196,3))","v":""},{"$f":"IF(OPI18=\"\",\"\",VLOOKUP($Q$10,DATA!$P$2:$R$196,3))","v":""},{"$f":"IF(OPJ18=\"\",\"\",VLOOKUP($Q$10,DATA!$P$2:$R$196,3))","v":""},{"$f":"IF(OPK18=\"\",\"\",VLOOKUP($Q$10,DATA!$P$2:$R$196,3))","v":""},{"$f":"IF(OPL18=\"\",\"\",VLOOKUP($Q$10,DATA!$P$2:$R$196,3))","v":""},{"$f":"IF(OPM18=\"\",\"\",VLOOKUP($Q$10,DATA!$P$2:$R$196,3))","v":""},{"$f":"IF(OPN18=\"\",\"\",VLOOKUP($Q$10,DATA!$P$2:$R$196,3))","v":""},{"$f":"IF(OPO18=\"\",\"\",VLOOKUP($Q$10,DATA!$P$2:$R$196,3))","v":""},{"$f":"IF(OPP18=\"\",\"\",VLOOKUP($Q$10,DATA!$P$2:$R$196,3))","v":""},{"$f":"IF(OPQ18=\"\",\"\",VLOOKUP($Q$10,DATA!$P$2:$R$196,3))","v":""},{"$f":"IF(OPR18=\"\",\"\",VLOOKUP($Q$10,DATA!$P$2:$R$196,3))","v":""},{"$f":"IF(OPS18=\"\",\"\",VLOOKUP($Q$10,DATA!$P$2:$R$196,3))","v":""},{"$f":"IF(OPT18=\"\",\"\",VLOOKUP($Q$10,DATA!$P$2:$R$196,3))","v":""},{"$f":"IF(OPU18=\"\",\"\",VLOOKUP($Q$10,DATA!$P$2:$R$196,3))","v":""},{"$f":"IF(OPV18=\"\",\"\",VLOOKUP($Q$10,DATA!$P$2:$R$196,3))","v":""},{"$f":"IF(OPW18=\"\",\"\",VLOOKUP($Q$10,DATA!$P$2:$R$196,3))","v":""},{"$f":"IF(OPX18=\"\",\"\",VLOOKUP($Q$10,DATA!$P$2:$R$196,3))","v":""},{"$f":"IF(OPY18=\"\",\"\",VLOOKUP($Q$10,DATA!$P$2:$R$196,3))","v":""},{"$f":"IF(OPZ18=\"\",\"\",VLOOKUP($Q$10,DATA!$P$2:$R$196,3))","v":""},{"$f":"IF(OQA18=\"\",\"\",VLOOKUP($Q$10,DATA!$P$2:$R$196,3))","v":""},{"$f":"IF(OQB18=\"\",\"\",VLOOKUP($Q$10,DATA!$P$2:$R$196,3))","v":""},{"$f":"IF(OQC18=\"\",\"\",VLOOKUP($Q$10,DATA!$P$2:$R$196,3))","v":""},{"$f":"IF(OQD18=\"\",\"\",VLOOKUP($Q$10,DATA!$P$2:$R$196,3))","v":""},{"$f":"IF(OQE18=\"\",\"\",VLOOKUP($Q$10,DATA!$P$2:$R$196,3))","v":""},{"$f":"IF(OQF18=\"\",\"\",VLOOKUP($Q$10,DATA!$P$2:$R$196,3))","v":""},{"$f":"IF(OQG18=\"\",\"\",VLOOKUP($Q$10,DATA!$P$2:$R$196,3))","v":""},{"$f":"IF(OQH18=\"\",\"\",VLOOKUP($Q$10,DATA!$P$2:$R$196,3))","v":""},{"$f":"IF(OQI18=\"\",\"\",VLOOKUP($Q$10,DATA!$P$2:$R$196,3))","v":""},{"$f":"IF(OQJ18=\"\",\"\",VLOOKUP($Q$10,DATA!$P$2:$R$196,3))","v":""},{"$f":"IF(OQK18=\"\",\"\",VLOOKUP($Q$10,DATA!$P$2:$R$196,3))","v":""},{"$f":"IF(OQL18=\"\",\"\",VLOOKUP($Q$10,DATA!$P$2:$R$196,3))","v":""},{"$f":"IF(OQM18=\"\",\"\",VLOOKUP($Q$10,DATA!$P$2:$R$196,3))","v":""},{"$f":"IF(OQN18=\"\",\"\",VLOOKUP($Q$10,DATA!$P$2:$R$196,3))","v":""},{"$f":"IF(OQO18=\"\",\"\",VLOOKUP($Q$10,DATA!$P$2:$R$196,3))","v":""},{"$f":"IF(OQP18=\"\",\"\",VLOOKUP($Q$10,DATA!$P$2:$R$196,3))","v":""},{"$f":"IF(OQQ18=\"\",\"\",VLOOKUP($Q$10,DATA!$P$2:$R$196,3))","v":""},{"$f":"IF(OQR18=\"\",\"\",VLOOKUP($Q$10,DATA!$P$2:$R$196,3))","v":""},{"$f":"IF(OQS18=\"\",\"\",VLOOKUP($Q$10,DATA!$P$2:$R$196,3))","v":""},{"$f":"IF(OQT18=\"\",\"\",VLOOKUP($Q$10,DATA!$P$2:$R$196,3))","v":""},{"$f":"IF(OQU18=\"\",\"\",VLOOKUP($Q$10,DATA!$P$2:$R$196,3))","v":""},{"$f":"IF(OQV18=\"\",\"\",VLOOKUP($Q$10,DATA!$P$2:$R$196,3))","v":""},{"$f":"IF(OQW18=\"\",\"\",VLOOKUP($Q$10,DATA!$P$2:$R$196,3))","v":""},{"$f":"IF(OQX18=\"\",\"\",VLOOKUP($Q$10,DATA!$P$2:$R$196,3))","v":""},{"$f":"IF(OQY18=\"\",\"\",VLOOKUP($Q$10,DATA!$P$2:$R$196,3))","v":""},{"$f":"IF(OQZ18=\"\",\"\",VLOOKUP($Q$10,DATA!$P$2:$R$196,3))","v":""},{"$f":"IF(ORA18=\"\",\"\",VLOOKUP($Q$10,DATA!$P$2:$R$196,3))","v":""},{"$f":"IF(ORB18=\"\",\"\",VLOOKUP($Q$10,DATA!$P$2:$R$196,3))","v":""},{"$f":"IF(ORC18=\"\",\"\",VLOOKUP($Q$10,DATA!$P$2:$R$196,3))","v":""},{"$f":"IF(ORD18=\"\",\"\",VLOOKUP($Q$10,DATA!$P$2:$R$196,3))","v":""},{"$f":"IF(ORE18=\"\",\"\",VLOOKUP($Q$10,DATA!$P$2:$R$196,3))","v":""},{"$f":"IF(ORF18=\"\",\"\",VLOOKUP($Q$10,DATA!$P$2:$R$196,3))","v":""},{"$f":"IF(ORG18=\"\",\"\",VLOOKUP($Q$10,DATA!$P$2:$R$196,3))","v":""},{"$f":"IF(ORH18=\"\",\"\",VLOOKUP($Q$10,DATA!$P$2:$R$196,3))","v":""},{"$f":"IF(ORI18=\"\",\"\",VLOOKUP($Q$10,DATA!$P$2:$R$196,3))","v":""},{"$f":"IF(ORJ18=\"\",\"\",VLOOKUP($Q$10,DATA!$P$2:$R$196,3))","v":""},{"$f":"IF(ORK18=\"\",\"\",VLOOKUP($Q$10,DATA!$P$2:$R$196,3))","v":""},{"$f":"IF(ORL18=\"\",\"\",VLOOKUP($Q$10,DATA!$P$2:$R$196,3))","v":""},{"$f":"IF(ORM18=\"\",\"\",VLOOKUP($Q$10,DATA!$P$2:$R$196,3))","v":""},{"$f":"IF(ORN18=\"\",\"\",VLOOKUP($Q$10,DATA!$P$2:$R$196,3))","v":""},{"$f":"IF(ORO18=\"\",\"\",VLOOKUP($Q$10,DATA!$P$2:$R$196,3))","v":""},{"$f":"IF(ORP18=\"\",\"\",VLOOKUP($Q$10,DATA!$P$2:$R$196,3))","v":""},{"$f":"IF(ORQ18=\"\",\"\",VLOOKUP($Q$10,DATA!$P$2:$R$196,3))","v":""},{"$f":"IF(ORR18=\"\",\"\",VLOOKUP($Q$10,DATA!$P$2:$R$196,3))","v":""},{"$f":"IF(ORS18=\"\",\"\",VLOOKUP($Q$10,DATA!$P$2:$R$196,3))","v":""},{"$f":"IF(ORT18=\"\",\"\",VLOOKUP($Q$10,DATA!$P$2:$R$196,3))","v":""},{"$f":"IF(ORU18=\"\",\"\",VLOOKUP($Q$10,DATA!$P$2:$R$196,3))","v":""},{"$f":"IF(ORV18=\"\",\"\",VLOOKUP($Q$10,DATA!$P$2:$R$196,3))","v":""},{"$f":"IF(ORW18=\"\",\"\",VLOOKUP($Q$10,DATA!$P$2:$R$196,3))","v":""},{"$f":"IF(ORX18=\"\",\"\",VLOOKUP($Q$10,DATA!$P$2:$R$196,3))","v":""},{"$f":"IF(ORY18=\"\",\"\",VLOOKUP($Q$10,DATA!$P$2:$R$196,3))","v":""},{"$f":"IF(ORZ18=\"\",\"\",VLOOKUP($Q$10,DATA!$P$2:$R$196,3))","v":""},{"$f":"IF(OSA18=\"\",\"\",VLOOKUP($Q$10,DATA!$P$2:$R$196,3))","v":""},{"$f":"IF(OSB18=\"\",\"\",VLOOKUP($Q$10,DATA!$P$2:$R$196,3))","v":""},{"$f":"IF(OSC18=\"\",\"\",VLOOKUP($Q$10,DATA!$P$2:$R$196,3))","v":""},{"$f":"IF(OSD18=\"\",\"\",VLOOKUP($Q$10,DATA!$P$2:$R$196,3))","v":""},{"$f":"IF(OSE18=\"\",\"\",VLOOKUP($Q$10,DATA!$P$2:$R$196,3))","v":""},{"$f":"IF(OSF18=\"\",\"\",VLOOKUP($Q$10,DATA!$P$2:$R$196,3))","v":""},{"$f":"IF(OSG18=\"\",\"\",VLOOKUP($Q$10,DATA!$P$2:$R$196,3))","v":""},{"$f":"IF(OSH18=\"\",\"\",VLOOKUP($Q$10,DATA!$P$2:$R$196,3))","v":""},{"$f":"IF(OSI18=\"\",\"\",VLOOKUP($Q$10,DATA!$P$2:$R$196,3))","v":""},{"$f":"IF(OSJ18=\"\",\"\",VLOOKUP($Q$10,DATA!$P$2:$R$196,3))","v":""},{"$f":"IF(OSK18=\"\",\"\",VLOOKUP($Q$10,DATA!$P$2:$R$196,3))","v":""},{"$f":"IF(OSL18=\"\",\"\",VLOOKUP($Q$10,DATA!$P$2:$R$196,3))","v":""},{"$f":"IF(OSM18=\"\",\"\",VLOOKUP($Q$10,DATA!$P$2:$R$196,3))","v":""},{"$f":"IF(OSN18=\"\",\"\",VLOOKUP($Q$10,DATA!$P$2:$R$196,3))","v":""},{"$f":"IF(OSO18=\"\",\"\",VLOOKUP($Q$10,DATA!$P$2:$R$196,3))","v":""},{"$f":"IF(OSP18=\"\",\"\",VLOOKUP($Q$10,DATA!$P$2:$R$196,3))","v":""},{"$f":"IF(OSQ18=\"\",\"\",VLOOKUP($Q$10,DATA!$P$2:$R$196,3))","v":""},{"$f":"IF(OSR18=\"\",\"\",VLOOKUP($Q$10,DATA!$P$2:$R$196,3))","v":""},{"$f":"IF(OSS18=\"\",\"\",VLOOKUP($Q$10,DATA!$P$2:$R$196,3))","v":""},{"$f":"IF(OST18=\"\",\"\",VLOOKUP($Q$10,DATA!$P$2:$R$196,3))","v":""},{"$f":"IF(OSU18=\"\",\"\",VLOOKUP($Q$10,DATA!$P$2:$R$196,3))","v":""},{"$f":"IF(OSV18=\"\",\"\",VLOOKUP($Q$10,DATA!$P$2:$R$196,3))","v":""},{"$f":"IF(OSW18=\"\",\"\",VLOOKUP($Q$10,DATA!$P$2:$R$196,3))","v":""},{"$f":"IF(OSX18=\"\",\"\",VLOOKUP($Q$10,DATA!$P$2:$R$196,3))","v":""},{"$f":"IF(OSY18=\"\",\"\",VLOOKUP($Q$10,DATA!$P$2:$R$196,3))","v":""},{"$f":"IF(OSZ18=\"\",\"\",VLOOKUP($Q$10,DATA!$P$2:$R$196,3))","v":""},{"$f":"IF(OTA18=\"\",\"\",VLOOKUP($Q$10,DATA!$P$2:$R$196,3))","v":""},{"$f":"IF(OTB18=\"\",\"\",VLOOKUP($Q$10,DATA!$P$2:$R$196,3))","v":""},{"$f":"IF(OTC18=\"\",\"\",VLOOKUP($Q$10,DATA!$P$2:$R$196,3))","v":""},{"$f":"IF(OTD18=\"\",\"\",VLOOKUP($Q$10,DATA!$P$2:$R$196,3))","v":""},{"$f":"IF(OTE18=\"\",\"\",VLOOKUP($Q$10,DATA!$P$2:$R$196,3))","v":""},{"$f":"IF(OTF18=\"\",\"\",VLOOKUP($Q$10,DATA!$P$2:$R$196,3))","v":""},{"$f":"IF(OTG18=\"\",\"\",VLOOKUP($Q$10,DATA!$P$2:$R$196,3))","v":""},{"$f":"IF(OTH18=\"\",\"\",VLOOKUP($Q$10,DATA!$P$2:$R$196,3))","v":""},{"$f":"IF(OTI18=\"\",\"\",VLOOKUP($Q$10,DATA!$P$2:$R$196,3))","v":""},{"$f":"IF(OTJ18=\"\",\"\",VLOOKUP($Q$10,DATA!$P$2:$R$196,3))","v":""},{"$f":"IF(OTK18=\"\",\"\",VLOOKUP($Q$10,DATA!$P$2:$R$196,3))","v":""},{"$f":"IF(OTL18=\"\",\"\",VLOOKUP($Q$10,DATA!$P$2:$R$196,3))","v":""},{"$f":"IF(OTM18=\"\",\"\",VLOOKUP($Q$10,DATA!$P$2:$R$196,3))","v":""},{"$f":"IF(OTN18=\"\",\"\",VLOOKUP($Q$10,DATA!$P$2:$R$196,3))","v":""},{"$f":"IF(OTO18=\"\",\"\",VLOOKUP($Q$10,DATA!$P$2:$R$196,3))","v":""},{"$f":"IF(OTP18=\"\",\"\",VLOOKUP($Q$10,DATA!$P$2:$R$196,3))","v":""},{"$f":"IF(OTQ18=\"\",\"\",VLOOKUP($Q$10,DATA!$P$2:$R$196,3))","v":""},{"$f":"IF(OTR18=\"\",\"\",VLOOKUP($Q$10,DATA!$P$2:$R$196,3))","v":""},{"$f":"IF(OTS18=\"\",\"\",VLOOKUP($Q$10,DATA!$P$2:$R$196,3))","v":""},{"$f":"IF(OTT18=\"\",\"\",VLOOKUP($Q$10,DATA!$P$2:$R$196,3))","v":""},{"$f":"IF(OTU18=\"\",\"\",VLOOKUP($Q$10,DATA!$P$2:$R$196,3))","v":""},{"$f":"IF(OTV18=\"\",\"\",VLOOKUP($Q$10,DATA!$P$2:$R$196,3))","v":""},{"$f":"IF(OTW18=\"\",\"\",VLOOKUP($Q$10,DATA!$P$2:$R$196,3))","v":""},{"$f":"IF(OTX18=\"\",\"\",VLOOKUP($Q$10,DATA!$P$2:$R$196,3))","v":""},{"$f":"IF(OTY18=\"\",\"\",VLOOKUP($Q$10,DATA!$P$2:$R$196,3))","v":""},{"$f":"IF(OTZ18=\"\",\"\",VLOOKUP($Q$10,DATA!$P$2:$R$196,3))","v":""},{"$f":"IF(OUA18=\"\",\"\",VLOOKUP($Q$10,DATA!$P$2:$R$196,3))","v":""},{"$f":"IF(OUB18=\"\",\"\",VLOOKUP($Q$10,DATA!$P$2:$R$196,3))","v":""},{"$f":"IF(OUC18=\"\",\"\",VLOOKUP($Q$10,DATA!$P$2:$R$196,3))","v":""},{"$f":"IF(OUD18=\"\",\"\",VLOOKUP($Q$10,DATA!$P$2:$R$196,3))","v":""},{"$f":"IF(OUE18=\"\",\"\",VLOOKUP($Q$10,DATA!$P$2:$R$196,3))","v":""},{"$f":"IF(OUF18=\"\",\"\",VLOOKUP($Q$10,DATA!$P$2:$R$196,3))","v":""},{"$f":"IF(OUG18=\"\",\"\",VLOOKUP($Q$10,DATA!$P$2:$R$196,3))","v":""},{"$f":"IF(OUH18=\"\",\"\",VLOOKUP($Q$10,DATA!$P$2:$R$196,3))","v":""},{"$f":"IF(OUI18=\"\",\"\",VLOOKUP($Q$10,DATA!$P$2:$R$196,3))","v":""},{"$f":"IF(OUJ18=\"\",\"\",VLOOKUP($Q$10,DATA!$P$2:$R$196,3))","v":""},{"$f":"IF(OUK18=\"\",\"\",VLOOKUP($Q$10,DATA!$P$2:$R$196,3))","v":""},{"$f":"IF(OUL18=\"\",\"\",VLOOKUP($Q$10,DATA!$P$2:$R$196,3))","v":""},{"$f":"IF(OUM18=\"\",\"\",VLOOKUP($Q$10,DATA!$P$2:$R$196,3))","v":""},{"$f":"IF(OUN18=\"\",\"\",VLOOKUP($Q$10,DATA!$P$2:$R$196,3))","v":""},{"$f":"IF(OUO18=\"\",\"\",VLOOKUP($Q$10,DATA!$P$2:$R$196,3))","v":""},{"$f":"IF(OUP18=\"\",\"\",VLOOKUP($Q$10,DATA!$P$2:$R$196,3))","v":""},{"$f":"IF(OUQ18=\"\",\"\",VLOOKUP($Q$10,DATA!$P$2:$R$196,3))","v":""},{"$f":"IF(OUR18=\"\",\"\",VLOOKUP($Q$10,DATA!$P$2:$R$196,3))","v":""},{"$f":"IF(OUS18=\"\",\"\",VLOOKUP($Q$10,DATA!$P$2:$R$196,3))","v":""},{"$f":"IF(OUT18=\"\",\"\",VLOOKUP($Q$10,DATA!$P$2:$R$196,3))","v":""},{"$f":"IF(OUU18=\"\",\"\",VLOOKUP($Q$10,DATA!$P$2:$R$196,3))","v":""},{"$f":"IF(OUV18=\"\",\"\",VLOOKUP($Q$10,DATA!$P$2:$R$196,3))","v":""},{"$f":"IF(OUW18=\"\",\"\",VLOOKUP($Q$10,DATA!$P$2:$R$196,3))","v":""},{"$f":"IF(OUX18=\"\",\"\",VLOOKUP($Q$10,DATA!$P$2:$R$196,3))","v":""},{"$f":"IF(OUY18=\"\",\"\",VLOOKUP($Q$10,DATA!$P$2:$R$196,3))","v":""},{"$f":"IF(OUZ18=\"\",\"\",VLOOKUP($Q$10,DATA!$P$2:$R$196,3))","v":""},{"$f":"IF(OVA18=\"\",\"\",VLOOKUP($Q$10,DATA!$P$2:$R$196,3))","v":""},{"$f":"IF(OVB18=\"\",\"\",VLOOKUP($Q$10,DATA!$P$2:$R$196,3))","v":""},{"$f":"IF(OVC18=\"\",\"\",VLOOKUP($Q$10,DATA!$P$2:$R$196,3))","v":""},{"$f":"IF(OVD18=\"\",\"\",VLOOKUP($Q$10,DATA!$P$2:$R$196,3))","v":""},{"$f":"IF(OVE18=\"\",\"\",VLOOKUP($Q$10,DATA!$P$2:$R$196,3))","v":""},{"$f":"IF(OVF18=\"\",\"\",VLOOKUP($Q$10,DATA!$P$2:$R$196,3))","v":""},{"$f":"IF(OVG18=\"\",\"\",VLOOKUP($Q$10,DATA!$P$2:$R$196,3))","v":""},{"$f":"IF(OVH18=\"\",\"\",VLOOKUP($Q$10,DATA!$P$2:$R$196,3))","v":""},{"$f":"IF(OVI18=\"\",\"\",VLOOKUP($Q$10,DATA!$P$2:$R$196,3))","v":""},{"$f":"IF(OVJ18=\"\",\"\",VLOOKUP($Q$10,DATA!$P$2:$R$196,3))","v":""},{"$f":"IF(OVK18=\"\",\"\",VLOOKUP($Q$10,DATA!$P$2:$R$196,3))","v":""},{"$f":"IF(OVL18=\"\",\"\",VLOOKUP($Q$10,DATA!$P$2:$R$196,3))","v":""},{"$f":"IF(OVM18=\"\",\"\",VLOOKUP($Q$10,DATA!$P$2:$R$196,3))","v":""},{"$f":"IF(OVN18=\"\",\"\",VLOOKUP($Q$10,DATA!$P$2:$R$196,3))","v":""},{"$f":"IF(OVO18=\"\",\"\",VLOOKUP($Q$10,DATA!$P$2:$R$196,3))","v":""},{"$f":"IF(OVP18=\"\",\"\",VLOOKUP($Q$10,DATA!$P$2:$R$196,3))","v":""},{"$f":"IF(OVQ18=\"\",\"\",VLOOKUP($Q$10,DATA!$P$2:$R$196,3))","v":""},{"$f":"IF(OVR18=\"\",\"\",VLOOKUP($Q$10,DATA!$P$2:$R$196,3))","v":""},{"$f":"IF(OVS18=\"\",\"\",VLOOKUP($Q$10,DATA!$P$2:$R$196,3))","v":""},{"$f":"IF(OVT18=\"\",\"\",VLOOKUP($Q$10,DATA!$P$2:$R$196,3))","v":""},{"$f":"IF(OVU18=\"\",\"\",VLOOKUP($Q$10,DATA!$P$2:$R$196,3))","v":""},{"$f":"IF(OVV18=\"\",\"\",VLOOKUP($Q$10,DATA!$P$2:$R$196,3))","v":""},{"$f":"IF(OVW18=\"\",\"\",VLOOKUP($Q$10,DATA!$P$2:$R$196,3))","v":""},{"$f":"IF(OVX18=\"\",\"\",VLOOKUP($Q$10,DATA!$P$2:$R$196,3))","v":""},{"$f":"IF(OVY18=\"\",\"\",VLOOKUP($Q$10,DATA!$P$2:$R$196,3))","v":""},{"$f":"IF(OVZ18=\"\",\"\",VLOOKUP($Q$10,DATA!$P$2:$R$196,3))","v":""},{"$f":"IF(OWA18=\"\",\"\",VLOOKUP($Q$10,DATA!$P$2:$R$196,3))","v":""},{"$f":"IF(OWB18=\"\",\"\",VLOOKUP($Q$10,DATA!$P$2:$R$196,3))","v":""},{"$f":"IF(OWC18=\"\",\"\",VLOOKUP($Q$10,DATA!$P$2:$R$196,3))","v":""},{"$f":"IF(OWD18=\"\",\"\",VLOOKUP($Q$10,DATA!$P$2:$R$196,3))","v":""},{"$f":"IF(OWE18=\"\",\"\",VLOOKUP($Q$10,DATA!$P$2:$R$196,3))","v":""},{"$f":"IF(OWF18=\"\",\"\",VLOOKUP($Q$10,DATA!$P$2:$R$196,3))","v":""},{"$f":"IF(OWG18=\"\",\"\",VLOOKUP($Q$10,DATA!$P$2:$R$196,3))","v":""},{"$f":"IF(OWH18=\"\",\"\",VLOOKUP($Q$10,DATA!$P$2:$R$196,3))","v":""},{"$f":"IF(OWI18=\"\",\"\",VLOOKUP($Q$10,DATA!$P$2:$R$196,3))","v":""},{"$f":"IF(OWJ18=\"\",\"\",VLOOKUP($Q$10,DATA!$P$2:$R$196,3))","v":""},{"$f":"IF(OWK18=\"\",\"\",VLOOKUP($Q$10,DATA!$P$2:$R$196,3))","v":""},{"$f":"IF(OWL18=\"\",\"\",VLOOKUP($Q$10,DATA!$P$2:$R$196,3))","v":""},{"$f":"IF(OWM18=\"\",\"\",VLOOKUP($Q$10,DATA!$P$2:$R$196,3))","v":""},{"$f":"IF(OWN18=\"\",\"\",VLOOKUP($Q$10,DATA!$P$2:$R$196,3))","v":""},{"$f":"IF(OWO18=\"\",\"\",VLOOKUP($Q$10,DATA!$P$2:$R$196,3))","v":""},{"$f":"IF(OWP18=\"\",\"\",VLOOKUP($Q$10,DATA!$P$2:$R$196,3))","v":""},{"$f":"IF(OWQ18=\"\",\"\",VLOOKUP($Q$10,DATA!$P$2:$R$196,3))","v":""},{"$f":"IF(OWR18=\"\",\"\",VLOOKUP($Q$10,DATA!$P$2:$R$196,3))","v":""},{"$f":"IF(OWS18=\"\",\"\",VLOOKUP($Q$10,DATA!$P$2:$R$196,3))","v":""},{"$f":"IF(OWT18=\"\",\"\",VLOOKUP($Q$10,DATA!$P$2:$R$196,3))","v":""},{"$f":"IF(OWU18=\"\",\"\",VLOOKUP($Q$10,DATA!$P$2:$R$196,3))","v":""},{"$f":"IF(OWV18=\"\",\"\",VLOOKUP($Q$10,DATA!$P$2:$R$196,3))","v":""},{"$f":"IF(OWW18=\"\",\"\",VLOOKUP($Q$10,DATA!$P$2:$R$196,3))","v":""},{"$f":"IF(OWX18=\"\",\"\",VLOOKUP($Q$10,DATA!$P$2:$R$196,3))","v":""},{"$f":"IF(OWY18=\"\",\"\",VLOOKUP($Q$10,DATA!$P$2:$R$196,3))","v":""},{"$f":"IF(OWZ18=\"\",\"\",VLOOKUP($Q$10,DATA!$P$2:$R$196,3))","v":""},{"$f":"IF(OXA18=\"\",\"\",VLOOKUP($Q$10,DATA!$P$2:$R$196,3))","v":""},{"$f":"IF(OXB18=\"\",\"\",VLOOKUP($Q$10,DATA!$P$2:$R$196,3))","v":""},{"$f":"IF(OXC18=\"\",\"\",VLOOKUP($Q$10,DATA!$P$2:$R$196,3))","v":""},{"$f":"IF(OXD18=\"\",\"\",VLOOKUP($Q$10,DATA!$P$2:$R$196,3))","v":""},{"$f":"IF(OXE18=\"\",\"\",VLOOKUP($Q$10,DATA!$P$2:$R$196,3))","v":""},{"$f":"IF(OXF18=\"\",\"\",VLOOKUP($Q$10,DATA!$P$2:$R$196,3))","v":""},{"$f":"IF(OXG18=\"\",\"\",VLOOKUP($Q$10,DATA!$P$2:$R$196,3))","v":""},{"$f":"IF(OXH18=\"\",\"\",VLOOKUP($Q$10,DATA!$P$2:$R$196,3))","v":""},{"$f":"IF(OXI18=\"\",\"\",VLOOKUP($Q$10,DATA!$P$2:$R$196,3))","v":""},{"$f":"IF(OXJ18=\"\",\"\",VLOOKUP($Q$10,DATA!$P$2:$R$196,3))","v":""},{"$f":"IF(OXK18=\"\",\"\",VLOOKUP($Q$10,DATA!$P$2:$R$196,3))","v":""},{"$f":"IF(OXL18=\"\",\"\",VLOOKUP($Q$10,DATA!$P$2:$R$196,3))","v":""},{"$f":"IF(OXM18=\"\",\"\",VLOOKUP($Q$10,DATA!$P$2:$R$196,3))","v":""},{"$f":"IF(OXN18=\"\",\"\",VLOOKUP($Q$10,DATA!$P$2:$R$196,3))","v":""},{"$f":"IF(OXO18=\"\",\"\",VLOOKUP($Q$10,DATA!$P$2:$R$196,3))","v":""},{"$f":"IF(OXP18=\"\",\"\",VLOOKUP($Q$10,DATA!$P$2:$R$196,3))","v":""},{"$f":"IF(OXQ18=\"\",\"\",VLOOKUP($Q$10,DATA!$P$2:$R$196,3))","v":""},{"$f":"IF(OXR18=\"\",\"\",VLOOKUP($Q$10,DATA!$P$2:$R$196,3))","v":""},{"$f":"IF(OXS18=\"\",\"\",VLOOKUP($Q$10,DATA!$P$2:$R$196,3))","v":""},{"$f":"IF(OXT18=\"\",\"\",VLOOKUP($Q$10,DATA!$P$2:$R$196,3))","v":""},{"$f":"IF(OXU18=\"\",\"\",VLOOKUP($Q$10,DATA!$P$2:$R$196,3))","v":""},{"$f":"IF(OXV18=\"\",\"\",VLOOKUP($Q$10,DATA!$P$2:$R$196,3))","v":""},{"$f":"IF(OXW18=\"\",\"\",VLOOKUP($Q$10,DATA!$P$2:$R$196,3))","v":""},{"$f":"IF(OXX18=\"\",\"\",VLOOKUP($Q$10,DATA!$P$2:$R$196,3))","v":""},{"$f":"IF(OXY18=\"\",\"\",VLOOKUP($Q$10,DATA!$P$2:$R$196,3))","v":""},{"$f":"IF(OXZ18=\"\",\"\",VLOOKUP($Q$10,DATA!$P$2:$R$196,3))","v":""},{"$f":"IF(OYA18=\"\",\"\",VLOOKUP($Q$10,DATA!$P$2:$R$196,3))","v":""},{"$f":"IF(OYB18=\"\",\"\",VLOOKUP($Q$10,DATA!$P$2:$R$196,3))","v":""},{"$f":"IF(OYC18=\"\",\"\",VLOOKUP($Q$10,DATA!$P$2:$R$196,3))","v":""},{"$f":"IF(OYD18=\"\",\"\",VLOOKUP($Q$10,DATA!$P$2:$R$196,3))","v":""},{"$f":"IF(OYE18=\"\",\"\",VLOOKUP($Q$10,DATA!$P$2:$R$196,3))","v":""},{"$f":"IF(OYF18=\"\",\"\",VLOOKUP($Q$10,DATA!$P$2:$R$196,3))","v":""},{"$f":"IF(OYG18=\"\",\"\",VLOOKUP($Q$10,DATA!$P$2:$R$196,3))","v":""},{"$f":"IF(OYH18=\"\",\"\",VLOOKUP($Q$10,DATA!$P$2:$R$196,3))","v":""},{"$f":"IF(OYI18=\"\",\"\",VLOOKUP($Q$10,DATA!$P$2:$R$196,3))","v":""},{"$f":"IF(OYJ18=\"\",\"\",VLOOKUP($Q$10,DATA!$P$2:$R$196,3))","v":""},{"$f":"IF(OYK18=\"\",\"\",VLOOKUP($Q$10,DATA!$P$2:$R$196,3))","v":""},{"$f":"IF(OYL18=\"\",\"\",VLOOKUP($Q$10,DATA!$P$2:$R$196,3))","v":""},{"$f":"IF(OYM18=\"\",\"\",VLOOKUP($Q$10,DATA!$P$2:$R$196,3))","v":""},{"$f":"IF(OYN18=\"\",\"\",VLOOKUP($Q$10,DATA!$P$2:$R$196,3))","v":""},{"$f":"IF(OYO18=\"\",\"\",VLOOKUP($Q$10,DATA!$P$2:$R$196,3))","v":""},{"$f":"IF(OYP18=\"\",\"\",VLOOKUP($Q$10,DATA!$P$2:$R$196,3))","v":""},{"$f":"IF(OYQ18=\"\",\"\",VLOOKUP($Q$10,DATA!$P$2:$R$196,3))","v":""},{"$f":"IF(OYR18=\"\",\"\",VLOOKUP($Q$10,DATA!$P$2:$R$196,3))","v":""},{"$f":"IF(OYS18=\"\",\"\",VLOOKUP($Q$10,DATA!$P$2:$R$196,3))","v":""},{"$f":"IF(OYT18=\"\",\"\",VLOOKUP($Q$10,DATA!$P$2:$R$196,3))","v":""},{"$f":"IF(OYU18=\"\",\"\",VLOOKUP($Q$10,DATA!$P$2:$R$196,3))","v":""},{"$f":"IF(OYV18=\"\",\"\",VLOOKUP($Q$10,DATA!$P$2:$R$196,3))","v":""},{"$f":"IF(OYW18=\"\",\"\",VLOOKUP($Q$10,DATA!$P$2:$R$196,3))","v":""},{"$f":"IF(OYX18=\"\",\"\",VLOOKUP($Q$10,DATA!$P$2:$R$196,3))","v":""},{"$f":"IF(OYY18=\"\",\"\",VLOOKUP($Q$10,DATA!$P$2:$R$196,3))","v":""},{"$f":"IF(OYZ18=\"\",\"\",VLOOKUP($Q$10,DATA!$P$2:$R$196,3))","v":""},{"$f":"IF(OZA18=\"\",\"\",VLOOKUP($Q$10,DATA!$P$2:$R$196,3))","v":""},{"$f":"IF(OZB18=\"\",\"\",VLOOKUP($Q$10,DATA!$P$2:$R$196,3))","v":""},{"$f":"IF(OZC18=\"\",\"\",VLOOKUP($Q$10,DATA!$P$2:$R$196,3))","v":""},{"$f":"IF(OZD18=\"\",\"\",VLOOKUP($Q$10,DATA!$P$2:$R$196,3))","v":""},{"$f":"IF(OZE18=\"\",\"\",VLOOKUP($Q$10,DATA!$P$2:$R$196,3))","v":""},{"$f":"IF(OZF18=\"\",\"\",VLOOKUP($Q$10,DATA!$P$2:$R$196,3))","v":""},{"$f":"IF(OZG18=\"\",\"\",VLOOKUP($Q$10,DATA!$P$2:$R$196,3))","v":""},{"$f":"IF(OZH18=\"\",\"\",VLOOKUP($Q$10,DATA!$P$2:$R$196,3))","v":""},{"$f":"IF(OZI18=\"\",\"\",VLOOKUP($Q$10,DATA!$P$2:$R$196,3))","v":""},{"$f":"IF(OZJ18=\"\",\"\",VLOOKUP($Q$10,DATA!$P$2:$R$196,3))","v":""},{"$f":"IF(OZK18=\"\",\"\",VLOOKUP($Q$10,DATA!$P$2:$R$196,3))","v":""},{"$f":"IF(OZL18=\"\",\"\",VLOOKUP($Q$10,DATA!$P$2:$R$196,3))","v":""},{"$f":"IF(OZM18=\"\",\"\",VLOOKUP($Q$10,DATA!$P$2:$R$196,3))","v":""},{"$f":"IF(OZN18=\"\",\"\",VLOOKUP($Q$10,DATA!$P$2:$R$196,3))","v":""},{"$f":"IF(OZO18=\"\",\"\",VLOOKUP($Q$10,DATA!$P$2:$R$196,3))","v":""},{"$f":"IF(OZP18=\"\",\"\",VLOOKUP($Q$10,DATA!$P$2:$R$196,3))","v":""},{"$f":"IF(OZQ18=\"\",\"\",VLOOKUP($Q$10,DATA!$P$2:$R$196,3))","v":""},{"$f":"IF(OZR18=\"\",\"\",VLOOKUP($Q$10,DATA!$P$2:$R$196,3))","v":""},{"$f":"IF(OZS18=\"\",\"\",VLOOKUP($Q$10,DATA!$P$2:$R$196,3))","v":""},{"$f":"IF(OZT18=\"\",\"\",VLOOKUP($Q$10,DATA!$P$2:$R$196,3))","v":""},{"$f":"IF(OZU18=\"\",\"\",VLOOKUP($Q$10,DATA!$P$2:$R$196,3))","v":""},{"$f":"IF(OZV18=\"\",\"\",VLOOKUP($Q$10,DATA!$P$2:$R$196,3))","v":""},{"$f":"IF(OZW18=\"\",\"\",VLOOKUP($Q$10,DATA!$P$2:$R$196,3))","v":""},{"$f":"IF(OZX18=\"\",\"\",VLOOKUP($Q$10,DATA!$P$2:$R$196,3))","v":""},{"$f":"IF(OZY18=\"\",\"\",VLOOKUP($Q$10,DATA!$P$2:$R$196,3))","v":""},{"$f":"IF(OZZ18=\"\",\"\",VLOOKUP($Q$10,DATA!$P$2:$R$196,3))","v":""},{"$f":"IF(PAA18=\"\",\"\",VLOOKUP($Q$10,DATA!$P$2:$R$196,3))","v":""},{"$f":"IF(PAB18=\"\",\"\",VLOOKUP($Q$10,DATA!$P$2:$R$196,3))","v":""},{"$f":"IF(PAC18=\"\",\"\",VLOOKUP($Q$10,DATA!$P$2:$R$196,3))","v":""},{"$f":"IF(PAD18=\"\",\"\",VLOOKUP($Q$10,DATA!$P$2:$R$196,3))","v":""},{"$f":"IF(PAE18=\"\",\"\",VLOOKUP($Q$10,DATA!$P$2:$R$196,3))","v":""},{"$f":"IF(PAF18=\"\",\"\",VLOOKUP($Q$10,DATA!$P$2:$R$196,3))","v":""},{"$f":"IF(PAG18=\"\",\"\",VLOOKUP($Q$10,DATA!$P$2:$R$196,3))","v":""},{"$f":"IF(PAH18=\"\",\"\",VLOOKUP($Q$10,DATA!$P$2:$R$196,3))","v":""},{"$f":"IF(PAI18=\"\",\"\",VLOOKUP($Q$10,DATA!$P$2:$R$196,3))","v":""},{"$f":"IF(PAJ18=\"\",\"\",VLOOKUP($Q$10,DATA!$P$2:$R$196,3))","v":""},{"$f":"IF(PAK18=\"\",\"\",VLOOKUP($Q$10,DATA!$P$2:$R$196,3))","v":""},{"$f":"IF(PAL18=\"\",\"\",VLOOKUP($Q$10,DATA!$P$2:$R$196,3))","v":""},{"$f":"IF(PAM18=\"\",\"\",VLOOKUP($Q$10,DATA!$P$2:$R$196,3))","v":""},{"$f":"IF(PAN18=\"\",\"\",VLOOKUP($Q$10,DATA!$P$2:$R$196,3))","v":""},{"$f":"IF(PAO18=\"\",\"\",VLOOKUP($Q$10,DATA!$P$2:$R$196,3))","v":""},{"$f":"IF(PAP18=\"\",\"\",VLOOKUP($Q$10,DATA!$P$2:$R$196,3))","v":""},{"$f":"IF(PAQ18=\"\",\"\",VLOOKUP($Q$10,DATA!$P$2:$R$196,3))","v":""},{"$f":"IF(PAR18=\"\",\"\",VLOOKUP($Q$10,DATA!$P$2:$R$196,3))","v":""},{"$f":"IF(PAS18=\"\",\"\",VLOOKUP($Q$10,DATA!$P$2:$R$196,3))","v":""},{"$f":"IF(PAT18=\"\",\"\",VLOOKUP($Q$10,DATA!$P$2:$R$196,3))","v":""},{"$f":"IF(PAU18=\"\",\"\",VLOOKUP($Q$10,DATA!$P$2:$R$196,3))","v":""},{"$f":"IF(PAV18=\"\",\"\",VLOOKUP($Q$10,DATA!$P$2:$R$196,3))","v":""},{"$f":"IF(PAW18=\"\",\"\",VLOOKUP($Q$10,DATA!$P$2:$R$196,3))","v":""},{"$f":"IF(PAX18=\"\",\"\",VLOOKUP($Q$10,DATA!$P$2:$R$196,3))","v":""},{"$f":"IF(PAY18=\"\",\"\",VLOOKUP($Q$10,DATA!$P$2:$R$196,3))","v":""},{"$f":"IF(PAZ18=\"\",\"\",VLOOKUP($Q$10,DATA!$P$2:$R$196,3))","v":""},{"$f":"IF(PBA18=\"\",\"\",VLOOKUP($Q$10,DATA!$P$2:$R$196,3))","v":""},{"$f":"IF(PBB18=\"\",\"\",VLOOKUP($Q$10,DATA!$P$2:$R$196,3))","v":""},{"$f":"IF(PBC18=\"\",\"\",VLOOKUP($Q$10,DATA!$P$2:$R$196,3))","v":""},{"$f":"IF(PBD18=\"\",\"\",VLOOKUP($Q$10,DATA!$P$2:$R$196,3))","v":""},{"$f":"IF(PBE18=\"\",\"\",VLOOKUP($Q$10,DATA!$P$2:$R$196,3))","v":""},{"$f":"IF(PBF18=\"\",\"\",VLOOKUP($Q$10,DATA!$P$2:$R$196,3))","v":""},{"$f":"IF(PBG18=\"\",\"\",VLOOKUP($Q$10,DATA!$P$2:$R$196,3))","v":""},{"$f":"IF(PBH18=\"\",\"\",VLOOKUP($Q$10,DATA!$P$2:$R$196,3))","v":""},{"$f":"IF(PBI18=\"\",\"\",VLOOKUP($Q$10,DATA!$P$2:$R$196,3))","v":""},{"$f":"IF(PBJ18=\"\",\"\",VLOOKUP($Q$10,DATA!$P$2:$R$196,3))","v":""},{"$f":"IF(PBK18=\"\",\"\",VLOOKUP($Q$10,DATA!$P$2:$R$196,3))","v":""},{"$f":"IF(PBL18=\"\",\"\",VLOOKUP($Q$10,DATA!$P$2:$R$196,3))","v":""},{"$f":"IF(PBM18=\"\",\"\",VLOOKUP($Q$10,DATA!$P$2:$R$196,3))","v":""},{"$f":"IF(PBN18=\"\",\"\",VLOOKUP($Q$10,DATA!$P$2:$R$196,3))","v":""},{"$f":"IF(PBO18=\"\",\"\",VLOOKUP($Q$10,DATA!$P$2:$R$196,3))","v":""},{"$f":"IF(PBP18=\"\",\"\",VLOOKUP($Q$10,DATA!$P$2:$R$196,3))","v":""},{"$f":"IF(PBQ18=\"\",\"\",VLOOKUP($Q$10,DATA!$P$2:$R$196,3))","v":""},{"$f":"IF(PBR18=\"\",\"\",VLOOKUP($Q$10,DATA!$P$2:$R$196,3))","v":""},{"$f":"IF(PBS18=\"\",\"\",VLOOKUP($Q$10,DATA!$P$2:$R$196,3))","v":""},{"$f":"IF(PBT18=\"\",\"\",VLOOKUP($Q$10,DATA!$P$2:$R$196,3))","v":""},{"$f":"IF(PBU18=\"\",\"\",VLOOKUP($Q$10,DATA!$P$2:$R$196,3))","v":""},{"$f":"IF(PBV18=\"\",\"\",VLOOKUP($Q$10,DATA!$P$2:$R$196,3))","v":""},{"$f":"IF(PBW18=\"\",\"\",VLOOKUP($Q$10,DATA!$P$2:$R$196,3))","v":""},{"$f":"IF(PBX18=\"\",\"\",VLOOKUP($Q$10,DATA!$P$2:$R$196,3))","v":""},{"$f":"IF(PBY18=\"\",\"\",VLOOKUP($Q$10,DATA!$P$2:$R$196,3))","v":""},{"$f":"IF(PBZ18=\"\",\"\",VLOOKUP($Q$10,DATA!$P$2:$R$196,3))","v":""},{"$f":"IF(PCA18=\"\",\"\",VLOOKUP($Q$10,DATA!$P$2:$R$196,3))","v":""},{"$f":"IF(PCB18=\"\",\"\",VLOOKUP($Q$10,DATA!$P$2:$R$196,3))","v":""},{"$f":"IF(PCC18=\"\",\"\",VLOOKUP($Q$10,DATA!$P$2:$R$196,3))","v":""},{"$f":"IF(PCD18=\"\",\"\",VLOOKUP($Q$10,DATA!$P$2:$R$196,3))","v":""},{"$f":"IF(PCE18=\"\",\"\",VLOOKUP($Q$10,DATA!$P$2:$R$196,3))","v":""},{"$f":"IF(PCF18=\"\",\"\",VLOOKUP($Q$10,DATA!$P$2:$R$196,3))","v":""},{"$f":"IF(PCG18=\"\",\"\",VLOOKUP($Q$10,DATA!$P$2:$R$196,3))","v":""},{"$f":"IF(PCH18=\"\",\"\",VLOOKUP($Q$10,DATA!$P$2:$R$196,3))","v":""},{"$f":"IF(PCI18=\"\",\"\",VLOOKUP($Q$10,DATA!$P$2:$R$196,3))","v":""},{"$f":"IF(PCJ18=\"\",\"\",VLOOKUP($Q$10,DATA!$P$2:$R$196,3))","v":""},{"$f":"IF(PCK18=\"\",\"\",VLOOKUP($Q$10,DATA!$P$2:$R$196,3))","v":""},{"$f":"IF(PCL18=\"\",\"\",VLOOKUP($Q$10,DATA!$P$2:$R$196,3))","v":""},{"$f":"IF(PCM18=\"\",\"\",VLOOKUP($Q$10,DATA!$P$2:$R$196,3))","v":""},{"$f":"IF(PCN18=\"\",\"\",VLOOKUP($Q$10,DATA!$P$2:$R$196,3))","v":""},{"$f":"IF(PCO18=\"\",\"\",VLOOKUP($Q$10,DATA!$P$2:$R$196,3))","v":""},{"$f":"IF(PCP18=\"\",\"\",VLOOKUP($Q$10,DATA!$P$2:$R$196,3))","v":""},{"$f":"IF(PCQ18=\"\",\"\",VLOOKUP($Q$10,DATA!$P$2:$R$196,3))","v":""},{"$f":"IF(PCR18=\"\",\"\",VLOOKUP($Q$10,DATA!$P$2:$R$196,3))","v":""},{"$f":"IF(PCS18=\"\",\"\",VLOOKUP($Q$10,DATA!$P$2:$R$196,3))","v":""},{"$f":"IF(PCT18=\"\",\"\",VLOOKUP($Q$10,DATA!$P$2:$R$196,3))","v":""},{"$f":"IF(PCU18=\"\",\"\",VLOOKUP($Q$10,DATA!$P$2:$R$196,3))","v":""},{"$f":"IF(PCV18=\"\",\"\",VLOOKUP($Q$10,DATA!$P$2:$R$196,3))","v":""},{"$f":"IF(PCW18=\"\",\"\",VLOOKUP($Q$10,DATA!$P$2:$R$196,3))","v":""},{"$f":"IF(PCX18=\"\",\"\",VLOOKUP($Q$10,DATA!$P$2:$R$196,3))","v":""},{"$f":"IF(PCY18=\"\",\"\",VLOOKUP($Q$10,DATA!$P$2:$R$196,3))","v":""},{"$f":"IF(PCZ18=\"\",\"\",VLOOKUP($Q$10,DATA!$P$2:$R$196,3))","v":""},{"$f":"IF(PDA18=\"\",\"\",VLOOKUP($Q$10,DATA!$P$2:$R$196,3))","v":""},{"$f":"IF(PDB18=\"\",\"\",VLOOKUP($Q$10,DATA!$P$2:$R$196,3))","v":""},{"$f":"IF(PDC18=\"\",\"\",VLOOKUP($Q$10,DATA!$P$2:$R$196,3))","v":""},{"$f":"IF(PDD18=\"\",\"\",VLOOKUP($Q$10,DATA!$P$2:$R$196,3))","v":""},{"$f":"IF(PDE18=\"\",\"\",VLOOKUP($Q$10,DATA!$P$2:$R$196,3))","v":""},{"$f":"IF(PDF18=\"\",\"\",VLOOKUP($Q$10,DATA!$P$2:$R$196,3))","v":""},{"$f":"IF(PDG18=\"\",\"\",VLOOKUP($Q$10,DATA!$P$2:$R$196,3))","v":""},{"$f":"IF(PDH18=\"\",\"\",VLOOKUP($Q$10,DATA!$P$2:$R$196,3))","v":""},{"$f":"IF(PDI18=\"\",\"\",VLOOKUP($Q$10,DATA!$P$2:$R$196,3))","v":""},{"$f":"IF(PDJ18=\"\",\"\",VLOOKUP($Q$10,DATA!$P$2:$R$196,3))","v":""},{"$f":"IF(PDK18=\"\",\"\",VLOOKUP($Q$10,DATA!$P$2:$R$196,3))","v":""},{"$f":"IF(PDL18=\"\",\"\",VLOOKUP($Q$10,DATA!$P$2:$R$196,3))","v":""},{"$f":"IF(PDM18=\"\",\"\",VLOOKUP($Q$10,DATA!$P$2:$R$196,3))","v":""},{"$f":"IF(PDN18=\"\",\"\",VLOOKUP($Q$10,DATA!$P$2:$R$196,3))","v":""},{"$f":"IF(PDO18=\"\",\"\",VLOOKUP($Q$10,DATA!$P$2:$R$196,3))","v":""},{"$f":"IF(PDP18=\"\",\"\",VLOOKUP($Q$10,DATA!$P$2:$R$196,3))","v":""},{"$f":"IF(PDQ18=\"\",\"\",VLOOKUP($Q$10,DATA!$P$2:$R$196,3))","v":""},{"$f":"IF(PDR18=\"\",\"\",VLOOKUP($Q$10,DATA!$P$2:$R$196,3))","v":""},{"$f":"IF(PDS18=\"\",\"\",VLOOKUP($Q$10,DATA!$P$2:$R$196,3))","v":""},{"$f":"IF(PDT18=\"\",\"\",VLOOKUP($Q$10,DATA!$P$2:$R$196,3))","v":""},{"$f":"IF(PDU18=\"\",\"\",VLOOKUP($Q$10,DATA!$P$2:$R$196,3))","v":""},{"$f":"IF(PDV18=\"\",\"\",VLOOKUP($Q$10,DATA!$P$2:$R$196,3))","v":""},{"$f":"IF(PDW18=\"\",\"\",VLOOKUP($Q$10,DATA!$P$2:$R$196,3))","v":""},{"$f":"IF(PDX18=\"\",\"\",VLOOKUP($Q$10,DATA!$P$2:$R$196,3))","v":""},{"$f":"IF(PDY18=\"\",\"\",VLOOKUP($Q$10,DATA!$P$2:$R$196,3))","v":""},{"$f":"IF(PDZ18=\"\",\"\",VLOOKUP($Q$10,DATA!$P$2:$R$196,3))","v":""},{"$f":"IF(PEA18=\"\",\"\",VLOOKUP($Q$10,DATA!$P$2:$R$196,3))","v":""},{"$f":"IF(PEB18=\"\",\"\",VLOOKUP($Q$10,DATA!$P$2:$R$196,3))","v":""},{"$f":"IF(PEC18=\"\",\"\",VLOOKUP($Q$10,DATA!$P$2:$R$196,3))","v":""},{"$f":"IF(PED18=\"\",\"\",VLOOKUP($Q$10,DATA!$P$2:$R$196,3))","v":""},{"$f":"IF(PEE18=\"\",\"\",VLOOKUP($Q$10,DATA!$P$2:$R$196,3))","v":""},{"$f":"IF(PEF18=\"\",\"\",VLOOKUP($Q$10,DATA!$P$2:$R$196,3))","v":""},{"$f":"IF(PEG18=\"\",\"\",VLOOKUP($Q$10,DATA!$P$2:$R$196,3))","v":""},{"$f":"IF(PEH18=\"\",\"\",VLOOKUP($Q$10,DATA!$P$2:$R$196,3))","v":""},{"$f":"IF(PEI18=\"\",\"\",VLOOKUP($Q$10,DATA!$P$2:$R$196,3))","v":""},{"$f":"IF(PEJ18=\"\",\"\",VLOOKUP($Q$10,DATA!$P$2:$R$196,3))","v":""},{"$f":"IF(PEK18=\"\",\"\",VLOOKUP($Q$10,DATA!$P$2:$R$196,3))","v":""},{"$f":"IF(PEL18=\"\",\"\",VLOOKUP($Q$10,DATA!$P$2:$R$196,3))","v":""},{"$f":"IF(PEM18=\"\",\"\",VLOOKUP($Q$10,DATA!$P$2:$R$196,3))","v":""},{"$f":"IF(PEN18=\"\",\"\",VLOOKUP($Q$10,DATA!$P$2:$R$196,3))","v":""},{"$f":"IF(PEO18=\"\",\"\",VLOOKUP($Q$10,DATA!$P$2:$R$196,3))","v":""},{"$f":"IF(PEP18=\"\",\"\",VLOOKUP($Q$10,DATA!$P$2:$R$196,3))","v":""},{"$f":"IF(PEQ18=\"\",\"\",VLOOKUP($Q$10,DATA!$P$2:$R$196,3))","v":""},{"$f":"IF(PER18=\"\",\"\",VLOOKUP($Q$10,DATA!$P$2:$R$196,3))","v":""},{"$f":"IF(PES18=\"\",\"\",VLOOKUP($Q$10,DATA!$P$2:$R$196,3))","v":""},{"$f":"IF(PET18=\"\",\"\",VLOOKUP($Q$10,DATA!$P$2:$R$196,3))","v":""},{"$f":"IF(PEU18=\"\",\"\",VLOOKUP($Q$10,DATA!$P$2:$R$196,3))","v":""},{"$f":"IF(PEV18=\"\",\"\",VLOOKUP($Q$10,DATA!$P$2:$R$196,3))","v":""},{"$f":"IF(PEW18=\"\",\"\",VLOOKUP($Q$10,DATA!$P$2:$R$196,3))","v":""},{"$f":"IF(PEX18=\"\",\"\",VLOOKUP($Q$10,DATA!$P$2:$R$196,3))","v":""},{"$f":"IF(PEY18=\"\",\"\",VLOOKUP($Q$10,DATA!$P$2:$R$196,3))","v":""},{"$f":"IF(PEZ18=\"\",\"\",VLOOKUP($Q$10,DATA!$P$2:$R$196,3))","v":""},{"$f":"IF(PFA18=\"\",\"\",VLOOKUP($Q$10,DATA!$P$2:$R$196,3))","v":""},{"$f":"IF(PFB18=\"\",\"\",VLOOKUP($Q$10,DATA!$P$2:$R$196,3))","v":""},{"$f":"IF(PFC18=\"\",\"\",VLOOKUP($Q$10,DATA!$P$2:$R$196,3))","v":""},{"$f":"IF(PFD18=\"\",\"\",VLOOKUP($Q$10,DATA!$P$2:$R$196,3))","v":""},{"$f":"IF(PFE18=\"\",\"\",VLOOKUP($Q$10,DATA!$P$2:$R$196,3))","v":""},{"$f":"IF(PFF18=\"\",\"\",VLOOKUP($Q$10,DATA!$P$2:$R$196,3))","v":""},{"$f":"IF(PFG18=\"\",\"\",VLOOKUP($Q$10,DATA!$P$2:$R$196,3))","v":""},{"$f":"IF(PFH18=\"\",\"\",VLOOKUP($Q$10,DATA!$P$2:$R$196,3))","v":""},{"$f":"IF(PFI18=\"\",\"\",VLOOKUP($Q$10,DATA!$P$2:$R$196,3))","v":""},{"$f":"IF(PFJ18=\"\",\"\",VLOOKUP($Q$10,DATA!$P$2:$R$196,3))","v":""},{"$f":"IF(PFK18=\"\",\"\",VLOOKUP($Q$10,DATA!$P$2:$R$196,3))","v":""},{"$f":"IF(PFL18=\"\",\"\",VLOOKUP($Q$10,DATA!$P$2:$R$196,3))","v":""},{"$f":"IF(PFM18=\"\",\"\",VLOOKUP($Q$10,DATA!$P$2:$R$196,3))","v":""},{"$f":"IF(PFN18=\"\",\"\",VLOOKUP($Q$10,DATA!$P$2:$R$196,3))","v":""},{"$f":"IF(PFO18=\"\",\"\",VLOOKUP($Q$10,DATA!$P$2:$R$196,3))","v":""},{"$f":"IF(PFP18=\"\",\"\",VLOOKUP($Q$10,DATA!$P$2:$R$196,3))","v":""},{"$f":"IF(PFQ18=\"\",\"\",VLOOKUP($Q$10,DATA!$P$2:$R$196,3))","v":""},{"$f":"IF(PFR18=\"\",\"\",VLOOKUP($Q$10,DATA!$P$2:$R$196,3))","v":""},{"$f":"IF(PFS18=\"\",\"\",VLOOKUP($Q$10,DATA!$P$2:$R$196,3))","v":""},{"$f":"IF(PFT18=\"\",\"\",VLOOKUP($Q$10,DATA!$P$2:$R$196,3))","v":""},{"$f":"IF(PFU18=\"\",\"\",VLOOKUP($Q$10,DATA!$P$2:$R$196,3))","v":""},{"$f":"IF(PFV18=\"\",\"\",VLOOKUP($Q$10,DATA!$P$2:$R$196,3))","v":""},{"$f":"IF(PFW18=\"\",\"\",VLOOKUP($Q$10,DATA!$P$2:$R$196,3))","v":""},{"$f":"IF(PFX18=\"\",\"\",VLOOKUP($Q$10,DATA!$P$2:$R$196,3))","v":""},{"$f":"IF(PFY18=\"\",\"\",VLOOKUP($Q$10,DATA!$P$2:$R$196,3))","v":""},{"$f":"IF(PFZ18=\"\",\"\",VLOOKUP($Q$10,DATA!$P$2:$R$196,3))","v":""},{"$f":"IF(PGA18=\"\",\"\",VLOOKUP($Q$10,DATA!$P$2:$R$196,3))","v":""},{"$f":"IF(PGB18=\"\",\"\",VLOOKUP($Q$10,DATA!$P$2:$R$196,3))","v":""},{"$f":"IF(PGC18=\"\",\"\",VLOOKUP($Q$10,DATA!$P$2:$R$196,3))","v":""},{"$f":"IF(PGD18=\"\",\"\",VLOOKUP($Q$10,DATA!$P$2:$R$196,3))","v":""},{"$f":"IF(PGE18=\"\",\"\",VLOOKUP($Q$10,DATA!$P$2:$R$196,3))","v":""},{"$f":"IF(PGF18=\"\",\"\",VLOOKUP($Q$10,DATA!$P$2:$R$196,3))","v":""},{"$f":"IF(PGG18=\"\",\"\",VLOOKUP($Q$10,DATA!$P$2:$R$196,3))","v":""},{"$f":"IF(PGH18=\"\",\"\",VLOOKUP($Q$10,DATA!$P$2:$R$196,3))","v":""},{"$f":"IF(PGI18=\"\",\"\",VLOOKUP($Q$10,DATA!$P$2:$R$196,3))","v":""},{"$f":"IF(PGJ18=\"\",\"\",VLOOKUP($Q$10,DATA!$P$2:$R$196,3))","v":""},{"$f":"IF(PGK18=\"\",\"\",VLOOKUP($Q$10,DATA!$P$2:$R$196,3))","v":""},{"$f":"IF(PGL18=\"\",\"\",VLOOKUP($Q$10,DATA!$P$2:$R$196,3))","v":""},{"$f":"IF(PGM18=\"\",\"\",VLOOKUP($Q$10,DATA!$P$2:$R$196,3))","v":""},{"$f":"IF(PGN18=\"\",\"\",VLOOKUP($Q$10,DATA!$P$2:$R$196,3))","v":""},{"$f":"IF(PGO18=\"\",\"\",VLOOKUP($Q$10,DATA!$P$2:$R$196,3))","v":""},{"$f":"IF(PGP18=\"\",\"\",VLOOKUP($Q$10,DATA!$P$2:$R$196,3))","v":""},{"$f":"IF(PGQ18=\"\",\"\",VLOOKUP($Q$10,DATA!$P$2:$R$196,3))","v":""},{"$f":"IF(PGR18=\"\",\"\",VLOOKUP($Q$10,DATA!$P$2:$R$196,3))","v":""},{"$f":"IF(PGS18=\"\",\"\",VLOOKUP($Q$10,DATA!$P$2:$R$196,3))","v":""},{"$f":"IF(PGT18=\"\",\"\",VLOOKUP($Q$10,DATA!$P$2:$R$196,3))","v":""},{"$f":"IF(PGU18=\"\",\"\",VLOOKUP($Q$10,DATA!$P$2:$R$196,3))","v":""},{"$f":"IF(PGV18=\"\",\"\",VLOOKUP($Q$10,DATA!$P$2:$R$196,3))","v":""},{"$f":"IF(PGW18=\"\",\"\",VLOOKUP($Q$10,DATA!$P$2:$R$196,3))","v":""},{"$f":"IF(PGX18=\"\",\"\",VLOOKUP($Q$10,DATA!$P$2:$R$196,3))","v":""},{"$f":"IF(PGY18=\"\",\"\",VLOOKUP($Q$10,DATA!$P$2:$R$196,3))","v":""},{"$f":"IF(PGZ18=\"\",\"\",VLOOKUP($Q$10,DATA!$P$2:$R$196,3))","v":""},{"$f":"IF(PHA18=\"\",\"\",VLOOKUP($Q$10,DATA!$P$2:$R$196,3))","v":""},{"$f":"IF(PHB18=\"\",\"\",VLOOKUP($Q$10,DATA!$P$2:$R$196,3))","v":""},{"$f":"IF(PHC18=\"\",\"\",VLOOKUP($Q$10,DATA!$P$2:$R$196,3))","v":""},{"$f":"IF(PHD18=\"\",\"\",VLOOKUP($Q$10,DATA!$P$2:$R$196,3))","v":""},{"$f":"IF(PHE18=\"\",\"\",VLOOKUP($Q$10,DATA!$P$2:$R$196,3))","v":""},{"$f":"IF(PHF18=\"\",\"\",VLOOKUP($Q$10,DATA!$P$2:$R$196,3))","v":""},{"$f":"IF(PHG18=\"\",\"\",VLOOKUP($Q$10,DATA!$P$2:$R$196,3))","v":""},{"$f":"IF(PHH18=\"\",\"\",VLOOKUP($Q$10,DATA!$P$2:$R$196,3))","v":""},{"$f":"IF(PHI18=\"\",\"\",VLOOKUP($Q$10,DATA!$P$2:$R$196,3))","v":""},{"$f":"IF(PHJ18=\"\",\"\",VLOOKUP($Q$10,DATA!$P$2:$R$196,3))","v":""},{"$f":"IF(PHK18=\"\",\"\",VLOOKUP($Q$10,DATA!$P$2:$R$196,3))","v":""},{"$f":"IF(PHL18=\"\",\"\",VLOOKUP($Q$10,DATA!$P$2:$R$196,3))","v":""},{"$f":"IF(PHM18=\"\",\"\",VLOOKUP($Q$10,DATA!$P$2:$R$196,3))","v":""},{"$f":"IF(PHN18=\"\",\"\",VLOOKUP($Q$10,DATA!$P$2:$R$196,3))","v":""},{"$f":"IF(PHO18=\"\",\"\",VLOOKUP($Q$10,DATA!$P$2:$R$196,3))","v":""},{"$f":"IF(PHP18=\"\",\"\",VLOOKUP($Q$10,DATA!$P$2:$R$196,3))","v":""},{"$f":"IF(PHQ18=\"\",\"\",VLOOKUP($Q$10,DATA!$P$2:$R$196,3))","v":""},{"$f":"IF(PHR18=\"\",\"\",VLOOKUP($Q$10,DATA!$P$2:$R$196,3))","v":""},{"$f":"IF(PHS18=\"\",\"\",VLOOKUP($Q$10,DATA!$P$2:$R$196,3))","v":""},{"$f":"IF(PHT18=\"\",\"\",VLOOKUP($Q$10,DATA!$P$2:$R$196,3))","v":""},{"$f":"IF(PHU18=\"\",\"\",VLOOKUP($Q$10,DATA!$P$2:$R$196,3))","v":""},{"$f":"IF(PHV18=\"\",\"\",VLOOKUP($Q$10,DATA!$P$2:$R$196,3))","v":""},{"$f":"IF(PHW18=\"\",\"\",VLOOKUP($Q$10,DATA!$P$2:$R$196,3))","v":""},{"$f":"IF(PHX18=\"\",\"\",VLOOKUP($Q$10,DATA!$P$2:$R$196,3))","v":""},{"$f":"IF(PHY18=\"\",\"\",VLOOKUP($Q$10,DATA!$P$2:$R$196,3))","v":""},{"$f":"IF(PHZ18=\"\",\"\",VLOOKUP($Q$10,DATA!$P$2:$R$196,3))","v":""},{"$f":"IF(PIA18=\"\",\"\",VLOOKUP($Q$10,DATA!$P$2:$R$196,3))","v":""},{"$f":"IF(PIB18=\"\",\"\",VLOOKUP($Q$10,DATA!$P$2:$R$196,3))","v":""},{"$f":"IF(PIC18=\"\",\"\",VLOOKUP($Q$10,DATA!$P$2:$R$196,3))","v":""},{"$f":"IF(PID18=\"\",\"\",VLOOKUP($Q$10,DATA!$P$2:$R$196,3))","v":""},{"$f":"IF(PIE18=\"\",\"\",VLOOKUP($Q$10,DATA!$P$2:$R$196,3))","v":""},{"$f":"IF(PIF18=\"\",\"\",VLOOKUP($Q$10,DATA!$P$2:$R$196,3))","v":""},{"$f":"IF(PIG18=\"\",\"\",VLOOKUP($Q$10,DATA!$P$2:$R$196,3))","v":""},{"$f":"IF(PIH18=\"\",\"\",VLOOKUP($Q$10,DATA!$P$2:$R$196,3))","v":""},{"$f":"IF(PII18=\"\",\"\",VLOOKUP($Q$10,DATA!$P$2:$R$196,3))","v":""},{"$f":"IF(PIJ18=\"\",\"\",VLOOKUP($Q$10,DATA!$P$2:$R$196,3))","v":""},{"$f":"IF(PIK18=\"\",\"\",VLOOKUP($Q$10,DATA!$P$2:$R$196,3))","v":""},{"$f":"IF(PIL18=\"\",\"\",VLOOKUP($Q$10,DATA!$P$2:$R$196,3))","v":""},{"$f":"IF(PIM18=\"\",\"\",VLOOKUP($Q$10,DATA!$P$2:$R$196,3))","v":""},{"$f":"IF(PIN18=\"\",\"\",VLOOKUP($Q$10,DATA!$P$2:$R$196,3))","v":""},{"$f":"IF(PIO18=\"\",\"\",VLOOKUP($Q$10,DATA!$P$2:$R$196,3))","v":""},{"$f":"IF(PIP18=\"\",\"\",VLOOKUP($Q$10,DATA!$P$2:$R$196,3))","v":""},{"$f":"IF(PIQ18=\"\",\"\",VLOOKUP($Q$10,DATA!$P$2:$R$196,3))","v":""},{"$f":"IF(PIR18=\"\",\"\",VLOOKUP($Q$10,DATA!$P$2:$R$196,3))","v":""},{"$f":"IF(PIS18=\"\",\"\",VLOOKUP($Q$10,DATA!$P$2:$R$196,3))","v":""},{"$f":"IF(PIT18=\"\",\"\",VLOOKUP($Q$10,DATA!$P$2:$R$196,3))","v":""},{"$f":"IF(PIU18=\"\",\"\",VLOOKUP($Q$10,DATA!$P$2:$R$196,3))","v":""},{"$f":"IF(PIV18=\"\",\"\",VLOOKUP($Q$10,DATA!$P$2:$R$196,3))","v":""},{"$f":"IF(PIW18=\"\",\"\",VLOOKUP($Q$10,DATA!$P$2:$R$196,3))","v":""},{"$f":"IF(PIX18=\"\",\"\",VLOOKUP($Q$10,DATA!$P$2:$R$196,3))","v":""},{"$f":"IF(PIY18=\"\",\"\",VLOOKUP($Q$10,DATA!$P$2:$R$196,3))","v":""},{"$f":"IF(PIZ18=\"\",\"\",VLOOKUP($Q$10,DATA!$P$2:$R$196,3))","v":""},{"$f":"IF(PJA18=\"\",\"\",VLOOKUP($Q$10,DATA!$P$2:$R$196,3))","v":""},{"$f":"IF(PJB18=\"\",\"\",VLOOKUP($Q$10,DATA!$P$2:$R$196,3))","v":""},{"$f":"IF(PJC18=\"\",\"\",VLOOKUP($Q$10,DATA!$P$2:$R$196,3))","v":""},{"$f":"IF(PJD18=\"\",\"\",VLOOKUP($Q$10,DATA!$P$2:$R$196,3))","v":""},{"$f":"IF(PJE18=\"\",\"\",VLOOKUP($Q$10,DATA!$P$2:$R$196,3))","v":""},{"$f":"IF(PJF18=\"\",\"\",VLOOKUP($Q$10,DATA!$P$2:$R$196,3))","v":""},{"$f":"IF(PJG18=\"\",\"\",VLOOKUP($Q$10,DATA!$P$2:$R$196,3))","v":""},{"$f":"IF(PJH18=\"\",\"\",VLOOKUP($Q$10,DATA!$P$2:$R$196,3))","v":""},{"$f":"IF(PJI18=\"\",\"\",VLOOKUP($Q$10,DATA!$P$2:$R$196,3))","v":""},{"$f":"IF(PJJ18=\"\",\"\",VLOOKUP($Q$10,DATA!$P$2:$R$196,3))","v":""},{"$f":"IF(PJK18=\"\",\"\",VLOOKUP($Q$10,DATA!$P$2:$R$196,3))","v":""},{"$f":"IF(PJL18=\"\",\"\",VLOOKUP($Q$10,DATA!$P$2:$R$196,3))","v":""},{"$f":"IF(PJM18=\"\",\"\",VLOOKUP($Q$10,DATA!$P$2:$R$196,3))","v":""},{"$f":"IF(PJN18=\"\",\"\",VLOOKUP($Q$10,DATA!$P$2:$R$196,3))","v":""},{"$f":"IF(PJO18=\"\",\"\",VLOOKUP($Q$10,DATA!$P$2:$R$196,3))","v":""},{"$f":"IF(PJP18=\"\",\"\",VLOOKUP($Q$10,DATA!$P$2:$R$196,3))","v":""},{"$f":"IF(PJQ18=\"\",\"\",VLOOKUP($Q$10,DATA!$P$2:$R$196,3))","v":""},{"$f":"IF(PJR18=\"\",\"\",VLOOKUP($Q$10,DATA!$P$2:$R$196,3))","v":""},{"$f":"IF(PJS18=\"\",\"\",VLOOKUP($Q$10,DATA!$P$2:$R$196,3))","v":""},{"$f":"IF(PJT18=\"\",\"\",VLOOKUP($Q$10,DATA!$P$2:$R$196,3))","v":""},{"$f":"IF(PJU18=\"\",\"\",VLOOKUP($Q$10,DATA!$P$2:$R$196,3))","v":""},{"$f":"IF(PJV18=\"\",\"\",VLOOKUP($Q$10,DATA!$P$2:$R$196,3))","v":""},{"$f":"IF(PJW18=\"\",\"\",VLOOKUP($Q$10,DATA!$P$2:$R$196,3))","v":""},{"$f":"IF(PJX18=\"\",\"\",VLOOKUP($Q$10,DATA!$P$2:$R$196,3))","v":""},{"$f":"IF(PJY18=\"\",\"\",VLOOKUP($Q$10,DATA!$P$2:$R$196,3))","v":""},{"$f":"IF(PJZ18=\"\",\"\",VLOOKUP($Q$10,DATA!$P$2:$R$196,3))","v":""},{"$f":"IF(PKA18=\"\",\"\",VLOOKUP($Q$10,DATA!$P$2:$R$196,3))","v":""},{"$f":"IF(PKB18=\"\",\"\",VLOOKUP($Q$10,DATA!$P$2:$R$196,3))","v":""},{"$f":"IF(PKC18=\"\",\"\",VLOOKUP($Q$10,DATA!$P$2:$R$196,3))","v":""},{"$f":"IF(PKD18=\"\",\"\",VLOOKUP($Q$10,DATA!$P$2:$R$196,3))","v":""},{"$f":"IF(PKE18=\"\",\"\",VLOOKUP($Q$10,DATA!$P$2:$R$196,3))","v":""},{"$f":"IF(PKF18=\"\",\"\",VLOOKUP($Q$10,DATA!$P$2:$R$196,3))","v":""},{"$f":"IF(PKG18=\"\",\"\",VLOOKUP($Q$10,DATA!$P$2:$R$196,3))","v":""},{"$f":"IF(PKH18=\"\",\"\",VLOOKUP($Q$10,DATA!$P$2:$R$196,3))","v":""},{"$f":"IF(PKI18=\"\",\"\",VLOOKUP($Q$10,DATA!$P$2:$R$196,3))","v":""},{"$f":"IF(PKJ18=\"\",\"\",VLOOKUP($Q$10,DATA!$P$2:$R$196,3))","v":""},{"$f":"IF(PKK18=\"\",\"\",VLOOKUP($Q$10,DATA!$P$2:$R$196,3))","v":""},{"$f":"IF(PKL18=\"\",\"\",VLOOKUP($Q$10,DATA!$P$2:$R$196,3))","v":""},{"$f":"IF(PKM18=\"\",\"\",VLOOKUP($Q$10,DATA!$P$2:$R$196,3))","v":""},{"$f":"IF(PKN18=\"\",\"\",VLOOKUP($Q$10,DATA!$P$2:$R$196,3))","v":""},{"$f":"IF(PKO18=\"\",\"\",VLOOKUP($Q$10,DATA!$P$2:$R$196,3))","v":""},{"$f":"IF(PKP18=\"\",\"\",VLOOKUP($Q$10,DATA!$P$2:$R$196,3))","v":""},{"$f":"IF(PKQ18=\"\",\"\",VLOOKUP($Q$10,DATA!$P$2:$R$196,3))","v":""},{"$f":"IF(PKR18=\"\",\"\",VLOOKUP($Q$10,DATA!$P$2:$R$196,3))","v":""},{"$f":"IF(PKS18=\"\",\"\",VLOOKUP($Q$10,DATA!$P$2:$R$196,3))","v":""},{"$f":"IF(PKT18=\"\",\"\",VLOOKUP($Q$10,DATA!$P$2:$R$196,3))","v":""},{"$f":"IF(PKU18=\"\",\"\",VLOOKUP($Q$10,DATA!$P$2:$R$196,3))","v":""},{"$f":"IF(PKV18=\"\",\"\",VLOOKUP($Q$10,DATA!$P$2:$R$196,3))","v":""},{"$f":"IF(PKW18=\"\",\"\",VLOOKUP($Q$10,DATA!$P$2:$R$196,3))","v":""},{"$f":"IF(PKX18=\"\",\"\",VLOOKUP($Q$10,DATA!$P$2:$R$196,3))","v":""},{"$f":"IF(PKY18=\"\",\"\",VLOOKUP($Q$10,DATA!$P$2:$R$196,3))","v":""},{"$f":"IF(PKZ18=\"\",\"\",VLOOKUP($Q$10,DATA!$P$2:$R$196,3))","v":""},{"$f":"IF(PLA18=\"\",\"\",VLOOKUP($Q$10,DATA!$P$2:$R$196,3))","v":""},{"$f":"IF(PLB18=\"\",\"\",VLOOKUP($Q$10,DATA!$P$2:$R$196,3))","v":""},{"$f":"IF(PLC18=\"\",\"\",VLOOKUP($Q$10,DATA!$P$2:$R$196,3))","v":""},{"$f":"IF(PLD18=\"\",\"\",VLOOKUP($Q$10,DATA!$P$2:$R$196,3))","v":""},{"$f":"IF(PLE18=\"\",\"\",VLOOKUP($Q$10,DATA!$P$2:$R$196,3))","v":""},{"$f":"IF(PLF18=\"\",\"\",VLOOKUP($Q$10,DATA!$P$2:$R$196,3))","v":""},{"$f":"IF(PLG18=\"\",\"\",VLOOKUP($Q$10,DATA!$P$2:$R$196,3))","v":""},{"$f":"IF(PLH18=\"\",\"\",VLOOKUP($Q$10,DATA!$P$2:$R$196,3))","v":""},{"$f":"IF(PLI18=\"\",\"\",VLOOKUP($Q$10,DATA!$P$2:$R$196,3))","v":""},{"$f":"IF(PLJ18=\"\",\"\",VLOOKUP($Q$10,DATA!$P$2:$R$196,3))","v":""},{"$f":"IF(PLK18=\"\",\"\",VLOOKUP($Q$10,DATA!$P$2:$R$196,3))","v":""},{"$f":"IF(PLL18=\"\",\"\",VLOOKUP($Q$10,DATA!$P$2:$R$196,3))","v":""},{"$f":"IF(PLM18=\"\",\"\",VLOOKUP($Q$10,DATA!$P$2:$R$196,3))","v":""},{"$f":"IF(PLN18=\"\",\"\",VLOOKUP($Q$10,DATA!$P$2:$R$196,3))","v":""},{"$f":"IF(PLO18=\"\",\"\",VLOOKUP($Q$10,DATA!$P$2:$R$196,3))","v":""},{"$f":"IF(PLP18=\"\",\"\",VLOOKUP($Q$10,DATA!$P$2:$R$196,3))","v":""},{"$f":"IF(PLQ18=\"\",\"\",VLOOKUP($Q$10,DATA!$P$2:$R$196,3))","v":""},{"$f":"IF(PLR18=\"\",\"\",VLOOKUP($Q$10,DATA!$P$2:$R$196,3))","v":""},{"$f":"IF(PLS18=\"\",\"\",VLOOKUP($Q$10,DATA!$P$2:$R$196,3))","v":""},{"$f":"IF(PLT18=\"\",\"\",VLOOKUP($Q$10,DATA!$P$2:$R$196,3))","v":""},{"$f":"IF(PLU18=\"\",\"\",VLOOKUP($Q$10,DATA!$P$2:$R$196,3))","v":""},{"$f":"IF(PLV18=\"\",\"\",VLOOKUP($Q$10,DATA!$P$2:$R$196,3))","v":""},{"$f":"IF(PLW18=\"\",\"\",VLOOKUP($Q$10,DATA!$P$2:$R$196,3))","v":""},{"$f":"IF(PLX18=\"\",\"\",VLOOKUP($Q$10,DATA!$P$2:$R$196,3))","v":""},{"$f":"IF(PLY18=\"\",\"\",VLOOKUP($Q$10,DATA!$P$2:$R$196,3))","v":""},{"$f":"IF(PLZ18=\"\",\"\",VLOOKUP($Q$10,DATA!$P$2:$R$196,3))","v":""},{"$f":"IF(PMA18=\"\",\"\",VLOOKUP($Q$10,DATA!$P$2:$R$196,3))","v":""},{"$f":"IF(PMB18=\"\",\"\",VLOOKUP($Q$10,DATA!$P$2:$R$196,3))","v":""},{"$f":"IF(PMC18=\"\",\"\",VLOOKUP($Q$10,DATA!$P$2:$R$196,3))","v":""},{"$f":"IF(PMD18=\"\",\"\",VLOOKUP($Q$10,DATA!$P$2:$R$196,3))","v":""},{"$f":"IF(PME18=\"\",\"\",VLOOKUP($Q$10,DATA!$P$2:$R$196,3))","v":""},{"$f":"IF(PMF18=\"\",\"\",VLOOKUP($Q$10,DATA!$P$2:$R$196,3))","v":""},{"$f":"IF(PMG18=\"\",\"\",VLOOKUP($Q$10,DATA!$P$2:$R$196,3))","v":""},{"$f":"IF(PMH18=\"\",\"\",VLOOKUP($Q$10,DATA!$P$2:$R$196,3))","v":""},{"$f":"IF(PMI18=\"\",\"\",VLOOKUP($Q$10,DATA!$P$2:$R$196,3))","v":""},{"$f":"IF(PMJ18=\"\",\"\",VLOOKUP($Q$10,DATA!$P$2:$R$196,3))","v":""},{"$f":"IF(PMK18=\"\",\"\",VLOOKUP($Q$10,DATA!$P$2:$R$196,3))","v":""},{"$f":"IF(PML18=\"\",\"\",VLOOKUP($Q$10,DATA!$P$2:$R$196,3))","v":""},{"$f":"IF(PMM18=\"\",\"\",VLOOKUP($Q$10,DATA!$P$2:$R$196,3))","v":""},{"$f":"IF(PMN18=\"\",\"\",VLOOKUP($Q$10,DATA!$P$2:$R$196,3))","v":""},{"$f":"IF(PMO18=\"\",\"\",VLOOKUP($Q$10,DATA!$P$2:$R$196,3))","v":""},{"$f":"IF(PMP18=\"\",\"\",VLOOKUP($Q$10,DATA!$P$2:$R$196,3))","v":""},{"$f":"IF(PMQ18=\"\",\"\",VLOOKUP($Q$10,DATA!$P$2:$R$196,3))","v":""},{"$f":"IF(PMR18=\"\",\"\",VLOOKUP($Q$10,DATA!$P$2:$R$196,3))","v":""},{"$f":"IF(PMS18=\"\",\"\",VLOOKUP($Q$10,DATA!$P$2:$R$196,3))","v":""},{"$f":"IF(PMT18=\"\",\"\",VLOOKUP($Q$10,DATA!$P$2:$R$196,3))","v":""},{"$f":"IF(PMU18=\"\",\"\",VLOOKUP($Q$10,DATA!$P$2:$R$196,3))","v":""},{"$f":"IF(PMV18=\"\",\"\",VLOOKUP($Q$10,DATA!$P$2:$R$196,3))","v":""},{"$f":"IF(PMW18=\"\",\"\",VLOOKUP($Q$10,DATA!$P$2:$R$196,3))","v":""},{"$f":"IF(PMX18=\"\",\"\",VLOOKUP($Q$10,DATA!$P$2:$R$196,3))","v":""},{"$f":"IF(PMY18=\"\",\"\",VLOOKUP($Q$10,DATA!$P$2:$R$196,3))","v":""},{"$f":"IF(PMZ18=\"\",\"\",VLOOKUP($Q$10,DATA!$P$2:$R$196,3))","v":""},{"$f":"IF(PNA18=\"\",\"\",VLOOKUP($Q$10,DATA!$P$2:$R$196,3))","v":""},{"$f":"IF(PNB18=\"\",\"\",VLOOKUP($Q$10,DATA!$P$2:$R$196,3))","v":""},{"$f":"IF(PNC18=\"\",\"\",VLOOKUP($Q$10,DATA!$P$2:$R$196,3))","v":""},{"$f":"IF(PND18=\"\",\"\",VLOOKUP($Q$10,DATA!$P$2:$R$196,3))","v":""},{"$f":"IF(PNE18=\"\",\"\",VLOOKUP($Q$10,DATA!$P$2:$R$196,3))","v":""},{"$f":"IF(PNF18=\"\",\"\",VLOOKUP($Q$10,DATA!$P$2:$R$196,3))","v":""},{"$f":"IF(PNG18=\"\",\"\",VLOOKUP($Q$10,DATA!$P$2:$R$196,3))","v":""},{"$f":"IF(PNH18=\"\",\"\",VLOOKUP($Q$10,DATA!$P$2:$R$196,3))","v":""},{"$f":"IF(PNI18=\"\",\"\",VLOOKUP($Q$10,DATA!$P$2:$R$196,3))","v":""},{"$f":"IF(PNJ18=\"\",\"\",VLOOKUP($Q$10,DATA!$P$2:$R$196,3))","v":""},{"$f":"IF(PNK18=\"\",\"\",VLOOKUP($Q$10,DATA!$P$2:$R$196,3))","v":""},{"$f":"IF(PNL18=\"\",\"\",VLOOKUP($Q$10,DATA!$P$2:$R$196,3))","v":""},{"$f":"IF(PNM18=\"\",\"\",VLOOKUP($Q$10,DATA!$P$2:$R$196,3))","v":""},{"$f":"IF(PNN18=\"\",\"\",VLOOKUP($Q$10,DATA!$P$2:$R$196,3))","v":""},{"$f":"IF(PNO18=\"\",\"\",VLOOKUP($Q$10,DATA!$P$2:$R$196,3))","v":""},{"$f":"IF(PNP18=\"\",\"\",VLOOKUP($Q$10,DATA!$P$2:$R$196,3))","v":""},{"$f":"IF(PNQ18=\"\",\"\",VLOOKUP($Q$10,DATA!$P$2:$R$196,3))","v":""},{"$f":"IF(PNR18=\"\",\"\",VLOOKUP($Q$10,DATA!$P$2:$R$196,3))","v":""},{"$f":"IF(PNS18=\"\",\"\",VLOOKUP($Q$10,DATA!$P$2:$R$196,3))","v":""},{"$f":"IF(PNT18=\"\",\"\",VLOOKUP($Q$10,DATA!$P$2:$R$196,3))","v":""},{"$f":"IF(PNU18=\"\",\"\",VLOOKUP($Q$10,DATA!$P$2:$R$196,3))","v":""},{"$f":"IF(PNV18=\"\",\"\",VLOOKUP($Q$10,DATA!$P$2:$R$196,3))","v":""},{"$f":"IF(PNW18=\"\",\"\",VLOOKUP($Q$10,DATA!$P$2:$R$196,3))","v":""},{"$f":"IF(PNX18=\"\",\"\",VLOOKUP($Q$10,DATA!$P$2:$R$196,3))","v":""},{"$f":"IF(PNY18=\"\",\"\",VLOOKUP($Q$10,DATA!$P$2:$R$196,3))","v":""},{"$f":"IF(PNZ18=\"\",\"\",VLOOKUP($Q$10,DATA!$P$2:$R$196,3))","v":""},{"$f":"IF(POA18=\"\",\"\",VLOOKUP($Q$10,DATA!$P$2:$R$196,3))","v":""},{"$f":"IF(POB18=\"\",\"\",VLOOKUP($Q$10,DATA!$P$2:$R$196,3))","v":""},{"$f":"IF(POC18=\"\",\"\",VLOOKUP($Q$10,DATA!$P$2:$R$196,3))","v":""},{"$f":"IF(POD18=\"\",\"\",VLOOKUP($Q$10,DATA!$P$2:$R$196,3))","v":""},{"$f":"IF(POE18=\"\",\"\",VLOOKUP($Q$10,DATA!$P$2:$R$196,3))","v":""},{"$f":"IF(POF18=\"\",\"\",VLOOKUP($Q$10,DATA!$P$2:$R$196,3))","v":""},{"$f":"IF(POG18=\"\",\"\",VLOOKUP($Q$10,DATA!$P$2:$R$196,3))","v":""},{"$f":"IF(POH18=\"\",\"\",VLOOKUP($Q$10,DATA!$P$2:$R$196,3))","v":""},{"$f":"IF(POI18=\"\",\"\",VLOOKUP($Q$10,DATA!$P$2:$R$196,3))","v":""},{"$f":"IF(POJ18=\"\",\"\",VLOOKUP($Q$10,DATA!$P$2:$R$196,3))","v":""},{"$f":"IF(POK18=\"\",\"\",VLOOKUP($Q$10,DATA!$P$2:$R$196,3))","v":""},{"$f":"IF(POL18=\"\",\"\",VLOOKUP($Q$10,DATA!$P$2:$R$196,3))","v":""},{"$f":"IF(POM18=\"\",\"\",VLOOKUP($Q$10,DATA!$P$2:$R$196,3))","v":""},{"$f":"IF(PON18=\"\",\"\",VLOOKUP($Q$10,DATA!$P$2:$R$196,3))","v":""},{"$f":"IF(POO18=\"\",\"\",VLOOKUP($Q$10,DATA!$P$2:$R$196,3))","v":""},{"$f":"IF(POP18=\"\",\"\",VLOOKUP($Q$10,DATA!$P$2:$R$196,3))","v":""},{"$f":"IF(POQ18=\"\",\"\",VLOOKUP($Q$10,DATA!$P$2:$R$196,3))","v":""},{"$f":"IF(POR18=\"\",\"\",VLOOKUP($Q$10,DATA!$P$2:$R$196,3))","v":""},{"$f":"IF(POS18=\"\",\"\",VLOOKUP($Q$10,DATA!$P$2:$R$196,3))","v":""},{"$f":"IF(POT18=\"\",\"\",VLOOKUP($Q$10,DATA!$P$2:$R$196,3))","v":""},{"$f":"IF(POU18=\"\",\"\",VLOOKUP($Q$10,DATA!$P$2:$R$196,3))","v":""},{"$f":"IF(POV18=\"\",\"\",VLOOKUP($Q$10,DATA!$P$2:$R$196,3))","v":""},{"$f":"IF(POW18=\"\",\"\",VLOOKUP($Q$10,DATA!$P$2:$R$196,3))","v":""},{"$f":"IF(POX18=\"\",\"\",VLOOKUP($Q$10,DATA!$P$2:$R$196,3))","v":""},{"$f":"IF(POY18=\"\",\"\",VLOOKUP($Q$10,DATA!$P$2:$R$196,3))","v":""},{"$f":"IF(POZ18=\"\",\"\",VLOOKUP($Q$10,DATA!$P$2:$R$196,3))","v":""},{"$f":"IF(PPA18=\"\",\"\",VLOOKUP($Q$10,DATA!$P$2:$R$196,3))","v":""},{"$f":"IF(PPB18=\"\",\"\",VLOOKUP($Q$10,DATA!$P$2:$R$196,3))","v":""},{"$f":"IF(PPC18=\"\",\"\",VLOOKUP($Q$10,DATA!$P$2:$R$196,3))","v":""},{"$f":"IF(PPD18=\"\",\"\",VLOOKUP($Q$10,DATA!$P$2:$R$196,3))","v":""},{"$f":"IF(PPE18=\"\",\"\",VLOOKUP($Q$10,DATA!$P$2:$R$196,3))","v":""},{"$f":"IF(PPF18=\"\",\"\",VLOOKUP($Q$10,DATA!$P$2:$R$196,3))","v":""},{"$f":"IF(PPG18=\"\",\"\",VLOOKUP($Q$10,DATA!$P$2:$R$196,3))","v":""},{"$f":"IF(PPH18=\"\",\"\",VLOOKUP($Q$10,DATA!$P$2:$R$196,3))","v":""},{"$f":"IF(PPI18=\"\",\"\",VLOOKUP($Q$10,DATA!$P$2:$R$196,3))","v":""},{"$f":"IF(PPJ18=\"\",\"\",VLOOKUP($Q$10,DATA!$P$2:$R$196,3))","v":""},{"$f":"IF(PPK18=\"\",\"\",VLOOKUP($Q$10,DATA!$P$2:$R$196,3))","v":""},{"$f":"IF(PPL18=\"\",\"\",VLOOKUP($Q$10,DATA!$P$2:$R$196,3))","v":""},{"$f":"IF(PPM18=\"\",\"\",VLOOKUP($Q$10,DATA!$P$2:$R$196,3))","v":""},{"$f":"IF(PPN18=\"\",\"\",VLOOKUP($Q$10,DATA!$P$2:$R$196,3))","v":""},{"$f":"IF(PPO18=\"\",\"\",VLOOKUP($Q$10,DATA!$P$2:$R$196,3))","v":""},{"$f":"IF(PPP18=\"\",\"\",VLOOKUP($Q$10,DATA!$P$2:$R$196,3))","v":""},{"$f":"IF(PPQ18=\"\",\"\",VLOOKUP($Q$10,DATA!$P$2:$R$196,3))","v":""},{"$f":"IF(PPR18=\"\",\"\",VLOOKUP($Q$10,DATA!$P$2:$R$196,3))","v":""},{"$f":"IF(PPS18=\"\",\"\",VLOOKUP($Q$10,DATA!$P$2:$R$196,3))","v":""},{"$f":"IF(PPT18=\"\",\"\",VLOOKUP($Q$10,DATA!$P$2:$R$196,3))","v":""},{"$f":"IF(PPU18=\"\",\"\",VLOOKUP($Q$10,DATA!$P$2:$R$196,3))","v":""},{"$f":"IF(PPV18=\"\",\"\",VLOOKUP($Q$10,DATA!$P$2:$R$196,3))","v":""},{"$f":"IF(PPW18=\"\",\"\",VLOOKUP($Q$10,DATA!$P$2:$R$196,3))","v":""},{"$f":"IF(PPX18=\"\",\"\",VLOOKUP($Q$10,DATA!$P$2:$R$196,3))","v":""},{"$f":"IF(PPY18=\"\",\"\",VLOOKUP($Q$10,DATA!$P$2:$R$196,3))","v":""},{"$f":"IF(PPZ18=\"\",\"\",VLOOKUP($Q$10,DATA!$P$2:$R$196,3))","v":""},{"$f":"IF(PQA18=\"\",\"\",VLOOKUP($Q$10,DATA!$P$2:$R$196,3))","v":""},{"$f":"IF(PQB18=\"\",\"\",VLOOKUP($Q$10,DATA!$P$2:$R$196,3))","v":""},{"$f":"IF(PQC18=\"\",\"\",VLOOKUP($Q$10,DATA!$P$2:$R$196,3))","v":""},{"$f":"IF(PQD18=\"\",\"\",VLOOKUP($Q$10,DATA!$P$2:$R$196,3))","v":""},{"$f":"IF(PQE18=\"\",\"\",VLOOKUP($Q$10,DATA!$P$2:$R$196,3))","v":""},{"$f":"IF(PQF18=\"\",\"\",VLOOKUP($Q$10,DATA!$P$2:$R$196,3))","v":""},{"$f":"IF(PQG18=\"\",\"\",VLOOKUP($Q$10,DATA!$P$2:$R$196,3))","v":""},{"$f":"IF(PQH18=\"\",\"\",VLOOKUP($Q$10,DATA!$P$2:$R$196,3))","v":""},{"$f":"IF(PQI18=\"\",\"\",VLOOKUP($Q$10,DATA!$P$2:$R$196,3))","v":""},{"$f":"IF(PQJ18=\"\",\"\",VLOOKUP($Q$10,DATA!$P$2:$R$196,3))","v":""},{"$f":"IF(PQK18=\"\",\"\",VLOOKUP($Q$10,DATA!$P$2:$R$196,3))","v":""},{"$f":"IF(PQL18=\"\",\"\",VLOOKUP($Q$10,DATA!$P$2:$R$196,3))","v":""},{"$f":"IF(PQM18=\"\",\"\",VLOOKUP($Q$10,DATA!$P$2:$R$196,3))","v":""},{"$f":"IF(PQN18=\"\",\"\",VLOOKUP($Q$10,DATA!$P$2:$R$196,3))","v":""},{"$f":"IF(PQO18=\"\",\"\",VLOOKUP($Q$10,DATA!$P$2:$R$196,3))","v":""},{"$f":"IF(PQP18=\"\",\"\",VLOOKUP($Q$10,DATA!$P$2:$R$196,3))","v":""},{"$f":"IF(PQQ18=\"\",\"\",VLOOKUP($Q$10,DATA!$P$2:$R$196,3))","v":""},{"$f":"IF(PQR18=\"\",\"\",VLOOKUP($Q$10,DATA!$P$2:$R$196,3))","v":""},{"$f":"IF(PQS18=\"\",\"\",VLOOKUP($Q$10,DATA!$P$2:$R$196,3))","v":""},{"$f":"IF(PQT18=\"\",\"\",VLOOKUP($Q$10,DATA!$P$2:$R$196,3))","v":""},{"$f":"IF(PQU18=\"\",\"\",VLOOKUP($Q$10,DATA!$P$2:$R$196,3))","v":""},{"$f":"IF(PQV18=\"\",\"\",VLOOKUP($Q$10,DATA!$P$2:$R$196,3))","v":""},{"$f":"IF(PQW18=\"\",\"\",VLOOKUP($Q$10,DATA!$P$2:$R$196,3))","v":""},{"$f":"IF(PQX18=\"\",\"\",VLOOKUP($Q$10,DATA!$P$2:$R$196,3))","v":""},{"$f":"IF(PQY18=\"\",\"\",VLOOKUP($Q$10,DATA!$P$2:$R$196,3))","v":""},{"$f":"IF(PQZ18=\"\",\"\",VLOOKUP($Q$10,DATA!$P$2:$R$196,3))","v":""},{"$f":"IF(PRA18=\"\",\"\",VLOOKUP($Q$10,DATA!$P$2:$R$196,3))","v":""},{"$f":"IF(PRB18=\"\",\"\",VLOOKUP($Q$10,DATA!$P$2:$R$196,3))","v":""},{"$f":"IF(PRC18=\"\",\"\",VLOOKUP($Q$10,DATA!$P$2:$R$196,3))","v":""},{"$f":"IF(PRD18=\"\",\"\",VLOOKUP($Q$10,DATA!$P$2:$R$196,3))","v":""},{"$f":"IF(PRE18=\"\",\"\",VLOOKUP($Q$10,DATA!$P$2:$R$196,3))","v":""},{"$f":"IF(PRF18=\"\",\"\",VLOOKUP($Q$10,DATA!$P$2:$R$196,3))","v":""},{"$f":"IF(PRG18=\"\",\"\",VLOOKUP($Q$10,DATA!$P$2:$R$196,3))","v":""},{"$f":"IF(PRH18=\"\",\"\",VLOOKUP($Q$10,DATA!$P$2:$R$196,3))","v":""},{"$f":"IF(PRI18=\"\",\"\",VLOOKUP($Q$10,DATA!$P$2:$R$196,3))","v":""},{"$f":"IF(PRJ18=\"\",\"\",VLOOKUP($Q$10,DATA!$P$2:$R$196,3))","v":""},{"$f":"IF(PRK18=\"\",\"\",VLOOKUP($Q$10,DATA!$P$2:$R$196,3))","v":""},{"$f":"IF(PRL18=\"\",\"\",VLOOKUP($Q$10,DATA!$P$2:$R$196,3))","v":""},{"$f":"IF(PRM18=\"\",\"\",VLOOKUP($Q$10,DATA!$P$2:$R$196,3))","v":""},{"$f":"IF(PRN18=\"\",\"\",VLOOKUP($Q$10,DATA!$P$2:$R$196,3))","v":""},{"$f":"IF(PRO18=\"\",\"\",VLOOKUP($Q$10,DATA!$P$2:$R$196,3))","v":""},{"$f":"IF(PRP18=\"\",\"\",VLOOKUP($Q$10,DATA!$P$2:$R$196,3))","v":""},{"$f":"IF(PRQ18=\"\",\"\",VLOOKUP($Q$10,DATA!$P$2:$R$196,3))","v":""},{"$f":"IF(PRR18=\"\",\"\",VLOOKUP($Q$10,DATA!$P$2:$R$196,3))","v":""},{"$f":"IF(PRS18=\"\",\"\",VLOOKUP($Q$10,DATA!$P$2:$R$196,3))","v":""},{"$f":"IF(PRT18=\"\",\"\",VLOOKUP($Q$10,DATA!$P$2:$R$196,3))","v":""},{"$f":"IF(PRU18=\"\",\"\",VLOOKUP($Q$10,DATA!$P$2:$R$196,3))","v":""},{"$f":"IF(PRV18=\"\",\"\",VLOOKUP($Q$10,DATA!$P$2:$R$196,3))","v":""},{"$f":"IF(PRW18=\"\",\"\",VLOOKUP($Q$10,DATA!$P$2:$R$196,3))","v":""},{"$f":"IF(PRX18=\"\",\"\",VLOOKUP($Q$10,DATA!$P$2:$R$196,3))","v":""},{"$f":"IF(PRY18=\"\",\"\",VLOOKUP($Q$10,DATA!$P$2:$R$196,3))","v":""},{"$f":"IF(PRZ18=\"\",\"\",VLOOKUP($Q$10,DATA!$P$2:$R$196,3))","v":""},{"$f":"IF(PSA18=\"\",\"\",VLOOKUP($Q$10,DATA!$P$2:$R$196,3))","v":""},{"$f":"IF(PSB18=\"\",\"\",VLOOKUP($Q$10,DATA!$P$2:$R$196,3))","v":""},{"$f":"IF(PSC18=\"\",\"\",VLOOKUP($Q$10,DATA!$P$2:$R$196,3))","v":""},{"$f":"IF(PSD18=\"\",\"\",VLOOKUP($Q$10,DATA!$P$2:$R$196,3))","v":""},{"$f":"IF(PSE18=\"\",\"\",VLOOKUP($Q$10,DATA!$P$2:$R$196,3))","v":""},{"$f":"IF(PSF18=\"\",\"\",VLOOKUP($Q$10,DATA!$P$2:$R$196,3))","v":""},{"$f":"IF(PSG18=\"\",\"\",VLOOKUP($Q$10,DATA!$P$2:$R$196,3))","v":""},{"$f":"IF(PSH18=\"\",\"\",VLOOKUP($Q$10,DATA!$P$2:$R$196,3))","v":""},{"$f":"IF(PSI18=\"\",\"\",VLOOKUP($Q$10,DATA!$P$2:$R$196,3))","v":""},{"$f":"IF(PSJ18=\"\",\"\",VLOOKUP($Q$10,DATA!$P$2:$R$196,3))","v":""},{"$f":"IF(PSK18=\"\",\"\",VLOOKUP($Q$10,DATA!$P$2:$R$196,3))","v":""},{"$f":"IF(PSL18=\"\",\"\",VLOOKUP($Q$10,DATA!$P$2:$R$196,3))","v":""},{"$f":"IF(PSM18=\"\",\"\",VLOOKUP($Q$10,DATA!$P$2:$R$196,3))","v":""},{"$f":"IF(PSN18=\"\",\"\",VLOOKUP($Q$10,DATA!$P$2:$R$196,3))","v":""},{"$f":"IF(PSO18=\"\",\"\",VLOOKUP($Q$10,DATA!$P$2:$R$196,3))","v":""},{"$f":"IF(PSP18=\"\",\"\",VLOOKUP($Q$10,DATA!$P$2:$R$196,3))","v":""},{"$f":"IF(PSQ18=\"\",\"\",VLOOKUP($Q$10,DATA!$P$2:$R$196,3))","v":""},{"$f":"IF(PSR18=\"\",\"\",VLOOKUP($Q$10,DATA!$P$2:$R$196,3))","v":""},{"$f":"IF(PSS18=\"\",\"\",VLOOKUP($Q$10,DATA!$P$2:$R$196,3))","v":""},{"$f":"IF(PST18=\"\",\"\",VLOOKUP($Q$10,DATA!$P$2:$R$196,3))","v":""},{"$f":"IF(PSU18=\"\",\"\",VLOOKUP($Q$10,DATA!$P$2:$R$196,3))","v":""},{"$f":"IF(PSV18=\"\",\"\",VLOOKUP($Q$10,DATA!$P$2:$R$196,3))","v":""},{"$f":"IF(PSW18=\"\",\"\",VLOOKUP($Q$10,DATA!$P$2:$R$196,3))","v":""},{"$f":"IF(PSX18=\"\",\"\",VLOOKUP($Q$10,DATA!$P$2:$R$196,3))","v":""},{"$f":"IF(PSY18=\"\",\"\",VLOOKUP($Q$10,DATA!$P$2:$R$196,3))","v":""},{"$f":"IF(PSZ18=\"\",\"\",VLOOKUP($Q$10,DATA!$P$2:$R$196,3))","v":""},{"$f":"IF(PTA18=\"\",\"\",VLOOKUP($Q$10,DATA!$P$2:$R$196,3))","v":""},{"$f":"IF(PTB18=\"\",\"\",VLOOKUP($Q$10,DATA!$P$2:$R$196,3))","v":""},{"$f":"IF(PTC18=\"\",\"\",VLOOKUP($Q$10,DATA!$P$2:$R$196,3))","v":""},{"$f":"IF(PTD18=\"\",\"\",VLOOKUP($Q$10,DATA!$P$2:$R$196,3))","v":""},{"$f":"IF(PTE18=\"\",\"\",VLOOKUP($Q$10,DATA!$P$2:$R$196,3))","v":""},{"$f":"IF(PTF18=\"\",\"\",VLOOKUP($Q$10,DATA!$P$2:$R$196,3))","v":""},{"$f":"IF(PTG18=\"\",\"\",VLOOKUP($Q$10,DATA!$P$2:$R$196,3))","v":""},{"$f":"IF(PTH18=\"\",\"\",VLOOKUP($Q$10,DATA!$P$2:$R$196,3))","v":""},{"$f":"IF(PTI18=\"\",\"\",VLOOKUP($Q$10,DATA!$P$2:$R$196,3))","v":""},{"$f":"IF(PTJ18=\"\",\"\",VLOOKUP($Q$10,DATA!$P$2:$R$196,3))","v":""},{"$f":"IF(PTK18=\"\",\"\",VLOOKUP($Q$10,DATA!$P$2:$R$196,3))","v":""},{"$f":"IF(PTL18=\"\",\"\",VLOOKUP($Q$10,DATA!$P$2:$R$196,3))","v":""},{"$f":"IF(PTM18=\"\",\"\",VLOOKUP($Q$10,DATA!$P$2:$R$196,3))","v":""},{"$f":"IF(PTN18=\"\",\"\",VLOOKUP($Q$10,DATA!$P$2:$R$196,3))","v":""},{"$f":"IF(PTO18=\"\",\"\",VLOOKUP($Q$10,DATA!$P$2:$R$196,3))","v":""},{"$f":"IF(PTP18=\"\",\"\",VLOOKUP($Q$10,DATA!$P$2:$R$196,3))","v":""},{"$f":"IF(PTQ18=\"\",\"\",VLOOKUP($Q$10,DATA!$P$2:$R$196,3))","v":""},{"$f":"IF(PTR18=\"\",\"\",VLOOKUP($Q$10,DATA!$P$2:$R$196,3))","v":""},{"$f":"IF(PTS18=\"\",\"\",VLOOKUP($Q$10,DATA!$P$2:$R$196,3))","v":""},{"$f":"IF(PTT18=\"\",\"\",VLOOKUP($Q$10,DATA!$P$2:$R$196,3))","v":""},{"$f":"IF(PTU18=\"\",\"\",VLOOKUP($Q$10,DATA!$P$2:$R$196,3))","v":""},{"$f":"IF(PTV18=\"\",\"\",VLOOKUP($Q$10,DATA!$P$2:$R$196,3))","v":""},{"$f":"IF(PTW18=\"\",\"\",VLOOKUP($Q$10,DATA!$P$2:$R$196,3))","v":""},{"$f":"IF(PTX18=\"\",\"\",VLOOKUP($Q$10,DATA!$P$2:$R$196,3))","v":""},{"$f":"IF(PTY18=\"\",\"\",VLOOKUP($Q$10,DATA!$P$2:$R$196,3))","v":""},{"$f":"IF(PTZ18=\"\",\"\",VLOOKUP($Q$10,DATA!$P$2:$R$196,3))","v":""},{"$f":"IF(PUA18=\"\",\"\",VLOOKUP($Q$10,DATA!$P$2:$R$196,3))","v":""},{"$f":"IF(PUB18=\"\",\"\",VLOOKUP($Q$10,DATA!$P$2:$R$196,3))","v":""},{"$f":"IF(PUC18=\"\",\"\",VLOOKUP($Q$10,DATA!$P$2:$R$196,3))","v":""},{"$f":"IF(PUD18=\"\",\"\",VLOOKUP($Q$10,DATA!$P$2:$R$196,3))","v":""},{"$f":"IF(PUE18=\"\",\"\",VLOOKUP($Q$10,DATA!$P$2:$R$196,3))","v":""},{"$f":"IF(PUF18=\"\",\"\",VLOOKUP($Q$10,DATA!$P$2:$R$196,3))","v":""},{"$f":"IF(PUG18=\"\",\"\",VLOOKUP($Q$10,DATA!$P$2:$R$196,3))","v":""},{"$f":"IF(PUH18=\"\",\"\",VLOOKUP($Q$10,DATA!$P$2:$R$196,3))","v":""},{"$f":"IF(PUI18=\"\",\"\",VLOOKUP($Q$10,DATA!$P$2:$R$196,3))","v":""},{"$f":"IF(PUJ18=\"\",\"\",VLOOKUP($Q$10,DATA!$P$2:$R$196,3))","v":""},{"$f":"IF(PUK18=\"\",\"\",VLOOKUP($Q$10,DATA!$P$2:$R$196,3))","v":""},{"$f":"IF(PUL18=\"\",\"\",VLOOKUP($Q$10,DATA!$P$2:$R$196,3))","v":""},{"$f":"IF(PUM18=\"\",\"\",VLOOKUP($Q$10,DATA!$P$2:$R$196,3))","v":""},{"$f":"IF(PUN18=\"\",\"\",VLOOKUP($Q$10,DATA!$P$2:$R$196,3))","v":""},{"$f":"IF(PUO18=\"\",\"\",VLOOKUP($Q$10,DATA!$P$2:$R$196,3))","v":""},{"$f":"IF(PUP18=\"\",\"\",VLOOKUP($Q$10,DATA!$P$2:$R$196,3))","v":""},{"$f":"IF(PUQ18=\"\",\"\",VLOOKUP($Q$10,DATA!$P$2:$R$196,3))","v":""},{"$f":"IF(PUR18=\"\",\"\",VLOOKUP($Q$10,DATA!$P$2:$R$196,3))","v":""},{"$f":"IF(PUS18=\"\",\"\",VLOOKUP($Q$10,DATA!$P$2:$R$196,3))","v":""},{"$f":"IF(PUT18=\"\",\"\",VLOOKUP($Q$10,DATA!$P$2:$R$196,3))","v":""},{"$f":"IF(PUU18=\"\",\"\",VLOOKUP($Q$10,DATA!$P$2:$R$196,3))","v":""},{"$f":"IF(PUV18=\"\",\"\",VLOOKUP($Q$10,DATA!$P$2:$R$196,3))","v":""},{"$f":"IF(PUW18=\"\",\"\",VLOOKUP($Q$10,DATA!$P$2:$R$196,3))","v":""},{"$f":"IF(PUX18=\"\",\"\",VLOOKUP($Q$10,DATA!$P$2:$R$196,3))","v":""},{"$f":"IF(PUY18=\"\",\"\",VLOOKUP($Q$10,DATA!$P$2:$R$196,3))","v":""},{"$f":"IF(PUZ18=\"\",\"\",VLOOKUP($Q$10,DATA!$P$2:$R$196,3))","v":""},{"$f":"IF(PVA18=\"\",\"\",VLOOKUP($Q$10,DATA!$P$2:$R$196,3))","v":""},{"$f":"IF(PVB18=\"\",\"\",VLOOKUP($Q$10,DATA!$P$2:$R$196,3))","v":""},{"$f":"IF(PVC18=\"\",\"\",VLOOKUP($Q$10,DATA!$P$2:$R$196,3))","v":""},{"$f":"IF(PVD18=\"\",\"\",VLOOKUP($Q$10,DATA!$P$2:$R$196,3))","v":""},{"$f":"IF(PVE18=\"\",\"\",VLOOKUP($Q$10,DATA!$P$2:$R$196,3))","v":""},{"$f":"IF(PVF18=\"\",\"\",VLOOKUP($Q$10,DATA!$P$2:$R$196,3))","v":""},{"$f":"IF(PVG18=\"\",\"\",VLOOKUP($Q$10,DATA!$P$2:$R$196,3))","v":""},{"$f":"IF(PVH18=\"\",\"\",VLOOKUP($Q$10,DATA!$P$2:$R$196,3))","v":""},{"$f":"IF(PVI18=\"\",\"\",VLOOKUP($Q$10,DATA!$P$2:$R$196,3))","v":""},{"$f":"IF(PVJ18=\"\",\"\",VLOOKUP($Q$10,DATA!$P$2:$R$196,3))","v":""},{"$f":"IF(PVK18=\"\",\"\",VLOOKUP($Q$10,DATA!$P$2:$R$196,3))","v":""},{"$f":"IF(PVL18=\"\",\"\",VLOOKUP($Q$10,DATA!$P$2:$R$196,3))","v":""},{"$f":"IF(PVM18=\"\",\"\",VLOOKUP($Q$10,DATA!$P$2:$R$196,3))","v":""},{"$f":"IF(PVN18=\"\",\"\",VLOOKUP($Q$10,DATA!$P$2:$R$196,3))","v":""},{"$f":"IF(PVO18=\"\",\"\",VLOOKUP($Q$10,DATA!$P$2:$R$196,3))","v":""},{"$f":"IF(PVP18=\"\",\"\",VLOOKUP($Q$10,DATA!$P$2:$R$196,3))","v":""},{"$f":"IF(PVQ18=\"\",\"\",VLOOKUP($Q$10,DATA!$P$2:$R$196,3))","v":""},{"$f":"IF(PVR18=\"\",\"\",VLOOKUP($Q$10,DATA!$P$2:$R$196,3))","v":""},{"$f":"IF(PVS18=\"\",\"\",VLOOKUP($Q$10,DATA!$P$2:$R$196,3))","v":""},{"$f":"IF(PVT18=\"\",\"\",VLOOKUP($Q$10,DATA!$P$2:$R$196,3))","v":""},{"$f":"IF(PVU18=\"\",\"\",VLOOKUP($Q$10,DATA!$P$2:$R$196,3))","v":""},{"$f":"IF(PVV18=\"\",\"\",VLOOKUP($Q$10,DATA!$P$2:$R$196,3))","v":""},{"$f":"IF(PVW18=\"\",\"\",VLOOKUP($Q$10,DATA!$P$2:$R$196,3))","v":""},{"$f":"IF(PVX18=\"\",\"\",VLOOKUP($Q$10,DATA!$P$2:$R$196,3))","v":""},{"$f":"IF(PVY18=\"\",\"\",VLOOKUP($Q$10,DATA!$P$2:$R$196,3))","v":""},{"$f":"IF(PVZ18=\"\",\"\",VLOOKUP($Q$10,DATA!$P$2:$R$196,3))","v":""},{"$f":"IF(PWA18=\"\",\"\",VLOOKUP($Q$10,DATA!$P$2:$R$196,3))","v":""},{"$f":"IF(PWB18=\"\",\"\",VLOOKUP($Q$10,DATA!$P$2:$R$196,3))","v":""},{"$f":"IF(PWC18=\"\",\"\",VLOOKUP($Q$10,DATA!$P$2:$R$196,3))","v":""},{"$f":"IF(PWD18=\"\",\"\",VLOOKUP($Q$10,DATA!$P$2:$R$196,3))","v":""},{"$f":"IF(PWE18=\"\",\"\",VLOOKUP($Q$10,DATA!$P$2:$R$196,3))","v":""},{"$f":"IF(PWF18=\"\",\"\",VLOOKUP($Q$10,DATA!$P$2:$R$196,3))","v":""},{"$f":"IF(PWG18=\"\",\"\",VLOOKUP($Q$10,DATA!$P$2:$R$196,3))","v":""},{"$f":"IF(PWH18=\"\",\"\",VLOOKUP($Q$10,DATA!$P$2:$R$196,3))","v":""},{"$f":"IF(PWI18=\"\",\"\",VLOOKUP($Q$10,DATA!$P$2:$R$196,3))","v":""},{"$f":"IF(PWJ18=\"\",\"\",VLOOKUP($Q$10,DATA!$P$2:$R$196,3))","v":""},{"$f":"IF(PWK18=\"\",\"\",VLOOKUP($Q$10,DATA!$P$2:$R$196,3))","v":""},{"$f":"IF(PWL18=\"\",\"\",VLOOKUP($Q$10,DATA!$P$2:$R$196,3))","v":""},{"$f":"IF(PWM18=\"\",\"\",VLOOKUP($Q$10,DATA!$P$2:$R$196,3))","v":""},{"$f":"IF(PWN18=\"\",\"\",VLOOKUP($Q$10,DATA!$P$2:$R$196,3))","v":""},{"$f":"IF(PWO18=\"\",\"\",VLOOKUP($Q$10,DATA!$P$2:$R$196,3))","v":""},{"$f":"IF(PWP18=\"\",\"\",VLOOKUP($Q$10,DATA!$P$2:$R$196,3))","v":""},{"$f":"IF(PWQ18=\"\",\"\",VLOOKUP($Q$10,DATA!$P$2:$R$196,3))","v":""},{"$f":"IF(PWR18=\"\",\"\",VLOOKUP($Q$10,DATA!$P$2:$R$196,3))","v":""},{"$f":"IF(PWS18=\"\",\"\",VLOOKUP($Q$10,DATA!$P$2:$R$196,3))","v":""},{"$f":"IF(PWT18=\"\",\"\",VLOOKUP($Q$10,DATA!$P$2:$R$196,3))","v":""},{"$f":"IF(PWU18=\"\",\"\",VLOOKUP($Q$10,DATA!$P$2:$R$196,3))","v":""},{"$f":"IF(PWV18=\"\",\"\",VLOOKUP($Q$10,DATA!$P$2:$R$196,3))","v":""},{"$f":"IF(PWW18=\"\",\"\",VLOOKUP($Q$10,DATA!$P$2:$R$196,3))","v":""},{"$f":"IF(PWX18=\"\",\"\",VLOOKUP($Q$10,DATA!$P$2:$R$196,3))","v":""},{"$f":"IF(PWY18=\"\",\"\",VLOOKUP($Q$10,DATA!$P$2:$R$196,3))","v":""},{"$f":"IF(PWZ18=\"\",\"\",VLOOKUP($Q$10,DATA!$P$2:$R$196,3))","v":""},{"$f":"IF(PXA18=\"\",\"\",VLOOKUP($Q$10,DATA!$P$2:$R$196,3))","v":""},{"$f":"IF(PXB18=\"\",\"\",VLOOKUP($Q$10,DATA!$P$2:$R$196,3))","v":""},{"$f":"IF(PXC18=\"\",\"\",VLOOKUP($Q$10,DATA!$P$2:$R$196,3))","v":""},{"$f":"IF(PXD18=\"\",\"\",VLOOKUP($Q$10,DATA!$P$2:$R$196,3))","v":""},{"$f":"IF(PXE18=\"\",\"\",VLOOKUP($Q$10,DATA!$P$2:$R$196,3))","v":""},{"$f":"IF(PXF18=\"\",\"\",VLOOKUP($Q$10,DATA!$P$2:$R$196,3))","v":""},{"$f":"IF(PXG18=\"\",\"\",VLOOKUP($Q$10,DATA!$P$2:$R$196,3))","v":""},{"$f":"IF(PXH18=\"\",\"\",VLOOKUP($Q$10,DATA!$P$2:$R$196,3))","v":""},{"$f":"IF(PXI18=\"\",\"\",VLOOKUP($Q$10,DATA!$P$2:$R$196,3))","v":""},{"$f":"IF(PXJ18=\"\",\"\",VLOOKUP($Q$10,DATA!$P$2:$R$196,3))","v":""},{"$f":"IF(PXK18=\"\",\"\",VLOOKUP($Q$10,DATA!$P$2:$R$196,3))","v":""},{"$f":"IF(PXL18=\"\",\"\",VLOOKUP($Q$10,DATA!$P$2:$R$196,3))","v":""},{"$f":"IF(PXM18=\"\",\"\",VLOOKUP($Q$10,DATA!$P$2:$R$196,3))","v":""},{"$f":"IF(PXN18=\"\",\"\",VLOOKUP($Q$10,DATA!$P$2:$R$196,3))","v":""},{"$f":"IF(PXO18=\"\",\"\",VLOOKUP($Q$10,DATA!$P$2:$R$196,3))","v":""},{"$f":"IF(PXP18=\"\",\"\",VLOOKUP($Q$10,DATA!$P$2:$R$196,3))","v":""},{"$f":"IF(PXQ18=\"\",\"\",VLOOKUP($Q$10,DATA!$P$2:$R$196,3))","v":""},{"$f":"IF(PXR18=\"\",\"\",VLOOKUP($Q$10,DATA!$P$2:$R$196,3))","v":""},{"$f":"IF(PXS18=\"\",\"\",VLOOKUP($Q$10,DATA!$P$2:$R$196,3))","v":""},{"$f":"IF(PXT18=\"\",\"\",VLOOKUP($Q$10,DATA!$P$2:$R$196,3))","v":""},{"$f":"IF(PXU18=\"\",\"\",VLOOKUP($Q$10,DATA!$P$2:$R$196,3))","v":""},{"$f":"IF(PXV18=\"\",\"\",VLOOKUP($Q$10,DATA!$P$2:$R$196,3))","v":""},{"$f":"IF(PXW18=\"\",\"\",VLOOKUP($Q$10,DATA!$P$2:$R$196,3))","v":""},{"$f":"IF(PXX18=\"\",\"\",VLOOKUP($Q$10,DATA!$P$2:$R$196,3))","v":""},{"$f":"IF(PXY18=\"\",\"\",VLOOKUP($Q$10,DATA!$P$2:$R$196,3))","v":""},{"$f":"IF(PXZ18=\"\",\"\",VLOOKUP($Q$10,DATA!$P$2:$R$196,3))","v":""},{"$f":"IF(PYA18=\"\",\"\",VLOOKUP($Q$10,DATA!$P$2:$R$196,3))","v":""},{"$f":"IF(PYB18=\"\",\"\",VLOOKUP($Q$10,DATA!$P$2:$R$196,3))","v":""},{"$f":"IF(PYC18=\"\",\"\",VLOOKUP($Q$10,DATA!$P$2:$R$196,3))","v":""},{"$f":"IF(PYD18=\"\",\"\",VLOOKUP($Q$10,DATA!$P$2:$R$196,3))","v":""},{"$f":"IF(PYE18=\"\",\"\",VLOOKUP($Q$10,DATA!$P$2:$R$196,3))","v":""},{"$f":"IF(PYF18=\"\",\"\",VLOOKUP($Q$10,DATA!$P$2:$R$196,3))","v":""},{"$f":"IF(PYG18=\"\",\"\",VLOOKUP($Q$10,DATA!$P$2:$R$196,3))","v":""},{"$f":"IF(PYH18=\"\",\"\",VLOOKUP($Q$10,DATA!$P$2:$R$196,3))","v":""},{"$f":"IF(PYI18=\"\",\"\",VLOOKUP($Q$10,DATA!$P$2:$R$196,3))","v":""},{"$f":"IF(PYJ18=\"\",\"\",VLOOKUP($Q$10,DATA!$P$2:$R$196,3))","v":""},{"$f":"IF(PYK18=\"\",\"\",VLOOKUP($Q$10,DATA!$P$2:$R$196,3))","v":""},{"$f":"IF(PYL18=\"\",\"\",VLOOKUP($Q$10,DATA!$P$2:$R$196,3))","v":""},{"$f":"IF(PYM18=\"\",\"\",VLOOKUP($Q$10,DATA!$P$2:$R$196,3))","v":""},{"$f":"IF(PYN18=\"\",\"\",VLOOKUP($Q$10,DATA!$P$2:$R$196,3))","v":""},{"$f":"IF(PYO18=\"\",\"\",VLOOKUP($Q$10,DATA!$P$2:$R$196,3))","v":""},{"$f":"IF(PYP18=\"\",\"\",VLOOKUP($Q$10,DATA!$P$2:$R$196,3))","v":""},{"$f":"IF(PYQ18=\"\",\"\",VLOOKUP($Q$10,DATA!$P$2:$R$196,3))","v":""},{"$f":"IF(PYR18=\"\",\"\",VLOOKUP($Q$10,DATA!$P$2:$R$196,3))","v":""},{"$f":"IF(PYS18=\"\",\"\",VLOOKUP($Q$10,DATA!$P$2:$R$196,3))","v":""},{"$f":"IF(PYT18=\"\",\"\",VLOOKUP($Q$10,DATA!$P$2:$R$196,3))","v":""},{"$f":"IF(PYU18=\"\",\"\",VLOOKUP($Q$10,DATA!$P$2:$R$196,3))","v":""},{"$f":"IF(PYV18=\"\",\"\",VLOOKUP($Q$10,DATA!$P$2:$R$196,3))","v":""},{"$f":"IF(PYW18=\"\",\"\",VLOOKUP($Q$10,DATA!$P$2:$R$196,3))","v":""},{"$f":"IF(PYX18=\"\",\"\",VLOOKUP($Q$10,DATA!$P$2:$R$196,3))","v":""},{"$f":"IF(PYY18=\"\",\"\",VLOOKUP($Q$10,DATA!$P$2:$R$196,3))","v":""},{"$f":"IF(PYZ18=\"\",\"\",VLOOKUP($Q$10,DATA!$P$2:$R$196,3))","v":""},{"$f":"IF(PZA18=\"\",\"\",VLOOKUP($Q$10,DATA!$P$2:$R$196,3))","v":""},{"$f":"IF(PZB18=\"\",\"\",VLOOKUP($Q$10,DATA!$P$2:$R$196,3))","v":""},{"$f":"IF(PZC18=\"\",\"\",VLOOKUP($Q$10,DATA!$P$2:$R$196,3))","v":""},{"$f":"IF(PZD18=\"\",\"\",VLOOKUP($Q$10,DATA!$P$2:$R$196,3))","v":""},{"$f":"IF(PZE18=\"\",\"\",VLOOKUP($Q$10,DATA!$P$2:$R$196,3))","v":""},{"$f":"IF(PZF18=\"\",\"\",VLOOKUP($Q$10,DATA!$P$2:$R$196,3))","v":""},{"$f":"IF(PZG18=\"\",\"\",VLOOKUP($Q$10,DATA!$P$2:$R$196,3))","v":""},{"$f":"IF(PZH18=\"\",\"\",VLOOKUP($Q$10,DATA!$P$2:$R$196,3))","v":""},{"$f":"IF(PZI18=\"\",\"\",VLOOKUP($Q$10,DATA!$P$2:$R$196,3))","v":""},{"$f":"IF(PZJ18=\"\",\"\",VLOOKUP($Q$10,DATA!$P$2:$R$196,3))","v":""},{"$f":"IF(PZK18=\"\",\"\",VLOOKUP($Q$10,DATA!$P$2:$R$196,3))","v":""},{"$f":"IF(PZL18=\"\",\"\",VLOOKUP($Q$10,DATA!$P$2:$R$196,3))","v":""},{"$f":"IF(PZM18=\"\",\"\",VLOOKUP($Q$10,DATA!$P$2:$R$196,3))","v":""},{"$f":"IF(PZN18=\"\",\"\",VLOOKUP($Q$10,DATA!$P$2:$R$196,3))","v":""},{"$f":"IF(PZO18=\"\",\"\",VLOOKUP($Q$10,DATA!$P$2:$R$196,3))","v":""},{"$f":"IF(PZP18=\"\",\"\",VLOOKUP($Q$10,DATA!$P$2:$R$196,3))","v":""},{"$f":"IF(PZQ18=\"\",\"\",VLOOKUP($Q$10,DATA!$P$2:$R$196,3))","v":""},{"$f":"IF(PZR18=\"\",\"\",VLOOKUP($Q$10,DATA!$P$2:$R$196,3))","v":""},{"$f":"IF(PZS18=\"\",\"\",VLOOKUP($Q$10,DATA!$P$2:$R$196,3))","v":""},{"$f":"IF(PZT18=\"\",\"\",VLOOKUP($Q$10,DATA!$P$2:$R$196,3))","v":""},{"$f":"IF(PZU18=\"\",\"\",VLOOKUP($Q$10,DATA!$P$2:$R$196,3))","v":""},{"$f":"IF(PZV18=\"\",\"\",VLOOKUP($Q$10,DATA!$P$2:$R$196,3))","v":""},{"$f":"IF(PZW18=\"\",\"\",VLOOKUP($Q$10,DATA!$P$2:$R$196,3))","v":""},{"$f":"IF(PZX18=\"\",\"\",VLOOKUP($Q$10,DATA!$P$2:$R$196,3))","v":""},{"$f":"IF(PZY18=\"\",\"\",VLOOKUP($Q$10,DATA!$P$2:$R$196,3))","v":""},{"$f":"IF(PZZ18=\"\",\"\",VLOOKUP($Q$10,DATA!$P$2:$R$196,3))","v":""},{"$f":"IF(QAA18=\"\",\"\",VLOOKUP($Q$10,DATA!$P$2:$R$196,3))","v":""},{"$f":"IF(QAB18=\"\",\"\",VLOOKUP($Q$10,DATA!$P$2:$R$196,3))","v":""},{"$f":"IF(QAC18=\"\",\"\",VLOOKUP($Q$10,DATA!$P$2:$R$196,3))","v":""},{"$f":"IF(QAD18=\"\",\"\",VLOOKUP($Q$10,DATA!$P$2:$R$196,3))","v":""},{"$f":"IF(QAE18=\"\",\"\",VLOOKUP($Q$10,DATA!$P$2:$R$196,3))","v":""},{"$f":"IF(QAF18=\"\",\"\",VLOOKUP($Q$10,DATA!$P$2:$R$196,3))","v":""},{"$f":"IF(QAG18=\"\",\"\",VLOOKUP($Q$10,DATA!$P$2:$R$196,3))","v":""},{"$f":"IF(QAH18=\"\",\"\",VLOOKUP($Q$10,DATA!$P$2:$R$196,3))","v":""},{"$f":"IF(QAI18=\"\",\"\",VLOOKUP($Q$10,DATA!$P$2:$R$196,3))","v":""},{"$f":"IF(QAJ18=\"\",\"\",VLOOKUP($Q$10,DATA!$P$2:$R$196,3))","v":""},{"$f":"IF(QAK18=\"\",\"\",VLOOKUP($Q$10,DATA!$P$2:$R$196,3))","v":""},{"$f":"IF(QAL18=\"\",\"\",VLOOKUP($Q$10,DATA!$P$2:$R$196,3))","v":""},{"$f":"IF(QAM18=\"\",\"\",VLOOKUP($Q$10,DATA!$P$2:$R$196,3))","v":""},{"$f":"IF(QAN18=\"\",\"\",VLOOKUP($Q$10,DATA!$P$2:$R$196,3))","v":""},{"$f":"IF(QAO18=\"\",\"\",VLOOKUP($Q$10,DATA!$P$2:$R$196,3))","v":""},{"$f":"IF(QAP18=\"\",\"\",VLOOKUP($Q$10,DATA!$P$2:$R$196,3))","v":""},{"$f":"IF(QAQ18=\"\",\"\",VLOOKUP($Q$10,DATA!$P$2:$R$196,3))","v":""},{"$f":"IF(QAR18=\"\",\"\",VLOOKUP($Q$10,DATA!$P$2:$R$196,3))","v":""},{"$f":"IF(QAS18=\"\",\"\",VLOOKUP($Q$10,DATA!$P$2:$R$196,3))","v":""},{"$f":"IF(QAT18=\"\",\"\",VLOOKUP($Q$10,DATA!$P$2:$R$196,3))","v":""},{"$f":"IF(QAU18=\"\",\"\",VLOOKUP($Q$10,DATA!$P$2:$R$196,3))","v":""},{"$f":"IF(QAV18=\"\",\"\",VLOOKUP($Q$10,DATA!$P$2:$R$196,3))","v":""},{"$f":"IF(QAW18=\"\",\"\",VLOOKUP($Q$10,DATA!$P$2:$R$196,3))","v":""},{"$f":"IF(QAX18=\"\",\"\",VLOOKUP($Q$10,DATA!$P$2:$R$196,3))","v":""},{"$f":"IF(QAY18=\"\",\"\",VLOOKUP($Q$10,DATA!$P$2:$R$196,3))","v":""},{"$f":"IF(QAZ18=\"\",\"\",VLOOKUP($Q$10,DATA!$P$2:$R$196,3))","v":""},{"$f":"IF(QBA18=\"\",\"\",VLOOKUP($Q$10,DATA!$P$2:$R$196,3))","v":""},{"$f":"IF(QBB18=\"\",\"\",VLOOKUP($Q$10,DATA!$P$2:$R$196,3))","v":""},{"$f":"IF(QBC18=\"\",\"\",VLOOKUP($Q$10,DATA!$P$2:$R$196,3))","v":""},{"$f":"IF(QBD18=\"\",\"\",VLOOKUP($Q$10,DATA!$P$2:$R$196,3))","v":""},{"$f":"IF(QBE18=\"\",\"\",VLOOKUP($Q$10,DATA!$P$2:$R$196,3))","v":""},{"$f":"IF(QBF18=\"\",\"\",VLOOKUP($Q$10,DATA!$P$2:$R$196,3))","v":""},{"$f":"IF(QBG18=\"\",\"\",VLOOKUP($Q$10,DATA!$P$2:$R$196,3))","v":""},{"$f":"IF(QBH18=\"\",\"\",VLOOKUP($Q$10,DATA!$P$2:$R$196,3))","v":""},{"$f":"IF(QBI18=\"\",\"\",VLOOKUP($Q$10,DATA!$P$2:$R$196,3))","v":""},{"$f":"IF(QBJ18=\"\",\"\",VLOOKUP($Q$10,DATA!$P$2:$R$196,3))","v":""},{"$f":"IF(QBK18=\"\",\"\",VLOOKUP($Q$10,DATA!$P$2:$R$196,3))","v":""},{"$f":"IF(QBL18=\"\",\"\",VLOOKUP($Q$10,DATA!$P$2:$R$196,3))","v":""},{"$f":"IF(QBM18=\"\",\"\",VLOOKUP($Q$10,DATA!$P$2:$R$196,3))","v":""},{"$f":"IF(QBN18=\"\",\"\",VLOOKUP($Q$10,DATA!$P$2:$R$196,3))","v":""},{"$f":"IF(QBO18=\"\",\"\",VLOOKUP($Q$10,DATA!$P$2:$R$196,3))","v":""},{"$f":"IF(QBP18=\"\",\"\",VLOOKUP($Q$10,DATA!$P$2:$R$196,3))","v":""},{"$f":"IF(QBQ18=\"\",\"\",VLOOKUP($Q$10,DATA!$P$2:$R$196,3))","v":""},{"$f":"IF(QBR18=\"\",\"\",VLOOKUP($Q$10,DATA!$P$2:$R$196,3))","v":""},{"$f":"IF(QBS18=\"\",\"\",VLOOKUP($Q$10,DATA!$P$2:$R$196,3))","v":""},{"$f":"IF(QBT18=\"\",\"\",VLOOKUP($Q$10,DATA!$P$2:$R$196,3))","v":""},{"$f":"IF(QBU18=\"\",\"\",VLOOKUP($Q$10,DATA!$P$2:$R$196,3))","v":""},{"$f":"IF(QBV18=\"\",\"\",VLOOKUP($Q$10,DATA!$P$2:$R$196,3))","v":""},{"$f":"IF(QBW18=\"\",\"\",VLOOKUP($Q$10,DATA!$P$2:$R$196,3))","v":""},{"$f":"IF(QBX18=\"\",\"\",VLOOKUP($Q$10,DATA!$P$2:$R$196,3))","v":""},{"$f":"IF(QBY18=\"\",\"\",VLOOKUP($Q$10,DATA!$P$2:$R$196,3))","v":""},{"$f":"IF(QBZ18=\"\",\"\",VLOOKUP($Q$10,DATA!$P$2:$R$196,3))","v":""},{"$f":"IF(QCA18=\"\",\"\",VLOOKUP($Q$10,DATA!$P$2:$R$196,3))","v":""},{"$f":"IF(QCB18=\"\",\"\",VLOOKUP($Q$10,DATA!$P$2:$R$196,3))","v":""},{"$f":"IF(QCC18=\"\",\"\",VLOOKUP($Q$10,DATA!$P$2:$R$196,3))","v":""},{"$f":"IF(QCD18=\"\",\"\",VLOOKUP($Q$10,DATA!$P$2:$R$196,3))","v":""},{"$f":"IF(QCE18=\"\",\"\",VLOOKUP($Q$10,DATA!$P$2:$R$196,3))","v":""},{"$f":"IF(QCF18=\"\",\"\",VLOOKUP($Q$10,DATA!$P$2:$R$196,3))","v":""},{"$f":"IF(QCG18=\"\",\"\",VLOOKUP($Q$10,DATA!$P$2:$R$196,3))","v":""},{"$f":"IF(QCH18=\"\",\"\",VLOOKUP($Q$10,DATA!$P$2:$R$196,3))","v":""},{"$f":"IF(QCI18=\"\",\"\",VLOOKUP($Q$10,DATA!$P$2:$R$196,3))","v":""},{"$f":"IF(QCJ18=\"\",\"\",VLOOKUP($Q$10,DATA!$P$2:$R$196,3))","v":""},{"$f":"IF(QCK18=\"\",\"\",VLOOKUP($Q$10,DATA!$P$2:$R$196,3))","v":""},{"$f":"IF(QCL18=\"\",\"\",VLOOKUP($Q$10,DATA!$P$2:$R$196,3))","v":""},{"$f":"IF(QCM18=\"\",\"\",VLOOKUP($Q$10,DATA!$P$2:$R$196,3))","v":""},{"$f":"IF(QCN18=\"\",\"\",VLOOKUP($Q$10,DATA!$P$2:$R$196,3))","v":""},{"$f":"IF(QCO18=\"\",\"\",VLOOKUP($Q$10,DATA!$P$2:$R$196,3))","v":""},{"$f":"IF(QCP18=\"\",\"\",VLOOKUP($Q$10,DATA!$P$2:$R$196,3))","v":""},{"$f":"IF(QCQ18=\"\",\"\",VLOOKUP($Q$10,DATA!$P$2:$R$196,3))","v":""},{"$f":"IF(QCR18=\"\",\"\",VLOOKUP($Q$10,DATA!$P$2:$R$196,3))","v":""},{"$f":"IF(QCS18=\"\",\"\",VLOOKUP($Q$10,DATA!$P$2:$R$196,3))","v":""},{"$f":"IF(QCT18=\"\",\"\",VLOOKUP($Q$10,DATA!$P$2:$R$196,3))","v":""},{"$f":"IF(QCU18=\"\",\"\",VLOOKUP($Q$10,DATA!$P$2:$R$196,3))","v":""},{"$f":"IF(QCV18=\"\",\"\",VLOOKUP($Q$10,DATA!$P$2:$R$196,3))","v":""},{"$f":"IF(QCW18=\"\",\"\",VLOOKUP($Q$10,DATA!$P$2:$R$196,3))","v":""},{"$f":"IF(QCX18=\"\",\"\",VLOOKUP($Q$10,DATA!$P$2:$R$196,3))","v":""},{"$f":"IF(QCY18=\"\",\"\",VLOOKUP($Q$10,DATA!$P$2:$R$196,3))","v":""},{"$f":"IF(QCZ18=\"\",\"\",VLOOKUP($Q$10,DATA!$P$2:$R$196,3))","v":""},{"$f":"IF(QDA18=\"\",\"\",VLOOKUP($Q$10,DATA!$P$2:$R$196,3))","v":""},{"$f":"IF(QDB18=\"\",\"\",VLOOKUP($Q$10,DATA!$P$2:$R$196,3))","v":""},{"$f":"IF(QDC18=\"\",\"\",VLOOKUP($Q$10,DATA!$P$2:$R$196,3))","v":""},{"$f":"IF(QDD18=\"\",\"\",VLOOKUP($Q$10,DATA!$P$2:$R$196,3))","v":""},{"$f":"IF(QDE18=\"\",\"\",VLOOKUP($Q$10,DATA!$P$2:$R$196,3))","v":""},{"$f":"IF(QDF18=\"\",\"\",VLOOKUP($Q$10,DATA!$P$2:$R$196,3))","v":""},{"$f":"IF(QDG18=\"\",\"\",VLOOKUP($Q$10,DATA!$P$2:$R$196,3))","v":""},{"$f":"IF(QDH18=\"\",\"\",VLOOKUP($Q$10,DATA!$P$2:$R$196,3))","v":""},{"$f":"IF(QDI18=\"\",\"\",VLOOKUP($Q$10,DATA!$P$2:$R$196,3))","v":""},{"$f":"IF(QDJ18=\"\",\"\",VLOOKUP($Q$10,DATA!$P$2:$R$196,3))","v":""},{"$f":"IF(QDK18=\"\",\"\",VLOOKUP($Q$10,DATA!$P$2:$R$196,3))","v":""},{"$f":"IF(QDL18=\"\",\"\",VLOOKUP($Q$10,DATA!$P$2:$R$196,3))","v":""},{"$f":"IF(QDM18=\"\",\"\",VLOOKUP($Q$10,DATA!$P$2:$R$196,3))","v":""},{"$f":"IF(QDN18=\"\",\"\",VLOOKUP($Q$10,DATA!$P$2:$R$196,3))","v":""},{"$f":"IF(QDO18=\"\",\"\",VLOOKUP($Q$10,DATA!$P$2:$R$196,3))","v":""},{"$f":"IF(QDP18=\"\",\"\",VLOOKUP($Q$10,DATA!$P$2:$R$196,3))","v":""},{"$f":"IF(QDQ18=\"\",\"\",VLOOKUP($Q$10,DATA!$P$2:$R$196,3))","v":""},{"$f":"IF(QDR18=\"\",\"\",VLOOKUP($Q$10,DATA!$P$2:$R$196,3))","v":""},{"$f":"IF(QDS18=\"\",\"\",VLOOKUP($Q$10,DATA!$P$2:$R$196,3))","v":""},{"$f":"IF(QDT18=\"\",\"\",VLOOKUP($Q$10,DATA!$P$2:$R$196,3))","v":""},{"$f":"IF(QDU18=\"\",\"\",VLOOKUP($Q$10,DATA!$P$2:$R$196,3))","v":""},{"$f":"IF(QDV18=\"\",\"\",VLOOKUP($Q$10,DATA!$P$2:$R$196,3))","v":""},{"$f":"IF(QDW18=\"\",\"\",VLOOKUP($Q$10,DATA!$P$2:$R$196,3))","v":""},{"$f":"IF(QDX18=\"\",\"\",VLOOKUP($Q$10,DATA!$P$2:$R$196,3))","v":""},{"$f":"IF(QDY18=\"\",\"\",VLOOKUP($Q$10,DATA!$P$2:$R$196,3))","v":""},{"$f":"IF(QDZ18=\"\",\"\",VLOOKUP($Q$10,DATA!$P$2:$R$196,3))","v":""},{"$f":"IF(QEA18=\"\",\"\",VLOOKUP($Q$10,DATA!$P$2:$R$196,3))","v":""},{"$f":"IF(QEB18=\"\",\"\",VLOOKUP($Q$10,DATA!$P$2:$R$196,3))","v":""},{"$f":"IF(QEC18=\"\",\"\",VLOOKUP($Q$10,DATA!$P$2:$R$196,3))","v":""},{"$f":"IF(QED18=\"\",\"\",VLOOKUP($Q$10,DATA!$P$2:$R$196,3))","v":""},{"$f":"IF(QEE18=\"\",\"\",VLOOKUP($Q$10,DATA!$P$2:$R$196,3))","v":""},{"$f":"IF(QEF18=\"\",\"\",VLOOKUP($Q$10,DATA!$P$2:$R$196,3))","v":""},{"$f":"IF(QEG18=\"\",\"\",VLOOKUP($Q$10,DATA!$P$2:$R$196,3))","v":""},{"$f":"IF(QEH18=\"\",\"\",VLOOKUP($Q$10,DATA!$P$2:$R$196,3))","v":""},{"$f":"IF(QEI18=\"\",\"\",VLOOKUP($Q$10,DATA!$P$2:$R$196,3))","v":""},{"$f":"IF(QEJ18=\"\",\"\",VLOOKUP($Q$10,DATA!$P$2:$R$196,3))","v":""},{"$f":"IF(QEK18=\"\",\"\",VLOOKUP($Q$10,DATA!$P$2:$R$196,3))","v":""},{"$f":"IF(QEL18=\"\",\"\",VLOOKUP($Q$10,DATA!$P$2:$R$196,3))","v":""},{"$f":"IF(QEM18=\"\",\"\",VLOOKUP($Q$10,DATA!$P$2:$R$196,3))","v":""},{"$f":"IF(QEN18=\"\",\"\",VLOOKUP($Q$10,DATA!$P$2:$R$196,3))","v":""},{"$f":"IF(QEO18=\"\",\"\",VLOOKUP($Q$10,DATA!$P$2:$R$196,3))","v":""},{"$f":"IF(QEP18=\"\",\"\",VLOOKUP($Q$10,DATA!$P$2:$R$196,3))","v":""},{"$f":"IF(QEQ18=\"\",\"\",VLOOKUP($Q$10,DATA!$P$2:$R$196,3))","v":""},{"$f":"IF(QER18=\"\",\"\",VLOOKUP($Q$10,DATA!$P$2:$R$196,3))","v":""},{"$f":"IF(QES18=\"\",\"\",VLOOKUP($Q$10,DATA!$P$2:$R$196,3))","v":""},{"$f":"IF(QET18=\"\",\"\",VLOOKUP($Q$10,DATA!$P$2:$R$196,3))","v":""},{"$f":"IF(QEU18=\"\",\"\",VLOOKUP($Q$10,DATA!$P$2:$R$196,3))","v":""},{"$f":"IF(QEV18=\"\",\"\",VLOOKUP($Q$10,DATA!$P$2:$R$196,3))","v":""},{"$f":"IF(QEW18=\"\",\"\",VLOOKUP($Q$10,DATA!$P$2:$R$196,3))","v":""},{"$f":"IF(QEX18=\"\",\"\",VLOOKUP($Q$10,DATA!$P$2:$R$196,3))","v":""},{"$f":"IF(QEY18=\"\",\"\",VLOOKUP($Q$10,DATA!$P$2:$R$196,3))","v":""},{"$f":"IF(QEZ18=\"\",\"\",VLOOKUP($Q$10,DATA!$P$2:$R$196,3))","v":""},{"$f":"IF(QFA18=\"\",\"\",VLOOKUP($Q$10,DATA!$P$2:$R$196,3))","v":""},{"$f":"IF(QFB18=\"\",\"\",VLOOKUP($Q$10,DATA!$P$2:$R$196,3))","v":""},{"$f":"IF(QFC18=\"\",\"\",VLOOKUP($Q$10,DATA!$P$2:$R$196,3))","v":""},{"$f":"IF(QFD18=\"\",\"\",VLOOKUP($Q$10,DATA!$P$2:$R$196,3))","v":""},{"$f":"IF(QFE18=\"\",\"\",VLOOKUP($Q$10,DATA!$P$2:$R$196,3))","v":""},{"$f":"IF(QFF18=\"\",\"\",VLOOKUP($Q$10,DATA!$P$2:$R$196,3))","v":""},{"$f":"IF(QFG18=\"\",\"\",VLOOKUP($Q$10,DATA!$P$2:$R$196,3))","v":""},{"$f":"IF(QFH18=\"\",\"\",VLOOKUP($Q$10,DATA!$P$2:$R$196,3))","v":""},{"$f":"IF(QFI18=\"\",\"\",VLOOKUP($Q$10,DATA!$P$2:$R$196,3))","v":""},{"$f":"IF(QFJ18=\"\",\"\",VLOOKUP($Q$10,DATA!$P$2:$R$196,3))","v":""},{"$f":"IF(QFK18=\"\",\"\",VLOOKUP($Q$10,DATA!$P$2:$R$196,3))","v":""},{"$f":"IF(QFL18=\"\",\"\",VLOOKUP($Q$10,DATA!$P$2:$R$196,3))","v":""},{"$f":"IF(QFM18=\"\",\"\",VLOOKUP($Q$10,DATA!$P$2:$R$196,3))","v":""},{"$f":"IF(QFN18=\"\",\"\",VLOOKUP($Q$10,DATA!$P$2:$R$196,3))","v":""},{"$f":"IF(QFO18=\"\",\"\",VLOOKUP($Q$10,DATA!$P$2:$R$196,3))","v":""},{"$f":"IF(QFP18=\"\",\"\",VLOOKUP($Q$10,DATA!$P$2:$R$196,3))","v":""},{"$f":"IF(QFQ18=\"\",\"\",VLOOKUP($Q$10,DATA!$P$2:$R$196,3))","v":""},{"$f":"IF(QFR18=\"\",\"\",VLOOKUP($Q$10,DATA!$P$2:$R$196,3))","v":""},{"$f":"IF(QFS18=\"\",\"\",VLOOKUP($Q$10,DATA!$P$2:$R$196,3))","v":""},{"$f":"IF(QFT18=\"\",\"\",VLOOKUP($Q$10,DATA!$P$2:$R$196,3))","v":""},{"$f":"IF(QFU18=\"\",\"\",VLOOKUP($Q$10,DATA!$P$2:$R$196,3))","v":""},{"$f":"IF(QFV18=\"\",\"\",VLOOKUP($Q$10,DATA!$P$2:$R$196,3))","v":""},{"$f":"IF(QFW18=\"\",\"\",VLOOKUP($Q$10,DATA!$P$2:$R$196,3))","v":""},{"$f":"IF(QFX18=\"\",\"\",VLOOKUP($Q$10,DATA!$P$2:$R$196,3))","v":""},{"$f":"IF(QFY18=\"\",\"\",VLOOKUP($Q$10,DATA!$P$2:$R$196,3))","v":""},{"$f":"IF(QFZ18=\"\",\"\",VLOOKUP($Q$10,DATA!$P$2:$R$196,3))","v":""},{"$f":"IF(QGA18=\"\",\"\",VLOOKUP($Q$10,DATA!$P$2:$R$196,3))","v":""},{"$f":"IF(QGB18=\"\",\"\",VLOOKUP($Q$10,DATA!$P$2:$R$196,3))","v":""},{"$f":"IF(QGC18=\"\",\"\",VLOOKUP($Q$10,DATA!$P$2:$R$196,3))","v":""},{"$f":"IF(QGD18=\"\",\"\",VLOOKUP($Q$10,DATA!$P$2:$R$196,3))","v":""},{"$f":"IF(QGE18=\"\",\"\",VLOOKUP($Q$10,DATA!$P$2:$R$196,3))","v":""},{"$f":"IF(QGF18=\"\",\"\",VLOOKUP($Q$10,DATA!$P$2:$R$196,3))","v":""},{"$f":"IF(QGG18=\"\",\"\",VLOOKUP($Q$10,DATA!$P$2:$R$196,3))","v":""},{"$f":"IF(QGH18=\"\",\"\",VLOOKUP($Q$10,DATA!$P$2:$R$196,3))","v":""},{"$f":"IF(QGI18=\"\",\"\",VLOOKUP($Q$10,DATA!$P$2:$R$196,3))","v":""},{"$f":"IF(QGJ18=\"\",\"\",VLOOKUP($Q$10,DATA!$P$2:$R$196,3))","v":""},{"$f":"IF(QGK18=\"\",\"\",VLOOKUP($Q$10,DATA!$P$2:$R$196,3))","v":""},{"$f":"IF(QGL18=\"\",\"\",VLOOKUP($Q$10,DATA!$P$2:$R$196,3))","v":""},{"$f":"IF(QGM18=\"\",\"\",VLOOKUP($Q$10,DATA!$P$2:$R$196,3))","v":""},{"$f":"IF(QGN18=\"\",\"\",VLOOKUP($Q$10,DATA!$P$2:$R$196,3))","v":""},{"$f":"IF(QGO18=\"\",\"\",VLOOKUP($Q$10,DATA!$P$2:$R$196,3))","v":""},{"$f":"IF(QGP18=\"\",\"\",VLOOKUP($Q$10,DATA!$P$2:$R$196,3))","v":""},{"$f":"IF(QGQ18=\"\",\"\",VLOOKUP($Q$10,DATA!$P$2:$R$196,3))","v":""},{"$f":"IF(QGR18=\"\",\"\",VLOOKUP($Q$10,DATA!$P$2:$R$196,3))","v":""},{"$f":"IF(QGS18=\"\",\"\",VLOOKUP($Q$10,DATA!$P$2:$R$196,3))","v":""},{"$f":"IF(QGT18=\"\",\"\",VLOOKUP($Q$10,DATA!$P$2:$R$196,3))","v":""},{"$f":"IF(QGU18=\"\",\"\",VLOOKUP($Q$10,DATA!$P$2:$R$196,3))","v":""},{"$f":"IF(QGV18=\"\",\"\",VLOOKUP($Q$10,DATA!$P$2:$R$196,3))","v":""},{"$f":"IF(QGW18=\"\",\"\",VLOOKUP($Q$10,DATA!$P$2:$R$196,3))","v":""},{"$f":"IF(QGX18=\"\",\"\",VLOOKUP($Q$10,DATA!$P$2:$R$196,3))","v":""},{"$f":"IF(QGY18=\"\",\"\",VLOOKUP($Q$10,DATA!$P$2:$R$196,3))","v":""},{"$f":"IF(QGZ18=\"\",\"\",VLOOKUP($Q$10,DATA!$P$2:$R$196,3))","v":""},{"$f":"IF(QHA18=\"\",\"\",VLOOKUP($Q$10,DATA!$P$2:$R$196,3))","v":""},{"$f":"IF(QHB18=\"\",\"\",VLOOKUP($Q$10,DATA!$P$2:$R$196,3))","v":""},{"$f":"IF(QHC18=\"\",\"\",VLOOKUP($Q$10,DATA!$P$2:$R$196,3))","v":""},{"$f":"IF(QHD18=\"\",\"\",VLOOKUP($Q$10,DATA!$P$2:$R$196,3))","v":""},{"$f":"IF(QHE18=\"\",\"\",VLOOKUP($Q$10,DATA!$P$2:$R$196,3))","v":""},{"$f":"IF(QHF18=\"\",\"\",VLOOKUP($Q$10,DATA!$P$2:$R$196,3))","v":""},{"$f":"IF(QHG18=\"\",\"\",VLOOKUP($Q$10,DATA!$P$2:$R$196,3))","v":""},{"$f":"IF(QHH18=\"\",\"\",VLOOKUP($Q$10,DATA!$P$2:$R$196,3))","v":""},{"$f":"IF(QHI18=\"\",\"\",VLOOKUP($Q$10,DATA!$P$2:$R$196,3))","v":""},{"$f":"IF(QHJ18=\"\",\"\",VLOOKUP($Q$10,DATA!$P$2:$R$196,3))","v":""},{"$f":"IF(QHK18=\"\",\"\",VLOOKUP($Q$10,DATA!$P$2:$R$196,3))","v":""},{"$f":"IF(QHL18=\"\",\"\",VLOOKUP($Q$10,DATA!$P$2:$R$196,3))","v":""},{"$f":"IF(QHM18=\"\",\"\",VLOOKUP($Q$10,DATA!$P$2:$R$196,3))","v":""},{"$f":"IF(QHN18=\"\",\"\",VLOOKUP($Q$10,DATA!$P$2:$R$196,3))","v":""},{"$f":"IF(QHO18=\"\",\"\",VLOOKUP($Q$10,DATA!$P$2:$R$196,3))","v":""},{"$f":"IF(QHP18=\"\",\"\",VLOOKUP($Q$10,DATA!$P$2:$R$196,3))","v":""},{"$f":"IF(QHQ18=\"\",\"\",VLOOKUP($Q$10,DATA!$P$2:$R$196,3))","v":""},{"$f":"IF(QHR18=\"\",\"\",VLOOKUP($Q$10,DATA!$P$2:$R$196,3))","v":""},{"$f":"IF(QHS18=\"\",\"\",VLOOKUP($Q$10,DATA!$P$2:$R$196,3))","v":""},{"$f":"IF(QHT18=\"\",\"\",VLOOKUP($Q$10,DATA!$P$2:$R$196,3))","v":""},{"$f":"IF(QHU18=\"\",\"\",VLOOKUP($Q$10,DATA!$P$2:$R$196,3))","v":""},{"$f":"IF(QHV18=\"\",\"\",VLOOKUP($Q$10,DATA!$P$2:$R$196,3))","v":""},{"$f":"IF(QHW18=\"\",\"\",VLOOKUP($Q$10,DATA!$P$2:$R$196,3))","v":""},{"$f":"IF(QHX18=\"\",\"\",VLOOKUP($Q$10,DATA!$P$2:$R$196,3))","v":""},{"$f":"IF(QHY18=\"\",\"\",VLOOKUP($Q$10,DATA!$P$2:$R$196,3))","v":""},{"$f":"IF(QHZ18=\"\",\"\",VLOOKUP($Q$10,DATA!$P$2:$R$196,3))","v":""},{"$f":"IF(QIA18=\"\",\"\",VLOOKUP($Q$10,DATA!$P$2:$R$196,3))","v":""},{"$f":"IF(QIB18=\"\",\"\",VLOOKUP($Q$10,DATA!$P$2:$R$196,3))","v":""},{"$f":"IF(QIC18=\"\",\"\",VLOOKUP($Q$10,DATA!$P$2:$R$196,3))","v":""},{"$f":"IF(QID18=\"\",\"\",VLOOKUP($Q$10,DATA!$P$2:$R$196,3))","v":""},{"$f":"IF(QIE18=\"\",\"\",VLOOKUP($Q$10,DATA!$P$2:$R$196,3))","v":""},{"$f":"IF(QIF18=\"\",\"\",VLOOKUP($Q$10,DATA!$P$2:$R$196,3))","v":""},{"$f":"IF(QIG18=\"\",\"\",VLOOKUP($Q$10,DATA!$P$2:$R$196,3))","v":""},{"$f":"IF(QIH18=\"\",\"\",VLOOKUP($Q$10,DATA!$P$2:$R$196,3))","v":""},{"$f":"IF(QII18=\"\",\"\",VLOOKUP($Q$10,DATA!$P$2:$R$196,3))","v":""},{"$f":"IF(QIJ18=\"\",\"\",VLOOKUP($Q$10,DATA!$P$2:$R$196,3))","v":""},{"$f":"IF(QIK18=\"\",\"\",VLOOKUP($Q$10,DATA!$P$2:$R$196,3))","v":""},{"$f":"IF(QIL18=\"\",\"\",VLOOKUP($Q$10,DATA!$P$2:$R$196,3))","v":""},{"$f":"IF(QIM18=\"\",\"\",VLOOKUP($Q$10,DATA!$P$2:$R$196,3))","v":""},{"$f":"IF(QIN18=\"\",\"\",VLOOKUP($Q$10,DATA!$P$2:$R$196,3))","v":""},{"$f":"IF(QIO18=\"\",\"\",VLOOKUP($Q$10,DATA!$P$2:$R$196,3))","v":""},{"$f":"IF(QIP18=\"\",\"\",VLOOKUP($Q$10,DATA!$P$2:$R$196,3))","v":""},{"$f":"IF(QIQ18=\"\",\"\",VLOOKUP($Q$10,DATA!$P$2:$R$196,3))","v":""},{"$f":"IF(QIR18=\"\",\"\",VLOOKUP($Q$10,DATA!$P$2:$R$196,3))","v":""},{"$f":"IF(QIS18=\"\",\"\",VLOOKUP($Q$10,DATA!$P$2:$R$196,3))","v":""},{"$f":"IF(QIT18=\"\",\"\",VLOOKUP($Q$10,DATA!$P$2:$R$196,3))","v":""},{"$f":"IF(QIU18=\"\",\"\",VLOOKUP($Q$10,DATA!$P$2:$R$196,3))","v":""},{"$f":"IF(QIV18=\"\",\"\",VLOOKUP($Q$10,DATA!$P$2:$R$196,3))","v":""},{"$f":"IF(QIW18=\"\",\"\",VLOOKUP($Q$10,DATA!$P$2:$R$196,3))","v":""},{"$f":"IF(QIX18=\"\",\"\",VLOOKUP($Q$10,DATA!$P$2:$R$196,3))","v":""},{"$f":"IF(QIY18=\"\",\"\",VLOOKUP($Q$10,DATA!$P$2:$R$196,3))","v":""},{"$f":"IF(QIZ18=\"\",\"\",VLOOKUP($Q$10,DATA!$P$2:$R$196,3))","v":""},{"$f":"IF(QJA18=\"\",\"\",VLOOKUP($Q$10,DATA!$P$2:$R$196,3))","v":""},{"$f":"IF(QJB18=\"\",\"\",VLOOKUP($Q$10,DATA!$P$2:$R$196,3))","v":""},{"$f":"IF(QJC18=\"\",\"\",VLOOKUP($Q$10,DATA!$P$2:$R$196,3))","v":""},{"$f":"IF(QJD18=\"\",\"\",VLOOKUP($Q$10,DATA!$P$2:$R$196,3))","v":""},{"$f":"IF(QJE18=\"\",\"\",VLOOKUP($Q$10,DATA!$P$2:$R$196,3))","v":""},{"$f":"IF(QJF18=\"\",\"\",VLOOKUP($Q$10,DATA!$P$2:$R$196,3))","v":""},{"$f":"IF(QJG18=\"\",\"\",VLOOKUP($Q$10,DATA!$P$2:$R$196,3))","v":""},{"$f":"IF(QJH18=\"\",\"\",VLOOKUP($Q$10,DATA!$P$2:$R$196,3))","v":""},{"$f":"IF(QJI18=\"\",\"\",VLOOKUP($Q$10,DATA!$P$2:$R$196,3))","v":""},{"$f":"IF(QJJ18=\"\",\"\",VLOOKUP($Q$10,DATA!$P$2:$R$196,3))","v":""},{"$f":"IF(QJK18=\"\",\"\",VLOOKUP($Q$10,DATA!$P$2:$R$196,3))","v":""},{"$f":"IF(QJL18=\"\",\"\",VLOOKUP($Q$10,DATA!$P$2:$R$196,3))","v":""},{"$f":"IF(QJM18=\"\",\"\",VLOOKUP($Q$10,DATA!$P$2:$R$196,3))","v":""},{"$f":"IF(QJN18=\"\",\"\",VLOOKUP($Q$10,DATA!$P$2:$R$196,3))","v":""},{"$f":"IF(QJO18=\"\",\"\",VLOOKUP($Q$10,DATA!$P$2:$R$196,3))","v":""},{"$f":"IF(QJP18=\"\",\"\",VLOOKUP($Q$10,DATA!$P$2:$R$196,3))","v":""},{"$f":"IF(QJQ18=\"\",\"\",VLOOKUP($Q$10,DATA!$P$2:$R$196,3))","v":""},{"$f":"IF(QJR18=\"\",\"\",VLOOKUP($Q$10,DATA!$P$2:$R$196,3))","v":""},{"$f":"IF(QJS18=\"\",\"\",VLOOKUP($Q$10,DATA!$P$2:$R$196,3))","v":""},{"$f":"IF(QJT18=\"\",\"\",VLOOKUP($Q$10,DATA!$P$2:$R$196,3))","v":""},{"$f":"IF(QJU18=\"\",\"\",VLOOKUP($Q$10,DATA!$P$2:$R$196,3))","v":""},{"$f":"IF(QJV18=\"\",\"\",VLOOKUP($Q$10,DATA!$P$2:$R$196,3))","v":""},{"$f":"IF(QJW18=\"\",\"\",VLOOKUP($Q$10,DATA!$P$2:$R$196,3))","v":""},{"$f":"IF(QJX18=\"\",\"\",VLOOKUP($Q$10,DATA!$P$2:$R$196,3))","v":""},{"$f":"IF(QJY18=\"\",\"\",VLOOKUP($Q$10,DATA!$P$2:$R$196,3))","v":""},{"$f":"IF(QJZ18=\"\",\"\",VLOOKUP($Q$10,DATA!$P$2:$R$196,3))","v":""},{"$f":"IF(QKA18=\"\",\"\",VLOOKUP($Q$10,DATA!$P$2:$R$196,3))","v":""},{"$f":"IF(QKB18=\"\",\"\",VLOOKUP($Q$10,DATA!$P$2:$R$196,3))","v":""},{"$f":"IF(QKC18=\"\",\"\",VLOOKUP($Q$10,DATA!$P$2:$R$196,3))","v":""},{"$f":"IF(QKD18=\"\",\"\",VLOOKUP($Q$10,DATA!$P$2:$R$196,3))","v":""},{"$f":"IF(QKE18=\"\",\"\",VLOOKUP($Q$10,DATA!$P$2:$R$196,3))","v":""},{"$f":"IF(QKF18=\"\",\"\",VLOOKUP($Q$10,DATA!$P$2:$R$196,3))","v":""},{"$f":"IF(QKG18=\"\",\"\",VLOOKUP($Q$10,DATA!$P$2:$R$196,3))","v":""},{"$f":"IF(QKH18=\"\",\"\",VLOOKUP($Q$10,DATA!$P$2:$R$196,3))","v":""},{"$f":"IF(QKI18=\"\",\"\",VLOOKUP($Q$10,DATA!$P$2:$R$196,3))","v":""},{"$f":"IF(QKJ18=\"\",\"\",VLOOKUP($Q$10,DATA!$P$2:$R$196,3))","v":""},{"$f":"IF(QKK18=\"\",\"\",VLOOKUP($Q$10,DATA!$P$2:$R$196,3))","v":""},{"$f":"IF(QKL18=\"\",\"\",VLOOKUP($Q$10,DATA!$P$2:$R$196,3))","v":""},{"$f":"IF(QKM18=\"\",\"\",VLOOKUP($Q$10,DATA!$P$2:$R$196,3))","v":""},{"$f":"IF(QKN18=\"\",\"\",VLOOKUP($Q$10,DATA!$P$2:$R$196,3))","v":""},{"$f":"IF(QKO18=\"\",\"\",VLOOKUP($Q$10,DATA!$P$2:$R$196,3))","v":""},{"$f":"IF(QKP18=\"\",\"\",VLOOKUP($Q$10,DATA!$P$2:$R$196,3))","v":""},{"$f":"IF(QKQ18=\"\",\"\",VLOOKUP($Q$10,DATA!$P$2:$R$196,3))","v":""},{"$f":"IF(QKR18=\"\",\"\",VLOOKUP($Q$10,DATA!$P$2:$R$196,3))","v":""},{"$f":"IF(QKS18=\"\",\"\",VLOOKUP($Q$10,DATA!$P$2:$R$196,3))","v":""},{"$f":"IF(QKT18=\"\",\"\",VLOOKUP($Q$10,DATA!$P$2:$R$196,3))","v":""},{"$f":"IF(QKU18=\"\",\"\",VLOOKUP($Q$10,DATA!$P$2:$R$196,3))","v":""},{"$f":"IF(QKV18=\"\",\"\",VLOOKUP($Q$10,DATA!$P$2:$R$196,3))","v":""},{"$f":"IF(QKW18=\"\",\"\",VLOOKUP($Q$10,DATA!$P$2:$R$196,3))","v":""},{"$f":"IF(QKX18=\"\",\"\",VLOOKUP($Q$10,DATA!$P$2:$R$196,3))","v":""},{"$f":"IF(QKY18=\"\",\"\",VLOOKUP($Q$10,DATA!$P$2:$R$196,3))","v":""},{"$f":"IF(QKZ18=\"\",\"\",VLOOKUP($Q$10,DATA!$P$2:$R$196,3))","v":""},{"$f":"IF(QLA18=\"\",\"\",VLOOKUP($Q$10,DATA!$P$2:$R$196,3))","v":""},{"$f":"IF(QLB18=\"\",\"\",VLOOKUP($Q$10,DATA!$P$2:$R$196,3))","v":""},{"$f":"IF(QLC18=\"\",\"\",VLOOKUP($Q$10,DATA!$P$2:$R$196,3))","v":""},{"$f":"IF(QLD18=\"\",\"\",VLOOKUP($Q$10,DATA!$P$2:$R$196,3))","v":""},{"$f":"IF(QLE18=\"\",\"\",VLOOKUP($Q$10,DATA!$P$2:$R$196,3))","v":""},{"$f":"IF(QLF18=\"\",\"\",VLOOKUP($Q$10,DATA!$P$2:$R$196,3))","v":""},{"$f":"IF(QLG18=\"\",\"\",VLOOKUP($Q$10,DATA!$P$2:$R$196,3))","v":""},{"$f":"IF(QLH18=\"\",\"\",VLOOKUP($Q$10,DATA!$P$2:$R$196,3))","v":""},{"$f":"IF(QLI18=\"\",\"\",VLOOKUP($Q$10,DATA!$P$2:$R$196,3))","v":""},{"$f":"IF(QLJ18=\"\",\"\",VLOOKUP($Q$10,DATA!$P$2:$R$196,3))","v":""},{"$f":"IF(QLK18=\"\",\"\",VLOOKUP($Q$10,DATA!$P$2:$R$196,3))","v":""},{"$f":"IF(QLL18=\"\",\"\",VLOOKUP($Q$10,DATA!$P$2:$R$196,3))","v":""},{"$f":"IF(QLM18=\"\",\"\",VLOOKUP($Q$10,DATA!$P$2:$R$196,3))","v":""},{"$f":"IF(QLN18=\"\",\"\",VLOOKUP($Q$10,DATA!$P$2:$R$196,3))","v":""},{"$f":"IF(QLO18=\"\",\"\",VLOOKUP($Q$10,DATA!$P$2:$R$196,3))","v":""},{"$f":"IF(QLP18=\"\",\"\",VLOOKUP($Q$10,DATA!$P$2:$R$196,3))","v":""},{"$f":"IF(QLQ18=\"\",\"\",VLOOKUP($Q$10,DATA!$P$2:$R$196,3))","v":""},{"$f":"IF(QLR18=\"\",\"\",VLOOKUP($Q$10,DATA!$P$2:$R$196,3))","v":""},{"$f":"IF(QLS18=\"\",\"\",VLOOKUP($Q$10,DATA!$P$2:$R$196,3))","v":""},{"$f":"IF(QLT18=\"\",\"\",VLOOKUP($Q$10,DATA!$P$2:$R$196,3))","v":""},{"$f":"IF(QLU18=\"\",\"\",VLOOKUP($Q$10,DATA!$P$2:$R$196,3))","v":""},{"$f":"IF(QLV18=\"\",\"\",VLOOKUP($Q$10,DATA!$P$2:$R$196,3))","v":""},{"$f":"IF(QLW18=\"\",\"\",VLOOKUP($Q$10,DATA!$P$2:$R$196,3))","v":""},{"$f":"IF(QLX18=\"\",\"\",VLOOKUP($Q$10,DATA!$P$2:$R$196,3))","v":""},{"$f":"IF(QLY18=\"\",\"\",VLOOKUP($Q$10,DATA!$P$2:$R$196,3))","v":""},{"$f":"IF(QLZ18=\"\",\"\",VLOOKUP($Q$10,DATA!$P$2:$R$196,3))","v":""},{"$f":"IF(QMA18=\"\",\"\",VLOOKUP($Q$10,DATA!$P$2:$R$196,3))","v":""},{"$f":"IF(QMB18=\"\",\"\",VLOOKUP($Q$10,DATA!$P$2:$R$196,3))","v":""},{"$f":"IF(QMC18=\"\",\"\",VLOOKUP($Q$10,DATA!$P$2:$R$196,3))","v":""},{"$f":"IF(QMD18=\"\",\"\",VLOOKUP($Q$10,DATA!$P$2:$R$196,3))","v":""},{"$f":"IF(QME18=\"\",\"\",VLOOKUP($Q$10,DATA!$P$2:$R$196,3))","v":""},{"$f":"IF(QMF18=\"\",\"\",VLOOKUP($Q$10,DATA!$P$2:$R$196,3))","v":""},{"$f":"IF(QMG18=\"\",\"\",VLOOKUP($Q$10,DATA!$P$2:$R$196,3))","v":""},{"$f":"IF(QMH18=\"\",\"\",VLOOKUP($Q$10,DATA!$P$2:$R$196,3))","v":""},{"$f":"IF(QMI18=\"\",\"\",VLOOKUP($Q$10,DATA!$P$2:$R$196,3))","v":""},{"$f":"IF(QMJ18=\"\",\"\",VLOOKUP($Q$10,DATA!$P$2:$R$196,3))","v":""},{"$f":"IF(QMK18=\"\",\"\",VLOOKUP($Q$10,DATA!$P$2:$R$196,3))","v":""},{"$f":"IF(QML18=\"\",\"\",VLOOKUP($Q$10,DATA!$P$2:$R$196,3))","v":""},{"$f":"IF(QMM18=\"\",\"\",VLOOKUP($Q$10,DATA!$P$2:$R$196,3))","v":""},{"$f":"IF(QMN18=\"\",\"\",VLOOKUP($Q$10,DATA!$P$2:$R$196,3))","v":""},{"$f":"IF(QMO18=\"\",\"\",VLOOKUP($Q$10,DATA!$P$2:$R$196,3))","v":""},{"$f":"IF(QMP18=\"\",\"\",VLOOKUP($Q$10,DATA!$P$2:$R$196,3))","v":""},{"$f":"IF(QMQ18=\"\",\"\",VLOOKUP($Q$10,DATA!$P$2:$R$196,3))","v":""},{"$f":"IF(QMR18=\"\",\"\",VLOOKUP($Q$10,DATA!$P$2:$R$196,3))","v":""},{"$f":"IF(QMS18=\"\",\"\",VLOOKUP($Q$10,DATA!$P$2:$R$196,3))","v":""},{"$f":"IF(QMT18=\"\",\"\",VLOOKUP($Q$10,DATA!$P$2:$R$196,3))","v":""},{"$f":"IF(QMU18=\"\",\"\",VLOOKUP($Q$10,DATA!$P$2:$R$196,3))","v":""},{"$f":"IF(QMV18=\"\",\"\",VLOOKUP($Q$10,DATA!$P$2:$R$196,3))","v":""},{"$f":"IF(QMW18=\"\",\"\",VLOOKUP($Q$10,DATA!$P$2:$R$196,3))","v":""},{"$f":"IF(QMX18=\"\",\"\",VLOOKUP($Q$10,DATA!$P$2:$R$196,3))","v":""},{"$f":"IF(QMY18=\"\",\"\",VLOOKUP($Q$10,DATA!$P$2:$R$196,3))","v":""},{"$f":"IF(QMZ18=\"\",\"\",VLOOKUP($Q$10,DATA!$P$2:$R$196,3))","v":""},{"$f":"IF(QNA18=\"\",\"\",VLOOKUP($Q$10,DATA!$P$2:$R$196,3))","v":""},{"$f":"IF(QNB18=\"\",\"\",VLOOKUP($Q$10,DATA!$P$2:$R$196,3))","v":""},{"$f":"IF(QNC18=\"\",\"\",VLOOKUP($Q$10,DATA!$P$2:$R$196,3))","v":""},{"$f":"IF(QND18=\"\",\"\",VLOOKUP($Q$10,DATA!$P$2:$R$196,3))","v":""},{"$f":"IF(QNE18=\"\",\"\",VLOOKUP($Q$10,DATA!$P$2:$R$196,3))","v":""},{"$f":"IF(QNF18=\"\",\"\",VLOOKUP($Q$10,DATA!$P$2:$R$196,3))","v":""},{"$f":"IF(QNG18=\"\",\"\",VLOOKUP($Q$10,DATA!$P$2:$R$196,3))","v":""},{"$f":"IF(QNH18=\"\",\"\",VLOOKUP($Q$10,DATA!$P$2:$R$196,3))","v":""},{"$f":"IF(QNI18=\"\",\"\",VLOOKUP($Q$10,DATA!$P$2:$R$196,3))","v":""},{"$f":"IF(QNJ18=\"\",\"\",VLOOKUP($Q$10,DATA!$P$2:$R$196,3))","v":""},{"$f":"IF(QNK18=\"\",\"\",VLOOKUP($Q$10,DATA!$P$2:$R$196,3))","v":""},{"$f":"IF(QNL18=\"\",\"\",VLOOKUP($Q$10,DATA!$P$2:$R$196,3))","v":""},{"$f":"IF(QNM18=\"\",\"\",VLOOKUP($Q$10,DATA!$P$2:$R$196,3))","v":""},{"$f":"IF(QNN18=\"\",\"\",VLOOKUP($Q$10,DATA!$P$2:$R$196,3))","v":""},{"$f":"IF(QNO18=\"\",\"\",VLOOKUP($Q$10,DATA!$P$2:$R$196,3))","v":""},{"$f":"IF(QNP18=\"\",\"\",VLOOKUP($Q$10,DATA!$P$2:$R$196,3))","v":""},{"$f":"IF(QNQ18=\"\",\"\",VLOOKUP($Q$10,DATA!$P$2:$R$196,3))","v":""},{"$f":"IF(QNR18=\"\",\"\",VLOOKUP($Q$10,DATA!$P$2:$R$196,3))","v":""},{"$f":"IF(QNS18=\"\",\"\",VLOOKUP($Q$10,DATA!$P$2:$R$196,3))","v":""},{"$f":"IF(QNT18=\"\",\"\",VLOOKUP($Q$10,DATA!$P$2:$R$196,3))","v":""},{"$f":"IF(QNU18=\"\",\"\",VLOOKUP($Q$10,DATA!$P$2:$R$196,3))","v":""},{"$f":"IF(QNV18=\"\",\"\",VLOOKUP($Q$10,DATA!$P$2:$R$196,3))","v":""},{"$f":"IF(QNW18=\"\",\"\",VLOOKUP($Q$10,DATA!$P$2:$R$196,3))","v":""},{"$f":"IF(QNX18=\"\",\"\",VLOOKUP($Q$10,DATA!$P$2:$R$196,3))","v":""},{"$f":"IF(QNY18=\"\",\"\",VLOOKUP($Q$10,DATA!$P$2:$R$196,3))","v":""},{"$f":"IF(QNZ18=\"\",\"\",VLOOKUP($Q$10,DATA!$P$2:$R$196,3))","v":""},{"$f":"IF(QOA18=\"\",\"\",VLOOKUP($Q$10,DATA!$P$2:$R$196,3))","v":""},{"$f":"IF(QOB18=\"\",\"\",VLOOKUP($Q$10,DATA!$P$2:$R$196,3))","v":""},{"$f":"IF(QOC18=\"\",\"\",VLOOKUP($Q$10,DATA!$P$2:$R$196,3))","v":""},{"$f":"IF(QOD18=\"\",\"\",VLOOKUP($Q$10,DATA!$P$2:$R$196,3))","v":""},{"$f":"IF(QOE18=\"\",\"\",VLOOKUP($Q$10,DATA!$P$2:$R$196,3))","v":""},{"$f":"IF(QOF18=\"\",\"\",VLOOKUP($Q$10,DATA!$P$2:$R$196,3))","v":""},{"$f":"IF(QOG18=\"\",\"\",VLOOKUP($Q$10,DATA!$P$2:$R$196,3))","v":""},{"$f":"IF(QOH18=\"\",\"\",VLOOKUP($Q$10,DATA!$P$2:$R$196,3))","v":""},{"$f":"IF(QOI18=\"\",\"\",VLOOKUP($Q$10,DATA!$P$2:$R$196,3))","v":""},{"$f":"IF(QOJ18=\"\",\"\",VLOOKUP($Q$10,DATA!$P$2:$R$196,3))","v":""},{"$f":"IF(QOK18=\"\",\"\",VLOOKUP($Q$10,DATA!$P$2:$R$196,3))","v":""},{"$f":"IF(QOL18=\"\",\"\",VLOOKUP($Q$10,DATA!$P$2:$R$196,3))","v":""},{"$f":"IF(QOM18=\"\",\"\",VLOOKUP($Q$10,DATA!$P$2:$R$196,3))","v":""},{"$f":"IF(QON18=\"\",\"\",VLOOKUP($Q$10,DATA!$P$2:$R$196,3))","v":""},{"$f":"IF(QOO18=\"\",\"\",VLOOKUP($Q$10,DATA!$P$2:$R$196,3))","v":""},{"$f":"IF(QOP18=\"\",\"\",VLOOKUP($Q$10,DATA!$P$2:$R$196,3))","v":""},{"$f":"IF(QOQ18=\"\",\"\",VLOOKUP($Q$10,DATA!$P$2:$R$196,3))","v":""},{"$f":"IF(QOR18=\"\",\"\",VLOOKUP($Q$10,DATA!$P$2:$R$196,3))","v":""},{"$f":"IF(QOS18=\"\",\"\",VLOOKUP($Q$10,DATA!$P$2:$R$196,3))","v":""},{"$f":"IF(QOT18=\"\",\"\",VLOOKUP($Q$10,DATA!$P$2:$R$196,3))","v":""},{"$f":"IF(QOU18=\"\",\"\",VLOOKUP($Q$10,DATA!$P$2:$R$196,3))","v":""},{"$f":"IF(QOV18=\"\",\"\",VLOOKUP($Q$10,DATA!$P$2:$R$196,3))","v":""},{"$f":"IF(QOW18=\"\",\"\",VLOOKUP($Q$10,DATA!$P$2:$R$196,3))","v":""},{"$f":"IF(QOX18=\"\",\"\",VLOOKUP($Q$10,DATA!$P$2:$R$196,3))","v":""},{"$f":"IF(QOY18=\"\",\"\",VLOOKUP($Q$10,DATA!$P$2:$R$196,3))","v":""},{"$f":"IF(QOZ18=\"\",\"\",VLOOKUP($Q$10,DATA!$P$2:$R$196,3))","v":""},{"$f":"IF(QPA18=\"\",\"\",VLOOKUP($Q$10,DATA!$P$2:$R$196,3))","v":""},{"$f":"IF(QPB18=\"\",\"\",VLOOKUP($Q$10,DATA!$P$2:$R$196,3))","v":""},{"$f":"IF(QPC18=\"\",\"\",VLOOKUP($Q$10,DATA!$P$2:$R$196,3))","v":""},{"$f":"IF(QPD18=\"\",\"\",VLOOKUP($Q$10,DATA!$P$2:$R$196,3))","v":""},{"$f":"IF(QPE18=\"\",\"\",VLOOKUP($Q$10,DATA!$P$2:$R$196,3))","v":""},{"$f":"IF(QPF18=\"\",\"\",VLOOKUP($Q$10,DATA!$P$2:$R$196,3))","v":""},{"$f":"IF(QPG18=\"\",\"\",VLOOKUP($Q$10,DATA!$P$2:$R$196,3))","v":""},{"$f":"IF(QPH18=\"\",\"\",VLOOKUP($Q$10,DATA!$P$2:$R$196,3))","v":""},{"$f":"IF(QPI18=\"\",\"\",VLOOKUP($Q$10,DATA!$P$2:$R$196,3))","v":""},{"$f":"IF(QPJ18=\"\",\"\",VLOOKUP($Q$10,DATA!$P$2:$R$196,3))","v":""},{"$f":"IF(QPK18=\"\",\"\",VLOOKUP($Q$10,DATA!$P$2:$R$196,3))","v":""},{"$f":"IF(QPL18=\"\",\"\",VLOOKUP($Q$10,DATA!$P$2:$R$196,3))","v":""},{"$f":"IF(QPM18=\"\",\"\",VLOOKUP($Q$10,DATA!$P$2:$R$196,3))","v":""},{"$f":"IF(QPN18=\"\",\"\",VLOOKUP($Q$10,DATA!$P$2:$R$196,3))","v":""},{"$f":"IF(QPO18=\"\",\"\",VLOOKUP($Q$10,DATA!$P$2:$R$196,3))","v":""},{"$f":"IF(QPP18=\"\",\"\",VLOOKUP($Q$10,DATA!$P$2:$R$196,3))","v":""},{"$f":"IF(QPQ18=\"\",\"\",VLOOKUP($Q$10,DATA!$P$2:$R$196,3))","v":""},{"$f":"IF(QPR18=\"\",\"\",VLOOKUP($Q$10,DATA!$P$2:$R$196,3))","v":""},{"$f":"IF(QPS18=\"\",\"\",VLOOKUP($Q$10,DATA!$P$2:$R$196,3))","v":""},{"$f":"IF(QPT18=\"\",\"\",VLOOKUP($Q$10,DATA!$P$2:$R$196,3))","v":""},{"$f":"IF(QPU18=\"\",\"\",VLOOKUP($Q$10,DATA!$P$2:$R$196,3))","v":""},{"$f":"IF(QPV18=\"\",\"\",VLOOKUP($Q$10,DATA!$P$2:$R$196,3))","v":""},{"$f":"IF(QPW18=\"\",\"\",VLOOKUP($Q$10,DATA!$P$2:$R$196,3))","v":""},{"$f":"IF(QPX18=\"\",\"\",VLOOKUP($Q$10,DATA!$P$2:$R$196,3))","v":""},{"$f":"IF(QPY18=\"\",\"\",VLOOKUP($Q$10,DATA!$P$2:$R$196,3))","v":""},{"$f":"IF(QPZ18=\"\",\"\",VLOOKUP($Q$10,DATA!$P$2:$R$196,3))","v":""},{"$f":"IF(QQA18=\"\",\"\",VLOOKUP($Q$10,DATA!$P$2:$R$196,3))","v":""},{"$f":"IF(QQB18=\"\",\"\",VLOOKUP($Q$10,DATA!$P$2:$R$196,3))","v":""},{"$f":"IF(QQC18=\"\",\"\",VLOOKUP($Q$10,DATA!$P$2:$R$196,3))","v":""},{"$f":"IF(QQD18=\"\",\"\",VLOOKUP($Q$10,DATA!$P$2:$R$196,3))","v":""},{"$f":"IF(QQE18=\"\",\"\",VLOOKUP($Q$10,DATA!$P$2:$R$196,3))","v":""},{"$f":"IF(QQF18=\"\",\"\",VLOOKUP($Q$10,DATA!$P$2:$R$196,3))","v":""},{"$f":"IF(QQG18=\"\",\"\",VLOOKUP($Q$10,DATA!$P$2:$R$196,3))","v":""},{"$f":"IF(QQH18=\"\",\"\",VLOOKUP($Q$10,DATA!$P$2:$R$196,3))","v":""},{"$f":"IF(QQI18=\"\",\"\",VLOOKUP($Q$10,DATA!$P$2:$R$196,3))","v":""},{"$f":"IF(QQJ18=\"\",\"\",VLOOKUP($Q$10,DATA!$P$2:$R$196,3))","v":""},{"$f":"IF(QQK18=\"\",\"\",VLOOKUP($Q$10,DATA!$P$2:$R$196,3))","v":""},{"$f":"IF(QQL18=\"\",\"\",VLOOKUP($Q$10,DATA!$P$2:$R$196,3))","v":""},{"$f":"IF(QQM18=\"\",\"\",VLOOKUP($Q$10,DATA!$P$2:$R$196,3))","v":""},{"$f":"IF(QQN18=\"\",\"\",VLOOKUP($Q$10,DATA!$P$2:$R$196,3))","v":""},{"$f":"IF(QQO18=\"\",\"\",VLOOKUP($Q$10,DATA!$P$2:$R$196,3))","v":""},{"$f":"IF(QQP18=\"\",\"\",VLOOKUP($Q$10,DATA!$P$2:$R$196,3))","v":""},{"$f":"IF(QQQ18=\"\",\"\",VLOOKUP($Q$10,DATA!$P$2:$R$196,3))","v":""},{"$f":"IF(QQR18=\"\",\"\",VLOOKUP($Q$10,DATA!$P$2:$R$196,3))","v":""},{"$f":"IF(QQS18=\"\",\"\",VLOOKUP($Q$10,DATA!$P$2:$R$196,3))","v":""},{"$f":"IF(QQT18=\"\",\"\",VLOOKUP($Q$10,DATA!$P$2:$R$196,3))","v":""},{"$f":"IF(QQU18=\"\",\"\",VLOOKUP($Q$10,DATA!$P$2:$R$196,3))","v":""},{"$f":"IF(QQV18=\"\",\"\",VLOOKUP($Q$10,DATA!$P$2:$R$196,3))","v":""},{"$f":"IF(QQW18=\"\",\"\",VLOOKUP($Q$10,DATA!$P$2:$R$196,3))","v":""},{"$f":"IF(QQX18=\"\",\"\",VLOOKUP($Q$10,DATA!$P$2:$R$196,3))","v":""},{"$f":"IF(QQY18=\"\",\"\",VLOOKUP($Q$10,DATA!$P$2:$R$196,3))","v":""},{"$f":"IF(QQZ18=\"\",\"\",VLOOKUP($Q$10,DATA!$P$2:$R$196,3))","v":""},{"$f":"IF(QRA18=\"\",\"\",VLOOKUP($Q$10,DATA!$P$2:$R$196,3))","v":""},{"$f":"IF(QRB18=\"\",\"\",VLOOKUP($Q$10,DATA!$P$2:$R$196,3))","v":""},{"$f":"IF(QRC18=\"\",\"\",VLOOKUP($Q$10,DATA!$P$2:$R$196,3))","v":""},{"$f":"IF(QRD18=\"\",\"\",VLOOKUP($Q$10,DATA!$P$2:$R$196,3))","v":""},{"$f":"IF(QRE18=\"\",\"\",VLOOKUP($Q$10,DATA!$P$2:$R$196,3))","v":""},{"$f":"IF(QRF18=\"\",\"\",VLOOKUP($Q$10,DATA!$P$2:$R$196,3))","v":""},{"$f":"IF(QRG18=\"\",\"\",VLOOKUP($Q$10,DATA!$P$2:$R$196,3))","v":""},{"$f":"IF(QRH18=\"\",\"\",VLOOKUP($Q$10,DATA!$P$2:$R$196,3))","v":""},{"$f":"IF(QRI18=\"\",\"\",VLOOKUP($Q$10,DATA!$P$2:$R$196,3))","v":""},{"$f":"IF(QRJ18=\"\",\"\",VLOOKUP($Q$10,DATA!$P$2:$R$196,3))","v":""},{"$f":"IF(QRK18=\"\",\"\",VLOOKUP($Q$10,DATA!$P$2:$R$196,3))","v":""},{"$f":"IF(QRL18=\"\",\"\",VLOOKUP($Q$10,DATA!$P$2:$R$196,3))","v":""},{"$f":"IF(QRM18=\"\",\"\",VLOOKUP($Q$10,DATA!$P$2:$R$196,3))","v":""},{"$f":"IF(QRN18=\"\",\"\",VLOOKUP($Q$10,DATA!$P$2:$R$196,3))","v":""},{"$f":"IF(QRO18=\"\",\"\",VLOOKUP($Q$10,DATA!$P$2:$R$196,3))","v":""},{"$f":"IF(QRP18=\"\",\"\",VLOOKUP($Q$10,DATA!$P$2:$R$196,3))","v":""},{"$f":"IF(QRQ18=\"\",\"\",VLOOKUP($Q$10,DATA!$P$2:$R$196,3))","v":""},{"$f":"IF(QRR18=\"\",\"\",VLOOKUP($Q$10,DATA!$P$2:$R$196,3))","v":""},{"$f":"IF(QRS18=\"\",\"\",VLOOKUP($Q$10,DATA!$P$2:$R$196,3))","v":""},{"$f":"IF(QRT18=\"\",\"\",VLOOKUP($Q$10,DATA!$P$2:$R$196,3))","v":""},{"$f":"IF(QRU18=\"\",\"\",VLOOKUP($Q$10,DATA!$P$2:$R$196,3))","v":""},{"$f":"IF(QRV18=\"\",\"\",VLOOKUP($Q$10,DATA!$P$2:$R$196,3))","v":""},{"$f":"IF(QRW18=\"\",\"\",VLOOKUP($Q$10,DATA!$P$2:$R$196,3))","v":""},{"$f":"IF(QRX18=\"\",\"\",VLOOKUP($Q$10,DATA!$P$2:$R$196,3))","v":""},{"$f":"IF(QRY18=\"\",\"\",VLOOKUP($Q$10,DATA!$P$2:$R$196,3))","v":""},{"$f":"IF(QRZ18=\"\",\"\",VLOOKUP($Q$10,DATA!$P$2:$R$196,3))","v":""},{"$f":"IF(QSA18=\"\",\"\",VLOOKUP($Q$10,DATA!$P$2:$R$196,3))","v":""},{"$f":"IF(QSB18=\"\",\"\",VLOOKUP($Q$10,DATA!$P$2:$R$196,3))","v":""},{"$f":"IF(QSC18=\"\",\"\",VLOOKUP($Q$10,DATA!$P$2:$R$196,3))","v":""},{"$f":"IF(QSD18=\"\",\"\",VLOOKUP($Q$10,DATA!$P$2:$R$196,3))","v":""},{"$f":"IF(QSE18=\"\",\"\",VLOOKUP($Q$10,DATA!$P$2:$R$196,3))","v":""},{"$f":"IF(QSF18=\"\",\"\",VLOOKUP($Q$10,DATA!$P$2:$R$196,3))","v":""},{"$f":"IF(QSG18=\"\",\"\",VLOOKUP($Q$10,DATA!$P$2:$R$196,3))","v":""},{"$f":"IF(QSH18=\"\",\"\",VLOOKUP($Q$10,DATA!$P$2:$R$196,3))","v":""},{"$f":"IF(QSI18=\"\",\"\",VLOOKUP($Q$10,DATA!$P$2:$R$196,3))","v":""},{"$f":"IF(QSJ18=\"\",\"\",VLOOKUP($Q$10,DATA!$P$2:$R$196,3))","v":""},{"$f":"IF(QSK18=\"\",\"\",VLOOKUP($Q$10,DATA!$P$2:$R$196,3))","v":""},{"$f":"IF(QSL18=\"\",\"\",VLOOKUP($Q$10,DATA!$P$2:$R$196,3))","v":""},{"$f":"IF(QSM18=\"\",\"\",VLOOKUP($Q$10,DATA!$P$2:$R$196,3))","v":""},{"$f":"IF(QSN18=\"\",\"\",VLOOKUP($Q$10,DATA!$P$2:$R$196,3))","v":""},{"$f":"IF(QSO18=\"\",\"\",VLOOKUP($Q$10,DATA!$P$2:$R$196,3))","v":""},{"$f":"IF(QSP18=\"\",\"\",VLOOKUP($Q$10,DATA!$P$2:$R$196,3))","v":""},{"$f":"IF(QSQ18=\"\",\"\",VLOOKUP($Q$10,DATA!$P$2:$R$196,3))","v":""},{"$f":"IF(QSR18=\"\",\"\",VLOOKUP($Q$10,DATA!$P$2:$R$196,3))","v":""},{"$f":"IF(QSS18=\"\",\"\",VLOOKUP($Q$10,DATA!$P$2:$R$196,3))","v":""},{"$f":"IF(QST18=\"\",\"\",VLOOKUP($Q$10,DATA!$P$2:$R$196,3))","v":""},{"$f":"IF(QSU18=\"\",\"\",VLOOKUP($Q$10,DATA!$P$2:$R$196,3))","v":""},{"$f":"IF(QSV18=\"\",\"\",VLOOKUP($Q$10,DATA!$P$2:$R$196,3))","v":""},{"$f":"IF(QSW18=\"\",\"\",VLOOKUP($Q$10,DATA!$P$2:$R$196,3))","v":""},{"$f":"IF(QSX18=\"\",\"\",VLOOKUP($Q$10,DATA!$P$2:$R$196,3))","v":""},{"$f":"IF(QSY18=\"\",\"\",VLOOKUP($Q$10,DATA!$P$2:$R$196,3))","v":""},{"$f":"IF(QSZ18=\"\",\"\",VLOOKUP($Q$10,DATA!$P$2:$R$196,3))","v":""},{"$f":"IF(QTA18=\"\",\"\",VLOOKUP($Q$10,DATA!$P$2:$R$196,3))","v":""},{"$f":"IF(QTB18=\"\",\"\",VLOOKUP($Q$10,DATA!$P$2:$R$196,3))","v":""},{"$f":"IF(QTC18=\"\",\"\",VLOOKUP($Q$10,DATA!$P$2:$R$196,3))","v":""},{"$f":"IF(QTD18=\"\",\"\",VLOOKUP($Q$10,DATA!$P$2:$R$196,3))","v":""},{"$f":"IF(QTE18=\"\",\"\",VLOOKUP($Q$10,DATA!$P$2:$R$196,3))","v":""},{"$f":"IF(QTF18=\"\",\"\",VLOOKUP($Q$10,DATA!$P$2:$R$196,3))","v":""},{"$f":"IF(QTG18=\"\",\"\",VLOOKUP($Q$10,DATA!$P$2:$R$196,3))","v":""},{"$f":"IF(QTH18=\"\",\"\",VLOOKUP($Q$10,DATA!$P$2:$R$196,3))","v":""},{"$f":"IF(QTI18=\"\",\"\",VLOOKUP($Q$10,DATA!$P$2:$R$196,3))","v":""},{"$f":"IF(QTJ18=\"\",\"\",VLOOKUP($Q$10,DATA!$P$2:$R$196,3))","v":""},{"$f":"IF(QTK18=\"\",\"\",VLOOKUP($Q$10,DATA!$P$2:$R$196,3))","v":""},{"$f":"IF(QTL18=\"\",\"\",VLOOKUP($Q$10,DATA!$P$2:$R$196,3))","v":""},{"$f":"IF(QTM18=\"\",\"\",VLOOKUP($Q$10,DATA!$P$2:$R$196,3))","v":""},{"$f":"IF(QTN18=\"\",\"\",VLOOKUP($Q$10,DATA!$P$2:$R$196,3))","v":""},{"$f":"IF(QTO18=\"\",\"\",VLOOKUP($Q$10,DATA!$P$2:$R$196,3))","v":""},{"$f":"IF(QTP18=\"\",\"\",VLOOKUP($Q$10,DATA!$P$2:$R$196,3))","v":""},{"$f":"IF(QTQ18=\"\",\"\",VLOOKUP($Q$10,DATA!$P$2:$R$196,3))","v":""},{"$f":"IF(QTR18=\"\",\"\",VLOOKUP($Q$10,DATA!$P$2:$R$196,3))","v":""},{"$f":"IF(QTS18=\"\",\"\",VLOOKUP($Q$10,DATA!$P$2:$R$196,3))","v":""},{"$f":"IF(QTT18=\"\",\"\",VLOOKUP($Q$10,DATA!$P$2:$R$196,3))","v":""},{"$f":"IF(QTU18=\"\",\"\",VLOOKUP($Q$10,DATA!$P$2:$R$196,3))","v":""},{"$f":"IF(QTV18=\"\",\"\",VLOOKUP($Q$10,DATA!$P$2:$R$196,3))","v":""},{"$f":"IF(QTW18=\"\",\"\",VLOOKUP($Q$10,DATA!$P$2:$R$196,3))","v":""},{"$f":"IF(QTX18=\"\",\"\",VLOOKUP($Q$10,DATA!$P$2:$R$196,3))","v":""},{"$f":"IF(QTY18=\"\",\"\",VLOOKUP($Q$10,DATA!$P$2:$R$196,3))","v":""},{"$f":"IF(QTZ18=\"\",\"\",VLOOKUP($Q$10,DATA!$P$2:$R$196,3))","v":""},{"$f":"IF(QUA18=\"\",\"\",VLOOKUP($Q$10,DATA!$P$2:$R$196,3))","v":""},{"$f":"IF(QUB18=\"\",\"\",VLOOKUP($Q$10,DATA!$P$2:$R$196,3))","v":""},{"$f":"IF(QUC18=\"\",\"\",VLOOKUP($Q$10,DATA!$P$2:$R$196,3))","v":""},{"$f":"IF(QUD18=\"\",\"\",VLOOKUP($Q$10,DATA!$P$2:$R$196,3))","v":""},{"$f":"IF(QUE18=\"\",\"\",VLOOKUP($Q$10,DATA!$P$2:$R$196,3))","v":""},{"$f":"IF(QUF18=\"\",\"\",VLOOKUP($Q$10,DATA!$P$2:$R$196,3))","v":""},{"$f":"IF(QUG18=\"\",\"\",VLOOKUP($Q$10,DATA!$P$2:$R$196,3))","v":""},{"$f":"IF(QUH18=\"\",\"\",VLOOKUP($Q$10,DATA!$P$2:$R$196,3))","v":""},{"$f":"IF(QUI18=\"\",\"\",VLOOKUP($Q$10,DATA!$P$2:$R$196,3))","v":""},{"$f":"IF(QUJ18=\"\",\"\",VLOOKUP($Q$10,DATA!$P$2:$R$196,3))","v":""},{"$f":"IF(QUK18=\"\",\"\",VLOOKUP($Q$10,DATA!$P$2:$R$196,3))","v":""},{"$f":"IF(QUL18=\"\",\"\",VLOOKUP($Q$10,DATA!$P$2:$R$196,3))","v":""},{"$f":"IF(QUM18=\"\",\"\",VLOOKUP($Q$10,DATA!$P$2:$R$196,3))","v":""},{"$f":"IF(QUN18=\"\",\"\",VLOOKUP($Q$10,DATA!$P$2:$R$196,3))","v":""},{"$f":"IF(QUO18=\"\",\"\",VLOOKUP($Q$10,DATA!$P$2:$R$196,3))","v":""},{"$f":"IF(QUP18=\"\",\"\",VLOOKUP($Q$10,DATA!$P$2:$R$196,3))","v":""},{"$f":"IF(QUQ18=\"\",\"\",VLOOKUP($Q$10,DATA!$P$2:$R$196,3))","v":""},{"$f":"IF(QUR18=\"\",\"\",VLOOKUP($Q$10,DATA!$P$2:$R$196,3))","v":""},{"$f":"IF(QUS18=\"\",\"\",VLOOKUP($Q$10,DATA!$P$2:$R$196,3))","v":""},{"$f":"IF(QUT18=\"\",\"\",VLOOKUP($Q$10,DATA!$P$2:$R$196,3))","v":""},{"$f":"IF(QUU18=\"\",\"\",VLOOKUP($Q$10,DATA!$P$2:$R$196,3))","v":""},{"$f":"IF(QUV18=\"\",\"\",VLOOKUP($Q$10,DATA!$P$2:$R$196,3))","v":""},{"$f":"IF(QUW18=\"\",\"\",VLOOKUP($Q$10,DATA!$P$2:$R$196,3))","v":""},{"$f":"IF(QUX18=\"\",\"\",VLOOKUP($Q$10,DATA!$P$2:$R$196,3))","v":""},{"$f":"IF(QUY18=\"\",\"\",VLOOKUP($Q$10,DATA!$P$2:$R$196,3))","v":""},{"$f":"IF(QUZ18=\"\",\"\",VLOOKUP($Q$10,DATA!$P$2:$R$196,3))","v":""},{"$f":"IF(QVA18=\"\",\"\",VLOOKUP($Q$10,DATA!$P$2:$R$196,3))","v":""},{"$f":"IF(QVB18=\"\",\"\",VLOOKUP($Q$10,DATA!$P$2:$R$196,3))","v":""},{"$f":"IF(QVC18=\"\",\"\",VLOOKUP($Q$10,DATA!$P$2:$R$196,3))","v":""},{"$f":"IF(QVD18=\"\",\"\",VLOOKUP($Q$10,DATA!$P$2:$R$196,3))","v":""},{"$f":"IF(QVE18=\"\",\"\",VLOOKUP($Q$10,DATA!$P$2:$R$196,3))","v":""},{"$f":"IF(QVF18=\"\",\"\",VLOOKUP($Q$10,DATA!$P$2:$R$196,3))","v":""},{"$f":"IF(QVG18=\"\",\"\",VLOOKUP($Q$10,DATA!$P$2:$R$196,3))","v":""},{"$f":"IF(QVH18=\"\",\"\",VLOOKUP($Q$10,DATA!$P$2:$R$196,3))","v":""},{"$f":"IF(QVI18=\"\",\"\",VLOOKUP($Q$10,DATA!$P$2:$R$196,3))","v":""},{"$f":"IF(QVJ18=\"\",\"\",VLOOKUP($Q$10,DATA!$P$2:$R$196,3))","v":""},{"$f":"IF(QVK18=\"\",\"\",VLOOKUP($Q$10,DATA!$P$2:$R$196,3))","v":""},{"$f":"IF(QVL18=\"\",\"\",VLOOKUP($Q$10,DATA!$P$2:$R$196,3))","v":""},{"$f":"IF(QVM18=\"\",\"\",VLOOKUP($Q$10,DATA!$P$2:$R$196,3))","v":""},{"$f":"IF(QVN18=\"\",\"\",VLOOKUP($Q$10,DATA!$P$2:$R$196,3))","v":""},{"$f":"IF(QVO18=\"\",\"\",VLOOKUP($Q$10,DATA!$P$2:$R$196,3))","v":""},{"$f":"IF(QVP18=\"\",\"\",VLOOKUP($Q$10,DATA!$P$2:$R$196,3))","v":""},{"$f":"IF(QVQ18=\"\",\"\",VLOOKUP($Q$10,DATA!$P$2:$R$196,3))","v":""},{"$f":"IF(QVR18=\"\",\"\",VLOOKUP($Q$10,DATA!$P$2:$R$196,3))","v":""},{"$f":"IF(QVS18=\"\",\"\",VLOOKUP($Q$10,DATA!$P$2:$R$196,3))","v":""},{"$f":"IF(QVT18=\"\",\"\",VLOOKUP($Q$10,DATA!$P$2:$R$196,3))","v":""},{"$f":"IF(QVU18=\"\",\"\",VLOOKUP($Q$10,DATA!$P$2:$R$196,3))","v":""},{"$f":"IF(QVV18=\"\",\"\",VLOOKUP($Q$10,DATA!$P$2:$R$196,3))","v":""},{"$f":"IF(QVW18=\"\",\"\",VLOOKUP($Q$10,DATA!$P$2:$R$196,3))","v":""},{"$f":"IF(QVX18=\"\",\"\",VLOOKUP($Q$10,DATA!$P$2:$R$196,3))","v":""},{"$f":"IF(QVY18=\"\",\"\",VLOOKUP($Q$10,DATA!$P$2:$R$196,3))","v":""},{"$f":"IF(QVZ18=\"\",\"\",VLOOKUP($Q$10,DATA!$P$2:$R$196,3))","v":""},{"$f":"IF(QWA18=\"\",\"\",VLOOKUP($Q$10,DATA!$P$2:$R$196,3))","v":""},{"$f":"IF(QWB18=\"\",\"\",VLOOKUP($Q$10,DATA!$P$2:$R$196,3))","v":""},{"$f":"IF(QWC18=\"\",\"\",VLOOKUP($Q$10,DATA!$P$2:$R$196,3))","v":""},{"$f":"IF(QWD18=\"\",\"\",VLOOKUP($Q$10,DATA!$P$2:$R$196,3))","v":""},{"$f":"IF(QWE18=\"\",\"\",VLOOKUP($Q$10,DATA!$P$2:$R$196,3))","v":""},{"$f":"IF(QWF18=\"\",\"\",VLOOKUP($Q$10,DATA!$P$2:$R$196,3))","v":""},{"$f":"IF(QWG18=\"\",\"\",VLOOKUP($Q$10,DATA!$P$2:$R$196,3))","v":""},{"$f":"IF(QWH18=\"\",\"\",VLOOKUP($Q$10,DATA!$P$2:$R$196,3))","v":""},{"$f":"IF(QWI18=\"\",\"\",VLOOKUP($Q$10,DATA!$P$2:$R$196,3))","v":""},{"$f":"IF(QWJ18=\"\",\"\",VLOOKUP($Q$10,DATA!$P$2:$R$196,3))","v":""},{"$f":"IF(QWK18=\"\",\"\",VLOOKUP($Q$10,DATA!$P$2:$R$196,3))","v":""},{"$f":"IF(QWL18=\"\",\"\",VLOOKUP($Q$10,DATA!$P$2:$R$196,3))","v":""},{"$f":"IF(QWM18=\"\",\"\",VLOOKUP($Q$10,DATA!$P$2:$R$196,3))","v":""},{"$f":"IF(QWN18=\"\",\"\",VLOOKUP($Q$10,DATA!$P$2:$R$196,3))","v":""},{"$f":"IF(QWO18=\"\",\"\",VLOOKUP($Q$10,DATA!$P$2:$R$196,3))","v":""},{"$f":"IF(QWP18=\"\",\"\",VLOOKUP($Q$10,DATA!$P$2:$R$196,3))","v":""},{"$f":"IF(QWQ18=\"\",\"\",VLOOKUP($Q$10,DATA!$P$2:$R$196,3))","v":""},{"$f":"IF(QWR18=\"\",\"\",VLOOKUP($Q$10,DATA!$P$2:$R$196,3))","v":""},{"$f":"IF(QWS18=\"\",\"\",VLOOKUP($Q$10,DATA!$P$2:$R$196,3))","v":""},{"$f":"IF(QWT18=\"\",\"\",VLOOKUP($Q$10,DATA!$P$2:$R$196,3))","v":""},{"$f":"IF(QWU18=\"\",\"\",VLOOKUP($Q$10,DATA!$P$2:$R$196,3))","v":""},{"$f":"IF(QWV18=\"\",\"\",VLOOKUP($Q$10,DATA!$P$2:$R$196,3))","v":""},{"$f":"IF(QWW18=\"\",\"\",VLOOKUP($Q$10,DATA!$P$2:$R$196,3))","v":""},{"$f":"IF(QWX18=\"\",\"\",VLOOKUP($Q$10,DATA!$P$2:$R$196,3))","v":""},{"$f":"IF(QWY18=\"\",\"\",VLOOKUP($Q$10,DATA!$P$2:$R$196,3))","v":""},{"$f":"IF(QWZ18=\"\",\"\",VLOOKUP($Q$10,DATA!$P$2:$R$196,3))","v":""},{"$f":"IF(QXA18=\"\",\"\",VLOOKUP($Q$10,DATA!$P$2:$R$196,3))","v":""},{"$f":"IF(QXB18=\"\",\"\",VLOOKUP($Q$10,DATA!$P$2:$R$196,3))","v":""},{"$f":"IF(QXC18=\"\",\"\",VLOOKUP($Q$10,DATA!$P$2:$R$196,3))","v":""},{"$f":"IF(QXD18=\"\",\"\",VLOOKUP($Q$10,DATA!$P$2:$R$196,3))","v":""},{"$f":"IF(QXE18=\"\",\"\",VLOOKUP($Q$10,DATA!$P$2:$R$196,3))","v":""},{"$f":"IF(QXF18=\"\",\"\",VLOOKUP($Q$10,DATA!$P$2:$R$196,3))","v":""},{"$f":"IF(QXG18=\"\",\"\",VLOOKUP($Q$10,DATA!$P$2:$R$196,3))","v":""},{"$f":"IF(QXH18=\"\",\"\",VLOOKUP($Q$10,DATA!$P$2:$R$196,3))","v":""},{"$f":"IF(QXI18=\"\",\"\",VLOOKUP($Q$10,DATA!$P$2:$R$196,3))","v":""},{"$f":"IF(QXJ18=\"\",\"\",VLOOKUP($Q$10,DATA!$P$2:$R$196,3))","v":""},{"$f":"IF(QXK18=\"\",\"\",VLOOKUP($Q$10,DATA!$P$2:$R$196,3))","v":""},{"$f":"IF(QXL18=\"\",\"\",VLOOKUP($Q$10,DATA!$P$2:$R$196,3))","v":""},{"$f":"IF(QXM18=\"\",\"\",VLOOKUP($Q$10,DATA!$P$2:$R$196,3))","v":""},{"$f":"IF(QXN18=\"\",\"\",VLOOKUP($Q$10,DATA!$P$2:$R$196,3))","v":""},{"$f":"IF(QXO18=\"\",\"\",VLOOKUP($Q$10,DATA!$P$2:$R$196,3))","v":""},{"$f":"IF(QXP18=\"\",\"\",VLOOKUP($Q$10,DATA!$P$2:$R$196,3))","v":""},{"$f":"IF(QXQ18=\"\",\"\",VLOOKUP($Q$10,DATA!$P$2:$R$196,3))","v":""},{"$f":"IF(QXR18=\"\",\"\",VLOOKUP($Q$10,DATA!$P$2:$R$196,3))","v":""},{"$f":"IF(QXS18=\"\",\"\",VLOOKUP($Q$10,DATA!$P$2:$R$196,3))","v":""},{"$f":"IF(QXT18=\"\",\"\",VLOOKUP($Q$10,DATA!$P$2:$R$196,3))","v":""},{"$f":"IF(QXU18=\"\",\"\",VLOOKUP($Q$10,DATA!$P$2:$R$196,3))","v":""},{"$f":"IF(QXV18=\"\",\"\",VLOOKUP($Q$10,DATA!$P$2:$R$196,3))","v":""},{"$f":"IF(QXW18=\"\",\"\",VLOOKUP($Q$10,DATA!$P$2:$R$196,3))","v":""},{"$f":"IF(QXX18=\"\",\"\",VLOOKUP($Q$10,DATA!$P$2:$R$196,3))","v":""},{"$f":"IF(QXY18=\"\",\"\",VLOOKUP($Q$10,DATA!$P$2:$R$196,3))","v":""},{"$f":"IF(QXZ18=\"\",\"\",VLOOKUP($Q$10,DATA!$P$2:$R$196,3))","v":""},{"$f":"IF(QYA18=\"\",\"\",VLOOKUP($Q$10,DATA!$P$2:$R$196,3))","v":""},{"$f":"IF(QYB18=\"\",\"\",VLOOKUP($Q$10,DATA!$P$2:$R$196,3))","v":""},{"$f":"IF(QYC18=\"\",\"\",VLOOKUP($Q$10,DATA!$P$2:$R$196,3))","v":""},{"$f":"IF(QYD18=\"\",\"\",VLOOKUP($Q$10,DATA!$P$2:$R$196,3))","v":""},{"$f":"IF(QYE18=\"\",\"\",VLOOKUP($Q$10,DATA!$P$2:$R$196,3))","v":""},{"$f":"IF(QYF18=\"\",\"\",VLOOKUP($Q$10,DATA!$P$2:$R$196,3))","v":""},{"$f":"IF(QYG18=\"\",\"\",VLOOKUP($Q$10,DATA!$P$2:$R$196,3))","v":""},{"$f":"IF(QYH18=\"\",\"\",VLOOKUP($Q$10,DATA!$P$2:$R$196,3))","v":""},{"$f":"IF(QYI18=\"\",\"\",VLOOKUP($Q$10,DATA!$P$2:$R$196,3))","v":""},{"$f":"IF(QYJ18=\"\",\"\",VLOOKUP($Q$10,DATA!$P$2:$R$196,3))","v":""},{"$f":"IF(QYK18=\"\",\"\",VLOOKUP($Q$10,DATA!$P$2:$R$196,3))","v":""},{"$f":"IF(QYL18=\"\",\"\",VLOOKUP($Q$10,DATA!$P$2:$R$196,3))","v":""},{"$f":"IF(QYM18=\"\",\"\",VLOOKUP($Q$10,DATA!$P$2:$R$196,3))","v":""},{"$f":"IF(QYN18=\"\",\"\",VLOOKUP($Q$10,DATA!$P$2:$R$196,3))","v":""},{"$f":"IF(QYO18=\"\",\"\",VLOOKUP($Q$10,DATA!$P$2:$R$196,3))","v":""},{"$f":"IF(QYP18=\"\",\"\",VLOOKUP($Q$10,DATA!$P$2:$R$196,3))","v":""},{"$f":"IF(QYQ18=\"\",\"\",VLOOKUP($Q$10,DATA!$P$2:$R$196,3))","v":""},{"$f":"IF(QYR18=\"\",\"\",VLOOKUP($Q$10,DATA!$P$2:$R$196,3))","v":""},{"$f":"IF(QYS18=\"\",\"\",VLOOKUP($Q$10,DATA!$P$2:$R$196,3))","v":""},{"$f":"IF(QYT18=\"\",\"\",VLOOKUP($Q$10,DATA!$P$2:$R$196,3))","v":""},{"$f":"IF(QYU18=\"\",\"\",VLOOKUP($Q$10,DATA!$P$2:$R$196,3))","v":""},{"$f":"IF(QYV18=\"\",\"\",VLOOKUP($Q$10,DATA!$P$2:$R$196,3))","v":""},{"$f":"IF(QYW18=\"\",\"\",VLOOKUP($Q$10,DATA!$P$2:$R$196,3))","v":""},{"$f":"IF(QYX18=\"\",\"\",VLOOKUP($Q$10,DATA!$P$2:$R$196,3))","v":""},{"$f":"IF(QYY18=\"\",\"\",VLOOKUP($Q$10,DATA!$P$2:$R$196,3))","v":""},{"$f":"IF(QYZ18=\"\",\"\",VLOOKUP($Q$10,DATA!$P$2:$R$196,3))","v":""},{"$f":"IF(QZA18=\"\",\"\",VLOOKUP($Q$10,DATA!$P$2:$R$196,3))","v":""},{"$f":"IF(QZB18=\"\",\"\",VLOOKUP($Q$10,DATA!$P$2:$R$196,3))","v":""},{"$f":"IF(QZC18=\"\",\"\",VLOOKUP($Q$10,DATA!$P$2:$R$196,3))","v":""},{"$f":"IF(QZD18=\"\",\"\",VLOOKUP($Q$10,DATA!$P$2:$R$196,3))","v":""},{"$f":"IF(QZE18=\"\",\"\",VLOOKUP($Q$10,DATA!$P$2:$R$196,3))","v":""},{"$f":"IF(QZF18=\"\",\"\",VLOOKUP($Q$10,DATA!$P$2:$R$196,3))","v":""},{"$f":"IF(QZG18=\"\",\"\",VLOOKUP($Q$10,DATA!$P$2:$R$196,3))","v":""},{"$f":"IF(QZH18=\"\",\"\",VLOOKUP($Q$10,DATA!$P$2:$R$196,3))","v":""},{"$f":"IF(QZI18=\"\",\"\",VLOOKUP($Q$10,DATA!$P$2:$R$196,3))","v":""},{"$f":"IF(QZJ18=\"\",\"\",VLOOKUP($Q$10,DATA!$P$2:$R$196,3))","v":""},{"$f":"IF(QZK18=\"\",\"\",VLOOKUP($Q$10,DATA!$P$2:$R$196,3))","v":""},{"$f":"IF(QZL18=\"\",\"\",VLOOKUP($Q$10,DATA!$P$2:$R$196,3))","v":""},{"$f":"IF(QZM18=\"\",\"\",VLOOKUP($Q$10,DATA!$P$2:$R$196,3))","v":""},{"$f":"IF(QZN18=\"\",\"\",VLOOKUP($Q$10,DATA!$P$2:$R$196,3))","v":""},{"$f":"IF(QZO18=\"\",\"\",VLOOKUP($Q$10,DATA!$P$2:$R$196,3))","v":""},{"$f":"IF(QZP18=\"\",\"\",VLOOKUP($Q$10,DATA!$P$2:$R$196,3))","v":""},{"$f":"IF(QZQ18=\"\",\"\",VLOOKUP($Q$10,DATA!$P$2:$R$196,3))","v":""},{"$f":"IF(QZR18=\"\",\"\",VLOOKUP($Q$10,DATA!$P$2:$R$196,3))","v":""},{"$f":"IF(QZS18=\"\",\"\",VLOOKUP($Q$10,DATA!$P$2:$R$196,3))","v":""},{"$f":"IF(QZT18=\"\",\"\",VLOOKUP($Q$10,DATA!$P$2:$R$196,3))","v":""},{"$f":"IF(QZU18=\"\",\"\",VLOOKUP($Q$10,DATA!$P$2:$R$196,3))","v":""},{"$f":"IF(QZV18=\"\",\"\",VLOOKUP($Q$10,DATA!$P$2:$R$196,3))","v":""},{"$f":"IF(QZW18=\"\",\"\",VLOOKUP($Q$10,DATA!$P$2:$R$196,3))","v":""},{"$f":"IF(QZX18=\"\",\"\",VLOOKUP($Q$10,DATA!$P$2:$R$196,3))","v":""},{"$f":"IF(QZY18=\"\",\"\",VLOOKUP($Q$10,DATA!$P$2:$R$196,3))","v":""},{"$f":"IF(QZZ18=\"\",\"\",VLOOKUP($Q$10,DATA!$P$2:$R$196,3))","v":""},{"$f":"IF(RAA18=\"\",\"\",VLOOKUP($Q$10,DATA!$P$2:$R$196,3))","v":""},{"$f":"IF(RAB18=\"\",\"\",VLOOKUP($Q$10,DATA!$P$2:$R$196,3))","v":""},{"$f":"IF(RAC18=\"\",\"\",VLOOKUP($Q$10,DATA!$P$2:$R$196,3))","v":""},{"$f":"IF(RAD18=\"\",\"\",VLOOKUP($Q$10,DATA!$P$2:$R$196,3))","v":""},{"$f":"IF(RAE18=\"\",\"\",VLOOKUP($Q$10,DATA!$P$2:$R$196,3))","v":""},{"$f":"IF(RAF18=\"\",\"\",VLOOKUP($Q$10,DATA!$P$2:$R$196,3))","v":""},{"$f":"IF(RAG18=\"\",\"\",VLOOKUP($Q$10,DATA!$P$2:$R$196,3))","v":""},{"$f":"IF(RAH18=\"\",\"\",VLOOKUP($Q$10,DATA!$P$2:$R$196,3))","v":""},{"$f":"IF(RAI18=\"\",\"\",VLOOKUP($Q$10,DATA!$P$2:$R$196,3))","v":""},{"$f":"IF(RAJ18=\"\",\"\",VLOOKUP($Q$10,DATA!$P$2:$R$196,3))","v":""},{"$f":"IF(RAK18=\"\",\"\",VLOOKUP($Q$10,DATA!$P$2:$R$196,3))","v":""},{"$f":"IF(RAL18=\"\",\"\",VLOOKUP($Q$10,DATA!$P$2:$R$196,3))","v":""},{"$f":"IF(RAM18=\"\",\"\",VLOOKUP($Q$10,DATA!$P$2:$R$196,3))","v":""},{"$f":"IF(RAN18=\"\",\"\",VLOOKUP($Q$10,DATA!$P$2:$R$196,3))","v":""},{"$f":"IF(RAO18=\"\",\"\",VLOOKUP($Q$10,DATA!$P$2:$R$196,3))","v":""},{"$f":"IF(RAP18=\"\",\"\",VLOOKUP($Q$10,DATA!$P$2:$R$196,3))","v":""},{"$f":"IF(RAQ18=\"\",\"\",VLOOKUP($Q$10,DATA!$P$2:$R$196,3))","v":""},{"$f":"IF(RAR18=\"\",\"\",VLOOKUP($Q$10,DATA!$P$2:$R$196,3))","v":""},{"$f":"IF(RAS18=\"\",\"\",VLOOKUP($Q$10,DATA!$P$2:$R$196,3))","v":""},{"$f":"IF(RAT18=\"\",\"\",VLOOKUP($Q$10,DATA!$P$2:$R$196,3))","v":""},{"$f":"IF(RAU18=\"\",\"\",VLOOKUP($Q$10,DATA!$P$2:$R$196,3))","v":""},{"$f":"IF(RAV18=\"\",\"\",VLOOKUP($Q$10,DATA!$P$2:$R$196,3))","v":""},{"$f":"IF(RAW18=\"\",\"\",VLOOKUP($Q$10,DATA!$P$2:$R$196,3))","v":""},{"$f":"IF(RAX18=\"\",\"\",VLOOKUP($Q$10,DATA!$P$2:$R$196,3))","v":""},{"$f":"IF(RAY18=\"\",\"\",VLOOKUP($Q$10,DATA!$P$2:$R$196,3))","v":""},{"$f":"IF(RAZ18=\"\",\"\",VLOOKUP($Q$10,DATA!$P$2:$R$196,3))","v":""},{"$f":"IF(RBA18=\"\",\"\",VLOOKUP($Q$10,DATA!$P$2:$R$196,3))","v":""},{"$f":"IF(RBB18=\"\",\"\",VLOOKUP($Q$10,DATA!$P$2:$R$196,3))","v":""},{"$f":"IF(RBC18=\"\",\"\",VLOOKUP($Q$10,DATA!$P$2:$R$196,3))","v":""},{"$f":"IF(RBD18=\"\",\"\",VLOOKUP($Q$10,DATA!$P$2:$R$196,3))","v":""},{"$f":"IF(RBE18=\"\",\"\",VLOOKUP($Q$10,DATA!$P$2:$R$196,3))","v":""},{"$f":"IF(RBF18=\"\",\"\",VLOOKUP($Q$10,DATA!$P$2:$R$196,3))","v":""},{"$f":"IF(RBG18=\"\",\"\",VLOOKUP($Q$10,DATA!$P$2:$R$196,3))","v":""},{"$f":"IF(RBH18=\"\",\"\",VLOOKUP($Q$10,DATA!$P$2:$R$196,3))","v":""},{"$f":"IF(RBI18=\"\",\"\",VLOOKUP($Q$10,DATA!$P$2:$R$196,3))","v":""},{"$f":"IF(RBJ18=\"\",\"\",VLOOKUP($Q$10,DATA!$P$2:$R$196,3))","v":""},{"$f":"IF(RBK18=\"\",\"\",VLOOKUP($Q$10,DATA!$P$2:$R$196,3))","v":""},{"$f":"IF(RBL18=\"\",\"\",VLOOKUP($Q$10,DATA!$P$2:$R$196,3))","v":""},{"$f":"IF(RBM18=\"\",\"\",VLOOKUP($Q$10,DATA!$P$2:$R$196,3))","v":""},{"$f":"IF(RBN18=\"\",\"\",VLOOKUP($Q$10,DATA!$P$2:$R$196,3))","v":""},{"$f":"IF(RBO18=\"\",\"\",VLOOKUP($Q$10,DATA!$P$2:$R$196,3))","v":""},{"$f":"IF(RBP18=\"\",\"\",VLOOKUP($Q$10,DATA!$P$2:$R$196,3))","v":""},{"$f":"IF(RBQ18=\"\",\"\",VLOOKUP($Q$10,DATA!$P$2:$R$196,3))","v":""},{"$f":"IF(RBR18=\"\",\"\",VLOOKUP($Q$10,DATA!$P$2:$R$196,3))","v":""},{"$f":"IF(RBS18=\"\",\"\",VLOOKUP($Q$10,DATA!$P$2:$R$196,3))","v":""},{"$f":"IF(RBT18=\"\",\"\",VLOOKUP($Q$10,DATA!$P$2:$R$196,3))","v":""},{"$f":"IF(RBU18=\"\",\"\",VLOOKUP($Q$10,DATA!$P$2:$R$196,3))","v":""},{"$f":"IF(RBV18=\"\",\"\",VLOOKUP($Q$10,DATA!$P$2:$R$196,3))","v":""},{"$f":"IF(RBW18=\"\",\"\",VLOOKUP($Q$10,DATA!$P$2:$R$196,3))","v":""},{"$f":"IF(RBX18=\"\",\"\",VLOOKUP($Q$10,DATA!$P$2:$R$196,3))","v":""},{"$f":"IF(RBY18=\"\",\"\",VLOOKUP($Q$10,DATA!$P$2:$R$196,3))","v":""},{"$f":"IF(RBZ18=\"\",\"\",VLOOKUP($Q$10,DATA!$P$2:$R$196,3))","v":""},{"$f":"IF(RCA18=\"\",\"\",VLOOKUP($Q$10,DATA!$P$2:$R$196,3))","v":""},{"$f":"IF(RCB18=\"\",\"\",VLOOKUP($Q$10,DATA!$P$2:$R$196,3))","v":""},{"$f":"IF(RCC18=\"\",\"\",VLOOKUP($Q$10,DATA!$P$2:$R$196,3))","v":""},{"$f":"IF(RCD18=\"\",\"\",VLOOKUP($Q$10,DATA!$P$2:$R$196,3))","v":""},{"$f":"IF(RCE18=\"\",\"\",VLOOKUP($Q$10,DATA!$P$2:$R$196,3))","v":""},{"$f":"IF(RCF18=\"\",\"\",VLOOKUP($Q$10,DATA!$P$2:$R$196,3))","v":""},{"$f":"IF(RCG18=\"\",\"\",VLOOKUP($Q$10,DATA!$P$2:$R$196,3))","v":""},{"$f":"IF(RCH18=\"\",\"\",VLOOKUP($Q$10,DATA!$P$2:$R$196,3))","v":""},{"$f":"IF(RCI18=\"\",\"\",VLOOKUP($Q$10,DATA!$P$2:$R$196,3))","v":""},{"$f":"IF(RCJ18=\"\",\"\",VLOOKUP($Q$10,DATA!$P$2:$R$196,3))","v":""},{"$f":"IF(RCK18=\"\",\"\",VLOOKUP($Q$10,DATA!$P$2:$R$196,3))","v":""},{"$f":"IF(RCL18=\"\",\"\",VLOOKUP($Q$10,DATA!$P$2:$R$196,3))","v":""},{"$f":"IF(RCM18=\"\",\"\",VLOOKUP($Q$10,DATA!$P$2:$R$196,3))","v":""},{"$f":"IF(RCN18=\"\",\"\",VLOOKUP($Q$10,DATA!$P$2:$R$196,3))","v":""},{"$f":"IF(RCO18=\"\",\"\",VLOOKUP($Q$10,DATA!$P$2:$R$196,3))","v":""},{"$f":"IF(RCP18=\"\",\"\",VLOOKUP($Q$10,DATA!$P$2:$R$196,3))","v":""},{"$f":"IF(RCQ18=\"\",\"\",VLOOKUP($Q$10,DATA!$P$2:$R$196,3))","v":""},{"$f":"IF(RCR18=\"\",\"\",VLOOKUP($Q$10,DATA!$P$2:$R$196,3))","v":""},{"$f":"IF(RCS18=\"\",\"\",VLOOKUP($Q$10,DATA!$P$2:$R$196,3))","v":""},{"$f":"IF(RCT18=\"\",\"\",VLOOKUP($Q$10,DATA!$P$2:$R$196,3))","v":""},{"$f":"IF(RCU18=\"\",\"\",VLOOKUP($Q$10,DATA!$P$2:$R$196,3))","v":""},{"$f":"IF(RCV18=\"\",\"\",VLOOKUP($Q$10,DATA!$P$2:$R$196,3))","v":""},{"$f":"IF(RCW18=\"\",\"\",VLOOKUP($Q$10,DATA!$P$2:$R$196,3))","v":""},{"$f":"IF(RCX18=\"\",\"\",VLOOKUP($Q$10,DATA!$P$2:$R$196,3))","v":""},{"$f":"IF(RCY18=\"\",\"\",VLOOKUP($Q$10,DATA!$P$2:$R$196,3))","v":""},{"$f":"IF(RCZ18=\"\",\"\",VLOOKUP($Q$10,DATA!$P$2:$R$196,3))","v":""},{"$f":"IF(RDA18=\"\",\"\",VLOOKUP($Q$10,DATA!$P$2:$R$196,3))","v":""},{"$f":"IF(RDB18=\"\",\"\",VLOOKUP($Q$10,DATA!$P$2:$R$196,3))","v":""},{"$f":"IF(RDC18=\"\",\"\",VLOOKUP($Q$10,DATA!$P$2:$R$196,3))","v":""},{"$f":"IF(RDD18=\"\",\"\",VLOOKUP($Q$10,DATA!$P$2:$R$196,3))","v":""},{"$f":"IF(RDE18=\"\",\"\",VLOOKUP($Q$10,DATA!$P$2:$R$196,3))","v":""},{"$f":"IF(RDF18=\"\",\"\",VLOOKUP($Q$10,DATA!$P$2:$R$196,3))","v":""},{"$f":"IF(RDG18=\"\",\"\",VLOOKUP($Q$10,DATA!$P$2:$R$196,3))","v":""},{"$f":"IF(RDH18=\"\",\"\",VLOOKUP($Q$10,DATA!$P$2:$R$196,3))","v":""},{"$f":"IF(RDI18=\"\",\"\",VLOOKUP($Q$10,DATA!$P$2:$R$196,3))","v":""},{"$f":"IF(RDJ18=\"\",\"\",VLOOKUP($Q$10,DATA!$P$2:$R$196,3))","v":""},{"$f":"IF(RDK18=\"\",\"\",VLOOKUP($Q$10,DATA!$P$2:$R$196,3))","v":""},{"$f":"IF(RDL18=\"\",\"\",VLOOKUP($Q$10,DATA!$P$2:$R$196,3))","v":""},{"$f":"IF(RDM18=\"\",\"\",VLOOKUP($Q$10,DATA!$P$2:$R$196,3))","v":""},{"$f":"IF(RDN18=\"\",\"\",VLOOKUP($Q$10,DATA!$P$2:$R$196,3))","v":""},{"$f":"IF(RDO18=\"\",\"\",VLOOKUP($Q$10,DATA!$P$2:$R$196,3))","v":""},{"$f":"IF(RDP18=\"\",\"\",VLOOKUP($Q$10,DATA!$P$2:$R$196,3))","v":""},{"$f":"IF(RDQ18=\"\",\"\",VLOOKUP($Q$10,DATA!$P$2:$R$196,3))","v":""},{"$f":"IF(RDR18=\"\",\"\",VLOOKUP($Q$10,DATA!$P$2:$R$196,3))","v":""},{"$f":"IF(RDS18=\"\",\"\",VLOOKUP($Q$10,DATA!$P$2:$R$196,3))","v":""},{"$f":"IF(RDT18=\"\",\"\",VLOOKUP($Q$10,DATA!$P$2:$R$196,3))","v":""},{"$f":"IF(RDU18=\"\",\"\",VLOOKUP($Q$10,DATA!$P$2:$R$196,3))","v":""},{"$f":"IF(RDV18=\"\",\"\",VLOOKUP($Q$10,DATA!$P$2:$R$196,3))","v":""},{"$f":"IF(RDW18=\"\",\"\",VLOOKUP($Q$10,DATA!$P$2:$R$196,3))","v":""},{"$f":"IF(RDX18=\"\",\"\",VLOOKUP($Q$10,DATA!$P$2:$R$196,3))","v":""},{"$f":"IF(RDY18=\"\",\"\",VLOOKUP($Q$10,DATA!$P$2:$R$196,3))","v":""},{"$f":"IF(RDZ18=\"\",\"\",VLOOKUP($Q$10,DATA!$P$2:$R$196,3))","v":""},{"$f":"IF(REA18=\"\",\"\",VLOOKUP($Q$10,DATA!$P$2:$R$196,3))","v":""},{"$f":"IF(REB18=\"\",\"\",VLOOKUP($Q$10,DATA!$P$2:$R$196,3))","v":""},{"$f":"IF(REC18=\"\",\"\",VLOOKUP($Q$10,DATA!$P$2:$R$196,3))","v":""},{"$f":"IF(RED18=\"\",\"\",VLOOKUP($Q$10,DATA!$P$2:$R$196,3))","v":""},{"$f":"IF(REE18=\"\",\"\",VLOOKUP($Q$10,DATA!$P$2:$R$196,3))","v":""},{"$f":"IF(REF18=\"\",\"\",VLOOKUP($Q$10,DATA!$P$2:$R$196,3))","v":""},{"$f":"IF(REG18=\"\",\"\",VLOOKUP($Q$10,DATA!$P$2:$R$196,3))","v":""},{"$f":"IF(REH18=\"\",\"\",VLOOKUP($Q$10,DATA!$P$2:$R$196,3))","v":""},{"$f":"IF(REI18=\"\",\"\",VLOOKUP($Q$10,DATA!$P$2:$R$196,3))","v":""},{"$f":"IF(REJ18=\"\",\"\",VLOOKUP($Q$10,DATA!$P$2:$R$196,3))","v":""},{"$f":"IF(REK18=\"\",\"\",VLOOKUP($Q$10,DATA!$P$2:$R$196,3))","v":""},{"$f":"IF(REL18=\"\",\"\",VLOOKUP($Q$10,DATA!$P$2:$R$196,3))","v":""},{"$f":"IF(REM18=\"\",\"\",VLOOKUP($Q$10,DATA!$P$2:$R$196,3))","v":""},{"$f":"IF(REN18=\"\",\"\",VLOOKUP($Q$10,DATA!$P$2:$R$196,3))","v":""},{"$f":"IF(REO18=\"\",\"\",VLOOKUP($Q$10,DATA!$P$2:$R$196,3))","v":""},{"$f":"IF(REP18=\"\",\"\",VLOOKUP($Q$10,DATA!$P$2:$R$196,3))","v":""},{"$f":"IF(REQ18=\"\",\"\",VLOOKUP($Q$10,DATA!$P$2:$R$196,3))","v":""},{"$f":"IF(RER18=\"\",\"\",VLOOKUP($Q$10,DATA!$P$2:$R$196,3))","v":""},{"$f":"IF(RES18=\"\",\"\",VLOOKUP($Q$10,DATA!$P$2:$R$196,3))","v":""},{"$f":"IF(RET18=\"\",\"\",VLOOKUP($Q$10,DATA!$P$2:$R$196,3))","v":""},{"$f":"IF(REU18=\"\",\"\",VLOOKUP($Q$10,DATA!$P$2:$R$196,3))","v":""},{"$f":"IF(REV18=\"\",\"\",VLOOKUP($Q$10,DATA!$P$2:$R$196,3))","v":""},{"$f":"IF(REW18=\"\",\"\",VLOOKUP($Q$10,DATA!$P$2:$R$196,3))","v":""},{"$f":"IF(REX18=\"\",\"\",VLOOKUP($Q$10,DATA!$P$2:$R$196,3))","v":""},{"$f":"IF(REY18=\"\",\"\",VLOOKUP($Q$10,DATA!$P$2:$R$196,3))","v":""},{"$f":"IF(REZ18=\"\",\"\",VLOOKUP($Q$10,DATA!$P$2:$R$196,3))","v":""},{"$f":"IF(RFA18=\"\",\"\",VLOOKUP($Q$10,DATA!$P$2:$R$196,3))","v":""},{"$f":"IF(RFB18=\"\",\"\",VLOOKUP($Q$10,DATA!$P$2:$R$196,3))","v":""},{"$f":"IF(RFC18=\"\",\"\",VLOOKUP($Q$10,DATA!$P$2:$R$196,3))","v":""},{"$f":"IF(RFD18=\"\",\"\",VLOOKUP($Q$10,DATA!$P$2:$R$196,3))","v":""},{"$f":"IF(RFE18=\"\",\"\",VLOOKUP($Q$10,DATA!$P$2:$R$196,3))","v":""},{"$f":"IF(RFF18=\"\",\"\",VLOOKUP($Q$10,DATA!$P$2:$R$196,3))","v":""},{"$f":"IF(RFG18=\"\",\"\",VLOOKUP($Q$10,DATA!$P$2:$R$196,3))","v":""},{"$f":"IF(RFH18=\"\",\"\",VLOOKUP($Q$10,DATA!$P$2:$R$196,3))","v":""},{"$f":"IF(RFI18=\"\",\"\",VLOOKUP($Q$10,DATA!$P$2:$R$196,3))","v":""},{"$f":"IF(RFJ18=\"\",\"\",VLOOKUP($Q$10,DATA!$P$2:$R$196,3))","v":""},{"$f":"IF(RFK18=\"\",\"\",VLOOKUP($Q$10,DATA!$P$2:$R$196,3))","v":""},{"$f":"IF(RFL18=\"\",\"\",VLOOKUP($Q$10,DATA!$P$2:$R$196,3))","v":""},{"$f":"IF(RFM18=\"\",\"\",VLOOKUP($Q$10,DATA!$P$2:$R$196,3))","v":""},{"$f":"IF(RFN18=\"\",\"\",VLOOKUP($Q$10,DATA!$P$2:$R$196,3))","v":""},{"$f":"IF(RFO18=\"\",\"\",VLOOKUP($Q$10,DATA!$P$2:$R$196,3))","v":""},{"$f":"IF(RFP18=\"\",\"\",VLOOKUP($Q$10,DATA!$P$2:$R$196,3))","v":""},{"$f":"IF(RFQ18=\"\",\"\",VLOOKUP($Q$10,DATA!$P$2:$R$196,3))","v":""},{"$f":"IF(RFR18=\"\",\"\",VLOOKUP($Q$10,DATA!$P$2:$R$196,3))","v":""},{"$f":"IF(RFS18=\"\",\"\",VLOOKUP($Q$10,DATA!$P$2:$R$196,3))","v":""},{"$f":"IF(RFT18=\"\",\"\",VLOOKUP($Q$10,DATA!$P$2:$R$196,3))","v":""},{"$f":"IF(RFU18=\"\",\"\",VLOOKUP($Q$10,DATA!$P$2:$R$196,3))","v":""},{"$f":"IF(RFV18=\"\",\"\",VLOOKUP($Q$10,DATA!$P$2:$R$196,3))","v":""},{"$f":"IF(RFW18=\"\",\"\",VLOOKUP($Q$10,DATA!$P$2:$R$196,3))","v":""},{"$f":"IF(RFX18=\"\",\"\",VLOOKUP($Q$10,DATA!$P$2:$R$196,3))","v":""},{"$f":"IF(RFY18=\"\",\"\",VLOOKUP($Q$10,DATA!$P$2:$R$196,3))","v":""},{"$f":"IF(RFZ18=\"\",\"\",VLOOKUP($Q$10,DATA!$P$2:$R$196,3))","v":""},{"$f":"IF(RGA18=\"\",\"\",VLOOKUP($Q$10,DATA!$P$2:$R$196,3))","v":""},{"$f":"IF(RGB18=\"\",\"\",VLOOKUP($Q$10,DATA!$P$2:$R$196,3))","v":""},{"$f":"IF(RGC18=\"\",\"\",VLOOKUP($Q$10,DATA!$P$2:$R$196,3))","v":""},{"$f":"IF(RGD18=\"\",\"\",VLOOKUP($Q$10,DATA!$P$2:$R$196,3))","v":""},{"$f":"IF(RGE18=\"\",\"\",VLOOKUP($Q$10,DATA!$P$2:$R$196,3))","v":""},{"$f":"IF(RGF18=\"\",\"\",VLOOKUP($Q$10,DATA!$P$2:$R$196,3))","v":""},{"$f":"IF(RGG18=\"\",\"\",VLOOKUP($Q$10,DATA!$P$2:$R$196,3))","v":""},{"$f":"IF(RGH18=\"\",\"\",VLOOKUP($Q$10,DATA!$P$2:$R$196,3))","v":""},{"$f":"IF(RGI18=\"\",\"\",VLOOKUP($Q$10,DATA!$P$2:$R$196,3))","v":""},{"$f":"IF(RGJ18=\"\",\"\",VLOOKUP($Q$10,DATA!$P$2:$R$196,3))","v":""},{"$f":"IF(RGK18=\"\",\"\",VLOOKUP($Q$10,DATA!$P$2:$R$196,3))","v":""},{"$f":"IF(RGL18=\"\",\"\",VLOOKUP($Q$10,DATA!$P$2:$R$196,3))","v":""},{"$f":"IF(RGM18=\"\",\"\",VLOOKUP($Q$10,DATA!$P$2:$R$196,3))","v":""},{"$f":"IF(RGN18=\"\",\"\",VLOOKUP($Q$10,DATA!$P$2:$R$196,3))","v":""},{"$f":"IF(RGO18=\"\",\"\",VLOOKUP($Q$10,DATA!$P$2:$R$196,3))","v":""},{"$f":"IF(RGP18=\"\",\"\",VLOOKUP($Q$10,DATA!$P$2:$R$196,3))","v":""},{"$f":"IF(RGQ18=\"\",\"\",VLOOKUP($Q$10,DATA!$P$2:$R$196,3))","v":""},{"$f":"IF(RGR18=\"\",\"\",VLOOKUP($Q$10,DATA!$P$2:$R$196,3))","v":""},{"$f":"IF(RGS18=\"\",\"\",VLOOKUP($Q$10,DATA!$P$2:$R$196,3))","v":""},{"$f":"IF(RGT18=\"\",\"\",VLOOKUP($Q$10,DATA!$P$2:$R$196,3))","v":""},{"$f":"IF(RGU18=\"\",\"\",VLOOKUP($Q$10,DATA!$P$2:$R$196,3))","v":""},{"$f":"IF(RGV18=\"\",\"\",VLOOKUP($Q$10,DATA!$P$2:$R$196,3))","v":""},{"$f":"IF(RGW18=\"\",\"\",VLOOKUP($Q$10,DATA!$P$2:$R$196,3))","v":""},{"$f":"IF(RGX18=\"\",\"\",VLOOKUP($Q$10,DATA!$P$2:$R$196,3))","v":""},{"$f":"IF(RGY18=\"\",\"\",VLOOKUP($Q$10,DATA!$P$2:$R$196,3))","v":""},{"$f":"IF(RGZ18=\"\",\"\",VLOOKUP($Q$10,DATA!$P$2:$R$196,3))","v":""},{"$f":"IF(RHA18=\"\",\"\",VLOOKUP($Q$10,DATA!$P$2:$R$196,3))","v":""},{"$f":"IF(RHB18=\"\",\"\",VLOOKUP($Q$10,DATA!$P$2:$R$196,3))","v":""},{"$f":"IF(RHC18=\"\",\"\",VLOOKUP($Q$10,DATA!$P$2:$R$196,3))","v":""},{"$f":"IF(RHD18=\"\",\"\",VLOOKUP($Q$10,DATA!$P$2:$R$196,3))","v":""},{"$f":"IF(RHE18=\"\",\"\",VLOOKUP($Q$10,DATA!$P$2:$R$196,3))","v":""},{"$f":"IF(RHF18=\"\",\"\",VLOOKUP($Q$10,DATA!$P$2:$R$196,3))","v":""},{"$f":"IF(RHG18=\"\",\"\",VLOOKUP($Q$10,DATA!$P$2:$R$196,3))","v":""},{"$f":"IF(RHH18=\"\",\"\",VLOOKUP($Q$10,DATA!$P$2:$R$196,3))","v":""},{"$f":"IF(RHI18=\"\",\"\",VLOOKUP($Q$10,DATA!$P$2:$R$196,3))","v":""},{"$f":"IF(RHJ18=\"\",\"\",VLOOKUP($Q$10,DATA!$P$2:$R$196,3))","v":""},{"$f":"IF(RHK18=\"\",\"\",VLOOKUP($Q$10,DATA!$P$2:$R$196,3))","v":""},{"$f":"IF(RHL18=\"\",\"\",VLOOKUP($Q$10,DATA!$P$2:$R$196,3))","v":""},{"$f":"IF(RHM18=\"\",\"\",VLOOKUP($Q$10,DATA!$P$2:$R$196,3))","v":""},{"$f":"IF(RHN18=\"\",\"\",VLOOKUP($Q$10,DATA!$P$2:$R$196,3))","v":""},{"$f":"IF(RHO18=\"\",\"\",VLOOKUP($Q$10,DATA!$P$2:$R$196,3))","v":""},{"$f":"IF(RHP18=\"\",\"\",VLOOKUP($Q$10,DATA!$P$2:$R$196,3))","v":""},{"$f":"IF(RHQ18=\"\",\"\",VLOOKUP($Q$10,DATA!$P$2:$R$196,3))","v":""},{"$f":"IF(RHR18=\"\",\"\",VLOOKUP($Q$10,DATA!$P$2:$R$196,3))","v":""},{"$f":"IF(RHS18=\"\",\"\",VLOOKUP($Q$10,DATA!$P$2:$R$196,3))","v":""},{"$f":"IF(RHT18=\"\",\"\",VLOOKUP($Q$10,DATA!$P$2:$R$196,3))","v":""},{"$f":"IF(RHU18=\"\",\"\",VLOOKUP($Q$10,DATA!$P$2:$R$196,3))","v":""},{"$f":"IF(RHV18=\"\",\"\",VLOOKUP($Q$10,DATA!$P$2:$R$196,3))","v":""},{"$f":"IF(RHW18=\"\",\"\",VLOOKUP($Q$10,DATA!$P$2:$R$196,3))","v":""},{"$f":"IF(RHX18=\"\",\"\",VLOOKUP($Q$10,DATA!$P$2:$R$196,3))","v":""},{"$f":"IF(RHY18=\"\",\"\",VLOOKUP($Q$10,DATA!$P$2:$R$196,3))","v":""},{"$f":"IF(RHZ18=\"\",\"\",VLOOKUP($Q$10,DATA!$P$2:$R$196,3))","v":""},{"$f":"IF(RIA18=\"\",\"\",VLOOKUP($Q$10,DATA!$P$2:$R$196,3))","v":""},{"$f":"IF(RIB18=\"\",\"\",VLOOKUP($Q$10,DATA!$P$2:$R$196,3))","v":""},{"$f":"IF(RIC18=\"\",\"\",VLOOKUP($Q$10,DATA!$P$2:$R$196,3))","v":""},{"$f":"IF(RID18=\"\",\"\",VLOOKUP($Q$10,DATA!$P$2:$R$196,3))","v":""},{"$f":"IF(RIE18=\"\",\"\",VLOOKUP($Q$10,DATA!$P$2:$R$196,3))","v":""},{"$f":"IF(RIF18=\"\",\"\",VLOOKUP($Q$10,DATA!$P$2:$R$196,3))","v":""},{"$f":"IF(RIG18=\"\",\"\",VLOOKUP($Q$10,DATA!$P$2:$R$196,3))","v":""},{"$f":"IF(RIH18=\"\",\"\",VLOOKUP($Q$10,DATA!$P$2:$R$196,3))","v":""},{"$f":"IF(RII18=\"\",\"\",VLOOKUP($Q$10,DATA!$P$2:$R$196,3))","v":""},{"$f":"IF(RIJ18=\"\",\"\",VLOOKUP($Q$10,DATA!$P$2:$R$196,3))","v":""},{"$f":"IF(RIK18=\"\",\"\",VLOOKUP($Q$10,DATA!$P$2:$R$196,3))","v":""},{"$f":"IF(RIL18=\"\",\"\",VLOOKUP($Q$10,DATA!$P$2:$R$196,3))","v":""},{"$f":"IF(RIM18=\"\",\"\",VLOOKUP($Q$10,DATA!$P$2:$R$196,3))","v":""},{"$f":"IF(RIN18=\"\",\"\",VLOOKUP($Q$10,DATA!$P$2:$R$196,3))","v":""},{"$f":"IF(RIO18=\"\",\"\",VLOOKUP($Q$10,DATA!$P$2:$R$196,3))","v":""},{"$f":"IF(RIP18=\"\",\"\",VLOOKUP($Q$10,DATA!$P$2:$R$196,3))","v":""},{"$f":"IF(RIQ18=\"\",\"\",VLOOKUP($Q$10,DATA!$P$2:$R$196,3))","v":""},{"$f":"IF(RIR18=\"\",\"\",VLOOKUP($Q$10,DATA!$P$2:$R$196,3))","v":""},{"$f":"IF(RIS18=\"\",\"\",VLOOKUP($Q$10,DATA!$P$2:$R$196,3))","v":""},{"$f":"IF(RIT18=\"\",\"\",VLOOKUP($Q$10,DATA!$P$2:$R$196,3))","v":""},{"$f":"IF(RIU18=\"\",\"\",VLOOKUP($Q$10,DATA!$P$2:$R$196,3))","v":""},{"$f":"IF(RIV18=\"\",\"\",VLOOKUP($Q$10,DATA!$P$2:$R$196,3))","v":""},{"$f":"IF(RIW18=\"\",\"\",VLOOKUP($Q$10,DATA!$P$2:$R$196,3))","v":""},{"$f":"IF(RIX18=\"\",\"\",VLOOKUP($Q$10,DATA!$P$2:$R$196,3))","v":""},{"$f":"IF(RIY18=\"\",\"\",VLOOKUP($Q$10,DATA!$P$2:$R$196,3))","v":""},{"$f":"IF(RIZ18=\"\",\"\",VLOOKUP($Q$10,DATA!$P$2:$R$196,3))","v":""},{"$f":"IF(RJA18=\"\",\"\",VLOOKUP($Q$10,DATA!$P$2:$R$196,3))","v":""},{"$f":"IF(RJB18=\"\",\"\",VLOOKUP($Q$10,DATA!$P$2:$R$196,3))","v":""},{"$f":"IF(RJC18=\"\",\"\",VLOOKUP($Q$10,DATA!$P$2:$R$196,3))","v":""},{"$f":"IF(RJD18=\"\",\"\",VLOOKUP($Q$10,DATA!$P$2:$R$196,3))","v":""},{"$f":"IF(RJE18=\"\",\"\",VLOOKUP($Q$10,DATA!$P$2:$R$196,3))","v":""},{"$f":"IF(RJF18=\"\",\"\",VLOOKUP($Q$10,DATA!$P$2:$R$196,3))","v":""},{"$f":"IF(RJG18=\"\",\"\",VLOOKUP($Q$10,DATA!$P$2:$R$196,3))","v":""},{"$f":"IF(RJH18=\"\",\"\",VLOOKUP($Q$10,DATA!$P$2:$R$196,3))","v":""},{"$f":"IF(RJI18=\"\",\"\",VLOOKUP($Q$10,DATA!$P$2:$R$196,3))","v":""},{"$f":"IF(RJJ18=\"\",\"\",VLOOKUP($Q$10,DATA!$P$2:$R$196,3))","v":""},{"$f":"IF(RJK18=\"\",\"\",VLOOKUP($Q$10,DATA!$P$2:$R$196,3))","v":""},{"$f":"IF(RJL18=\"\",\"\",VLOOKUP($Q$10,DATA!$P$2:$R$196,3))","v":""},{"$f":"IF(RJM18=\"\",\"\",VLOOKUP($Q$10,DATA!$P$2:$R$196,3))","v":""},{"$f":"IF(RJN18=\"\",\"\",VLOOKUP($Q$10,DATA!$P$2:$R$196,3))","v":""},{"$f":"IF(RJO18=\"\",\"\",VLOOKUP($Q$10,DATA!$P$2:$R$196,3))","v":""},{"$f":"IF(RJP18=\"\",\"\",VLOOKUP($Q$10,DATA!$P$2:$R$196,3))","v":""},{"$f":"IF(RJQ18=\"\",\"\",VLOOKUP($Q$10,DATA!$P$2:$R$196,3))","v":""},{"$f":"IF(RJR18=\"\",\"\",VLOOKUP($Q$10,DATA!$P$2:$R$196,3))","v":""},{"$f":"IF(RJS18=\"\",\"\",VLOOKUP($Q$10,DATA!$P$2:$R$196,3))","v":""},{"$f":"IF(RJT18=\"\",\"\",VLOOKUP($Q$10,DATA!$P$2:$R$196,3))","v":""},{"$f":"IF(RJU18=\"\",\"\",VLOOKUP($Q$10,DATA!$P$2:$R$196,3))","v":""},{"$f":"IF(RJV18=\"\",\"\",VLOOKUP($Q$10,DATA!$P$2:$R$196,3))","v":""},{"$f":"IF(RJW18=\"\",\"\",VLOOKUP($Q$10,DATA!$P$2:$R$196,3))","v":""},{"$f":"IF(RJX18=\"\",\"\",VLOOKUP($Q$10,DATA!$P$2:$R$196,3))","v":""},{"$f":"IF(RJY18=\"\",\"\",VLOOKUP($Q$10,DATA!$P$2:$R$196,3))","v":""},{"$f":"IF(RJZ18=\"\",\"\",VLOOKUP($Q$10,DATA!$P$2:$R$196,3))","v":""},{"$f":"IF(RKA18=\"\",\"\",VLOOKUP($Q$10,DATA!$P$2:$R$196,3))","v":""},{"$f":"IF(RKB18=\"\",\"\",VLOOKUP($Q$10,DATA!$P$2:$R$196,3))","v":""},{"$f":"IF(RKC18=\"\",\"\",VLOOKUP($Q$10,DATA!$P$2:$R$196,3))","v":""},{"$f":"IF(RKD18=\"\",\"\",VLOOKUP($Q$10,DATA!$P$2:$R$196,3))","v":""},{"$f":"IF(RKE18=\"\",\"\",VLOOKUP($Q$10,DATA!$P$2:$R$196,3))","v":""},{"$f":"IF(RKF18=\"\",\"\",VLOOKUP($Q$10,DATA!$P$2:$R$196,3))","v":""},{"$f":"IF(RKG18=\"\",\"\",VLOOKUP($Q$10,DATA!$P$2:$R$196,3))","v":""},{"$f":"IF(RKH18=\"\",\"\",VLOOKUP($Q$10,DATA!$P$2:$R$196,3))","v":""},{"$f":"IF(RKI18=\"\",\"\",VLOOKUP($Q$10,DATA!$P$2:$R$196,3))","v":""},{"$f":"IF(RKJ18=\"\",\"\",VLOOKUP($Q$10,DATA!$P$2:$R$196,3))","v":""},{"$f":"IF(RKK18=\"\",\"\",VLOOKUP($Q$10,DATA!$P$2:$R$196,3))","v":""},{"$f":"IF(RKL18=\"\",\"\",VLOOKUP($Q$10,DATA!$P$2:$R$196,3))","v":""},{"$f":"IF(RKM18=\"\",\"\",VLOOKUP($Q$10,DATA!$P$2:$R$196,3))","v":""},{"$f":"IF(RKN18=\"\",\"\",VLOOKUP($Q$10,DATA!$P$2:$R$196,3))","v":""},{"$f":"IF(RKO18=\"\",\"\",VLOOKUP($Q$10,DATA!$P$2:$R$196,3))","v":""},{"$f":"IF(RKP18=\"\",\"\",VLOOKUP($Q$10,DATA!$P$2:$R$196,3))","v":""},{"$f":"IF(RKQ18=\"\",\"\",VLOOKUP($Q$10,DATA!$P$2:$R$196,3))","v":""},{"$f":"IF(RKR18=\"\",\"\",VLOOKUP($Q$10,DATA!$P$2:$R$196,3))","v":""},{"$f":"IF(RKS18=\"\",\"\",VLOOKUP($Q$10,DATA!$P$2:$R$196,3))","v":""},{"$f":"IF(RKT18=\"\",\"\",VLOOKUP($Q$10,DATA!$P$2:$R$196,3))","v":""},{"$f":"IF(RKU18=\"\",\"\",VLOOKUP($Q$10,DATA!$P$2:$R$196,3))","v":""},{"$f":"IF(RKV18=\"\",\"\",VLOOKUP($Q$10,DATA!$P$2:$R$196,3))","v":""},{"$f":"IF(RKW18=\"\",\"\",VLOOKUP($Q$10,DATA!$P$2:$R$196,3))","v":""},{"$f":"IF(RKX18=\"\",\"\",VLOOKUP($Q$10,DATA!$P$2:$R$196,3))","v":""},{"$f":"IF(RKY18=\"\",\"\",VLOOKUP($Q$10,DATA!$P$2:$R$196,3))","v":""},{"$f":"IF(RKZ18=\"\",\"\",VLOOKUP($Q$10,DATA!$P$2:$R$196,3))","v":""},{"$f":"IF(RLA18=\"\",\"\",VLOOKUP($Q$10,DATA!$P$2:$R$196,3))","v":""},{"$f":"IF(RLB18=\"\",\"\",VLOOKUP($Q$10,DATA!$P$2:$R$196,3))","v":""},{"$f":"IF(RLC18=\"\",\"\",VLOOKUP($Q$10,DATA!$P$2:$R$196,3))","v":""},{"$f":"IF(RLD18=\"\",\"\",VLOOKUP($Q$10,DATA!$P$2:$R$196,3))","v":""},{"$f":"IF(RLE18=\"\",\"\",VLOOKUP($Q$10,DATA!$P$2:$R$196,3))","v":""},{"$f":"IF(RLF18=\"\",\"\",VLOOKUP($Q$10,DATA!$P$2:$R$196,3))","v":""},{"$f":"IF(RLG18=\"\",\"\",VLOOKUP($Q$10,DATA!$P$2:$R$196,3))","v":""},{"$f":"IF(RLH18=\"\",\"\",VLOOKUP($Q$10,DATA!$P$2:$R$196,3))","v":""},{"$f":"IF(RLI18=\"\",\"\",VLOOKUP($Q$10,DATA!$P$2:$R$196,3))","v":""},{"$f":"IF(RLJ18=\"\",\"\",VLOOKUP($Q$10,DATA!$P$2:$R$196,3))","v":""},{"$f":"IF(RLK18=\"\",\"\",VLOOKUP($Q$10,DATA!$P$2:$R$196,3))","v":""},{"$f":"IF(RLL18=\"\",\"\",VLOOKUP($Q$10,DATA!$P$2:$R$196,3))","v":""},{"$f":"IF(RLM18=\"\",\"\",VLOOKUP($Q$10,DATA!$P$2:$R$196,3))","v":""},{"$f":"IF(RLN18=\"\",\"\",VLOOKUP($Q$10,DATA!$P$2:$R$196,3))","v":""},{"$f":"IF(RLO18=\"\",\"\",VLOOKUP($Q$10,DATA!$P$2:$R$196,3))","v":""},{"$f":"IF(RLP18=\"\",\"\",VLOOKUP($Q$10,DATA!$P$2:$R$196,3))","v":""},{"$f":"IF(RLQ18=\"\",\"\",VLOOKUP($Q$10,DATA!$P$2:$R$196,3))","v":""},{"$f":"IF(RLR18=\"\",\"\",VLOOKUP($Q$10,DATA!$P$2:$R$196,3))","v":""},{"$f":"IF(RLS18=\"\",\"\",VLOOKUP($Q$10,DATA!$P$2:$R$196,3))","v":""},{"$f":"IF(RLT18=\"\",\"\",VLOOKUP($Q$10,DATA!$P$2:$R$196,3))","v":""},{"$f":"IF(RLU18=\"\",\"\",VLOOKUP($Q$10,DATA!$P$2:$R$196,3))","v":""},{"$f":"IF(RLV18=\"\",\"\",VLOOKUP($Q$10,DATA!$P$2:$R$196,3))","v":""},{"$f":"IF(RLW18=\"\",\"\",VLOOKUP($Q$10,DATA!$P$2:$R$196,3))","v":""},{"$f":"IF(RLX18=\"\",\"\",VLOOKUP($Q$10,DATA!$P$2:$R$196,3))","v":""},{"$f":"IF(RLY18=\"\",\"\",VLOOKUP($Q$10,DATA!$P$2:$R$196,3))","v":""},{"$f":"IF(RLZ18=\"\",\"\",VLOOKUP($Q$10,DATA!$P$2:$R$196,3))","v":""},{"$f":"IF(RMA18=\"\",\"\",VLOOKUP($Q$10,DATA!$P$2:$R$196,3))","v":""},{"$f":"IF(RMB18=\"\",\"\",VLOOKUP($Q$10,DATA!$P$2:$R$196,3))","v":""},{"$f":"IF(RMC18=\"\",\"\",VLOOKUP($Q$10,DATA!$P$2:$R$196,3))","v":""},{"$f":"IF(RMD18=\"\",\"\",VLOOKUP($Q$10,DATA!$P$2:$R$196,3))","v":""},{"$f":"IF(RME18=\"\",\"\",VLOOKUP($Q$10,DATA!$P$2:$R$196,3))","v":""},{"$f":"IF(RMF18=\"\",\"\",VLOOKUP($Q$10,DATA!$P$2:$R$196,3))","v":""},{"$f":"IF(RMG18=\"\",\"\",VLOOKUP($Q$10,DATA!$P$2:$R$196,3))","v":""},{"$f":"IF(RMH18=\"\",\"\",VLOOKUP($Q$10,DATA!$P$2:$R$196,3))","v":""},{"$f":"IF(RMI18=\"\",\"\",VLOOKUP($Q$10,DATA!$P$2:$R$196,3))","v":""},{"$f":"IF(RMJ18=\"\",\"\",VLOOKUP($Q$10,DATA!$P$2:$R$196,3))","v":""},{"$f":"IF(RMK18=\"\",\"\",VLOOKUP($Q$10,DATA!$P$2:$R$196,3))","v":""},{"$f":"IF(RML18=\"\",\"\",VLOOKUP($Q$10,DATA!$P$2:$R$196,3))","v":""},{"$f":"IF(RMM18=\"\",\"\",VLOOKUP($Q$10,DATA!$P$2:$R$196,3))","v":""},{"$f":"IF(RMN18=\"\",\"\",VLOOKUP($Q$10,DATA!$P$2:$R$196,3))","v":""},{"$f":"IF(RMO18=\"\",\"\",VLOOKUP($Q$10,DATA!$P$2:$R$196,3))","v":""},{"$f":"IF(RMP18=\"\",\"\",VLOOKUP($Q$10,DATA!$P$2:$R$196,3))","v":""},{"$f":"IF(RMQ18=\"\",\"\",VLOOKUP($Q$10,DATA!$P$2:$R$196,3))","v":""},{"$f":"IF(RMR18=\"\",\"\",VLOOKUP($Q$10,DATA!$P$2:$R$196,3))","v":""},{"$f":"IF(RMS18=\"\",\"\",VLOOKUP($Q$10,DATA!$P$2:$R$196,3))","v":""},{"$f":"IF(RMT18=\"\",\"\",VLOOKUP($Q$10,DATA!$P$2:$R$196,3))","v":""},{"$f":"IF(RMU18=\"\",\"\",VLOOKUP($Q$10,DATA!$P$2:$R$196,3))","v":""},{"$f":"IF(RMV18=\"\",\"\",VLOOKUP($Q$10,DATA!$P$2:$R$196,3))","v":""},{"$f":"IF(RMW18=\"\",\"\",VLOOKUP($Q$10,DATA!$P$2:$R$196,3))","v":""},{"$f":"IF(RMX18=\"\",\"\",VLOOKUP($Q$10,DATA!$P$2:$R$196,3))","v":""},{"$f":"IF(RMY18=\"\",\"\",VLOOKUP($Q$10,DATA!$P$2:$R$196,3))","v":""},{"$f":"IF(RMZ18=\"\",\"\",VLOOKUP($Q$10,DATA!$P$2:$R$196,3))","v":""},{"$f":"IF(RNA18=\"\",\"\",VLOOKUP($Q$10,DATA!$P$2:$R$196,3))","v":""},{"$f":"IF(RNB18=\"\",\"\",VLOOKUP($Q$10,DATA!$P$2:$R$196,3))","v":""},{"$f":"IF(RNC18=\"\",\"\",VLOOKUP($Q$10,DATA!$P$2:$R$196,3))","v":""},{"$f":"IF(RND18=\"\",\"\",VLOOKUP($Q$10,DATA!$P$2:$R$196,3))","v":""},{"$f":"IF(RNE18=\"\",\"\",VLOOKUP($Q$10,DATA!$P$2:$R$196,3))","v":""},{"$f":"IF(RNF18=\"\",\"\",VLOOKUP($Q$10,DATA!$P$2:$R$196,3))","v":""},{"$f":"IF(RNG18=\"\",\"\",VLOOKUP($Q$10,DATA!$P$2:$R$196,3))","v":""},{"$f":"IF(RNH18=\"\",\"\",VLOOKUP($Q$10,DATA!$P$2:$R$196,3))","v":""},{"$f":"IF(RNI18=\"\",\"\",VLOOKUP($Q$10,DATA!$P$2:$R$196,3))","v":""},{"$f":"IF(RNJ18=\"\",\"\",VLOOKUP($Q$10,DATA!$P$2:$R$196,3))","v":""},{"$f":"IF(RNK18=\"\",\"\",VLOOKUP($Q$10,DATA!$P$2:$R$196,3))","v":""},{"$f":"IF(RNL18=\"\",\"\",VLOOKUP($Q$10,DATA!$P$2:$R$196,3))","v":""},{"$f":"IF(RNM18=\"\",\"\",VLOOKUP($Q$10,DATA!$P$2:$R$196,3))","v":""},{"$f":"IF(RNN18=\"\",\"\",VLOOKUP($Q$10,DATA!$P$2:$R$196,3))","v":""},{"$f":"IF(RNO18=\"\",\"\",VLOOKUP($Q$10,DATA!$P$2:$R$196,3))","v":""},{"$f":"IF(RNP18=\"\",\"\",VLOOKUP($Q$10,DATA!$P$2:$R$196,3))","v":""},{"$f":"IF(RNQ18=\"\",\"\",VLOOKUP($Q$10,DATA!$P$2:$R$196,3))","v":""},{"$f":"IF(RNR18=\"\",\"\",VLOOKUP($Q$10,DATA!$P$2:$R$196,3))","v":""},{"$f":"IF(RNS18=\"\",\"\",VLOOKUP($Q$10,DATA!$P$2:$R$196,3))","v":""},{"$f":"IF(RNT18=\"\",\"\",VLOOKUP($Q$10,DATA!$P$2:$R$196,3))","v":""},{"$f":"IF(RNU18=\"\",\"\",VLOOKUP($Q$10,DATA!$P$2:$R$196,3))","v":""},{"$f":"IF(RNV18=\"\",\"\",VLOOKUP($Q$10,DATA!$P$2:$R$196,3))","v":""},{"$f":"IF(RNW18=\"\",\"\",VLOOKUP($Q$10,DATA!$P$2:$R$196,3))","v":""},{"$f":"IF(RNX18=\"\",\"\",VLOOKUP($Q$10,DATA!$P$2:$R$196,3))","v":""},{"$f":"IF(RNY18=\"\",\"\",VLOOKUP($Q$10,DATA!$P$2:$R$196,3))","v":""},{"$f":"IF(RNZ18=\"\",\"\",VLOOKUP($Q$10,DATA!$P$2:$R$196,3))","v":""},{"$f":"IF(ROA18=\"\",\"\",VLOOKUP($Q$10,DATA!$P$2:$R$196,3))","v":""},{"$f":"IF(ROB18=\"\",\"\",VLOOKUP($Q$10,DATA!$P$2:$R$196,3))","v":""},{"$f":"IF(ROC18=\"\",\"\",VLOOKUP($Q$10,DATA!$P$2:$R$196,3))","v":""},{"$f":"IF(ROD18=\"\",\"\",VLOOKUP($Q$10,DATA!$P$2:$R$196,3))","v":""},{"$f":"IF(ROE18=\"\",\"\",VLOOKUP($Q$10,DATA!$P$2:$R$196,3))","v":""},{"$f":"IF(ROF18=\"\",\"\",VLOOKUP($Q$10,DATA!$P$2:$R$196,3))","v":""},{"$f":"IF(ROG18=\"\",\"\",VLOOKUP($Q$10,DATA!$P$2:$R$196,3))","v":""},{"$f":"IF(ROH18=\"\",\"\",VLOOKUP($Q$10,DATA!$P$2:$R$196,3))","v":""},{"$f":"IF(ROI18=\"\",\"\",VLOOKUP($Q$10,DATA!$P$2:$R$196,3))","v":""},{"$f":"IF(ROJ18=\"\",\"\",VLOOKUP($Q$10,DATA!$P$2:$R$196,3))","v":""},{"$f":"IF(ROK18=\"\",\"\",VLOOKUP($Q$10,DATA!$P$2:$R$196,3))","v":""},{"$f":"IF(ROL18=\"\",\"\",VLOOKUP($Q$10,DATA!$P$2:$R$196,3))","v":""},{"$f":"IF(ROM18=\"\",\"\",VLOOKUP($Q$10,DATA!$P$2:$R$196,3))","v":""},{"$f":"IF(RON18=\"\",\"\",VLOOKUP($Q$10,DATA!$P$2:$R$196,3))","v":""},{"$f":"IF(ROO18=\"\",\"\",VLOOKUP($Q$10,DATA!$P$2:$R$196,3))","v":""},{"$f":"IF(ROP18=\"\",\"\",VLOOKUP($Q$10,DATA!$P$2:$R$196,3))","v":""},{"$f":"IF(ROQ18=\"\",\"\",VLOOKUP($Q$10,DATA!$P$2:$R$196,3))","v":""},{"$f":"IF(ROR18=\"\",\"\",VLOOKUP($Q$10,DATA!$P$2:$R$196,3))","v":""},{"$f":"IF(ROS18=\"\",\"\",VLOOKUP($Q$10,DATA!$P$2:$R$196,3))","v":""},{"$f":"IF(ROT18=\"\",\"\",VLOOKUP($Q$10,DATA!$P$2:$R$196,3))","v":""},{"$f":"IF(ROU18=\"\",\"\",VLOOKUP($Q$10,DATA!$P$2:$R$196,3))","v":""},{"$f":"IF(ROV18=\"\",\"\",VLOOKUP($Q$10,DATA!$P$2:$R$196,3))","v":""},{"$f":"IF(ROW18=\"\",\"\",VLOOKUP($Q$10,DATA!$P$2:$R$196,3))","v":""},{"$f":"IF(ROX18=\"\",\"\",VLOOKUP($Q$10,DATA!$P$2:$R$196,3))","v":""},{"$f":"IF(ROY18=\"\",\"\",VLOOKUP($Q$10,DATA!$P$2:$R$196,3))","v":""},{"$f":"IF(ROZ18=\"\",\"\",VLOOKUP($Q$10,DATA!$P$2:$R$196,3))","v":""},{"$f":"IF(RPA18=\"\",\"\",VLOOKUP($Q$10,DATA!$P$2:$R$196,3))","v":""},{"$f":"IF(RPB18=\"\",\"\",VLOOKUP($Q$10,DATA!$P$2:$R$196,3))","v":""},{"$f":"IF(RPC18=\"\",\"\",VLOOKUP($Q$10,DATA!$P$2:$R$196,3))","v":""},{"$f":"IF(RPD18=\"\",\"\",VLOOKUP($Q$10,DATA!$P$2:$R$196,3))","v":""},{"$f":"IF(RPE18=\"\",\"\",VLOOKUP($Q$10,DATA!$P$2:$R$196,3))","v":""},{"$f":"IF(RPF18=\"\",\"\",VLOOKUP($Q$10,DATA!$P$2:$R$196,3))","v":""},{"$f":"IF(RPG18=\"\",\"\",VLOOKUP($Q$10,DATA!$P$2:$R$196,3))","v":""},{"$f":"IF(RPH18=\"\",\"\",VLOOKUP($Q$10,DATA!$P$2:$R$196,3))","v":""},{"$f":"IF(RPI18=\"\",\"\",VLOOKUP($Q$10,DATA!$P$2:$R$196,3))","v":""},{"$f":"IF(RPJ18=\"\",\"\",VLOOKUP($Q$10,DATA!$P$2:$R$196,3))","v":""},{"$f":"IF(RPK18=\"\",\"\",VLOOKUP($Q$10,DATA!$P$2:$R$196,3))","v":""},{"$f":"IF(RPL18=\"\",\"\",VLOOKUP($Q$10,DATA!$P$2:$R$196,3))","v":""},{"$f":"IF(RPM18=\"\",\"\",VLOOKUP($Q$10,DATA!$P$2:$R$196,3))","v":""},{"$f":"IF(RPN18=\"\",\"\",VLOOKUP($Q$10,DATA!$P$2:$R$196,3))","v":""},{"$f":"IF(RPO18=\"\",\"\",VLOOKUP($Q$10,DATA!$P$2:$R$196,3))","v":""},{"$f":"IF(RPP18=\"\",\"\",VLOOKUP($Q$10,DATA!$P$2:$R$196,3))","v":""},{"$f":"IF(RPQ18=\"\",\"\",VLOOKUP($Q$10,DATA!$P$2:$R$196,3))","v":""},{"$f":"IF(RPR18=\"\",\"\",VLOOKUP($Q$10,DATA!$P$2:$R$196,3))","v":""},{"$f":"IF(RPS18=\"\",\"\",VLOOKUP($Q$10,DATA!$P$2:$R$196,3))","v":""},{"$f":"IF(RPT18=\"\",\"\",VLOOKUP($Q$10,DATA!$P$2:$R$196,3))","v":""},{"$f":"IF(RPU18=\"\",\"\",VLOOKUP($Q$10,DATA!$P$2:$R$196,3))","v":""},{"$f":"IF(RPV18=\"\",\"\",VLOOKUP($Q$10,DATA!$P$2:$R$196,3))","v":""},{"$f":"IF(RPW18=\"\",\"\",VLOOKUP($Q$10,DATA!$P$2:$R$196,3))","v":""},{"$f":"IF(RPX18=\"\",\"\",VLOOKUP($Q$10,DATA!$P$2:$R$196,3))","v":""},{"$f":"IF(RPY18=\"\",\"\",VLOOKUP($Q$10,DATA!$P$2:$R$196,3))","v":""},{"$f":"IF(RPZ18=\"\",\"\",VLOOKUP($Q$10,DATA!$P$2:$R$196,3))","v":""},{"$f":"IF(RQA18=\"\",\"\",VLOOKUP($Q$10,DATA!$P$2:$R$196,3))","v":""},{"$f":"IF(RQB18=\"\",\"\",VLOOKUP($Q$10,DATA!$P$2:$R$196,3))","v":""},{"$f":"IF(RQC18=\"\",\"\",VLOOKUP($Q$10,DATA!$P$2:$R$196,3))","v":""},{"$f":"IF(RQD18=\"\",\"\",VLOOKUP($Q$10,DATA!$P$2:$R$196,3))","v":""},{"$f":"IF(RQE18=\"\",\"\",VLOOKUP($Q$10,DATA!$P$2:$R$196,3))","v":""},{"$f":"IF(RQF18=\"\",\"\",VLOOKUP($Q$10,DATA!$P$2:$R$196,3))","v":""},{"$f":"IF(RQG18=\"\",\"\",VLOOKUP($Q$10,DATA!$P$2:$R$196,3))","v":""},{"$f":"IF(RQH18=\"\",\"\",VLOOKUP($Q$10,DATA!$P$2:$R$196,3))","v":""},{"$f":"IF(RQI18=\"\",\"\",VLOOKUP($Q$10,DATA!$P$2:$R$196,3))","v":""},{"$f":"IF(RQJ18=\"\",\"\",VLOOKUP($Q$10,DATA!$P$2:$R$196,3))","v":""},{"$f":"IF(RQK18=\"\",\"\",VLOOKUP($Q$10,DATA!$P$2:$R$196,3))","v":""},{"$f":"IF(RQL18=\"\",\"\",VLOOKUP($Q$10,DATA!$P$2:$R$196,3))","v":""},{"$f":"IF(RQM18=\"\",\"\",VLOOKUP($Q$10,DATA!$P$2:$R$196,3))","v":""},{"$f":"IF(RQN18=\"\",\"\",VLOOKUP($Q$10,DATA!$P$2:$R$196,3))","v":""},{"$f":"IF(RQO18=\"\",\"\",VLOOKUP($Q$10,DATA!$P$2:$R$196,3))","v":""},{"$f":"IF(RQP18=\"\",\"\",VLOOKUP($Q$10,DATA!$P$2:$R$196,3))","v":""},{"$f":"IF(RQQ18=\"\",\"\",VLOOKUP($Q$10,DATA!$P$2:$R$196,3))","v":""},{"$f":"IF(RQR18=\"\",\"\",VLOOKUP($Q$10,DATA!$P$2:$R$196,3))","v":""},{"$f":"IF(RQS18=\"\",\"\",VLOOKUP($Q$10,DATA!$P$2:$R$196,3))","v":""},{"$f":"IF(RQT18=\"\",\"\",VLOOKUP($Q$10,DATA!$P$2:$R$196,3))","v":""},{"$f":"IF(RQU18=\"\",\"\",VLOOKUP($Q$10,DATA!$P$2:$R$196,3))","v":""},{"$f":"IF(RQV18=\"\",\"\",VLOOKUP($Q$10,DATA!$P$2:$R$196,3))","v":""},{"$f":"IF(RQW18=\"\",\"\",VLOOKUP($Q$10,DATA!$P$2:$R$196,3))","v":""},{"$f":"IF(RQX18=\"\",\"\",VLOOKUP($Q$10,DATA!$P$2:$R$196,3))","v":""},{"$f":"IF(RQY18=\"\",\"\",VLOOKUP($Q$10,DATA!$P$2:$R$196,3))","v":""},{"$f":"IF(RQZ18=\"\",\"\",VLOOKUP($Q$10,DATA!$P$2:$R$196,3))","v":""},{"$f":"IF(RRA18=\"\",\"\",VLOOKUP($Q$10,DATA!$P$2:$R$196,3))","v":""},{"$f":"IF(RRB18=\"\",\"\",VLOOKUP($Q$10,DATA!$P$2:$R$196,3))","v":""},{"$f":"IF(RRC18=\"\",\"\",VLOOKUP($Q$10,DATA!$P$2:$R$196,3))","v":""},{"$f":"IF(RRD18=\"\",\"\",VLOOKUP($Q$10,DATA!$P$2:$R$196,3))","v":""},{"$f":"IF(RRE18=\"\",\"\",VLOOKUP($Q$10,DATA!$P$2:$R$196,3))","v":""},{"$f":"IF(RRF18=\"\",\"\",VLOOKUP($Q$10,DATA!$P$2:$R$196,3))","v":""},{"$f":"IF(RRG18=\"\",\"\",VLOOKUP($Q$10,DATA!$P$2:$R$196,3))","v":""},{"$f":"IF(RRH18=\"\",\"\",VLOOKUP($Q$10,DATA!$P$2:$R$196,3))","v":""},{"$f":"IF(RRI18=\"\",\"\",VLOOKUP($Q$10,DATA!$P$2:$R$196,3))","v":""},{"$f":"IF(RRJ18=\"\",\"\",VLOOKUP($Q$10,DATA!$P$2:$R$196,3))","v":""},{"$f":"IF(RRK18=\"\",\"\",VLOOKUP($Q$10,DATA!$P$2:$R$196,3))","v":""},{"$f":"IF(RRL18=\"\",\"\",VLOOKUP($Q$10,DATA!$P$2:$R$196,3))","v":""},{"$f":"IF(RRM18=\"\",\"\",VLOOKUP($Q$10,DATA!$P$2:$R$196,3))","v":""},{"$f":"IF(RRN18=\"\",\"\",VLOOKUP($Q$10,DATA!$P$2:$R$196,3))","v":""},{"$f":"IF(RRO18=\"\",\"\",VLOOKUP($Q$10,DATA!$P$2:$R$196,3))","v":""},{"$f":"IF(RRP18=\"\",\"\",VLOOKUP($Q$10,DATA!$P$2:$R$196,3))","v":""},{"$f":"IF(RRQ18=\"\",\"\",VLOOKUP($Q$10,DATA!$P$2:$R$196,3))","v":""},{"$f":"IF(RRR18=\"\",\"\",VLOOKUP($Q$10,DATA!$P$2:$R$196,3))","v":""},{"$f":"IF(RRS18=\"\",\"\",VLOOKUP($Q$10,DATA!$P$2:$R$196,3))","v":""},{"$f":"IF(RRT18=\"\",\"\",VLOOKUP($Q$10,DATA!$P$2:$R$196,3))","v":""},{"$f":"IF(RRU18=\"\",\"\",VLOOKUP($Q$10,DATA!$P$2:$R$196,3))","v":""},{"$f":"IF(RRV18=\"\",\"\",VLOOKUP($Q$10,DATA!$P$2:$R$196,3))","v":""},{"$f":"IF(RRW18=\"\",\"\",VLOOKUP($Q$10,DATA!$P$2:$R$196,3))","v":""},{"$f":"IF(RRX18=\"\",\"\",VLOOKUP($Q$10,DATA!$P$2:$R$196,3))","v":""},{"$f":"IF(RRY18=\"\",\"\",VLOOKUP($Q$10,DATA!$P$2:$R$196,3))","v":""},{"$f":"IF(RRZ18=\"\",\"\",VLOOKUP($Q$10,DATA!$P$2:$R$196,3))","v":""},{"$f":"IF(RSA18=\"\",\"\",VLOOKUP($Q$10,DATA!$P$2:$R$196,3))","v":""},{"$f":"IF(RSB18=\"\",\"\",VLOOKUP($Q$10,DATA!$P$2:$R$196,3))","v":""},{"$f":"IF(RSC18=\"\",\"\",VLOOKUP($Q$10,DATA!$P$2:$R$196,3))","v":""},{"$f":"IF(RSD18=\"\",\"\",VLOOKUP($Q$10,DATA!$P$2:$R$196,3))","v":""},{"$f":"IF(RSE18=\"\",\"\",VLOOKUP($Q$10,DATA!$P$2:$R$196,3))","v":""},{"$f":"IF(RSF18=\"\",\"\",VLOOKUP($Q$10,DATA!$P$2:$R$196,3))","v":""},{"$f":"IF(RSG18=\"\",\"\",VLOOKUP($Q$10,DATA!$P$2:$R$196,3))","v":""},{"$f":"IF(RSH18=\"\",\"\",VLOOKUP($Q$10,DATA!$P$2:$R$196,3))","v":""},{"$f":"IF(RSI18=\"\",\"\",VLOOKUP($Q$10,DATA!$P$2:$R$196,3))","v":""},{"$f":"IF(RSJ18=\"\",\"\",VLOOKUP($Q$10,DATA!$P$2:$R$196,3))","v":""},{"$f":"IF(RSK18=\"\",\"\",VLOOKUP($Q$10,DATA!$P$2:$R$196,3))","v":""},{"$f":"IF(RSL18=\"\",\"\",VLOOKUP($Q$10,DATA!$P$2:$R$196,3))","v":""},{"$f":"IF(RSM18=\"\",\"\",VLOOKUP($Q$10,DATA!$P$2:$R$196,3))","v":""},{"$f":"IF(RSN18=\"\",\"\",VLOOKUP($Q$10,DATA!$P$2:$R$196,3))","v":""},{"$f":"IF(RSO18=\"\",\"\",VLOOKUP($Q$10,DATA!$P$2:$R$196,3))","v":""},{"$f":"IF(RSP18=\"\",\"\",VLOOKUP($Q$10,DATA!$P$2:$R$196,3))","v":""},{"$f":"IF(RSQ18=\"\",\"\",VLOOKUP($Q$10,DATA!$P$2:$R$196,3))","v":""},{"$f":"IF(RSR18=\"\",\"\",VLOOKUP($Q$10,DATA!$P$2:$R$196,3))","v":""},{"$f":"IF(RSS18=\"\",\"\",VLOOKUP($Q$10,DATA!$P$2:$R$196,3))","v":""},{"$f":"IF(RST18=\"\",\"\",VLOOKUP($Q$10,DATA!$P$2:$R$196,3))","v":""},{"$f":"IF(RSU18=\"\",\"\",VLOOKUP($Q$10,DATA!$P$2:$R$196,3))","v":""},{"$f":"IF(RSV18=\"\",\"\",VLOOKUP($Q$10,DATA!$P$2:$R$196,3))","v":""},{"$f":"IF(RSW18=\"\",\"\",VLOOKUP($Q$10,DATA!$P$2:$R$196,3))","v":""},{"$f":"IF(RSX18=\"\",\"\",VLOOKUP($Q$10,DATA!$P$2:$R$196,3))","v":""},{"$f":"IF(RSY18=\"\",\"\",VLOOKUP($Q$10,DATA!$P$2:$R$196,3))","v":""},{"$f":"IF(RSZ18=\"\",\"\",VLOOKUP($Q$10,DATA!$P$2:$R$196,3))","v":""},{"$f":"IF(RTA18=\"\",\"\",VLOOKUP($Q$10,DATA!$P$2:$R$196,3))","v":""},{"$f":"IF(RTB18=\"\",\"\",VLOOKUP($Q$10,DATA!$P$2:$R$196,3))","v":""},{"$f":"IF(RTC18=\"\",\"\",VLOOKUP($Q$10,DATA!$P$2:$R$196,3))","v":""},{"$f":"IF(RTD18=\"\",\"\",VLOOKUP($Q$10,DATA!$P$2:$R$196,3))","v":""},{"$f":"IF(RTE18=\"\",\"\",VLOOKUP($Q$10,DATA!$P$2:$R$196,3))","v":""},{"$f":"IF(RTF18=\"\",\"\",VLOOKUP($Q$10,DATA!$P$2:$R$196,3))","v":""},{"$f":"IF(RTG18=\"\",\"\",VLOOKUP($Q$10,DATA!$P$2:$R$196,3))","v":""},{"$f":"IF(RTH18=\"\",\"\",VLOOKUP($Q$10,DATA!$P$2:$R$196,3))","v":""},{"$f":"IF(RTI18=\"\",\"\",VLOOKUP($Q$10,DATA!$P$2:$R$196,3))","v":""},{"$f":"IF(RTJ18=\"\",\"\",VLOOKUP($Q$10,DATA!$P$2:$R$196,3))","v":""},{"$f":"IF(RTK18=\"\",\"\",VLOOKUP($Q$10,DATA!$P$2:$R$196,3))","v":""},{"$f":"IF(RTL18=\"\",\"\",VLOOKUP($Q$10,DATA!$P$2:$R$196,3))","v":""},{"$f":"IF(RTM18=\"\",\"\",VLOOKUP($Q$10,DATA!$P$2:$R$196,3))","v":""},{"$f":"IF(RTN18=\"\",\"\",VLOOKUP($Q$10,DATA!$P$2:$R$196,3))","v":""},{"$f":"IF(RTO18=\"\",\"\",VLOOKUP($Q$10,DATA!$P$2:$R$196,3))","v":""},{"$f":"IF(RTP18=\"\",\"\",VLOOKUP($Q$10,DATA!$P$2:$R$196,3))","v":""},{"$f":"IF(RTQ18=\"\",\"\",VLOOKUP($Q$10,DATA!$P$2:$R$196,3))","v":""},{"$f":"IF(RTR18=\"\",\"\",VLOOKUP($Q$10,DATA!$P$2:$R$196,3))","v":""},{"$f":"IF(RTS18=\"\",\"\",VLOOKUP($Q$10,DATA!$P$2:$R$196,3))","v":""},{"$f":"IF(RTT18=\"\",\"\",VLOOKUP($Q$10,DATA!$P$2:$R$196,3))","v":""},{"$f":"IF(RTU18=\"\",\"\",VLOOKUP($Q$10,DATA!$P$2:$R$196,3))","v":""},{"$f":"IF(RTV18=\"\",\"\",VLOOKUP($Q$10,DATA!$P$2:$R$196,3))","v":""},{"$f":"IF(RTW18=\"\",\"\",VLOOKUP($Q$10,DATA!$P$2:$R$196,3))","v":""},{"$f":"IF(RTX18=\"\",\"\",VLOOKUP($Q$10,DATA!$P$2:$R$196,3))","v":""},{"$f":"IF(RTY18=\"\",\"\",VLOOKUP($Q$10,DATA!$P$2:$R$196,3))","v":""},{"$f":"IF(RTZ18=\"\",\"\",VLOOKUP($Q$10,DATA!$P$2:$R$196,3))","v":""},{"$f":"IF(RUA18=\"\",\"\",VLOOKUP($Q$10,DATA!$P$2:$R$196,3))","v":""},{"$f":"IF(RUB18=\"\",\"\",VLOOKUP($Q$10,DATA!$P$2:$R$196,3))","v":""},{"$f":"IF(RUC18=\"\",\"\",VLOOKUP($Q$10,DATA!$P$2:$R$196,3))","v":""},{"$f":"IF(RUD18=\"\",\"\",VLOOKUP($Q$10,DATA!$P$2:$R$196,3))","v":""},{"$f":"IF(RUE18=\"\",\"\",VLOOKUP($Q$10,DATA!$P$2:$R$196,3))","v":""},{"$f":"IF(RUF18=\"\",\"\",VLOOKUP($Q$10,DATA!$P$2:$R$196,3))","v":""},{"$f":"IF(RUG18=\"\",\"\",VLOOKUP($Q$10,DATA!$P$2:$R$196,3))","v":""},{"$f":"IF(RUH18=\"\",\"\",VLOOKUP($Q$10,DATA!$P$2:$R$196,3))","v":""},{"$f":"IF(RUI18=\"\",\"\",VLOOKUP($Q$10,DATA!$P$2:$R$196,3))","v":""},{"$f":"IF(RUJ18=\"\",\"\",VLOOKUP($Q$10,DATA!$P$2:$R$196,3))","v":""},{"$f":"IF(RUK18=\"\",\"\",VLOOKUP($Q$10,DATA!$P$2:$R$196,3))","v":""},{"$f":"IF(RUL18=\"\",\"\",VLOOKUP($Q$10,DATA!$P$2:$R$196,3))","v":""},{"$f":"IF(RUM18=\"\",\"\",VLOOKUP($Q$10,DATA!$P$2:$R$196,3))","v":""},{"$f":"IF(RUN18=\"\",\"\",VLOOKUP($Q$10,DATA!$P$2:$R$196,3))","v":""},{"$f":"IF(RUO18=\"\",\"\",VLOOKUP($Q$10,DATA!$P$2:$R$196,3))","v":""},{"$f":"IF(RUP18=\"\",\"\",VLOOKUP($Q$10,DATA!$P$2:$R$196,3))","v":""},{"$f":"IF(RUQ18=\"\",\"\",VLOOKUP($Q$10,DATA!$P$2:$R$196,3))","v":""},{"$f":"IF(RUR18=\"\",\"\",VLOOKUP($Q$10,DATA!$P$2:$R$196,3))","v":""},{"$f":"IF(RUS18=\"\",\"\",VLOOKUP($Q$10,DATA!$P$2:$R$196,3))","v":""},{"$f":"IF(RUT18=\"\",\"\",VLOOKUP($Q$10,DATA!$P$2:$R$196,3))","v":""},{"$f":"IF(RUU18=\"\",\"\",VLOOKUP($Q$10,DATA!$P$2:$R$196,3))","v":""},{"$f":"IF(RUV18=\"\",\"\",VLOOKUP($Q$10,DATA!$P$2:$R$196,3))","v":""},{"$f":"IF(RUW18=\"\",\"\",VLOOKUP($Q$10,DATA!$P$2:$R$196,3))","v":""},{"$f":"IF(RUX18=\"\",\"\",VLOOKUP($Q$10,DATA!$P$2:$R$196,3))","v":""},{"$f":"IF(RUY18=\"\",\"\",VLOOKUP($Q$10,DATA!$P$2:$R$196,3))","v":""},{"$f":"IF(RUZ18=\"\",\"\",VLOOKUP($Q$10,DATA!$P$2:$R$196,3))","v":""},{"$f":"IF(RVA18=\"\",\"\",VLOOKUP($Q$10,DATA!$P$2:$R$196,3))","v":""},{"$f":"IF(RVB18=\"\",\"\",VLOOKUP($Q$10,DATA!$P$2:$R$196,3))","v":""},{"$f":"IF(RVC18=\"\",\"\",VLOOKUP($Q$10,DATA!$P$2:$R$196,3))","v":""},{"$f":"IF(RVD18=\"\",\"\",VLOOKUP($Q$10,DATA!$P$2:$R$196,3))","v":""},{"$f":"IF(RVE18=\"\",\"\",VLOOKUP($Q$10,DATA!$P$2:$R$196,3))","v":""},{"$f":"IF(RVF18=\"\",\"\",VLOOKUP($Q$10,DATA!$P$2:$R$196,3))","v":""},{"$f":"IF(RVG18=\"\",\"\",VLOOKUP($Q$10,DATA!$P$2:$R$196,3))","v":""},{"$f":"IF(RVH18=\"\",\"\",VLOOKUP($Q$10,DATA!$P$2:$R$196,3))","v":""},{"$f":"IF(RVI18=\"\",\"\",VLOOKUP($Q$10,DATA!$P$2:$R$196,3))","v":""},{"$f":"IF(RVJ18=\"\",\"\",VLOOKUP($Q$10,DATA!$P$2:$R$196,3))","v":""},{"$f":"IF(RVK18=\"\",\"\",VLOOKUP($Q$10,DATA!$P$2:$R$196,3))","v":""},{"$f":"IF(RVL18=\"\",\"\",VLOOKUP($Q$10,DATA!$P$2:$R$196,3))","v":""},{"$f":"IF(RVM18=\"\",\"\",VLOOKUP($Q$10,DATA!$P$2:$R$196,3))","v":""},{"$f":"IF(RVN18=\"\",\"\",VLOOKUP($Q$10,DATA!$P$2:$R$196,3))","v":""},{"$f":"IF(RVO18=\"\",\"\",VLOOKUP($Q$10,DATA!$P$2:$R$196,3))","v":""},{"$f":"IF(RVP18=\"\",\"\",VLOOKUP($Q$10,DATA!$P$2:$R$196,3))","v":""},{"$f":"IF(RVQ18=\"\",\"\",VLOOKUP($Q$10,DATA!$P$2:$R$196,3))","v":""},{"$f":"IF(RVR18=\"\",\"\",VLOOKUP($Q$10,DATA!$P$2:$R$196,3))","v":""},{"$f":"IF(RVS18=\"\",\"\",VLOOKUP($Q$10,DATA!$P$2:$R$196,3))","v":""},{"$f":"IF(RVT18=\"\",\"\",VLOOKUP($Q$10,DATA!$P$2:$R$196,3))","v":""},{"$f":"IF(RVU18=\"\",\"\",VLOOKUP($Q$10,DATA!$P$2:$R$196,3))","v":""},{"$f":"IF(RVV18=\"\",\"\",VLOOKUP($Q$10,DATA!$P$2:$R$196,3))","v":""},{"$f":"IF(RVW18=\"\",\"\",VLOOKUP($Q$10,DATA!$P$2:$R$196,3))","v":""},{"$f":"IF(RVX18=\"\",\"\",VLOOKUP($Q$10,DATA!$P$2:$R$196,3))","v":""},{"$f":"IF(RVY18=\"\",\"\",VLOOKUP($Q$10,DATA!$P$2:$R$196,3))","v":""},{"$f":"IF(RVZ18=\"\",\"\",VLOOKUP($Q$10,DATA!$P$2:$R$196,3))","v":""},{"$f":"IF(RWA18=\"\",\"\",VLOOKUP($Q$10,DATA!$P$2:$R$196,3))","v":""},{"$f":"IF(RWB18=\"\",\"\",VLOOKUP($Q$10,DATA!$P$2:$R$196,3))","v":""},{"$f":"IF(RWC18=\"\",\"\",VLOOKUP($Q$10,DATA!$P$2:$R$196,3))","v":""},{"$f":"IF(RWD18=\"\",\"\",VLOOKUP($Q$10,DATA!$P$2:$R$196,3))","v":""},{"$f":"IF(RWE18=\"\",\"\",VLOOKUP($Q$10,DATA!$P$2:$R$196,3))","v":""},{"$f":"IF(RWF18=\"\",\"\",VLOOKUP($Q$10,DATA!$P$2:$R$196,3))","v":""},{"$f":"IF(RWG18=\"\",\"\",VLOOKUP($Q$10,DATA!$P$2:$R$196,3))","v":""},{"$f":"IF(RWH18=\"\",\"\",VLOOKUP($Q$10,DATA!$P$2:$R$196,3))","v":""},{"$f":"IF(RWI18=\"\",\"\",VLOOKUP($Q$10,DATA!$P$2:$R$196,3))","v":""},{"$f":"IF(RWJ18=\"\",\"\",VLOOKUP($Q$10,DATA!$P$2:$R$196,3))","v":""},{"$f":"IF(RWK18=\"\",\"\",VLOOKUP($Q$10,DATA!$P$2:$R$196,3))","v":""},{"$f":"IF(RWL18=\"\",\"\",VLOOKUP($Q$10,DATA!$P$2:$R$196,3))","v":""},{"$f":"IF(RWM18=\"\",\"\",VLOOKUP($Q$10,DATA!$P$2:$R$196,3))","v":""},{"$f":"IF(RWN18=\"\",\"\",VLOOKUP($Q$10,DATA!$P$2:$R$196,3))","v":""},{"$f":"IF(RWO18=\"\",\"\",VLOOKUP($Q$10,DATA!$P$2:$R$196,3))","v":""},{"$f":"IF(RWP18=\"\",\"\",VLOOKUP($Q$10,DATA!$P$2:$R$196,3))","v":""},{"$f":"IF(RWQ18=\"\",\"\",VLOOKUP($Q$10,DATA!$P$2:$R$196,3))","v":""},{"$f":"IF(RWR18=\"\",\"\",VLOOKUP($Q$10,DATA!$P$2:$R$196,3))","v":""},{"$f":"IF(RWS18=\"\",\"\",VLOOKUP($Q$10,DATA!$P$2:$R$196,3))","v":""},{"$f":"IF(RWT18=\"\",\"\",VLOOKUP($Q$10,DATA!$P$2:$R$196,3))","v":""},{"$f":"IF(RWU18=\"\",\"\",VLOOKUP($Q$10,DATA!$P$2:$R$196,3))","v":""},{"$f":"IF(RWV18=\"\",\"\",VLOOKUP($Q$10,DATA!$P$2:$R$196,3))","v":""},{"$f":"IF(RWW18=\"\",\"\",VLOOKUP($Q$10,DATA!$P$2:$R$196,3))","v":""},{"$f":"IF(RWX18=\"\",\"\",VLOOKUP($Q$10,DATA!$P$2:$R$196,3))","v":""},{"$f":"IF(RWY18=\"\",\"\",VLOOKUP($Q$10,DATA!$P$2:$R$196,3))","v":""},{"$f":"IF(RWZ18=\"\",\"\",VLOOKUP($Q$10,DATA!$P$2:$R$196,3))","v":""},{"$f":"IF(RXA18=\"\",\"\",VLOOKUP($Q$10,DATA!$P$2:$R$196,3))","v":""},{"$f":"IF(RXB18=\"\",\"\",VLOOKUP($Q$10,DATA!$P$2:$R$196,3))","v":""},{"$f":"IF(RXC18=\"\",\"\",VLOOKUP($Q$10,DATA!$P$2:$R$196,3))","v":""},{"$f":"IF(RXD18=\"\",\"\",VLOOKUP($Q$10,DATA!$P$2:$R$196,3))","v":""},{"$f":"IF(RXE18=\"\",\"\",VLOOKUP($Q$10,DATA!$P$2:$R$196,3))","v":""},{"$f":"IF(RXF18=\"\",\"\",VLOOKUP($Q$10,DATA!$P$2:$R$196,3))","v":""},{"$f":"IF(RXG18=\"\",\"\",VLOOKUP($Q$10,DATA!$P$2:$R$196,3))","v":""},{"$f":"IF(RXH18=\"\",\"\",VLOOKUP($Q$10,DATA!$P$2:$R$196,3))","v":""},{"$f":"IF(RXI18=\"\",\"\",VLOOKUP($Q$10,DATA!$P$2:$R$196,3))","v":""},{"$f":"IF(RXJ18=\"\",\"\",VLOOKUP($Q$10,DATA!$P$2:$R$196,3))","v":""},{"$f":"IF(RXK18=\"\",\"\",VLOOKUP($Q$10,DATA!$P$2:$R$196,3))","v":""},{"$f":"IF(RXL18=\"\",\"\",VLOOKUP($Q$10,DATA!$P$2:$R$196,3))","v":""},{"$f":"IF(RXM18=\"\",\"\",VLOOKUP($Q$10,DATA!$P$2:$R$196,3))","v":""},{"$f":"IF(RXN18=\"\",\"\",VLOOKUP($Q$10,DATA!$P$2:$R$196,3))","v":""},{"$f":"IF(RXO18=\"\",\"\",VLOOKUP($Q$10,DATA!$P$2:$R$196,3))","v":""},{"$f":"IF(RXP18=\"\",\"\",VLOOKUP($Q$10,DATA!$P$2:$R$196,3))","v":""},{"$f":"IF(RXQ18=\"\",\"\",VLOOKUP($Q$10,DATA!$P$2:$R$196,3))","v":""},{"$f":"IF(RXR18=\"\",\"\",VLOOKUP($Q$10,DATA!$P$2:$R$196,3))","v":""},{"$f":"IF(RXS18=\"\",\"\",VLOOKUP($Q$10,DATA!$P$2:$R$196,3))","v":""},{"$f":"IF(RXT18=\"\",\"\",VLOOKUP($Q$10,DATA!$P$2:$R$196,3))","v":""},{"$f":"IF(RXU18=\"\",\"\",VLOOKUP($Q$10,DATA!$P$2:$R$196,3))","v":""},{"$f":"IF(RXV18=\"\",\"\",VLOOKUP($Q$10,DATA!$P$2:$R$196,3))","v":""},{"$f":"IF(RXW18=\"\",\"\",VLOOKUP($Q$10,DATA!$P$2:$R$196,3))","v":""},{"$f":"IF(RXX18=\"\",\"\",VLOOKUP($Q$10,DATA!$P$2:$R$196,3))","v":""},{"$f":"IF(RXY18=\"\",\"\",VLOOKUP($Q$10,DATA!$P$2:$R$196,3))","v":""},{"$f":"IF(RXZ18=\"\",\"\",VLOOKUP($Q$10,DATA!$P$2:$R$196,3))","v":""},{"$f":"IF(RYA18=\"\",\"\",VLOOKUP($Q$10,DATA!$P$2:$R$196,3))","v":""},{"$f":"IF(RYB18=\"\",\"\",VLOOKUP($Q$10,DATA!$P$2:$R$196,3))","v":""},{"$f":"IF(RYC18=\"\",\"\",VLOOKUP($Q$10,DATA!$P$2:$R$196,3))","v":""},{"$f":"IF(RYD18=\"\",\"\",VLOOKUP($Q$10,DATA!$P$2:$R$196,3))","v":""},{"$f":"IF(RYE18=\"\",\"\",VLOOKUP($Q$10,DATA!$P$2:$R$196,3))","v":""},{"$f":"IF(RYF18=\"\",\"\",VLOOKUP($Q$10,DATA!$P$2:$R$196,3))","v":""},{"$f":"IF(RYG18=\"\",\"\",VLOOKUP($Q$10,DATA!$P$2:$R$196,3))","v":""},{"$f":"IF(RYH18=\"\",\"\",VLOOKUP($Q$10,DATA!$P$2:$R$196,3))","v":""},{"$f":"IF(RYI18=\"\",\"\",VLOOKUP($Q$10,DATA!$P$2:$R$196,3))","v":""},{"$f":"IF(RYJ18=\"\",\"\",VLOOKUP($Q$10,DATA!$P$2:$R$196,3))","v":""},{"$f":"IF(RYK18=\"\",\"\",VLOOKUP($Q$10,DATA!$P$2:$R$196,3))","v":""},{"$f":"IF(RYL18=\"\",\"\",VLOOKUP($Q$10,DATA!$P$2:$R$196,3))","v":""},{"$f":"IF(RYM18=\"\",\"\",VLOOKUP($Q$10,DATA!$P$2:$R$196,3))","v":""},{"$f":"IF(RYN18=\"\",\"\",VLOOKUP($Q$10,DATA!$P$2:$R$196,3))","v":""},{"$f":"IF(RYO18=\"\",\"\",VLOOKUP($Q$10,DATA!$P$2:$R$196,3))","v":""},{"$f":"IF(RYP18=\"\",\"\",VLOOKUP($Q$10,DATA!$P$2:$R$196,3))","v":""},{"$f":"IF(RYQ18=\"\",\"\",VLOOKUP($Q$10,DATA!$P$2:$R$196,3))","v":""},{"$f":"IF(RYR18=\"\",\"\",VLOOKUP($Q$10,DATA!$P$2:$R$196,3))","v":""},{"$f":"IF(RYS18=\"\",\"\",VLOOKUP($Q$10,DATA!$P$2:$R$196,3))","v":""},{"$f":"IF(RYT18=\"\",\"\",VLOOKUP($Q$10,DATA!$P$2:$R$196,3))","v":""},{"$f":"IF(RYU18=\"\",\"\",VLOOKUP($Q$10,DATA!$P$2:$R$196,3))","v":""},{"$f":"IF(RYV18=\"\",\"\",VLOOKUP($Q$10,DATA!$P$2:$R$196,3))","v":""},{"$f":"IF(RYW18=\"\",\"\",VLOOKUP($Q$10,DATA!$P$2:$R$196,3))","v":""},{"$f":"IF(RYX18=\"\",\"\",VLOOKUP($Q$10,DATA!$P$2:$R$196,3))","v":""},{"$f":"IF(RYY18=\"\",\"\",VLOOKUP($Q$10,DATA!$P$2:$R$196,3))","v":""},{"$f":"IF(RYZ18=\"\",\"\",VLOOKUP($Q$10,DATA!$P$2:$R$196,3))","v":""},{"$f":"IF(RZA18=\"\",\"\",VLOOKUP($Q$10,DATA!$P$2:$R$196,3))","v":""},{"$f":"IF(RZB18=\"\",\"\",VLOOKUP($Q$10,DATA!$P$2:$R$196,3))","v":""},{"$f":"IF(RZC18=\"\",\"\",VLOOKUP($Q$10,DATA!$P$2:$R$196,3))","v":""},{"$f":"IF(RZD18=\"\",\"\",VLOOKUP($Q$10,DATA!$P$2:$R$196,3))","v":""},{"$f":"IF(RZE18=\"\",\"\",VLOOKUP($Q$10,DATA!$P$2:$R$196,3))","v":""},{"$f":"IF(RZF18=\"\",\"\",VLOOKUP($Q$10,DATA!$P$2:$R$196,3))","v":""},{"$f":"IF(RZG18=\"\",\"\",VLOOKUP($Q$10,DATA!$P$2:$R$196,3))","v":""},{"$f":"IF(RZH18=\"\",\"\",VLOOKUP($Q$10,DATA!$P$2:$R$196,3))","v":""},{"$f":"IF(RZI18=\"\",\"\",VLOOKUP($Q$10,DATA!$P$2:$R$196,3))","v":""},{"$f":"IF(RZJ18=\"\",\"\",VLOOKUP($Q$10,DATA!$P$2:$R$196,3))","v":""},{"$f":"IF(RZK18=\"\",\"\",VLOOKUP($Q$10,DATA!$P$2:$R$196,3))","v":""},{"$f":"IF(RZL18=\"\",\"\",VLOOKUP($Q$10,DATA!$P$2:$R$196,3))","v":""},{"$f":"IF(RZM18=\"\",\"\",VLOOKUP($Q$10,DATA!$P$2:$R$196,3))","v":""},{"$f":"IF(RZN18=\"\",\"\",VLOOKUP($Q$10,DATA!$P$2:$R$196,3))","v":""},{"$f":"IF(RZO18=\"\",\"\",VLOOKUP($Q$10,DATA!$P$2:$R$196,3))","v":""},{"$f":"IF(RZP18=\"\",\"\",VLOOKUP($Q$10,DATA!$P$2:$R$196,3))","v":""},{"$f":"IF(RZQ18=\"\",\"\",VLOOKUP($Q$10,DATA!$P$2:$R$196,3))","v":""},{"$f":"IF(RZR18=\"\",\"\",VLOOKUP($Q$10,DATA!$P$2:$R$196,3))","v":""},{"$f":"IF(RZS18=\"\",\"\",VLOOKUP($Q$10,DATA!$P$2:$R$196,3))","v":""},{"$f":"IF(RZT18=\"\",\"\",VLOOKUP($Q$10,DATA!$P$2:$R$196,3))","v":""},{"$f":"IF(RZU18=\"\",\"\",VLOOKUP($Q$10,DATA!$P$2:$R$196,3))","v":""},{"$f":"IF(RZV18=\"\",\"\",VLOOKUP($Q$10,DATA!$P$2:$R$196,3))","v":""},{"$f":"IF(RZW18=\"\",\"\",VLOOKUP($Q$10,DATA!$P$2:$R$196,3))","v":""},{"$f":"IF(RZX18=\"\",\"\",VLOOKUP($Q$10,DATA!$P$2:$R$196,3))","v":""},{"$f":"IF(RZY18=\"\",\"\",VLOOKUP($Q$10,DATA!$P$2:$R$196,3))","v":""},{"$f":"IF(RZZ18=\"\",\"\",VLOOKUP($Q$10,DATA!$P$2:$R$196,3))","v":""},{"$f":"IF(SAA18=\"\",\"\",VLOOKUP($Q$10,DATA!$P$2:$R$196,3))","v":""},{"$f":"IF(SAB18=\"\",\"\",VLOOKUP($Q$10,DATA!$P$2:$R$196,3))","v":""},{"$f":"IF(SAC18=\"\",\"\",VLOOKUP($Q$10,DATA!$P$2:$R$196,3))","v":""},{"$f":"IF(SAD18=\"\",\"\",VLOOKUP($Q$10,DATA!$P$2:$R$196,3))","v":""},{"$f":"IF(SAE18=\"\",\"\",VLOOKUP($Q$10,DATA!$P$2:$R$196,3))","v":""},{"$f":"IF(SAF18=\"\",\"\",VLOOKUP($Q$10,DATA!$P$2:$R$196,3))","v":""},{"$f":"IF(SAG18=\"\",\"\",VLOOKUP($Q$10,DATA!$P$2:$R$196,3))","v":""},{"$f":"IF(SAH18=\"\",\"\",VLOOKUP($Q$10,DATA!$P$2:$R$196,3))","v":""},{"$f":"IF(SAI18=\"\",\"\",VLOOKUP($Q$10,DATA!$P$2:$R$196,3))","v":""},{"$f":"IF(SAJ18=\"\",\"\",VLOOKUP($Q$10,DATA!$P$2:$R$196,3))","v":""},{"$f":"IF(SAK18=\"\",\"\",VLOOKUP($Q$10,DATA!$P$2:$R$196,3))","v":""},{"$f":"IF(SAL18=\"\",\"\",VLOOKUP($Q$10,DATA!$P$2:$R$196,3))","v":""},{"$f":"IF(SAM18=\"\",\"\",VLOOKUP($Q$10,DATA!$P$2:$R$196,3))","v":""},{"$f":"IF(SAN18=\"\",\"\",VLOOKUP($Q$10,DATA!$P$2:$R$196,3))","v":""},{"$f":"IF(SAO18=\"\",\"\",VLOOKUP($Q$10,DATA!$P$2:$R$196,3))","v":""},{"$f":"IF(SAP18=\"\",\"\",VLOOKUP($Q$10,DATA!$P$2:$R$196,3))","v":""},{"$f":"IF(SAQ18=\"\",\"\",VLOOKUP($Q$10,DATA!$P$2:$R$196,3))","v":""},{"$f":"IF(SAR18=\"\",\"\",VLOOKUP($Q$10,DATA!$P$2:$R$196,3))","v":""},{"$f":"IF(SAS18=\"\",\"\",VLOOKUP($Q$10,DATA!$P$2:$R$196,3))","v":""},{"$f":"IF(SAT18=\"\",\"\",VLOOKUP($Q$10,DATA!$P$2:$R$196,3))","v":""},{"$f":"IF(SAU18=\"\",\"\",VLOOKUP($Q$10,DATA!$P$2:$R$196,3))","v":""},{"$f":"IF(SAV18=\"\",\"\",VLOOKUP($Q$10,DATA!$P$2:$R$196,3))","v":""},{"$f":"IF(SAW18=\"\",\"\",VLOOKUP($Q$10,DATA!$P$2:$R$196,3))","v":""},{"$f":"IF(SAX18=\"\",\"\",VLOOKUP($Q$10,DATA!$P$2:$R$196,3))","v":""},{"$f":"IF(SAY18=\"\",\"\",VLOOKUP($Q$10,DATA!$P$2:$R$196,3))","v":""},{"$f":"IF(SAZ18=\"\",\"\",VLOOKUP($Q$10,DATA!$P$2:$R$196,3))","v":""},{"$f":"IF(SBA18=\"\",\"\",VLOOKUP($Q$10,DATA!$P$2:$R$196,3))","v":""},{"$f":"IF(SBB18=\"\",\"\",VLOOKUP($Q$10,DATA!$P$2:$R$196,3))","v":""},{"$f":"IF(SBC18=\"\",\"\",VLOOKUP($Q$10,DATA!$P$2:$R$196,3))","v":""},{"$f":"IF(SBD18=\"\",\"\",VLOOKUP($Q$10,DATA!$P$2:$R$196,3))","v":""},{"$f":"IF(SBE18=\"\",\"\",VLOOKUP($Q$10,DATA!$P$2:$R$196,3))","v":""},{"$f":"IF(SBF18=\"\",\"\",VLOOKUP($Q$10,DATA!$P$2:$R$196,3))","v":""},{"$f":"IF(SBG18=\"\",\"\",VLOOKUP($Q$10,DATA!$P$2:$R$196,3))","v":""},{"$f":"IF(SBH18=\"\",\"\",VLOOKUP($Q$10,DATA!$P$2:$R$196,3))","v":""},{"$f":"IF(SBI18=\"\",\"\",VLOOKUP($Q$10,DATA!$P$2:$R$196,3))","v":""},{"$f":"IF(SBJ18=\"\",\"\",VLOOKUP($Q$10,DATA!$P$2:$R$196,3))","v":""},{"$f":"IF(SBK18=\"\",\"\",VLOOKUP($Q$10,DATA!$P$2:$R$196,3))","v":""},{"$f":"IF(SBL18=\"\",\"\",VLOOKUP($Q$10,DATA!$P$2:$R$196,3))","v":""},{"$f":"IF(SBM18=\"\",\"\",VLOOKUP($Q$10,DATA!$P$2:$R$196,3))","v":""},{"$f":"IF(SBN18=\"\",\"\",VLOOKUP($Q$10,DATA!$P$2:$R$196,3))","v":""},{"$f":"IF(SBO18=\"\",\"\",VLOOKUP($Q$10,DATA!$P$2:$R$196,3))","v":""},{"$f":"IF(SBP18=\"\",\"\",VLOOKUP($Q$10,DATA!$P$2:$R$196,3))","v":""},{"$f":"IF(SBQ18=\"\",\"\",VLOOKUP($Q$10,DATA!$P$2:$R$196,3))","v":""},{"$f":"IF(SBR18=\"\",\"\",VLOOKUP($Q$10,DATA!$P$2:$R$196,3))","v":""},{"$f":"IF(SBS18=\"\",\"\",VLOOKUP($Q$10,DATA!$P$2:$R$196,3))","v":""},{"$f":"IF(SBT18=\"\",\"\",VLOOKUP($Q$10,DATA!$P$2:$R$196,3))","v":""},{"$f":"IF(SBU18=\"\",\"\",VLOOKUP($Q$10,DATA!$P$2:$R$196,3))","v":""},{"$f":"IF(SBV18=\"\",\"\",VLOOKUP($Q$10,DATA!$P$2:$R$196,3))","v":""},{"$f":"IF(SBW18=\"\",\"\",VLOOKUP($Q$10,DATA!$P$2:$R$196,3))","v":""},{"$f":"IF(SBX18=\"\",\"\",VLOOKUP($Q$10,DATA!$P$2:$R$196,3))","v":""},{"$f":"IF(SBY18=\"\",\"\",VLOOKUP($Q$10,DATA!$P$2:$R$196,3))","v":""},{"$f":"IF(SBZ18=\"\",\"\",VLOOKUP($Q$10,DATA!$P$2:$R$196,3))","v":""},{"$f":"IF(SCA18=\"\",\"\",VLOOKUP($Q$10,DATA!$P$2:$R$196,3))","v":""},{"$f":"IF(SCB18=\"\",\"\",VLOOKUP($Q$10,DATA!$P$2:$R$196,3))","v":""},{"$f":"IF(SCC18=\"\",\"\",VLOOKUP($Q$10,DATA!$P$2:$R$196,3))","v":""},{"$f":"IF(SCD18=\"\",\"\",VLOOKUP($Q$10,DATA!$P$2:$R$196,3))","v":""},{"$f":"IF(SCE18=\"\",\"\",VLOOKUP($Q$10,DATA!$P$2:$R$196,3))","v":""},{"$f":"IF(SCF18=\"\",\"\",VLOOKUP($Q$10,DATA!$P$2:$R$196,3))","v":""},{"$f":"IF(SCG18=\"\",\"\",VLOOKUP($Q$10,DATA!$P$2:$R$196,3))","v":""},{"$f":"IF(SCH18=\"\",\"\",VLOOKUP($Q$10,DATA!$P$2:$R$196,3))","v":""},{"$f":"IF(SCI18=\"\",\"\",VLOOKUP($Q$10,DATA!$P$2:$R$196,3))","v":""},{"$f":"IF(SCJ18=\"\",\"\",VLOOKUP($Q$10,DATA!$P$2:$R$196,3))","v":""},{"$f":"IF(SCK18=\"\",\"\",VLOOKUP($Q$10,DATA!$P$2:$R$196,3))","v":""},{"$f":"IF(SCL18=\"\",\"\",VLOOKUP($Q$10,DATA!$P$2:$R$196,3))","v":""},{"$f":"IF(SCM18=\"\",\"\",VLOOKUP($Q$10,DATA!$P$2:$R$196,3))","v":""},{"$f":"IF(SCN18=\"\",\"\",VLOOKUP($Q$10,DATA!$P$2:$R$196,3))","v":""},{"$f":"IF(SCO18=\"\",\"\",VLOOKUP($Q$10,DATA!$P$2:$R$196,3))","v":""},{"$f":"IF(SCP18=\"\",\"\",VLOOKUP($Q$10,DATA!$P$2:$R$196,3))","v":""},{"$f":"IF(SCQ18=\"\",\"\",VLOOKUP($Q$10,DATA!$P$2:$R$196,3))","v":""},{"$f":"IF(SCR18=\"\",\"\",VLOOKUP($Q$10,DATA!$P$2:$R$196,3))","v":""},{"$f":"IF(SCS18=\"\",\"\",VLOOKUP($Q$10,DATA!$P$2:$R$196,3))","v":""},{"$f":"IF(SCT18=\"\",\"\",VLOOKUP($Q$10,DATA!$P$2:$R$196,3))","v":""},{"$f":"IF(SCU18=\"\",\"\",VLOOKUP($Q$10,DATA!$P$2:$R$196,3))","v":""},{"$f":"IF(SCV18=\"\",\"\",VLOOKUP($Q$10,DATA!$P$2:$R$196,3))","v":""},{"$f":"IF(SCW18=\"\",\"\",VLOOKUP($Q$10,DATA!$P$2:$R$196,3))","v":""},{"$f":"IF(SCX18=\"\",\"\",VLOOKUP($Q$10,DATA!$P$2:$R$196,3))","v":""},{"$f":"IF(SCY18=\"\",\"\",VLOOKUP($Q$10,DATA!$P$2:$R$196,3))","v":""},{"$f":"IF(SCZ18=\"\",\"\",VLOOKUP($Q$10,DATA!$P$2:$R$196,3))","v":""},{"$f":"IF(SDA18=\"\",\"\",VLOOKUP($Q$10,DATA!$P$2:$R$196,3))","v":""},{"$f":"IF(SDB18=\"\",\"\",VLOOKUP($Q$10,DATA!$P$2:$R$196,3))","v":""},{"$f":"IF(SDC18=\"\",\"\",VLOOKUP($Q$10,DATA!$P$2:$R$196,3))","v":""},{"$f":"IF(SDD18=\"\",\"\",VLOOKUP($Q$10,DATA!$P$2:$R$196,3))","v":""},{"$f":"IF(SDE18=\"\",\"\",VLOOKUP($Q$10,DATA!$P$2:$R$196,3))","v":""},{"$f":"IF(SDF18=\"\",\"\",VLOOKUP($Q$10,DATA!$P$2:$R$196,3))","v":""},{"$f":"IF(SDG18=\"\",\"\",VLOOKUP($Q$10,DATA!$P$2:$R$196,3))","v":""},{"$f":"IF(SDH18=\"\",\"\",VLOOKUP($Q$10,DATA!$P$2:$R$196,3))","v":""},{"$f":"IF(SDI18=\"\",\"\",VLOOKUP($Q$10,DATA!$P$2:$R$196,3))","v":""},{"$f":"IF(SDJ18=\"\",\"\",VLOOKUP($Q$10,DATA!$P$2:$R$196,3))","v":""},{"$f":"IF(SDK18=\"\",\"\",VLOOKUP($Q$10,DATA!$P$2:$R$196,3))","v":""},{"$f":"IF(SDL18=\"\",\"\",VLOOKUP($Q$10,DATA!$P$2:$R$196,3))","v":""},{"$f":"IF(SDM18=\"\",\"\",VLOOKUP($Q$10,DATA!$P$2:$R$196,3))","v":""},{"$f":"IF(SDN18=\"\",\"\",VLOOKUP($Q$10,DATA!$P$2:$R$196,3))","v":""},{"$f":"IF(SDO18=\"\",\"\",VLOOKUP($Q$10,DATA!$P$2:$R$196,3))","v":""},{"$f":"IF(SDP18=\"\",\"\",VLOOKUP($Q$10,DATA!$P$2:$R$196,3))","v":""},{"$f":"IF(SDQ18=\"\",\"\",VLOOKUP($Q$10,DATA!$P$2:$R$196,3))","v":""},{"$f":"IF(SDR18=\"\",\"\",VLOOKUP($Q$10,DATA!$P$2:$R$196,3))","v":""},{"$f":"IF(SDS18=\"\",\"\",VLOOKUP($Q$10,DATA!$P$2:$R$196,3))","v":""},{"$f":"IF(SDT18=\"\",\"\",VLOOKUP($Q$10,DATA!$P$2:$R$196,3))","v":""},{"$f":"IF(SDU18=\"\",\"\",VLOOKUP($Q$10,DATA!$P$2:$R$196,3))","v":""},{"$f":"IF(SDV18=\"\",\"\",VLOOKUP($Q$10,DATA!$P$2:$R$196,3))","v":""},{"$f":"IF(SDW18=\"\",\"\",VLOOKUP($Q$10,DATA!$P$2:$R$196,3))","v":""},{"$f":"IF(SDX18=\"\",\"\",VLOOKUP($Q$10,DATA!$P$2:$R$196,3))","v":""},{"$f":"IF(SDY18=\"\",\"\",VLOOKUP($Q$10,DATA!$P$2:$R$196,3))","v":""},{"$f":"IF(SDZ18=\"\",\"\",VLOOKUP($Q$10,DATA!$P$2:$R$196,3))","v":""},{"$f":"IF(SEA18=\"\",\"\",VLOOKUP($Q$10,DATA!$P$2:$R$196,3))","v":""},{"$f":"IF(SEB18=\"\",\"\",VLOOKUP($Q$10,DATA!$P$2:$R$196,3))","v":""},{"$f":"IF(SEC18=\"\",\"\",VLOOKUP($Q$10,DATA!$P$2:$R$196,3))","v":""},{"$f":"IF(SED18=\"\",\"\",VLOOKUP($Q$10,DATA!$P$2:$R$196,3))","v":""},{"$f":"IF(SEE18=\"\",\"\",VLOOKUP($Q$10,DATA!$P$2:$R$196,3))","v":""},{"$f":"IF(SEF18=\"\",\"\",VLOOKUP($Q$10,DATA!$P$2:$R$196,3))","v":""},{"$f":"IF(SEG18=\"\",\"\",VLOOKUP($Q$10,DATA!$P$2:$R$196,3))","v":""},{"$f":"IF(SEH18=\"\",\"\",VLOOKUP($Q$10,DATA!$P$2:$R$196,3))","v":""},{"$f":"IF(SEI18=\"\",\"\",VLOOKUP($Q$10,DATA!$P$2:$R$196,3))","v":""},{"$f":"IF(SEJ18=\"\",\"\",VLOOKUP($Q$10,DATA!$P$2:$R$196,3))","v":""},{"$f":"IF(SEK18=\"\",\"\",VLOOKUP($Q$10,DATA!$P$2:$R$196,3))","v":""},{"$f":"IF(SEL18=\"\",\"\",VLOOKUP($Q$10,DATA!$P$2:$R$196,3))","v":""},{"$f":"IF(SEM18=\"\",\"\",VLOOKUP($Q$10,DATA!$P$2:$R$196,3))","v":""},{"$f":"IF(SEN18=\"\",\"\",VLOOKUP($Q$10,DATA!$P$2:$R$196,3))","v":""},{"$f":"IF(SEO18=\"\",\"\",VLOOKUP($Q$10,DATA!$P$2:$R$196,3))","v":""},{"$f":"IF(SEP18=\"\",\"\",VLOOKUP($Q$10,DATA!$P$2:$R$196,3))","v":""},{"$f":"IF(SEQ18=\"\",\"\",VLOOKUP($Q$10,DATA!$P$2:$R$196,3))","v":""},{"$f":"IF(SER18=\"\",\"\",VLOOKUP($Q$10,DATA!$P$2:$R$196,3))","v":""},{"$f":"IF(SES18=\"\",\"\",VLOOKUP($Q$10,DATA!$P$2:$R$196,3))","v":""},{"$f":"IF(SET18=\"\",\"\",VLOOKUP($Q$10,DATA!$P$2:$R$196,3))","v":""},{"$f":"IF(SEU18=\"\",\"\",VLOOKUP($Q$10,DATA!$P$2:$R$196,3))","v":""},{"$f":"IF(SEV18=\"\",\"\",VLOOKUP($Q$10,DATA!$P$2:$R$196,3))","v":""},{"$f":"IF(SEW18=\"\",\"\",VLOOKUP($Q$10,DATA!$P$2:$R$196,3))","v":""},{"$f":"IF(SEX18=\"\",\"\",VLOOKUP($Q$10,DATA!$P$2:$R$196,3))","v":""},{"$f":"IF(SEY18=\"\",\"\",VLOOKUP($Q$10,DATA!$P$2:$R$196,3))","v":""},{"$f":"IF(SEZ18=\"\",\"\",VLOOKUP($Q$10,DATA!$P$2:$R$196,3))","v":""},{"$f":"IF(SFA18=\"\",\"\",VLOOKUP($Q$10,DATA!$P$2:$R$196,3))","v":""},{"$f":"IF(SFB18=\"\",\"\",VLOOKUP($Q$10,DATA!$P$2:$R$196,3))","v":""},{"$f":"IF(SFC18=\"\",\"\",VLOOKUP($Q$10,DATA!$P$2:$R$196,3))","v":""},{"$f":"IF(SFD18=\"\",\"\",VLOOKUP($Q$10,DATA!$P$2:$R$196,3))","v":""},{"$f":"IF(SFE18=\"\",\"\",VLOOKUP($Q$10,DATA!$P$2:$R$196,3))","v":""},{"$f":"IF(SFF18=\"\",\"\",VLOOKUP($Q$10,DATA!$P$2:$R$196,3))","v":""},{"$f":"IF(SFG18=\"\",\"\",VLOOKUP($Q$10,DATA!$P$2:$R$196,3))","v":""},{"$f":"IF(SFH18=\"\",\"\",VLOOKUP($Q$10,DATA!$P$2:$R$196,3))","v":""},{"$f":"IF(SFI18=\"\",\"\",VLOOKUP($Q$10,DATA!$P$2:$R$196,3))","v":""},{"$f":"IF(SFJ18=\"\",\"\",VLOOKUP($Q$10,DATA!$P$2:$R$196,3))","v":""},{"$f":"IF(SFK18=\"\",\"\",VLOOKUP($Q$10,DATA!$P$2:$R$196,3))","v":""},{"$f":"IF(SFL18=\"\",\"\",VLOOKUP($Q$10,DATA!$P$2:$R$196,3))","v":""},{"$f":"IF(SFM18=\"\",\"\",VLOOKUP($Q$10,DATA!$P$2:$R$196,3))","v":""},{"$f":"IF(SFN18=\"\",\"\",VLOOKUP($Q$10,DATA!$P$2:$R$196,3))","v":""},{"$f":"IF(SFO18=\"\",\"\",VLOOKUP($Q$10,DATA!$P$2:$R$196,3))","v":""},{"$f":"IF(SFP18=\"\",\"\",VLOOKUP($Q$10,DATA!$P$2:$R$196,3))","v":""},{"$f":"IF(SFQ18=\"\",\"\",VLOOKUP($Q$10,DATA!$P$2:$R$196,3))","v":""},{"$f":"IF(SFR18=\"\",\"\",VLOOKUP($Q$10,DATA!$P$2:$R$196,3))","v":""},{"$f":"IF(SFS18=\"\",\"\",VLOOKUP($Q$10,DATA!$P$2:$R$196,3))","v":""},{"$f":"IF(SFT18=\"\",\"\",VLOOKUP($Q$10,DATA!$P$2:$R$196,3))","v":""},{"$f":"IF(SFU18=\"\",\"\",VLOOKUP($Q$10,DATA!$P$2:$R$196,3))","v":""},{"$f":"IF(SFV18=\"\",\"\",VLOOKUP($Q$10,DATA!$P$2:$R$196,3))","v":""},{"$f":"IF(SFW18=\"\",\"\",VLOOKUP($Q$10,DATA!$P$2:$R$196,3))","v":""},{"$f":"IF(SFX18=\"\",\"\",VLOOKUP($Q$10,DATA!$P$2:$R$196,3))","v":""},{"$f":"IF(SFY18=\"\",\"\",VLOOKUP($Q$10,DATA!$P$2:$R$196,3))","v":""},{"$f":"IF(SFZ18=\"\",\"\",VLOOKUP($Q$10,DATA!$P$2:$R$196,3))","v":""},{"$f":"IF(SGA18=\"\",\"\",VLOOKUP($Q$10,DATA!$P$2:$R$196,3))","v":""},{"$f":"IF(SGB18=\"\",\"\",VLOOKUP($Q$10,DATA!$P$2:$R$196,3))","v":""},{"$f":"IF(SGC18=\"\",\"\",VLOOKUP($Q$10,DATA!$P$2:$R$196,3))","v":""},{"$f":"IF(SGD18=\"\",\"\",VLOOKUP($Q$10,DATA!$P$2:$R$196,3))","v":""},{"$f":"IF(SGE18=\"\",\"\",VLOOKUP($Q$10,DATA!$P$2:$R$196,3))","v":""},{"$f":"IF(SGF18=\"\",\"\",VLOOKUP($Q$10,DATA!$P$2:$R$196,3))","v":""},{"$f":"IF(SGG18=\"\",\"\",VLOOKUP($Q$10,DATA!$P$2:$R$196,3))","v":""},{"$f":"IF(SGH18=\"\",\"\",VLOOKUP($Q$10,DATA!$P$2:$R$196,3))","v":""},{"$f":"IF(SGI18=\"\",\"\",VLOOKUP($Q$10,DATA!$P$2:$R$196,3))","v":""},{"$f":"IF(SGJ18=\"\",\"\",VLOOKUP($Q$10,DATA!$P$2:$R$196,3))","v":""},{"$f":"IF(SGK18=\"\",\"\",VLOOKUP($Q$10,DATA!$P$2:$R$196,3))","v":""},{"$f":"IF(SGL18=\"\",\"\",VLOOKUP($Q$10,DATA!$P$2:$R$196,3))","v":""},{"$f":"IF(SGM18=\"\",\"\",VLOOKUP($Q$10,DATA!$P$2:$R$196,3))","v":""},{"$f":"IF(SGN18=\"\",\"\",VLOOKUP($Q$10,DATA!$P$2:$R$196,3))","v":""},{"$f":"IF(SGO18=\"\",\"\",VLOOKUP($Q$10,DATA!$P$2:$R$196,3))","v":""},{"$f":"IF(SGP18=\"\",\"\",VLOOKUP($Q$10,DATA!$P$2:$R$196,3))","v":""},{"$f":"IF(SGQ18=\"\",\"\",VLOOKUP($Q$10,DATA!$P$2:$R$196,3))","v":""},{"$f":"IF(SGR18=\"\",\"\",VLOOKUP($Q$10,DATA!$P$2:$R$196,3))","v":""},{"$f":"IF(SGS18=\"\",\"\",VLOOKUP($Q$10,DATA!$P$2:$R$196,3))","v":""},{"$f":"IF(SGT18=\"\",\"\",VLOOKUP($Q$10,DATA!$P$2:$R$196,3))","v":""},{"$f":"IF(SGU18=\"\",\"\",VLOOKUP($Q$10,DATA!$P$2:$R$196,3))","v":""},{"$f":"IF(SGV18=\"\",\"\",VLOOKUP($Q$10,DATA!$P$2:$R$196,3))","v":""},{"$f":"IF(SGW18=\"\",\"\",VLOOKUP($Q$10,DATA!$P$2:$R$196,3))","v":""},{"$f":"IF(SGX18=\"\",\"\",VLOOKUP($Q$10,DATA!$P$2:$R$196,3))","v":""},{"$f":"IF(SGY18=\"\",\"\",VLOOKUP($Q$10,DATA!$P$2:$R$196,3))","v":""},{"$f":"IF(SGZ18=\"\",\"\",VLOOKUP($Q$10,DATA!$P$2:$R$196,3))","v":""},{"$f":"IF(SHA18=\"\",\"\",VLOOKUP($Q$10,DATA!$P$2:$R$196,3))","v":""},{"$f":"IF(SHB18=\"\",\"\",VLOOKUP($Q$10,DATA!$P$2:$R$196,3))","v":""},{"$f":"IF(SHC18=\"\",\"\",VLOOKUP($Q$10,DATA!$P$2:$R$196,3))","v":""},{"$f":"IF(SHD18=\"\",\"\",VLOOKUP($Q$10,DATA!$P$2:$R$196,3))","v":""},{"$f":"IF(SHE18=\"\",\"\",VLOOKUP($Q$10,DATA!$P$2:$R$196,3))","v":""},{"$f":"IF(SHF18=\"\",\"\",VLOOKUP($Q$10,DATA!$P$2:$R$196,3))","v":""},{"$f":"IF(SHG18=\"\",\"\",VLOOKUP($Q$10,DATA!$P$2:$R$196,3))","v":""},{"$f":"IF(SHH18=\"\",\"\",VLOOKUP($Q$10,DATA!$P$2:$R$196,3))","v":""},{"$f":"IF(SHI18=\"\",\"\",VLOOKUP($Q$10,DATA!$P$2:$R$196,3))","v":""},{"$f":"IF(SHJ18=\"\",\"\",VLOOKUP($Q$10,DATA!$P$2:$R$196,3))","v":""},{"$f":"IF(SHK18=\"\",\"\",VLOOKUP($Q$10,DATA!$P$2:$R$196,3))","v":""},{"$f":"IF(SHL18=\"\",\"\",VLOOKUP($Q$10,DATA!$P$2:$R$196,3))","v":""},{"$f":"IF(SHM18=\"\",\"\",VLOOKUP($Q$10,DATA!$P$2:$R$196,3))","v":""},{"$f":"IF(SHN18=\"\",\"\",VLOOKUP($Q$10,DATA!$P$2:$R$196,3))","v":""},{"$f":"IF(SHO18=\"\",\"\",VLOOKUP($Q$10,DATA!$P$2:$R$196,3))","v":""},{"$f":"IF(SHP18=\"\",\"\",VLOOKUP($Q$10,DATA!$P$2:$R$196,3))","v":""},{"$f":"IF(SHQ18=\"\",\"\",VLOOKUP($Q$10,DATA!$P$2:$R$196,3))","v":""},{"$f":"IF(SHR18=\"\",\"\",VLOOKUP($Q$10,DATA!$P$2:$R$196,3))","v":""},{"$f":"IF(SHS18=\"\",\"\",VLOOKUP($Q$10,DATA!$P$2:$R$196,3))","v":""},{"$f":"IF(SHT18=\"\",\"\",VLOOKUP($Q$10,DATA!$P$2:$R$196,3))","v":""},{"$f":"IF(SHU18=\"\",\"\",VLOOKUP($Q$10,DATA!$P$2:$R$196,3))","v":""},{"$f":"IF(SHV18=\"\",\"\",VLOOKUP($Q$10,DATA!$P$2:$R$196,3))","v":""},{"$f":"IF(SHW18=\"\",\"\",VLOOKUP($Q$10,DATA!$P$2:$R$196,3))","v":""},{"$f":"IF(SHX18=\"\",\"\",VLOOKUP($Q$10,DATA!$P$2:$R$196,3))","v":""},{"$f":"IF(SHY18=\"\",\"\",VLOOKUP($Q$10,DATA!$P$2:$R$196,3))","v":""},{"$f":"IF(SHZ18=\"\",\"\",VLOOKUP($Q$10,DATA!$P$2:$R$196,3))","v":""},{"$f":"IF(SIA18=\"\",\"\",VLOOKUP($Q$10,DATA!$P$2:$R$196,3))","v":""},{"$f":"IF(SIB18=\"\",\"\",VLOOKUP($Q$10,DATA!$P$2:$R$196,3))","v":""},{"$f":"IF(SIC18=\"\",\"\",VLOOKUP($Q$10,DATA!$P$2:$R$196,3))","v":""},{"$f":"IF(SID18=\"\",\"\",VLOOKUP($Q$10,DATA!$P$2:$R$196,3))","v":""},{"$f":"IF(SIE18=\"\",\"\",VLOOKUP($Q$10,DATA!$P$2:$R$196,3))","v":""},{"$f":"IF(SIF18=\"\",\"\",VLOOKUP($Q$10,DATA!$P$2:$R$196,3))","v":""},{"$f":"IF(SIG18=\"\",\"\",VLOOKUP($Q$10,DATA!$P$2:$R$196,3))","v":""},{"$f":"IF(SIH18=\"\",\"\",VLOOKUP($Q$10,DATA!$P$2:$R$196,3))","v":""},{"$f":"IF(SII18=\"\",\"\",VLOOKUP($Q$10,DATA!$P$2:$R$196,3))","v":""},{"$f":"IF(SIJ18=\"\",\"\",VLOOKUP($Q$10,DATA!$P$2:$R$196,3))","v":""},{"$f":"IF(SIK18=\"\",\"\",VLOOKUP($Q$10,DATA!$P$2:$R$196,3))","v":""},{"$f":"IF(SIL18=\"\",\"\",VLOOKUP($Q$10,DATA!$P$2:$R$196,3))","v":""},{"$f":"IF(SIM18=\"\",\"\",VLOOKUP($Q$10,DATA!$P$2:$R$196,3))","v":""},{"$f":"IF(SIN18=\"\",\"\",VLOOKUP($Q$10,DATA!$P$2:$R$196,3))","v":""},{"$f":"IF(SIO18=\"\",\"\",VLOOKUP($Q$10,DATA!$P$2:$R$196,3))","v":""},{"$f":"IF(SIP18=\"\",\"\",VLOOKUP($Q$10,DATA!$P$2:$R$196,3))","v":""},{"$f":"IF(SIQ18=\"\",\"\",VLOOKUP($Q$10,DATA!$P$2:$R$196,3))","v":""},{"$f":"IF(SIR18=\"\",\"\",VLOOKUP($Q$10,DATA!$P$2:$R$196,3))","v":""},{"$f":"IF(SIS18=\"\",\"\",VLOOKUP($Q$10,DATA!$P$2:$R$196,3))","v":""},{"$f":"IF(SIT18=\"\",\"\",VLOOKUP($Q$10,DATA!$P$2:$R$196,3))","v":""},{"$f":"IF(SIU18=\"\",\"\",VLOOKUP($Q$10,DATA!$P$2:$R$196,3))","v":""},{"$f":"IF(SIV18=\"\",\"\",VLOOKUP($Q$10,DATA!$P$2:$R$196,3))","v":""},{"$f":"IF(SIW18=\"\",\"\",VLOOKUP($Q$10,DATA!$P$2:$R$196,3))","v":""},{"$f":"IF(SIX18=\"\",\"\",VLOOKUP($Q$10,DATA!$P$2:$R$196,3))","v":""},{"$f":"IF(SIY18=\"\",\"\",VLOOKUP($Q$10,DATA!$P$2:$R$196,3))","v":""},{"$f":"IF(SIZ18=\"\",\"\",VLOOKUP($Q$10,DATA!$P$2:$R$196,3))","v":""},{"$f":"IF(SJA18=\"\",\"\",VLOOKUP($Q$10,DATA!$P$2:$R$196,3))","v":""},{"$f":"IF(SJB18=\"\",\"\",VLOOKUP($Q$10,DATA!$P$2:$R$196,3))","v":""},{"$f":"IF(SJC18=\"\",\"\",VLOOKUP($Q$10,DATA!$P$2:$R$196,3))","v":""},{"$f":"IF(SJD18=\"\",\"\",VLOOKUP($Q$10,DATA!$P$2:$R$196,3))","v":""},{"$f":"IF(SJE18=\"\",\"\",VLOOKUP($Q$10,DATA!$P$2:$R$196,3))","v":""},{"$f":"IF(SJF18=\"\",\"\",VLOOKUP($Q$10,DATA!$P$2:$R$196,3))","v":""},{"$f":"IF(SJG18=\"\",\"\",VLOOKUP($Q$10,DATA!$P$2:$R$196,3))","v":""},{"$f":"IF(SJH18=\"\",\"\",VLOOKUP($Q$10,DATA!$P$2:$R$196,3))","v":""},{"$f":"IF(SJI18=\"\",\"\",VLOOKUP($Q$10,DATA!$P$2:$R$196,3))","v":""},{"$f":"IF(SJJ18=\"\",\"\",VLOOKUP($Q$10,DATA!$P$2:$R$196,3))","v":""},{"$f":"IF(SJK18=\"\",\"\",VLOOKUP($Q$10,DATA!$P$2:$R$196,3))","v":""},{"$f":"IF(SJL18=\"\",\"\",VLOOKUP($Q$10,DATA!$P$2:$R$196,3))","v":""},{"$f":"IF(SJM18=\"\",\"\",VLOOKUP($Q$10,DATA!$P$2:$R$196,3))","v":""},{"$f":"IF(SJN18=\"\",\"\",VLOOKUP($Q$10,DATA!$P$2:$R$196,3))","v":""},{"$f":"IF(SJO18=\"\",\"\",VLOOKUP($Q$10,DATA!$P$2:$R$196,3))","v":""},{"$f":"IF(SJP18=\"\",\"\",VLOOKUP($Q$10,DATA!$P$2:$R$196,3))","v":""},{"$f":"IF(SJQ18=\"\",\"\",VLOOKUP($Q$10,DATA!$P$2:$R$196,3))","v":""},{"$f":"IF(SJR18=\"\",\"\",VLOOKUP($Q$10,DATA!$P$2:$R$196,3))","v":""},{"$f":"IF(SJS18=\"\",\"\",VLOOKUP($Q$10,DATA!$P$2:$R$196,3))","v":""},{"$f":"IF(SJT18=\"\",\"\",VLOOKUP($Q$10,DATA!$P$2:$R$196,3))","v":""},{"$f":"IF(SJU18=\"\",\"\",VLOOKUP($Q$10,DATA!$P$2:$R$196,3))","v":""},{"$f":"IF(SJV18=\"\",\"\",VLOOKUP($Q$10,DATA!$P$2:$R$196,3))","v":""},{"$f":"IF(SJW18=\"\",\"\",VLOOKUP($Q$10,DATA!$P$2:$R$196,3))","v":""},{"$f":"IF(SJX18=\"\",\"\",VLOOKUP($Q$10,DATA!$P$2:$R$196,3))","v":""},{"$f":"IF(SJY18=\"\",\"\",VLOOKUP($Q$10,DATA!$P$2:$R$196,3))","v":""},{"$f":"IF(SJZ18=\"\",\"\",VLOOKUP($Q$10,DATA!$P$2:$R$196,3))","v":""},{"$f":"IF(SKA18=\"\",\"\",VLOOKUP($Q$10,DATA!$P$2:$R$196,3))","v":""},{"$f":"IF(SKB18=\"\",\"\",VLOOKUP($Q$10,DATA!$P$2:$R$196,3))","v":""},{"$f":"IF(SKC18=\"\",\"\",VLOOKUP($Q$10,DATA!$P$2:$R$196,3))","v":""},{"$f":"IF(SKD18=\"\",\"\",VLOOKUP($Q$10,DATA!$P$2:$R$196,3))","v":""},{"$f":"IF(SKE18=\"\",\"\",VLOOKUP($Q$10,DATA!$P$2:$R$196,3))","v":""},{"$f":"IF(SKF18=\"\",\"\",VLOOKUP($Q$10,DATA!$P$2:$R$196,3))","v":""},{"$f":"IF(SKG18=\"\",\"\",VLOOKUP($Q$10,DATA!$P$2:$R$196,3))","v":""},{"$f":"IF(SKH18=\"\",\"\",VLOOKUP($Q$10,DATA!$P$2:$R$196,3))","v":""},{"$f":"IF(SKI18=\"\",\"\",VLOOKUP($Q$10,DATA!$P$2:$R$196,3))","v":""},{"$f":"IF(SKJ18=\"\",\"\",VLOOKUP($Q$10,DATA!$P$2:$R$196,3))","v":""},{"$f":"IF(SKK18=\"\",\"\",VLOOKUP($Q$10,DATA!$P$2:$R$196,3))","v":""},{"$f":"IF(SKL18=\"\",\"\",VLOOKUP($Q$10,DATA!$P$2:$R$196,3))","v":""},{"$f":"IF(SKM18=\"\",\"\",VLOOKUP($Q$10,DATA!$P$2:$R$196,3))","v":""},{"$f":"IF(SKN18=\"\",\"\",VLOOKUP($Q$10,DATA!$P$2:$R$196,3))","v":""},{"$f":"IF(SKO18=\"\",\"\",VLOOKUP($Q$10,DATA!$P$2:$R$196,3))","v":""},{"$f":"IF(SKP18=\"\",\"\",VLOOKUP($Q$10,DATA!$P$2:$R$196,3))","v":""},{"$f":"IF(SKQ18=\"\",\"\",VLOOKUP($Q$10,DATA!$P$2:$R$196,3))","v":""},{"$f":"IF(SKR18=\"\",\"\",VLOOKUP($Q$10,DATA!$P$2:$R$196,3))","v":""},{"$f":"IF(SKS18=\"\",\"\",VLOOKUP($Q$10,DATA!$P$2:$R$196,3))","v":""},{"$f":"IF(SKT18=\"\",\"\",VLOOKUP($Q$10,DATA!$P$2:$R$196,3))","v":""},{"$f":"IF(SKU18=\"\",\"\",VLOOKUP($Q$10,DATA!$P$2:$R$196,3))","v":""},{"$f":"IF(SKV18=\"\",\"\",VLOOKUP($Q$10,DATA!$P$2:$R$196,3))","v":""},{"$f":"IF(SKW18=\"\",\"\",VLOOKUP($Q$10,DATA!$P$2:$R$196,3))","v":""},{"$f":"IF(SKX18=\"\",\"\",VLOOKUP($Q$10,DATA!$P$2:$R$196,3))","v":""},{"$f":"IF(SKY18=\"\",\"\",VLOOKUP($Q$10,DATA!$P$2:$R$196,3))","v":""},{"$f":"IF(SKZ18=\"\",\"\",VLOOKUP($Q$10,DATA!$P$2:$R$196,3))","v":""},{"$f":"IF(SLA18=\"\",\"\",VLOOKUP($Q$10,DATA!$P$2:$R$196,3))","v":""},{"$f":"IF(SLB18=\"\",\"\",VLOOKUP($Q$10,DATA!$P$2:$R$196,3))","v":""},{"$f":"IF(SLC18=\"\",\"\",VLOOKUP($Q$10,DATA!$P$2:$R$196,3))","v":""},{"$f":"IF(SLD18=\"\",\"\",VLOOKUP($Q$10,DATA!$P$2:$R$196,3))","v":""},{"$f":"IF(SLE18=\"\",\"\",VLOOKUP($Q$10,DATA!$P$2:$R$196,3))","v":""},{"$f":"IF(SLF18=\"\",\"\",VLOOKUP($Q$10,DATA!$P$2:$R$196,3))","v":""},{"$f":"IF(SLG18=\"\",\"\",VLOOKUP($Q$10,DATA!$P$2:$R$196,3))","v":""},{"$f":"IF(SLH18=\"\",\"\",VLOOKUP($Q$10,DATA!$P$2:$R$196,3))","v":""},{"$f":"IF(SLI18=\"\",\"\",VLOOKUP($Q$10,DATA!$P$2:$R$196,3))","v":""},{"$f":"IF(SLJ18=\"\",\"\",VLOOKUP($Q$10,DATA!$P$2:$R$196,3))","v":""},{"$f":"IF(SLK18=\"\",\"\",VLOOKUP($Q$10,DATA!$P$2:$R$196,3))","v":""},{"$f":"IF(SLL18=\"\",\"\",VLOOKUP($Q$10,DATA!$P$2:$R$196,3))","v":""},{"$f":"IF(SLM18=\"\",\"\",VLOOKUP($Q$10,DATA!$P$2:$R$196,3))","v":""},{"$f":"IF(SLN18=\"\",\"\",VLOOKUP($Q$10,DATA!$P$2:$R$196,3))","v":""},{"$f":"IF(SLO18=\"\",\"\",VLOOKUP($Q$10,DATA!$P$2:$R$196,3))","v":""},{"$f":"IF(SLP18=\"\",\"\",VLOOKUP($Q$10,DATA!$P$2:$R$196,3))","v":""},{"$f":"IF(SLQ18=\"\",\"\",VLOOKUP($Q$10,DATA!$P$2:$R$196,3))","v":""},{"$f":"IF(SLR18=\"\",\"\",VLOOKUP($Q$10,DATA!$P$2:$R$196,3))","v":""},{"$f":"IF(SLS18=\"\",\"\",VLOOKUP($Q$10,DATA!$P$2:$R$196,3))","v":""},{"$f":"IF(SLT18=\"\",\"\",VLOOKUP($Q$10,DATA!$P$2:$R$196,3))","v":""},{"$f":"IF(SLU18=\"\",\"\",VLOOKUP($Q$10,DATA!$P$2:$R$196,3))","v":""},{"$f":"IF(SLV18=\"\",\"\",VLOOKUP($Q$10,DATA!$P$2:$R$196,3))","v":""},{"$f":"IF(SLW18=\"\",\"\",VLOOKUP($Q$10,DATA!$P$2:$R$196,3))","v":""},{"$f":"IF(SLX18=\"\",\"\",VLOOKUP($Q$10,DATA!$P$2:$R$196,3))","v":""},{"$f":"IF(SLY18=\"\",\"\",VLOOKUP($Q$10,DATA!$P$2:$R$196,3))","v":""},{"$f":"IF(SLZ18=\"\",\"\",VLOOKUP($Q$10,DATA!$P$2:$R$196,3))","v":""},{"$f":"IF(SMA18=\"\",\"\",VLOOKUP($Q$10,DATA!$P$2:$R$196,3))","v":""},{"$f":"IF(SMB18=\"\",\"\",VLOOKUP($Q$10,DATA!$P$2:$R$196,3))","v":""},{"$f":"IF(SMC18=\"\",\"\",VLOOKUP($Q$10,DATA!$P$2:$R$196,3))","v":""},{"$f":"IF(SMD18=\"\",\"\",VLOOKUP($Q$10,DATA!$P$2:$R$196,3))","v":""},{"$f":"IF(SME18=\"\",\"\",VLOOKUP($Q$10,DATA!$P$2:$R$196,3))","v":""},{"$f":"IF(SMF18=\"\",\"\",VLOOKUP($Q$10,DATA!$P$2:$R$196,3))","v":""},{"$f":"IF(SMG18=\"\",\"\",VLOOKUP($Q$10,DATA!$P$2:$R$196,3))","v":""},{"$f":"IF(SMH18=\"\",\"\",VLOOKUP($Q$10,DATA!$P$2:$R$196,3))","v":""},{"$f":"IF(SMI18=\"\",\"\",VLOOKUP($Q$10,DATA!$P$2:$R$196,3))","v":""},{"$f":"IF(SMJ18=\"\",\"\",VLOOKUP($Q$10,DATA!$P$2:$R$196,3))","v":""},{"$f":"IF(SMK18=\"\",\"\",VLOOKUP($Q$10,DATA!$P$2:$R$196,3))","v":""},{"$f":"IF(SML18=\"\",\"\",VLOOKUP($Q$10,DATA!$P$2:$R$196,3))","v":""},{"$f":"IF(SMM18=\"\",\"\",VLOOKUP($Q$10,DATA!$P$2:$R$196,3))","v":""},{"$f":"IF(SMN18=\"\",\"\",VLOOKUP($Q$10,DATA!$P$2:$R$196,3))","v":""},{"$f":"IF(SMO18=\"\",\"\",VLOOKUP($Q$10,DATA!$P$2:$R$196,3))","v":""},{"$f":"IF(SMP18=\"\",\"\",VLOOKUP($Q$10,DATA!$P$2:$R$196,3))","v":""},{"$f":"IF(SMQ18=\"\",\"\",VLOOKUP($Q$10,DATA!$P$2:$R$196,3))","v":""},{"$f":"IF(SMR18=\"\",\"\",VLOOKUP($Q$10,DATA!$P$2:$R$196,3))","v":""},{"$f":"IF(SMS18=\"\",\"\",VLOOKUP($Q$10,DATA!$P$2:$R$196,3))","v":""},{"$f":"IF(SMT18=\"\",\"\",VLOOKUP($Q$10,DATA!$P$2:$R$196,3))","v":""},{"$f":"IF(SMU18=\"\",\"\",VLOOKUP($Q$10,DATA!$P$2:$R$196,3))","v":""},{"$f":"IF(SMV18=\"\",\"\",VLOOKUP($Q$10,DATA!$P$2:$R$196,3))","v":""},{"$f":"IF(SMW18=\"\",\"\",VLOOKUP($Q$10,DATA!$P$2:$R$196,3))","v":""},{"$f":"IF(SMX18=\"\",\"\",VLOOKUP($Q$10,DATA!$P$2:$R$196,3))","v":""},{"$f":"IF(SMY18=\"\",\"\",VLOOKUP($Q$10,DATA!$P$2:$R$196,3))","v":""},{"$f":"IF(SMZ18=\"\",\"\",VLOOKUP($Q$10,DATA!$P$2:$R$196,3))","v":""},{"$f":"IF(SNA18=\"\",\"\",VLOOKUP($Q$10,DATA!$P$2:$R$196,3))","v":""},{"$f":"IF(SNB18=\"\",\"\",VLOOKUP($Q$10,DATA!$P$2:$R$196,3))","v":""},{"$f":"IF(SNC18=\"\",\"\",VLOOKUP($Q$10,DATA!$P$2:$R$196,3))","v":""},{"$f":"IF(SND18=\"\",\"\",VLOOKUP($Q$10,DATA!$P$2:$R$196,3))","v":""},{"$f":"IF(SNE18=\"\",\"\",VLOOKUP($Q$10,DATA!$P$2:$R$196,3))","v":""},{"$f":"IF(SNF18=\"\",\"\",VLOOKUP($Q$10,DATA!$P$2:$R$196,3))","v":""},{"$f":"IF(SNG18=\"\",\"\",VLOOKUP($Q$10,DATA!$P$2:$R$196,3))","v":""},{"$f":"IF(SNH18=\"\",\"\",VLOOKUP($Q$10,DATA!$P$2:$R$196,3))","v":""},{"$f":"IF(SNI18=\"\",\"\",VLOOKUP($Q$10,DATA!$P$2:$R$196,3))","v":""},{"$f":"IF(SNJ18=\"\",\"\",VLOOKUP($Q$10,DATA!$P$2:$R$196,3))","v":""},{"$f":"IF(SNK18=\"\",\"\",VLOOKUP($Q$10,DATA!$P$2:$R$196,3))","v":""},{"$f":"IF(SNL18=\"\",\"\",VLOOKUP($Q$10,DATA!$P$2:$R$196,3))","v":""},{"$f":"IF(SNM18=\"\",\"\",VLOOKUP($Q$10,DATA!$P$2:$R$196,3))","v":""},{"$f":"IF(SNN18=\"\",\"\",VLOOKUP($Q$10,DATA!$P$2:$R$196,3))","v":""},{"$f":"IF(SNO18=\"\",\"\",VLOOKUP($Q$10,DATA!$P$2:$R$196,3))","v":""},{"$f":"IF(SNP18=\"\",\"\",VLOOKUP($Q$10,DATA!$P$2:$R$196,3))","v":""},{"$f":"IF(SNQ18=\"\",\"\",VLOOKUP($Q$10,DATA!$P$2:$R$196,3))","v":""},{"$f":"IF(SNR18=\"\",\"\",VLOOKUP($Q$10,DATA!$P$2:$R$196,3))","v":""},{"$f":"IF(SNS18=\"\",\"\",VLOOKUP($Q$10,DATA!$P$2:$R$196,3))","v":""},{"$f":"IF(SNT18=\"\",\"\",VLOOKUP($Q$10,DATA!$P$2:$R$196,3))","v":""},{"$f":"IF(SNU18=\"\",\"\",VLOOKUP($Q$10,DATA!$P$2:$R$196,3))","v":""},{"$f":"IF(SNV18=\"\",\"\",VLOOKUP($Q$10,DATA!$P$2:$R$196,3))","v":""},{"$f":"IF(SNW18=\"\",\"\",VLOOKUP($Q$10,DATA!$P$2:$R$196,3))","v":""},{"$f":"IF(SNX18=\"\",\"\",VLOOKUP($Q$10,DATA!$P$2:$R$196,3))","v":""},{"$f":"IF(SNY18=\"\",\"\",VLOOKUP($Q$10,DATA!$P$2:$R$196,3))","v":""},{"$f":"IF(SNZ18=\"\",\"\",VLOOKUP($Q$10,DATA!$P$2:$R$196,3))","v":""},{"$f":"IF(SOA18=\"\",\"\",VLOOKUP($Q$10,DATA!$P$2:$R$196,3))","v":""},{"$f":"IF(SOB18=\"\",\"\",VLOOKUP($Q$10,DATA!$P$2:$R$196,3))","v":""},{"$f":"IF(SOC18=\"\",\"\",VLOOKUP($Q$10,DATA!$P$2:$R$196,3))","v":""},{"$f":"IF(SOD18=\"\",\"\",VLOOKUP($Q$10,DATA!$P$2:$R$196,3))","v":""},{"$f":"IF(SOE18=\"\",\"\",VLOOKUP($Q$10,DATA!$P$2:$R$196,3))","v":""},{"$f":"IF(SOF18=\"\",\"\",VLOOKUP($Q$10,DATA!$P$2:$R$196,3))","v":""},{"$f":"IF(SOG18=\"\",\"\",VLOOKUP($Q$10,DATA!$P$2:$R$196,3))","v":""},{"$f":"IF(SOH18=\"\",\"\",VLOOKUP($Q$10,DATA!$P$2:$R$196,3))","v":""},{"$f":"IF(SOI18=\"\",\"\",VLOOKUP($Q$10,DATA!$P$2:$R$196,3))","v":""},{"$f":"IF(SOJ18=\"\",\"\",VLOOKUP($Q$10,DATA!$P$2:$R$196,3))","v":""},{"$f":"IF(SOK18=\"\",\"\",VLOOKUP($Q$10,DATA!$P$2:$R$196,3))","v":""},{"$f":"IF(SOL18=\"\",\"\",VLOOKUP($Q$10,DATA!$P$2:$R$196,3))","v":""},{"$f":"IF(SOM18=\"\",\"\",VLOOKUP($Q$10,DATA!$P$2:$R$196,3))","v":""},{"$f":"IF(SON18=\"\",\"\",VLOOKUP($Q$10,DATA!$P$2:$R$196,3))","v":""},{"$f":"IF(SOO18=\"\",\"\",VLOOKUP($Q$10,DATA!$P$2:$R$196,3))","v":""},{"$f":"IF(SOP18=\"\",\"\",VLOOKUP($Q$10,DATA!$P$2:$R$196,3))","v":""},{"$f":"IF(SOQ18=\"\",\"\",VLOOKUP($Q$10,DATA!$P$2:$R$196,3))","v":""},{"$f":"IF(SOR18=\"\",\"\",VLOOKUP($Q$10,DATA!$P$2:$R$196,3))","v":""},{"$f":"IF(SOS18=\"\",\"\",VLOOKUP($Q$10,DATA!$P$2:$R$196,3))","v":""},{"$f":"IF(SOT18=\"\",\"\",VLOOKUP($Q$10,DATA!$P$2:$R$196,3))","v":""},{"$f":"IF(SOU18=\"\",\"\",VLOOKUP($Q$10,DATA!$P$2:$R$196,3))","v":""},{"$f":"IF(SOV18=\"\",\"\",VLOOKUP($Q$10,DATA!$P$2:$R$196,3))","v":""},{"$f":"IF(SOW18=\"\",\"\",VLOOKUP($Q$10,DATA!$P$2:$R$196,3))","v":""},{"$f":"IF(SOX18=\"\",\"\",VLOOKUP($Q$10,DATA!$P$2:$R$196,3))","v":""},{"$f":"IF(SOY18=\"\",\"\",VLOOKUP($Q$10,DATA!$P$2:$R$196,3))","v":""},{"$f":"IF(SOZ18=\"\",\"\",VLOOKUP($Q$10,DATA!$P$2:$R$196,3))","v":""},{"$f":"IF(SPA18=\"\",\"\",VLOOKUP($Q$10,DATA!$P$2:$R$196,3))","v":""},{"$f":"IF(SPB18=\"\",\"\",VLOOKUP($Q$10,DATA!$P$2:$R$196,3))","v":""},{"$f":"IF(SPC18=\"\",\"\",VLOOKUP($Q$10,DATA!$P$2:$R$196,3))","v":""},{"$f":"IF(SPD18=\"\",\"\",VLOOKUP($Q$10,DATA!$P$2:$R$196,3))","v":""},{"$f":"IF(SPE18=\"\",\"\",VLOOKUP($Q$10,DATA!$P$2:$R$196,3))","v":""},{"$f":"IF(SPF18=\"\",\"\",VLOOKUP($Q$10,DATA!$P$2:$R$196,3))","v":""},{"$f":"IF(SPG18=\"\",\"\",VLOOKUP($Q$10,DATA!$P$2:$R$196,3))","v":""},{"$f":"IF(SPH18=\"\",\"\",VLOOKUP($Q$10,DATA!$P$2:$R$196,3))","v":""},{"$f":"IF(SPI18=\"\",\"\",VLOOKUP($Q$10,DATA!$P$2:$R$196,3))","v":""},{"$f":"IF(SPJ18=\"\",\"\",VLOOKUP($Q$10,DATA!$P$2:$R$196,3))","v":""},{"$f":"IF(SPK18=\"\",\"\",VLOOKUP($Q$10,DATA!$P$2:$R$196,3))","v":""},{"$f":"IF(SPL18=\"\",\"\",VLOOKUP($Q$10,DATA!$P$2:$R$196,3))","v":""},{"$f":"IF(SPM18=\"\",\"\",VLOOKUP($Q$10,DATA!$P$2:$R$196,3))","v":""},{"$f":"IF(SPN18=\"\",\"\",VLOOKUP($Q$10,DATA!$P$2:$R$196,3))","v":""},{"$f":"IF(SPO18=\"\",\"\",VLOOKUP($Q$10,DATA!$P$2:$R$196,3))","v":""},{"$f":"IF(SPP18=\"\",\"\",VLOOKUP($Q$10,DATA!$P$2:$R$196,3))","v":""},{"$f":"IF(SPQ18=\"\",\"\",VLOOKUP($Q$10,DATA!$P$2:$R$196,3))","v":""},{"$f":"IF(SPR18=\"\",\"\",VLOOKUP($Q$10,DATA!$P$2:$R$196,3))","v":""},{"$f":"IF(SPS18=\"\",\"\",VLOOKUP($Q$10,DATA!$P$2:$R$196,3))","v":""},{"$f":"IF(SPT18=\"\",\"\",VLOOKUP($Q$10,DATA!$P$2:$R$196,3))","v":""},{"$f":"IF(SPU18=\"\",\"\",VLOOKUP($Q$10,DATA!$P$2:$R$196,3))","v":""},{"$f":"IF(SPV18=\"\",\"\",VLOOKUP($Q$10,DATA!$P$2:$R$196,3))","v":""},{"$f":"IF(SPW18=\"\",\"\",VLOOKUP($Q$10,DATA!$P$2:$R$196,3))","v":""},{"$f":"IF(SPX18=\"\",\"\",VLOOKUP($Q$10,DATA!$P$2:$R$196,3))","v":""},{"$f":"IF(SPY18=\"\",\"\",VLOOKUP($Q$10,DATA!$P$2:$R$196,3))","v":""},{"$f":"IF(SPZ18=\"\",\"\",VLOOKUP($Q$10,DATA!$P$2:$R$196,3))","v":""},{"$f":"IF(SQA18=\"\",\"\",VLOOKUP($Q$10,DATA!$P$2:$R$196,3))","v":""},{"$f":"IF(SQB18=\"\",\"\",VLOOKUP($Q$10,DATA!$P$2:$R$196,3))","v":""},{"$f":"IF(SQC18=\"\",\"\",VLOOKUP($Q$10,DATA!$P$2:$R$196,3))","v":""},{"$f":"IF(SQD18=\"\",\"\",VLOOKUP($Q$10,DATA!$P$2:$R$196,3))","v":""},{"$f":"IF(SQE18=\"\",\"\",VLOOKUP($Q$10,DATA!$P$2:$R$196,3))","v":""},{"$f":"IF(SQF18=\"\",\"\",VLOOKUP($Q$10,DATA!$P$2:$R$196,3))","v":""},{"$f":"IF(SQG18=\"\",\"\",VLOOKUP($Q$10,DATA!$P$2:$R$196,3))","v":""},{"$f":"IF(SQH18=\"\",\"\",VLOOKUP($Q$10,DATA!$P$2:$R$196,3))","v":""},{"$f":"IF(SQI18=\"\",\"\",VLOOKUP($Q$10,DATA!$P$2:$R$196,3))","v":""},{"$f":"IF(SQJ18=\"\",\"\",VLOOKUP($Q$10,DATA!$P$2:$R$196,3))","v":""},{"$f":"IF(SQK18=\"\",\"\",VLOOKUP($Q$10,DATA!$P$2:$R$196,3))","v":""},{"$f":"IF(SQL18=\"\",\"\",VLOOKUP($Q$10,DATA!$P$2:$R$196,3))","v":""},{"$f":"IF(SQM18=\"\",\"\",VLOOKUP($Q$10,DATA!$P$2:$R$196,3))","v":""},{"$f":"IF(SQN18=\"\",\"\",VLOOKUP($Q$10,DATA!$P$2:$R$196,3))","v":""},{"$f":"IF(SQO18=\"\",\"\",VLOOKUP($Q$10,DATA!$P$2:$R$196,3))","v":""},{"$f":"IF(SQP18=\"\",\"\",VLOOKUP($Q$10,DATA!$P$2:$R$196,3))","v":""},{"$f":"IF(SQQ18=\"\",\"\",VLOOKUP($Q$10,DATA!$P$2:$R$196,3))","v":""},{"$f":"IF(SQR18=\"\",\"\",VLOOKUP($Q$10,DATA!$P$2:$R$196,3))","v":""},{"$f":"IF(SQS18=\"\",\"\",VLOOKUP($Q$10,DATA!$P$2:$R$196,3))","v":""},{"$f":"IF(SQT18=\"\",\"\",VLOOKUP($Q$10,DATA!$P$2:$R$196,3))","v":""},{"$f":"IF(SQU18=\"\",\"\",VLOOKUP($Q$10,DATA!$P$2:$R$196,3))","v":""},{"$f":"IF(SQV18=\"\",\"\",VLOOKUP($Q$10,DATA!$P$2:$R$196,3))","v":""},{"$f":"IF(SQW18=\"\",\"\",VLOOKUP($Q$10,DATA!$P$2:$R$196,3))","v":""},{"$f":"IF(SQX18=\"\",\"\",VLOOKUP($Q$10,DATA!$P$2:$R$196,3))","v":""},{"$f":"IF(SQY18=\"\",\"\",VLOOKUP($Q$10,DATA!$P$2:$R$196,3))","v":""},{"$f":"IF(SQZ18=\"\",\"\",VLOOKUP($Q$10,DATA!$P$2:$R$196,3))","v":""},{"$f":"IF(SRA18=\"\",\"\",VLOOKUP($Q$10,DATA!$P$2:$R$196,3))","v":""},{"$f":"IF(SRB18=\"\",\"\",VLOOKUP($Q$10,DATA!$P$2:$R$196,3))","v":""},{"$f":"IF(SRC18=\"\",\"\",VLOOKUP($Q$10,DATA!$P$2:$R$196,3))","v":""},{"$f":"IF(SRD18=\"\",\"\",VLOOKUP($Q$10,DATA!$P$2:$R$196,3))","v":""},{"$f":"IF(SRE18=\"\",\"\",VLOOKUP($Q$10,DATA!$P$2:$R$196,3))","v":""},{"$f":"IF(SRF18=\"\",\"\",VLOOKUP($Q$10,DATA!$P$2:$R$196,3))","v":""},{"$f":"IF(SRG18=\"\",\"\",VLOOKUP($Q$10,DATA!$P$2:$R$196,3))","v":""},{"$f":"IF(SRH18=\"\",\"\",VLOOKUP($Q$10,DATA!$P$2:$R$196,3))","v":""},{"$f":"IF(SRI18=\"\",\"\",VLOOKUP($Q$10,DATA!$P$2:$R$196,3))","v":""},{"$f":"IF(SRJ18=\"\",\"\",VLOOKUP($Q$10,DATA!$P$2:$R$196,3))","v":""},{"$f":"IF(SRK18=\"\",\"\",VLOOKUP($Q$10,DATA!$P$2:$R$196,3))","v":""},{"$f":"IF(SRL18=\"\",\"\",VLOOKUP($Q$10,DATA!$P$2:$R$196,3))","v":""},{"$f":"IF(SRM18=\"\",\"\",VLOOKUP($Q$10,DATA!$P$2:$R$196,3))","v":""},{"$f":"IF(SRN18=\"\",\"\",VLOOKUP($Q$10,DATA!$P$2:$R$196,3))","v":""},{"$f":"IF(SRO18=\"\",\"\",VLOOKUP($Q$10,DATA!$P$2:$R$196,3))","v":""},{"$f":"IF(SRP18=\"\",\"\",VLOOKUP($Q$10,DATA!$P$2:$R$196,3))","v":""},{"$f":"IF(SRQ18=\"\",\"\",VLOOKUP($Q$10,DATA!$P$2:$R$196,3))","v":""},{"$f":"IF(SRR18=\"\",\"\",VLOOKUP($Q$10,DATA!$P$2:$R$196,3))","v":""},{"$f":"IF(SRS18=\"\",\"\",VLOOKUP($Q$10,DATA!$P$2:$R$196,3))","v":""},{"$f":"IF(SRT18=\"\",\"\",VLOOKUP($Q$10,DATA!$P$2:$R$196,3))","v":""},{"$f":"IF(SRU18=\"\",\"\",VLOOKUP($Q$10,DATA!$P$2:$R$196,3))","v":""},{"$f":"IF(SRV18=\"\",\"\",VLOOKUP($Q$10,DATA!$P$2:$R$196,3))","v":""},{"$f":"IF(SRW18=\"\",\"\",VLOOKUP($Q$10,DATA!$P$2:$R$196,3))","v":""},{"$f":"IF(SRX18=\"\",\"\",VLOOKUP($Q$10,DATA!$P$2:$R$196,3))","v":""},{"$f":"IF(SRY18=\"\",\"\",VLOOKUP($Q$10,DATA!$P$2:$R$196,3))","v":""},{"$f":"IF(SRZ18=\"\",\"\",VLOOKUP($Q$10,DATA!$P$2:$R$196,3))","v":""},{"$f":"IF(SSA18=\"\",\"\",VLOOKUP($Q$10,DATA!$P$2:$R$196,3))","v":""},{"$f":"IF(SSB18=\"\",\"\",VLOOKUP($Q$10,DATA!$P$2:$R$196,3))","v":""},{"$f":"IF(SSC18=\"\",\"\",VLOOKUP($Q$10,DATA!$P$2:$R$196,3))","v":""},{"$f":"IF(SSD18=\"\",\"\",VLOOKUP($Q$10,DATA!$P$2:$R$196,3))","v":""},{"$f":"IF(SSE18=\"\",\"\",VLOOKUP($Q$10,DATA!$P$2:$R$196,3))","v":""},{"$f":"IF(SSF18=\"\",\"\",VLOOKUP($Q$10,DATA!$P$2:$R$196,3))","v":""},{"$f":"IF(SSG18=\"\",\"\",VLOOKUP($Q$10,DATA!$P$2:$R$196,3))","v":""},{"$f":"IF(SSH18=\"\",\"\",VLOOKUP($Q$10,DATA!$P$2:$R$196,3))","v":""},{"$f":"IF(SSI18=\"\",\"\",VLOOKUP($Q$10,DATA!$P$2:$R$196,3))","v":""},{"$f":"IF(SSJ18=\"\",\"\",VLOOKUP($Q$10,DATA!$P$2:$R$196,3))","v":""},{"$f":"IF(SSK18=\"\",\"\",VLOOKUP($Q$10,DATA!$P$2:$R$196,3))","v":""},{"$f":"IF(SSL18=\"\",\"\",VLOOKUP($Q$10,DATA!$P$2:$R$196,3))","v":""},{"$f":"IF(SSM18=\"\",\"\",VLOOKUP($Q$10,DATA!$P$2:$R$196,3))","v":""},{"$f":"IF(SSN18=\"\",\"\",VLOOKUP($Q$10,DATA!$P$2:$R$196,3))","v":""},{"$f":"IF(SSO18=\"\",\"\",VLOOKUP($Q$10,DATA!$P$2:$R$196,3))","v":""},{"$f":"IF(SSP18=\"\",\"\",VLOOKUP($Q$10,DATA!$P$2:$R$196,3))","v":""},{"$f":"IF(SSQ18=\"\",\"\",VLOOKUP($Q$10,DATA!$P$2:$R$196,3))","v":""},{"$f":"IF(SSR18=\"\",\"\",VLOOKUP($Q$10,DATA!$P$2:$R$196,3))","v":""},{"$f":"IF(SSS18=\"\",\"\",VLOOKUP($Q$10,DATA!$P$2:$R$196,3))","v":""},{"$f":"IF(SST18=\"\",\"\",VLOOKUP($Q$10,DATA!$P$2:$R$196,3))","v":""},{"$f":"IF(SSU18=\"\",\"\",VLOOKUP($Q$10,DATA!$P$2:$R$196,3))","v":""},{"$f":"IF(SSV18=\"\",\"\",VLOOKUP($Q$10,DATA!$P$2:$R$196,3))","v":""},{"$f":"IF(SSW18=\"\",\"\",VLOOKUP($Q$10,DATA!$P$2:$R$196,3))","v":""},{"$f":"IF(SSX18=\"\",\"\",VLOOKUP($Q$10,DATA!$P$2:$R$196,3))","v":""},{"$f":"IF(SSY18=\"\",\"\",VLOOKUP($Q$10,DATA!$P$2:$R$196,3))","v":""},{"$f":"IF(SSZ18=\"\",\"\",VLOOKUP($Q$10,DATA!$P$2:$R$196,3))","v":""},{"$f":"IF(STA18=\"\",\"\",VLOOKUP($Q$10,DATA!$P$2:$R$196,3))","v":""},{"$f":"IF(STB18=\"\",\"\",VLOOKUP($Q$10,DATA!$P$2:$R$196,3))","v":""},{"$f":"IF(STC18=\"\",\"\",VLOOKUP($Q$10,DATA!$P$2:$R$196,3))","v":""},{"$f":"IF(STD18=\"\",\"\",VLOOKUP($Q$10,DATA!$P$2:$R$196,3))","v":""},{"$f":"IF(STE18=\"\",\"\",VLOOKUP($Q$10,DATA!$P$2:$R$196,3))","v":""},{"$f":"IF(STF18=\"\",\"\",VLOOKUP($Q$10,DATA!$P$2:$R$196,3))","v":""},{"$f":"IF(STG18=\"\",\"\",VLOOKUP($Q$10,DATA!$P$2:$R$196,3))","v":""},{"$f":"IF(STH18=\"\",\"\",VLOOKUP($Q$10,DATA!$P$2:$R$196,3))","v":""},{"$f":"IF(STI18=\"\",\"\",VLOOKUP($Q$10,DATA!$P$2:$R$196,3))","v":""},{"$f":"IF(STJ18=\"\",\"\",VLOOKUP($Q$10,DATA!$P$2:$R$196,3))","v":""},{"$f":"IF(STK18=\"\",\"\",VLOOKUP($Q$10,DATA!$P$2:$R$196,3))","v":""},{"$f":"IF(STL18=\"\",\"\",VLOOKUP($Q$10,DATA!$P$2:$R$196,3))","v":""},{"$f":"IF(STM18=\"\",\"\",VLOOKUP($Q$10,DATA!$P$2:$R$196,3))","v":""},{"$f":"IF(STN18=\"\",\"\",VLOOKUP($Q$10,DATA!$P$2:$R$196,3))","v":""},{"$f":"IF(STO18=\"\",\"\",VLOOKUP($Q$10,DATA!$P$2:$R$196,3))","v":""},{"$f":"IF(STP18=\"\",\"\",VLOOKUP($Q$10,DATA!$P$2:$R$196,3))","v":""},{"$f":"IF(STQ18=\"\",\"\",VLOOKUP($Q$10,DATA!$P$2:$R$196,3))","v":""},{"$f":"IF(STR18=\"\",\"\",VLOOKUP($Q$10,DATA!$P$2:$R$196,3))","v":""},{"$f":"IF(STS18=\"\",\"\",VLOOKUP($Q$10,DATA!$P$2:$R$196,3))","v":""},{"$f":"IF(STT18=\"\",\"\",VLOOKUP($Q$10,DATA!$P$2:$R$196,3))","v":""},{"$f":"IF(STU18=\"\",\"\",VLOOKUP($Q$10,DATA!$P$2:$R$196,3))","v":""},{"$f":"IF(STV18=\"\",\"\",VLOOKUP($Q$10,DATA!$P$2:$R$196,3))","v":""},{"$f":"IF(STW18=\"\",\"\",VLOOKUP($Q$10,DATA!$P$2:$R$196,3))","v":""},{"$f":"IF(STX18=\"\",\"\",VLOOKUP($Q$10,DATA!$P$2:$R$196,3))","v":""},{"$f":"IF(STY18=\"\",\"\",VLOOKUP($Q$10,DATA!$P$2:$R$196,3))","v":""},{"$f":"IF(STZ18=\"\",\"\",VLOOKUP($Q$10,DATA!$P$2:$R$196,3))","v":""},{"$f":"IF(SUA18=\"\",\"\",VLOOKUP($Q$10,DATA!$P$2:$R$196,3))","v":""},{"$f":"IF(SUB18=\"\",\"\",VLOOKUP($Q$10,DATA!$P$2:$R$196,3))","v":""},{"$f":"IF(SUC18=\"\",\"\",VLOOKUP($Q$10,DATA!$P$2:$R$196,3))","v":""},{"$f":"IF(SUD18=\"\",\"\",VLOOKUP($Q$10,DATA!$P$2:$R$196,3))","v":""},{"$f":"IF(SUE18=\"\",\"\",VLOOKUP($Q$10,DATA!$P$2:$R$196,3))","v":""},{"$f":"IF(SUF18=\"\",\"\",VLOOKUP($Q$10,DATA!$P$2:$R$196,3))","v":""},{"$f":"IF(SUG18=\"\",\"\",VLOOKUP($Q$10,DATA!$P$2:$R$196,3))","v":""},{"$f":"IF(SUH18=\"\",\"\",VLOOKUP($Q$10,DATA!$P$2:$R$196,3))","v":""},{"$f":"IF(SUI18=\"\",\"\",VLOOKUP($Q$10,DATA!$P$2:$R$196,3))","v":""},{"$f":"IF(SUJ18=\"\",\"\",VLOOKUP($Q$10,DATA!$P$2:$R$196,3))","v":""},{"$f":"IF(SUK18=\"\",\"\",VLOOKUP($Q$10,DATA!$P$2:$R$196,3))","v":""},{"$f":"IF(SUL18=\"\",\"\",VLOOKUP($Q$10,DATA!$P$2:$R$196,3))","v":""},{"$f":"IF(SUM18=\"\",\"\",VLOOKUP($Q$10,DATA!$P$2:$R$196,3))","v":""},{"$f":"IF(SUN18=\"\",\"\",VLOOKUP($Q$10,DATA!$P$2:$R$196,3))","v":""},{"$f":"IF(SUO18=\"\",\"\",VLOOKUP($Q$10,DATA!$P$2:$R$196,3))","v":""},{"$f":"IF(SUP18=\"\",\"\",VLOOKUP($Q$10,DATA!$P$2:$R$196,3))","v":""},{"$f":"IF(SUQ18=\"\",\"\",VLOOKUP($Q$10,DATA!$P$2:$R$196,3))","v":""},{"$f":"IF(SUR18=\"\",\"\",VLOOKUP($Q$10,DATA!$P$2:$R$196,3))","v":""},{"$f":"IF(SUS18=\"\",\"\",VLOOKUP($Q$10,DATA!$P$2:$R$196,3))","v":""},{"$f":"IF(SUT18=\"\",\"\",VLOOKUP($Q$10,DATA!$P$2:$R$196,3))","v":""},{"$f":"IF(SUU18=\"\",\"\",VLOOKUP($Q$10,DATA!$P$2:$R$196,3))","v":""},{"$f":"IF(SUV18=\"\",\"\",VLOOKUP($Q$10,DATA!$P$2:$R$196,3))","v":""},{"$f":"IF(SUW18=\"\",\"\",VLOOKUP($Q$10,DATA!$P$2:$R$196,3))","v":""},{"$f":"IF(SUX18=\"\",\"\",VLOOKUP($Q$10,DATA!$P$2:$R$196,3))","v":""},{"$f":"IF(SUY18=\"\",\"\",VLOOKUP($Q$10,DATA!$P$2:$R$196,3))","v":""},{"$f":"IF(SUZ18=\"\",\"\",VLOOKUP($Q$10,DATA!$P$2:$R$196,3))","v":""},{"$f":"IF(SVA18=\"\",\"\",VLOOKUP($Q$10,DATA!$P$2:$R$196,3))","v":""},{"$f":"IF(SVB18=\"\",\"\",VLOOKUP($Q$10,DATA!$P$2:$R$196,3))","v":""},{"$f":"IF(SVC18=\"\",\"\",VLOOKUP($Q$10,DATA!$P$2:$R$196,3))","v":""},{"$f":"IF(SVD18=\"\",\"\",VLOOKUP($Q$10,DATA!$P$2:$R$196,3))","v":""},{"$f":"IF(SVE18=\"\",\"\",VLOOKUP($Q$10,DATA!$P$2:$R$196,3))","v":""},{"$f":"IF(SVF18=\"\",\"\",VLOOKUP($Q$10,DATA!$P$2:$R$196,3))","v":""},{"$f":"IF(SVG18=\"\",\"\",VLOOKUP($Q$10,DATA!$P$2:$R$196,3))","v":""},{"$f":"IF(SVH18=\"\",\"\",VLOOKUP($Q$10,DATA!$P$2:$R$196,3))","v":""},{"$f":"IF(SVI18=\"\",\"\",VLOOKUP($Q$10,DATA!$P$2:$R$196,3))","v":""},{"$f":"IF(SVJ18=\"\",\"\",VLOOKUP($Q$10,DATA!$P$2:$R$196,3))","v":""},{"$f":"IF(SVK18=\"\",\"\",VLOOKUP($Q$10,DATA!$P$2:$R$196,3))","v":""},{"$f":"IF(SVL18=\"\",\"\",VLOOKUP($Q$10,DATA!$P$2:$R$196,3))","v":""},{"$f":"IF(SVM18=\"\",\"\",VLOOKUP($Q$10,DATA!$P$2:$R$196,3))","v":""},{"$f":"IF(SVN18=\"\",\"\",VLOOKUP($Q$10,DATA!$P$2:$R$196,3))","v":""},{"$f":"IF(SVO18=\"\",\"\",VLOOKUP($Q$10,DATA!$P$2:$R$196,3))","v":""},{"$f":"IF(SVP18=\"\",\"\",VLOOKUP($Q$10,DATA!$P$2:$R$196,3))","v":""},{"$f":"IF(SVQ18=\"\",\"\",VLOOKUP($Q$10,DATA!$P$2:$R$196,3))","v":""},{"$f":"IF(SVR18=\"\",\"\",VLOOKUP($Q$10,DATA!$P$2:$R$196,3))","v":""},{"$f":"IF(SVS18=\"\",\"\",VLOOKUP($Q$10,DATA!$P$2:$R$196,3))","v":""},{"$f":"IF(SVT18=\"\",\"\",VLOOKUP($Q$10,DATA!$P$2:$R$196,3))","v":""},{"$f":"IF(SVU18=\"\",\"\",VLOOKUP($Q$10,DATA!$P$2:$R$196,3))","v":""},{"$f":"IF(SVV18=\"\",\"\",VLOOKUP($Q$10,DATA!$P$2:$R$196,3))","v":""},{"$f":"IF(SVW18=\"\",\"\",VLOOKUP($Q$10,DATA!$P$2:$R$196,3))","v":""},{"$f":"IF(SVX18=\"\",\"\",VLOOKUP($Q$10,DATA!$P$2:$R$196,3))","v":""},{"$f":"IF(SVY18=\"\",\"\",VLOOKUP($Q$10,DATA!$P$2:$R$196,3))","v":""},{"$f":"IF(SVZ18=\"\",\"\",VLOOKUP($Q$10,DATA!$P$2:$R$196,3))","v":""},{"$f":"IF(SWA18=\"\",\"\",VLOOKUP($Q$10,DATA!$P$2:$R$196,3))","v":""},{"$f":"IF(SWB18=\"\",\"\",VLOOKUP($Q$10,DATA!$P$2:$R$196,3))","v":""},{"$f":"IF(SWC18=\"\",\"\",VLOOKUP($Q$10,DATA!$P$2:$R$196,3))","v":""},{"$f":"IF(SWD18=\"\",\"\",VLOOKUP($Q$10,DATA!$P$2:$R$196,3))","v":""},{"$f":"IF(SWE18=\"\",\"\",VLOOKUP($Q$10,DATA!$P$2:$R$196,3))","v":""},{"$f":"IF(SWF18=\"\",\"\",VLOOKUP($Q$10,DATA!$P$2:$R$196,3))","v":""},{"$f":"IF(SWG18=\"\",\"\",VLOOKUP($Q$10,DATA!$P$2:$R$196,3))","v":""},{"$f":"IF(SWH18=\"\",\"\",VLOOKUP($Q$10,DATA!$P$2:$R$196,3))","v":""},{"$f":"IF(SWI18=\"\",\"\",VLOOKUP($Q$10,DATA!$P$2:$R$196,3))","v":""},{"$f":"IF(SWJ18=\"\",\"\",VLOOKUP($Q$10,DATA!$P$2:$R$196,3))","v":""},{"$f":"IF(SWK18=\"\",\"\",VLOOKUP($Q$10,DATA!$P$2:$R$196,3))","v":""},{"$f":"IF(SWL18=\"\",\"\",VLOOKUP($Q$10,DATA!$P$2:$R$196,3))","v":""},{"$f":"IF(SWM18=\"\",\"\",VLOOKUP($Q$10,DATA!$P$2:$R$196,3))","v":""},{"$f":"IF(SWN18=\"\",\"\",VLOOKUP($Q$10,DATA!$P$2:$R$196,3))","v":""},{"$f":"IF(SWO18=\"\",\"\",VLOOKUP($Q$10,DATA!$P$2:$R$196,3))","v":""},{"$f":"IF(SWP18=\"\",\"\",VLOOKUP($Q$10,DATA!$P$2:$R$196,3))","v":""},{"$f":"IF(SWQ18=\"\",\"\",VLOOKUP($Q$10,DATA!$P$2:$R$196,3))","v":""},{"$f":"IF(SWR18=\"\",\"\",VLOOKUP($Q$10,DATA!$P$2:$R$196,3))","v":""},{"$f":"IF(SWS18=\"\",\"\",VLOOKUP($Q$10,DATA!$P$2:$R$196,3))","v":""},{"$f":"IF(SWT18=\"\",\"\",VLOOKUP($Q$10,DATA!$P$2:$R$196,3))","v":""},{"$f":"IF(SWU18=\"\",\"\",VLOOKUP($Q$10,DATA!$P$2:$R$196,3))","v":""},{"$f":"IF(SWV18=\"\",\"\",VLOOKUP($Q$10,DATA!$P$2:$R$196,3))","v":""},{"$f":"IF(SWW18=\"\",\"\",VLOOKUP($Q$10,DATA!$P$2:$R$196,3))","v":""},{"$f":"IF(SWX18=\"\",\"\",VLOOKUP($Q$10,DATA!$P$2:$R$196,3))","v":""},{"$f":"IF(SWY18=\"\",\"\",VLOOKUP($Q$10,DATA!$P$2:$R$196,3))","v":""},{"$f":"IF(SWZ18=\"\",\"\",VLOOKUP($Q$10,DATA!$P$2:$R$196,3))","v":""},{"$f":"IF(SXA18=\"\",\"\",VLOOKUP($Q$10,DATA!$P$2:$R$196,3))","v":""},{"$f":"IF(SXB18=\"\",\"\",VLOOKUP($Q$10,DATA!$P$2:$R$196,3))","v":""},{"$f":"IF(SXC18=\"\",\"\",VLOOKUP($Q$10,DATA!$P$2:$R$196,3))","v":""},{"$f":"IF(SXD18=\"\",\"\",VLOOKUP($Q$10,DATA!$P$2:$R$196,3))","v":""},{"$f":"IF(SXE18=\"\",\"\",VLOOKUP($Q$10,DATA!$P$2:$R$196,3))","v":""},{"$f":"IF(SXF18=\"\",\"\",VLOOKUP($Q$10,DATA!$P$2:$R$196,3))","v":""},{"$f":"IF(SXG18=\"\",\"\",VLOOKUP($Q$10,DATA!$P$2:$R$196,3))","v":""},{"$f":"IF(SXH18=\"\",\"\",VLOOKUP($Q$10,DATA!$P$2:$R$196,3))","v":""},{"$f":"IF(SXI18=\"\",\"\",VLOOKUP($Q$10,DATA!$P$2:$R$196,3))","v":""},{"$f":"IF(SXJ18=\"\",\"\",VLOOKUP($Q$10,DATA!$P$2:$R$196,3))","v":""},{"$f":"IF(SXK18=\"\",\"\",VLOOKUP($Q$10,DATA!$P$2:$R$196,3))","v":""},{"$f":"IF(SXL18=\"\",\"\",VLOOKUP($Q$10,DATA!$P$2:$R$196,3))","v":""},{"$f":"IF(SXM18=\"\",\"\",VLOOKUP($Q$10,DATA!$P$2:$R$196,3))","v":""},{"$f":"IF(SXN18=\"\",\"\",VLOOKUP($Q$10,DATA!$P$2:$R$196,3))","v":""},{"$f":"IF(SXO18=\"\",\"\",VLOOKUP($Q$10,DATA!$P$2:$R$196,3))","v":""},{"$f":"IF(SXP18=\"\",\"\",VLOOKUP($Q$10,DATA!$P$2:$R$196,3))","v":""},{"$f":"IF(SXQ18=\"\",\"\",VLOOKUP($Q$10,DATA!$P$2:$R$196,3))","v":""},{"$f":"IF(SXR18=\"\",\"\",VLOOKUP($Q$10,DATA!$P$2:$R$196,3))","v":""},{"$f":"IF(SXS18=\"\",\"\",VLOOKUP($Q$10,DATA!$P$2:$R$196,3))","v":""},{"$f":"IF(SXT18=\"\",\"\",VLOOKUP($Q$10,DATA!$P$2:$R$196,3))","v":""},{"$f":"IF(SXU18=\"\",\"\",VLOOKUP($Q$10,DATA!$P$2:$R$196,3))","v":""},{"$f":"IF(SXV18=\"\",\"\",VLOOKUP($Q$10,DATA!$P$2:$R$196,3))","v":""},{"$f":"IF(SXW18=\"\",\"\",VLOOKUP($Q$10,DATA!$P$2:$R$196,3))","v":""},{"$f":"IF(SXX18=\"\",\"\",VLOOKUP($Q$10,DATA!$P$2:$R$196,3))","v":""},{"$f":"IF(SXY18=\"\",\"\",VLOOKUP($Q$10,DATA!$P$2:$R$196,3))","v":""},{"$f":"IF(SXZ18=\"\",\"\",VLOOKUP($Q$10,DATA!$P$2:$R$196,3))","v":""},{"$f":"IF(SYA18=\"\",\"\",VLOOKUP($Q$10,DATA!$P$2:$R$196,3))","v":""},{"$f":"IF(SYB18=\"\",\"\",VLOOKUP($Q$10,DATA!$P$2:$R$196,3))","v":""},{"$f":"IF(SYC18=\"\",\"\",VLOOKUP($Q$10,DATA!$P$2:$R$196,3))","v":""},{"$f":"IF(SYD18=\"\",\"\",VLOOKUP($Q$10,DATA!$P$2:$R$196,3))","v":""},{"$f":"IF(SYE18=\"\",\"\",VLOOKUP($Q$10,DATA!$P$2:$R$196,3))","v":""},{"$f":"IF(SYF18=\"\",\"\",VLOOKUP($Q$10,DATA!$P$2:$R$196,3))","v":""},{"$f":"IF(SYG18=\"\",\"\",VLOOKUP($Q$10,DATA!$P$2:$R$196,3))","v":""},{"$f":"IF(SYH18=\"\",\"\",VLOOKUP($Q$10,DATA!$P$2:$R$196,3))","v":""},{"$f":"IF(SYI18=\"\",\"\",VLOOKUP($Q$10,DATA!$P$2:$R$196,3))","v":""},{"$f":"IF(SYJ18=\"\",\"\",VLOOKUP($Q$10,DATA!$P$2:$R$196,3))","v":""},{"$f":"IF(SYK18=\"\",\"\",VLOOKUP($Q$10,DATA!$P$2:$R$196,3))","v":""},{"$f":"IF(SYL18=\"\",\"\",VLOOKUP($Q$10,DATA!$P$2:$R$196,3))","v":""},{"$f":"IF(SYM18=\"\",\"\",VLOOKUP($Q$10,DATA!$P$2:$R$196,3))","v":""},{"$f":"IF(SYN18=\"\",\"\",VLOOKUP($Q$10,DATA!$P$2:$R$196,3))","v":""},{"$f":"IF(SYO18=\"\",\"\",VLOOKUP($Q$10,DATA!$P$2:$R$196,3))","v":""},{"$f":"IF(SYP18=\"\",\"\",VLOOKUP($Q$10,DATA!$P$2:$R$196,3))","v":""},{"$f":"IF(SYQ18=\"\",\"\",VLOOKUP($Q$10,DATA!$P$2:$R$196,3))","v":""},{"$f":"IF(SYR18=\"\",\"\",VLOOKUP($Q$10,DATA!$P$2:$R$196,3))","v":""},{"$f":"IF(SYS18=\"\",\"\",VLOOKUP($Q$10,DATA!$P$2:$R$196,3))","v":""},{"$f":"IF(SYT18=\"\",\"\",VLOOKUP($Q$10,DATA!$P$2:$R$196,3))","v":""},{"$f":"IF(SYU18=\"\",\"\",VLOOKUP($Q$10,DATA!$P$2:$R$196,3))","v":""},{"$f":"IF(SYV18=\"\",\"\",VLOOKUP($Q$10,DATA!$P$2:$R$196,3))","v":""},{"$f":"IF(SYW18=\"\",\"\",VLOOKUP($Q$10,DATA!$P$2:$R$196,3))","v":""},{"$f":"IF(SYX18=\"\",\"\",VLOOKUP($Q$10,DATA!$P$2:$R$196,3))","v":""},{"$f":"IF(SYY18=\"\",\"\",VLOOKUP($Q$10,DATA!$P$2:$R$196,3))","v":""},{"$f":"IF(SYZ18=\"\",\"\",VLOOKUP($Q$10,DATA!$P$2:$R$196,3))","v":""},{"$f":"IF(SZA18=\"\",\"\",VLOOKUP($Q$10,DATA!$P$2:$R$196,3))","v":""},{"$f":"IF(SZB18=\"\",\"\",VLOOKUP($Q$10,DATA!$P$2:$R$196,3))","v":""},{"$f":"IF(SZC18=\"\",\"\",VLOOKUP($Q$10,DATA!$P$2:$R$196,3))","v":""},{"$f":"IF(SZD18=\"\",\"\",VLOOKUP($Q$10,DATA!$P$2:$R$196,3))","v":""},{"$f":"IF(SZE18=\"\",\"\",VLOOKUP($Q$10,DATA!$P$2:$R$196,3))","v":""},{"$f":"IF(SZF18=\"\",\"\",VLOOKUP($Q$10,DATA!$P$2:$R$196,3))","v":""},{"$f":"IF(SZG18=\"\",\"\",VLOOKUP($Q$10,DATA!$P$2:$R$196,3))","v":""},{"$f":"IF(SZH18=\"\",\"\",VLOOKUP($Q$10,DATA!$P$2:$R$196,3))","v":""},{"$f":"IF(SZI18=\"\",\"\",VLOOKUP($Q$10,DATA!$P$2:$R$196,3))","v":""},{"$f":"IF(SZJ18=\"\",\"\",VLOOKUP($Q$10,DATA!$P$2:$R$196,3))","v":""},{"$f":"IF(SZK18=\"\",\"\",VLOOKUP($Q$10,DATA!$P$2:$R$196,3))","v":""},{"$f":"IF(SZL18=\"\",\"\",VLOOKUP($Q$10,DATA!$P$2:$R$196,3))","v":""},{"$f":"IF(SZM18=\"\",\"\",VLOOKUP($Q$10,DATA!$P$2:$R$196,3))","v":""},{"$f":"IF(SZN18=\"\",\"\",VLOOKUP($Q$10,DATA!$P$2:$R$196,3))","v":""},{"$f":"IF(SZO18=\"\",\"\",VLOOKUP($Q$10,DATA!$P$2:$R$196,3))","v":""},{"$f":"IF(SZP18=\"\",\"\",VLOOKUP($Q$10,DATA!$P$2:$R$196,3))","v":""},{"$f":"IF(SZQ18=\"\",\"\",VLOOKUP($Q$10,DATA!$P$2:$R$196,3))","v":""},{"$f":"IF(SZR18=\"\",\"\",VLOOKUP($Q$10,DATA!$P$2:$R$196,3))","v":""},{"$f":"IF(SZS18=\"\",\"\",VLOOKUP($Q$10,DATA!$P$2:$R$196,3))","v":""},{"$f":"IF(SZT18=\"\",\"\",VLOOKUP($Q$10,DATA!$P$2:$R$196,3))","v":""},{"$f":"IF(SZU18=\"\",\"\",VLOOKUP($Q$10,DATA!$P$2:$R$196,3))","v":""},{"$f":"IF(SZV18=\"\",\"\",VLOOKUP($Q$10,DATA!$P$2:$R$196,3))","v":""},{"$f":"IF(SZW18=\"\",\"\",VLOOKUP($Q$10,DATA!$P$2:$R$196,3))","v":""},{"$f":"IF(SZX18=\"\",\"\",VLOOKUP($Q$10,DATA!$P$2:$R$196,3))","v":""},{"$f":"IF(SZY18=\"\",\"\",VLOOKUP($Q$10,DATA!$P$2:$R$196,3))","v":""},{"$f":"IF(SZZ18=\"\",\"\",VLOOKUP($Q$10,DATA!$P$2:$R$196,3))","v":""},{"$f":"IF(TAA18=\"\",\"\",VLOOKUP($Q$10,DATA!$P$2:$R$196,3))","v":""},{"$f":"IF(TAB18=\"\",\"\",VLOOKUP($Q$10,DATA!$P$2:$R$196,3))","v":""},{"$f":"IF(TAC18=\"\",\"\",VLOOKUP($Q$10,DATA!$P$2:$R$196,3))","v":""},{"$f":"IF(TAD18=\"\",\"\",VLOOKUP($Q$10,DATA!$P$2:$R$196,3))","v":""},{"$f":"IF(TAE18=\"\",\"\",VLOOKUP($Q$10,DATA!$P$2:$R$196,3))","v":""},{"$f":"IF(TAF18=\"\",\"\",VLOOKUP($Q$10,DATA!$P$2:$R$196,3))","v":""},{"$f":"IF(TAG18=\"\",\"\",VLOOKUP($Q$10,DATA!$P$2:$R$196,3))","v":""},{"$f":"IF(TAH18=\"\",\"\",VLOOKUP($Q$10,DATA!$P$2:$R$196,3))","v":""},{"$f":"IF(TAI18=\"\",\"\",VLOOKUP($Q$10,DATA!$P$2:$R$196,3))","v":""},{"$f":"IF(TAJ18=\"\",\"\",VLOOKUP($Q$10,DATA!$P$2:$R$196,3))","v":""},{"$f":"IF(TAK18=\"\",\"\",VLOOKUP($Q$10,DATA!$P$2:$R$196,3))","v":""},{"$f":"IF(TAL18=\"\",\"\",VLOOKUP($Q$10,DATA!$P$2:$R$196,3))","v":""},{"$f":"IF(TAM18=\"\",\"\",VLOOKUP($Q$10,DATA!$P$2:$R$196,3))","v":""},{"$f":"IF(TAN18=\"\",\"\",VLOOKUP($Q$10,DATA!$P$2:$R$196,3))","v":""},{"$f":"IF(TAO18=\"\",\"\",VLOOKUP($Q$10,DATA!$P$2:$R$196,3))","v":""},{"$f":"IF(TAP18=\"\",\"\",VLOOKUP($Q$10,DATA!$P$2:$R$196,3))","v":""},{"$f":"IF(TAQ18=\"\",\"\",VLOOKUP($Q$10,DATA!$P$2:$R$196,3))","v":""},{"$f":"IF(TAR18=\"\",\"\",VLOOKUP($Q$10,DATA!$P$2:$R$196,3))","v":""},{"$f":"IF(TAS18=\"\",\"\",VLOOKUP($Q$10,DATA!$P$2:$R$196,3))","v":""},{"$f":"IF(TAT18=\"\",\"\",VLOOKUP($Q$10,DATA!$P$2:$R$196,3))","v":""},{"$f":"IF(TAU18=\"\",\"\",VLOOKUP($Q$10,DATA!$P$2:$R$196,3))","v":""},{"$f":"IF(TAV18=\"\",\"\",VLOOKUP($Q$10,DATA!$P$2:$R$196,3))","v":""},{"$f":"IF(TAW18=\"\",\"\",VLOOKUP($Q$10,DATA!$P$2:$R$196,3))","v":""},{"$f":"IF(TAX18=\"\",\"\",VLOOKUP($Q$10,DATA!$P$2:$R$196,3))","v":""},{"$f":"IF(TAY18=\"\",\"\",VLOOKUP($Q$10,DATA!$P$2:$R$196,3))","v":""},{"$f":"IF(TAZ18=\"\",\"\",VLOOKUP($Q$10,DATA!$P$2:$R$196,3))","v":""},{"$f":"IF(TBA18=\"\",\"\",VLOOKUP($Q$10,DATA!$P$2:$R$196,3))","v":""},{"$f":"IF(TBB18=\"\",\"\",VLOOKUP($Q$10,DATA!$P$2:$R$196,3))","v":""},{"$f":"IF(TBC18=\"\",\"\",VLOOKUP($Q$10,DATA!$P$2:$R$196,3))","v":""},{"$f":"IF(TBD18=\"\",\"\",VLOOKUP($Q$10,DATA!$P$2:$R$196,3))","v":""},{"$f":"IF(TBE18=\"\",\"\",VLOOKUP($Q$10,DATA!$P$2:$R$196,3))","v":""},{"$f":"IF(TBF18=\"\",\"\",VLOOKUP($Q$10,DATA!$P$2:$R$196,3))","v":""},{"$f":"IF(TBG18=\"\",\"\",VLOOKUP($Q$10,DATA!$P$2:$R$196,3))","v":""},{"$f":"IF(TBH18=\"\",\"\",VLOOKUP($Q$10,DATA!$P$2:$R$196,3))","v":""},{"$f":"IF(TBI18=\"\",\"\",VLOOKUP($Q$10,DATA!$P$2:$R$196,3))","v":""},{"$f":"IF(TBJ18=\"\",\"\",VLOOKUP($Q$10,DATA!$P$2:$R$196,3))","v":""},{"$f":"IF(TBK18=\"\",\"\",VLOOKUP($Q$10,DATA!$P$2:$R$196,3))","v":""},{"$f":"IF(TBL18=\"\",\"\",VLOOKUP($Q$10,DATA!$P$2:$R$196,3))","v":""},{"$f":"IF(TBM18=\"\",\"\",VLOOKUP($Q$10,DATA!$P$2:$R$196,3))","v":""},{"$f":"IF(TBN18=\"\",\"\",VLOOKUP($Q$10,DATA!$P$2:$R$196,3))","v":""},{"$f":"IF(TBO18=\"\",\"\",VLOOKUP($Q$10,DATA!$P$2:$R$196,3))","v":""},{"$f":"IF(TBP18=\"\",\"\",VLOOKUP($Q$10,DATA!$P$2:$R$196,3))","v":""},{"$f":"IF(TBQ18=\"\",\"\",VLOOKUP($Q$10,DATA!$P$2:$R$196,3))","v":""},{"$f":"IF(TBR18=\"\",\"\",VLOOKUP($Q$10,DATA!$P$2:$R$196,3))","v":""},{"$f":"IF(TBS18=\"\",\"\",VLOOKUP($Q$10,DATA!$P$2:$R$196,3))","v":""},{"$f":"IF(TBT18=\"\",\"\",VLOOKUP($Q$10,DATA!$P$2:$R$196,3))","v":""},{"$f":"IF(TBU18=\"\",\"\",VLOOKUP($Q$10,DATA!$P$2:$R$196,3))","v":""},{"$f":"IF(TBV18=\"\",\"\",VLOOKUP($Q$10,DATA!$P$2:$R$196,3))","v":""},{"$f":"IF(TBW18=\"\",\"\",VLOOKUP($Q$10,DATA!$P$2:$R$196,3))","v":""},{"$f":"IF(TBX18=\"\",\"\",VLOOKUP($Q$10,DATA!$P$2:$R$196,3))","v":""},{"$f":"IF(TBY18=\"\",\"\",VLOOKUP($Q$10,DATA!$P$2:$R$196,3))","v":""},{"$f":"IF(TBZ18=\"\",\"\",VLOOKUP($Q$10,DATA!$P$2:$R$196,3))","v":""},{"$f":"IF(TCA18=\"\",\"\",VLOOKUP($Q$10,DATA!$P$2:$R$196,3))","v":""},{"$f":"IF(TCB18=\"\",\"\",VLOOKUP($Q$10,DATA!$P$2:$R$196,3))","v":""},{"$f":"IF(TCC18=\"\",\"\",VLOOKUP($Q$10,DATA!$P$2:$R$196,3))","v":""},{"$f":"IF(TCD18=\"\",\"\",VLOOKUP($Q$10,DATA!$P$2:$R$196,3))","v":""},{"$f":"IF(TCE18=\"\",\"\",VLOOKUP($Q$10,DATA!$P$2:$R$196,3))","v":""},{"$f":"IF(TCF18=\"\",\"\",VLOOKUP($Q$10,DATA!$P$2:$R$196,3))","v":""},{"$f":"IF(TCG18=\"\",\"\",VLOOKUP($Q$10,DATA!$P$2:$R$196,3))","v":""},{"$f":"IF(TCH18=\"\",\"\",VLOOKUP($Q$10,DATA!$P$2:$R$196,3))","v":""},{"$f":"IF(TCI18=\"\",\"\",VLOOKUP($Q$10,DATA!$P$2:$R$196,3))","v":""},{"$f":"IF(TCJ18=\"\",\"\",VLOOKUP($Q$10,DATA!$P$2:$R$196,3))","v":""},{"$f":"IF(TCK18=\"\",\"\",VLOOKUP($Q$10,DATA!$P$2:$R$196,3))","v":""},{"$f":"IF(TCL18=\"\",\"\",VLOOKUP($Q$10,DATA!$P$2:$R$196,3))","v":""},{"$f":"IF(TCM18=\"\",\"\",VLOOKUP($Q$10,DATA!$P$2:$R$196,3))","v":""},{"$f":"IF(TCN18=\"\",\"\",VLOOKUP($Q$10,DATA!$P$2:$R$196,3))","v":""},{"$f":"IF(TCO18=\"\",\"\",VLOOKUP($Q$10,DATA!$P$2:$R$196,3))","v":""},{"$f":"IF(TCP18=\"\",\"\",VLOOKUP($Q$10,DATA!$P$2:$R$196,3))","v":""},{"$f":"IF(TCQ18=\"\",\"\",VLOOKUP($Q$10,DATA!$P$2:$R$196,3))","v":""},{"$f":"IF(TCR18=\"\",\"\",VLOOKUP($Q$10,DATA!$P$2:$R$196,3))","v":""},{"$f":"IF(TCS18=\"\",\"\",VLOOKUP($Q$10,DATA!$P$2:$R$196,3))","v":""},{"$f":"IF(TCT18=\"\",\"\",VLOOKUP($Q$10,DATA!$P$2:$R$196,3))","v":""},{"$f":"IF(TCU18=\"\",\"\",VLOOKUP($Q$10,DATA!$P$2:$R$196,3))","v":""},{"$f":"IF(TCV18=\"\",\"\",VLOOKUP($Q$10,DATA!$P$2:$R$196,3))","v":""},{"$f":"IF(TCW18=\"\",\"\",VLOOKUP($Q$10,DATA!$P$2:$R$196,3))","v":""},{"$f":"IF(TCX18=\"\",\"\",VLOOKUP($Q$10,DATA!$P$2:$R$196,3))","v":""},{"$f":"IF(TCY18=\"\",\"\",VLOOKUP($Q$10,DATA!$P$2:$R$196,3))","v":""},{"$f":"IF(TCZ18=\"\",\"\",VLOOKUP($Q$10,DATA!$P$2:$R$196,3))","v":""},{"$f":"IF(TDA18=\"\",\"\",VLOOKUP($Q$10,DATA!$P$2:$R$196,3))","v":""},{"$f":"IF(TDB18=\"\",\"\",VLOOKUP($Q$10,DATA!$P$2:$R$196,3))","v":""},{"$f":"IF(TDC18=\"\",\"\",VLOOKUP($Q$10,DATA!$P$2:$R$196,3))","v":""},{"$f":"IF(TDD18=\"\",\"\",VLOOKUP($Q$10,DATA!$P$2:$R$196,3))","v":""},{"$f":"IF(TDE18=\"\",\"\",VLOOKUP($Q$10,DATA!$P$2:$R$196,3))","v":""},{"$f":"IF(TDF18=\"\",\"\",VLOOKUP($Q$10,DATA!$P$2:$R$196,3))","v":""},{"$f":"IF(TDG18=\"\",\"\",VLOOKUP($Q$10,DATA!$P$2:$R$196,3))","v":""},{"$f":"IF(TDH18=\"\",\"\",VLOOKUP($Q$10,DATA!$P$2:$R$196,3))","v":""},{"$f":"IF(TDI18=\"\",\"\",VLOOKUP($Q$10,DATA!$P$2:$R$196,3))","v":""},{"$f":"IF(TDJ18=\"\",\"\",VLOOKUP($Q$10,DATA!$P$2:$R$196,3))","v":""},{"$f":"IF(TDK18=\"\",\"\",VLOOKUP($Q$10,DATA!$P$2:$R$196,3))","v":""},{"$f":"IF(TDL18=\"\",\"\",VLOOKUP($Q$10,DATA!$P$2:$R$196,3))","v":""},{"$f":"IF(TDM18=\"\",\"\",VLOOKUP($Q$10,DATA!$P$2:$R$196,3))","v":""},{"$f":"IF(TDN18=\"\",\"\",VLOOKUP($Q$10,DATA!$P$2:$R$196,3))","v":""},{"$f":"IF(TDO18=\"\",\"\",VLOOKUP($Q$10,DATA!$P$2:$R$196,3))","v":""},{"$f":"IF(TDP18=\"\",\"\",VLOOKUP($Q$10,DATA!$P$2:$R$196,3))","v":""},{"$f":"IF(TDQ18=\"\",\"\",VLOOKUP($Q$10,DATA!$P$2:$R$196,3))","v":""},{"$f":"IF(TDR18=\"\",\"\",VLOOKUP($Q$10,DATA!$P$2:$R$196,3))","v":""},{"$f":"IF(TDS18=\"\",\"\",VLOOKUP($Q$10,DATA!$P$2:$R$196,3))","v":""},{"$f":"IF(TDT18=\"\",\"\",VLOOKUP($Q$10,DATA!$P$2:$R$196,3))","v":""},{"$f":"IF(TDU18=\"\",\"\",VLOOKUP($Q$10,DATA!$P$2:$R$196,3))","v":""},{"$f":"IF(TDV18=\"\",\"\",VLOOKUP($Q$10,DATA!$P$2:$R$196,3))","v":""},{"$f":"IF(TDW18=\"\",\"\",VLOOKUP($Q$10,DATA!$P$2:$R$196,3))","v":""},{"$f":"IF(TDX18=\"\",\"\",VLOOKUP($Q$10,DATA!$P$2:$R$196,3))","v":""},{"$f":"IF(TDY18=\"\",\"\",VLOOKUP($Q$10,DATA!$P$2:$R$196,3))","v":""},{"$f":"IF(TDZ18=\"\",\"\",VLOOKUP($Q$10,DATA!$P$2:$R$196,3))","v":""},{"$f":"IF(TEA18=\"\",\"\",VLOOKUP($Q$10,DATA!$P$2:$R$196,3))","v":""},{"$f":"IF(TEB18=\"\",\"\",VLOOKUP($Q$10,DATA!$P$2:$R$196,3))","v":""},{"$f":"IF(TEC18=\"\",\"\",VLOOKUP($Q$10,DATA!$P$2:$R$196,3))","v":""},{"$f":"IF(TED18=\"\",\"\",VLOOKUP($Q$10,DATA!$P$2:$R$196,3))","v":""},{"$f":"IF(TEE18=\"\",\"\",VLOOKUP($Q$10,DATA!$P$2:$R$196,3))","v":""},{"$f":"IF(TEF18=\"\",\"\",VLOOKUP($Q$10,DATA!$P$2:$R$196,3))","v":""},{"$f":"IF(TEG18=\"\",\"\",VLOOKUP($Q$10,DATA!$P$2:$R$196,3))","v":""},{"$f":"IF(TEH18=\"\",\"\",VLOOKUP($Q$10,DATA!$P$2:$R$196,3))","v":""},{"$f":"IF(TEI18=\"\",\"\",VLOOKUP($Q$10,DATA!$P$2:$R$196,3))","v":""},{"$f":"IF(TEJ18=\"\",\"\",VLOOKUP($Q$10,DATA!$P$2:$R$196,3))","v":""},{"$f":"IF(TEK18=\"\",\"\",VLOOKUP($Q$10,DATA!$P$2:$R$196,3))","v":""},{"$f":"IF(TEL18=\"\",\"\",VLOOKUP($Q$10,DATA!$P$2:$R$196,3))","v":""},{"$f":"IF(TEM18=\"\",\"\",VLOOKUP($Q$10,DATA!$P$2:$R$196,3))","v":""},{"$f":"IF(TEN18=\"\",\"\",VLOOKUP($Q$10,DATA!$P$2:$R$196,3))","v":""},{"$f":"IF(TEO18=\"\",\"\",VLOOKUP($Q$10,DATA!$P$2:$R$196,3))","v":""},{"$f":"IF(TEP18=\"\",\"\",VLOOKUP($Q$10,DATA!$P$2:$R$196,3))","v":""},{"$f":"IF(TEQ18=\"\",\"\",VLOOKUP($Q$10,DATA!$P$2:$R$196,3))","v":""},{"$f":"IF(TER18=\"\",\"\",VLOOKUP($Q$10,DATA!$P$2:$R$196,3))","v":""},{"$f":"IF(TES18=\"\",\"\",VLOOKUP($Q$10,DATA!$P$2:$R$196,3))","v":""},{"$f":"IF(TET18=\"\",\"\",VLOOKUP($Q$10,DATA!$P$2:$R$196,3))","v":""},{"$f":"IF(TEU18=\"\",\"\",VLOOKUP($Q$10,DATA!$P$2:$R$196,3))","v":""},{"$f":"IF(TEV18=\"\",\"\",VLOOKUP($Q$10,DATA!$P$2:$R$196,3))","v":""},{"$f":"IF(TEW18=\"\",\"\",VLOOKUP($Q$10,DATA!$P$2:$R$196,3))","v":""},{"$f":"IF(TEX18=\"\",\"\",VLOOKUP($Q$10,DATA!$P$2:$R$196,3))","v":""},{"$f":"IF(TEY18=\"\",\"\",VLOOKUP($Q$10,DATA!$P$2:$R$196,3))","v":""},{"$f":"IF(TEZ18=\"\",\"\",VLOOKUP($Q$10,DATA!$P$2:$R$196,3))","v":""},{"$f":"IF(TFA18=\"\",\"\",VLOOKUP($Q$10,DATA!$P$2:$R$196,3))","v":""},{"$f":"IF(TFB18=\"\",\"\",VLOOKUP($Q$10,DATA!$P$2:$R$196,3))","v":""},{"$f":"IF(TFC18=\"\",\"\",VLOOKUP($Q$10,DATA!$P$2:$R$196,3))","v":""},{"$f":"IF(TFD18=\"\",\"\",VLOOKUP($Q$10,DATA!$P$2:$R$196,3))","v":""},{"$f":"IF(TFE18=\"\",\"\",VLOOKUP($Q$10,DATA!$P$2:$R$196,3))","v":""},{"$f":"IF(TFF18=\"\",\"\",VLOOKUP($Q$10,DATA!$P$2:$R$196,3))","v":""},{"$f":"IF(TFG18=\"\",\"\",VLOOKUP($Q$10,DATA!$P$2:$R$196,3))","v":""},{"$f":"IF(TFH18=\"\",\"\",VLOOKUP($Q$10,DATA!$P$2:$R$196,3))","v":""},{"$f":"IF(TFI18=\"\",\"\",VLOOKUP($Q$10,DATA!$P$2:$R$196,3))","v":""},{"$f":"IF(TFJ18=\"\",\"\",VLOOKUP($Q$10,DATA!$P$2:$R$196,3))","v":""},{"$f":"IF(TFK18=\"\",\"\",VLOOKUP($Q$10,DATA!$P$2:$R$196,3))","v":""},{"$f":"IF(TFL18=\"\",\"\",VLOOKUP($Q$10,DATA!$P$2:$R$196,3))","v":""},{"$f":"IF(TFM18=\"\",\"\",VLOOKUP($Q$10,DATA!$P$2:$R$196,3))","v":""},{"$f":"IF(TFN18=\"\",\"\",VLOOKUP($Q$10,DATA!$P$2:$R$196,3))","v":""},{"$f":"IF(TFO18=\"\",\"\",VLOOKUP($Q$10,DATA!$P$2:$R$196,3))","v":""},{"$f":"IF(TFP18=\"\",\"\",VLOOKUP($Q$10,DATA!$P$2:$R$196,3))","v":""},{"$f":"IF(TFQ18=\"\",\"\",VLOOKUP($Q$10,DATA!$P$2:$R$196,3))","v":""},{"$f":"IF(TFR18=\"\",\"\",VLOOKUP($Q$10,DATA!$P$2:$R$196,3))","v":""},{"$f":"IF(TFS18=\"\",\"\",VLOOKUP($Q$10,DATA!$P$2:$R$196,3))","v":""},{"$f":"IF(TFT18=\"\",\"\",VLOOKUP($Q$10,DATA!$P$2:$R$196,3))","v":""},{"$f":"IF(TFU18=\"\",\"\",VLOOKUP($Q$10,DATA!$P$2:$R$196,3))","v":""},{"$f":"IF(TFV18=\"\",\"\",VLOOKUP($Q$10,DATA!$P$2:$R$196,3))","v":""},{"$f":"IF(TFW18=\"\",\"\",VLOOKUP($Q$10,DATA!$P$2:$R$196,3))","v":""},{"$f":"IF(TFX18=\"\",\"\",VLOOKUP($Q$10,DATA!$P$2:$R$196,3))","v":""},{"$f":"IF(TFY18=\"\",\"\",VLOOKUP($Q$10,DATA!$P$2:$R$196,3))","v":""},{"$f":"IF(TFZ18=\"\",\"\",VLOOKUP($Q$10,DATA!$P$2:$R$196,3))","v":""},{"$f":"IF(TGA18=\"\",\"\",VLOOKUP($Q$10,DATA!$P$2:$R$196,3))","v":""},{"$f":"IF(TGB18=\"\",\"\",VLOOKUP($Q$10,DATA!$P$2:$R$196,3))","v":""},{"$f":"IF(TGC18=\"\",\"\",VLOOKUP($Q$10,DATA!$P$2:$R$196,3))","v":""},{"$f":"IF(TGD18=\"\",\"\",VLOOKUP($Q$10,DATA!$P$2:$R$196,3))","v":""},{"$f":"IF(TGE18=\"\",\"\",VLOOKUP($Q$10,DATA!$P$2:$R$196,3))","v":""},{"$f":"IF(TGF18=\"\",\"\",VLOOKUP($Q$10,DATA!$P$2:$R$196,3))","v":""},{"$f":"IF(TGG18=\"\",\"\",VLOOKUP($Q$10,DATA!$P$2:$R$196,3))","v":""},{"$f":"IF(TGH18=\"\",\"\",VLOOKUP($Q$10,DATA!$P$2:$R$196,3))","v":""},{"$f":"IF(TGI18=\"\",\"\",VLOOKUP($Q$10,DATA!$P$2:$R$196,3))","v":""},{"$f":"IF(TGJ18=\"\",\"\",VLOOKUP($Q$10,DATA!$P$2:$R$196,3))","v":""},{"$f":"IF(TGK18=\"\",\"\",VLOOKUP($Q$10,DATA!$P$2:$R$196,3))","v":""},{"$f":"IF(TGL18=\"\",\"\",VLOOKUP($Q$10,DATA!$P$2:$R$196,3))","v":""},{"$f":"IF(TGM18=\"\",\"\",VLOOKUP($Q$10,DATA!$P$2:$R$196,3))","v":""},{"$f":"IF(TGN18=\"\",\"\",VLOOKUP($Q$10,DATA!$P$2:$R$196,3))","v":""},{"$f":"IF(TGO18=\"\",\"\",VLOOKUP($Q$10,DATA!$P$2:$R$196,3))","v":""},{"$f":"IF(TGP18=\"\",\"\",VLOOKUP($Q$10,DATA!$P$2:$R$196,3))","v":""},{"$f":"IF(TGQ18=\"\",\"\",VLOOKUP($Q$10,DATA!$P$2:$R$196,3))","v":""},{"$f":"IF(TGR18=\"\",\"\",VLOOKUP($Q$10,DATA!$P$2:$R$196,3))","v":""},{"$f":"IF(TGS18=\"\",\"\",VLOOKUP($Q$10,DATA!$P$2:$R$196,3))","v":""},{"$f":"IF(TGT18=\"\",\"\",VLOOKUP($Q$10,DATA!$P$2:$R$196,3))","v":""},{"$f":"IF(TGU18=\"\",\"\",VLOOKUP($Q$10,DATA!$P$2:$R$196,3))","v":""},{"$f":"IF(TGV18=\"\",\"\",VLOOKUP($Q$10,DATA!$P$2:$R$196,3))","v":""},{"$f":"IF(TGW18=\"\",\"\",VLOOKUP($Q$10,DATA!$P$2:$R$196,3))","v":""},{"$f":"IF(TGX18=\"\",\"\",VLOOKUP($Q$10,DATA!$P$2:$R$196,3))","v":""},{"$f":"IF(TGY18=\"\",\"\",VLOOKUP($Q$10,DATA!$P$2:$R$196,3))","v":""},{"$f":"IF(TGZ18=\"\",\"\",VLOOKUP($Q$10,DATA!$P$2:$R$196,3))","v":""},{"$f":"IF(THA18=\"\",\"\",VLOOKUP($Q$10,DATA!$P$2:$R$196,3))","v":""},{"$f":"IF(THB18=\"\",\"\",VLOOKUP($Q$10,DATA!$P$2:$R$196,3))","v":""},{"$f":"IF(THC18=\"\",\"\",VLOOKUP($Q$10,DATA!$P$2:$R$196,3))","v":""},{"$f":"IF(THD18=\"\",\"\",VLOOKUP($Q$10,DATA!$P$2:$R$196,3))","v":""},{"$f":"IF(THE18=\"\",\"\",VLOOKUP($Q$10,DATA!$P$2:$R$196,3))","v":""},{"$f":"IF(THF18=\"\",\"\",VLOOKUP($Q$10,DATA!$P$2:$R$196,3))","v":""},{"$f":"IF(THG18=\"\",\"\",VLOOKUP($Q$10,DATA!$P$2:$R$196,3))","v":""},{"$f":"IF(THH18=\"\",\"\",VLOOKUP($Q$10,DATA!$P$2:$R$196,3))","v":""},{"$f":"IF(THI18=\"\",\"\",VLOOKUP($Q$10,DATA!$P$2:$R$196,3))","v":""},{"$f":"IF(THJ18=\"\",\"\",VLOOKUP($Q$10,DATA!$P$2:$R$196,3))","v":""},{"$f":"IF(THK18=\"\",\"\",VLOOKUP($Q$10,DATA!$P$2:$R$196,3))","v":""},{"$f":"IF(THL18=\"\",\"\",VLOOKUP($Q$10,DATA!$P$2:$R$196,3))","v":""},{"$f":"IF(THM18=\"\",\"\",VLOOKUP($Q$10,DATA!$P$2:$R$196,3))","v":""},{"$f":"IF(THN18=\"\",\"\",VLOOKUP($Q$10,DATA!$P$2:$R$196,3))","v":""},{"$f":"IF(THO18=\"\",\"\",VLOOKUP($Q$10,DATA!$P$2:$R$196,3))","v":""},{"$f":"IF(THP18=\"\",\"\",VLOOKUP($Q$10,DATA!$P$2:$R$196,3))","v":""},{"$f":"IF(THQ18=\"\",\"\",VLOOKUP($Q$10,DATA!$P$2:$R$196,3))","v":""},{"$f":"IF(THR18=\"\",\"\",VLOOKUP($Q$10,DATA!$P$2:$R$196,3))","v":""},{"$f":"IF(THS18=\"\",\"\",VLOOKUP($Q$10,DATA!$P$2:$R$196,3))","v":""},{"$f":"IF(THT18=\"\",\"\",VLOOKUP($Q$10,DATA!$P$2:$R$196,3))","v":""},{"$f":"IF(THU18=\"\",\"\",VLOOKUP($Q$10,DATA!$P$2:$R$196,3))","v":""},{"$f":"IF(THV18=\"\",\"\",VLOOKUP($Q$10,DATA!$P$2:$R$196,3))","v":""},{"$f":"IF(THW18=\"\",\"\",VLOOKUP($Q$10,DATA!$P$2:$R$196,3))","v":""},{"$f":"IF(THX18=\"\",\"\",VLOOKUP($Q$10,DATA!$P$2:$R$196,3))","v":""},{"$f":"IF(THY18=\"\",\"\",VLOOKUP($Q$10,DATA!$P$2:$R$196,3))","v":""},{"$f":"IF(THZ18=\"\",\"\",VLOOKUP($Q$10,DATA!$P$2:$R$196,3))","v":""},{"$f":"IF(TIA18=\"\",\"\",VLOOKUP($Q$10,DATA!$P$2:$R$196,3))","v":""},{"$f":"IF(TIB18=\"\",\"\",VLOOKUP($Q$10,DATA!$P$2:$R$196,3))","v":""},{"$f":"IF(TIC18=\"\",\"\",VLOOKUP($Q$10,DATA!$P$2:$R$196,3))","v":""},{"$f":"IF(TID18=\"\",\"\",VLOOKUP($Q$10,DATA!$P$2:$R$196,3))","v":""},{"$f":"IF(TIE18=\"\",\"\",VLOOKUP($Q$10,DATA!$P$2:$R$196,3))","v":""},{"$f":"IF(TIF18=\"\",\"\",VLOOKUP($Q$10,DATA!$P$2:$R$196,3))","v":""},{"$f":"IF(TIG18=\"\",\"\",VLOOKUP($Q$10,DATA!$P$2:$R$196,3))","v":""},{"$f":"IF(TIH18=\"\",\"\",VLOOKUP($Q$10,DATA!$P$2:$R$196,3))","v":""},{"$f":"IF(TII18=\"\",\"\",VLOOKUP($Q$10,DATA!$P$2:$R$196,3))","v":""},{"$f":"IF(TIJ18=\"\",\"\",VLOOKUP($Q$10,DATA!$P$2:$R$196,3))","v":""},{"$f":"IF(TIK18=\"\",\"\",VLOOKUP($Q$10,DATA!$P$2:$R$196,3))","v":""},{"$f":"IF(TIL18=\"\",\"\",VLOOKUP($Q$10,DATA!$P$2:$R$196,3))","v":""},{"$f":"IF(TIM18=\"\",\"\",VLOOKUP($Q$10,DATA!$P$2:$R$196,3))","v":""},{"$f":"IF(TIN18=\"\",\"\",VLOOKUP($Q$10,DATA!$P$2:$R$196,3))","v":""},{"$f":"IF(TIO18=\"\",\"\",VLOOKUP($Q$10,DATA!$P$2:$R$196,3))","v":""},{"$f":"IF(TIP18=\"\",\"\",VLOOKUP($Q$10,DATA!$P$2:$R$196,3))","v":""},{"$f":"IF(TIQ18=\"\",\"\",VLOOKUP($Q$10,DATA!$P$2:$R$196,3))","v":""},{"$f":"IF(TIR18=\"\",\"\",VLOOKUP($Q$10,DATA!$P$2:$R$196,3))","v":""},{"$f":"IF(TIS18=\"\",\"\",VLOOKUP($Q$10,DATA!$P$2:$R$196,3))","v":""},{"$f":"IF(TIT18=\"\",\"\",VLOOKUP($Q$10,DATA!$P$2:$R$196,3))","v":""},{"$f":"IF(TIU18=\"\",\"\",VLOOKUP($Q$10,DATA!$P$2:$R$196,3))","v":""},{"$f":"IF(TIV18=\"\",\"\",VLOOKUP($Q$10,DATA!$P$2:$R$196,3))","v":""},{"$f":"IF(TIW18=\"\",\"\",VLOOKUP($Q$10,DATA!$P$2:$R$196,3))","v":""},{"$f":"IF(TIX18=\"\",\"\",VLOOKUP($Q$10,DATA!$P$2:$R$196,3))","v":""},{"$f":"IF(TIY18=\"\",\"\",VLOOKUP($Q$10,DATA!$P$2:$R$196,3))","v":""},{"$f":"IF(TIZ18=\"\",\"\",VLOOKUP($Q$10,DATA!$P$2:$R$196,3))","v":""},{"$f":"IF(TJA18=\"\",\"\",VLOOKUP($Q$10,DATA!$P$2:$R$196,3))","v":""},{"$f":"IF(TJB18=\"\",\"\",VLOOKUP($Q$10,DATA!$P$2:$R$196,3))","v":""},{"$f":"IF(TJC18=\"\",\"\",VLOOKUP($Q$10,DATA!$P$2:$R$196,3))","v":""},{"$f":"IF(TJD18=\"\",\"\",VLOOKUP($Q$10,DATA!$P$2:$R$196,3))","v":""},{"$f":"IF(TJE18=\"\",\"\",VLOOKUP($Q$10,DATA!$P$2:$R$196,3))","v":""},{"$f":"IF(TJF18=\"\",\"\",VLOOKUP($Q$10,DATA!$P$2:$R$196,3))","v":""},{"$f":"IF(TJG18=\"\",\"\",VLOOKUP($Q$10,DATA!$P$2:$R$196,3))","v":""},{"$f":"IF(TJH18=\"\",\"\",VLOOKUP($Q$10,DATA!$P$2:$R$196,3))","v":""},{"$f":"IF(TJI18=\"\",\"\",VLOOKUP($Q$10,DATA!$P$2:$R$196,3))","v":""},{"$f":"IF(TJJ18=\"\",\"\",VLOOKUP($Q$10,DATA!$P$2:$R$196,3))","v":""},{"$f":"IF(TJK18=\"\",\"\",VLOOKUP($Q$10,DATA!$P$2:$R$196,3))","v":""},{"$f":"IF(TJL18=\"\",\"\",VLOOKUP($Q$10,DATA!$P$2:$R$196,3))","v":""},{"$f":"IF(TJM18=\"\",\"\",VLOOKUP($Q$10,DATA!$P$2:$R$196,3))","v":""},{"$f":"IF(TJN18=\"\",\"\",VLOOKUP($Q$10,DATA!$P$2:$R$196,3))","v":""},{"$f":"IF(TJO18=\"\",\"\",VLOOKUP($Q$10,DATA!$P$2:$R$196,3))","v":""},{"$f":"IF(TJP18=\"\",\"\",VLOOKUP($Q$10,DATA!$P$2:$R$196,3))","v":""},{"$f":"IF(TJQ18=\"\",\"\",VLOOKUP($Q$10,DATA!$P$2:$R$196,3))","v":""},{"$f":"IF(TJR18=\"\",\"\",VLOOKUP($Q$10,DATA!$P$2:$R$196,3))","v":""},{"$f":"IF(TJS18=\"\",\"\",VLOOKUP($Q$10,DATA!$P$2:$R$196,3))","v":""},{"$f":"IF(TJT18=\"\",\"\",VLOOKUP($Q$10,DATA!$P$2:$R$196,3))","v":""},{"$f":"IF(TJU18=\"\",\"\",VLOOKUP($Q$10,DATA!$P$2:$R$196,3))","v":""},{"$f":"IF(TJV18=\"\",\"\",VLOOKUP($Q$10,DATA!$P$2:$R$196,3))","v":""},{"$f":"IF(TJW18=\"\",\"\",VLOOKUP($Q$10,DATA!$P$2:$R$196,3))","v":""},{"$f":"IF(TJX18=\"\",\"\",VLOOKUP($Q$10,DATA!$P$2:$R$196,3))","v":""},{"$f":"IF(TJY18=\"\",\"\",VLOOKUP($Q$10,DATA!$P$2:$R$196,3))","v":""},{"$f":"IF(TJZ18=\"\",\"\",VLOOKUP($Q$10,DATA!$P$2:$R$196,3))","v":""},{"$f":"IF(TKA18=\"\",\"\",VLOOKUP($Q$10,DATA!$P$2:$R$196,3))","v":""},{"$f":"IF(TKB18=\"\",\"\",VLOOKUP($Q$10,DATA!$P$2:$R$196,3))","v":""},{"$f":"IF(TKC18=\"\",\"\",VLOOKUP($Q$10,DATA!$P$2:$R$196,3))","v":""},{"$f":"IF(TKD18=\"\",\"\",VLOOKUP($Q$10,DATA!$P$2:$R$196,3))","v":""},{"$f":"IF(TKE18=\"\",\"\",VLOOKUP($Q$10,DATA!$P$2:$R$196,3))","v":""},{"$f":"IF(TKF18=\"\",\"\",VLOOKUP($Q$10,DATA!$P$2:$R$196,3))","v":""},{"$f":"IF(TKG18=\"\",\"\",VLOOKUP($Q$10,DATA!$P$2:$R$196,3))","v":""},{"$f":"IF(TKH18=\"\",\"\",VLOOKUP($Q$10,DATA!$P$2:$R$196,3))","v":""},{"$f":"IF(TKI18=\"\",\"\",VLOOKUP($Q$10,DATA!$P$2:$R$196,3))","v":""},{"$f":"IF(TKJ18=\"\",\"\",VLOOKUP($Q$10,DATA!$P$2:$R$196,3))","v":""},{"$f":"IF(TKK18=\"\",\"\",VLOOKUP($Q$10,DATA!$P$2:$R$196,3))","v":""},{"$f":"IF(TKL18=\"\",\"\",VLOOKUP($Q$10,DATA!$P$2:$R$196,3))","v":""},{"$f":"IF(TKM18=\"\",\"\",VLOOKUP($Q$10,DATA!$P$2:$R$196,3))","v":""},{"$f":"IF(TKN18=\"\",\"\",VLOOKUP($Q$10,DATA!$P$2:$R$196,3))","v":""},{"$f":"IF(TKO18=\"\",\"\",VLOOKUP($Q$10,DATA!$P$2:$R$196,3))","v":""},{"$f":"IF(TKP18=\"\",\"\",VLOOKUP($Q$10,DATA!$P$2:$R$196,3))","v":""},{"$f":"IF(TKQ18=\"\",\"\",VLOOKUP($Q$10,DATA!$P$2:$R$196,3))","v":""},{"$f":"IF(TKR18=\"\",\"\",VLOOKUP($Q$10,DATA!$P$2:$R$196,3))","v":""},{"$f":"IF(TKS18=\"\",\"\",VLOOKUP($Q$10,DATA!$P$2:$R$196,3))","v":""},{"$f":"IF(TKT18=\"\",\"\",VLOOKUP($Q$10,DATA!$P$2:$R$196,3))","v":""},{"$f":"IF(TKU18=\"\",\"\",VLOOKUP($Q$10,DATA!$P$2:$R$196,3))","v":""},{"$f":"IF(TKV18=\"\",\"\",VLOOKUP($Q$10,DATA!$P$2:$R$196,3))","v":""},{"$f":"IF(TKW18=\"\",\"\",VLOOKUP($Q$10,DATA!$P$2:$R$196,3))","v":""},{"$f":"IF(TKX18=\"\",\"\",VLOOKUP($Q$10,DATA!$P$2:$R$196,3))","v":""},{"$f":"IF(TKY18=\"\",\"\",VLOOKUP($Q$10,DATA!$P$2:$R$196,3))","v":""},{"$f":"IF(TKZ18=\"\",\"\",VLOOKUP($Q$10,DATA!$P$2:$R$196,3))","v":""},{"$f":"IF(TLA18=\"\",\"\",VLOOKUP($Q$10,DATA!$P$2:$R$196,3))","v":""},{"$f":"IF(TLB18=\"\",\"\",VLOOKUP($Q$10,DATA!$P$2:$R$196,3))","v":""},{"$f":"IF(TLC18=\"\",\"\",VLOOKUP($Q$10,DATA!$P$2:$R$196,3))","v":""},{"$f":"IF(TLD18=\"\",\"\",VLOOKUP($Q$10,DATA!$P$2:$R$196,3))","v":""},{"$f":"IF(TLE18=\"\",\"\",VLOOKUP($Q$10,DATA!$P$2:$R$196,3))","v":""},{"$f":"IF(TLF18=\"\",\"\",VLOOKUP($Q$10,DATA!$P$2:$R$196,3))","v":""},{"$f":"IF(TLG18=\"\",\"\",VLOOKUP($Q$10,DATA!$P$2:$R$196,3))","v":""},{"$f":"IF(TLH18=\"\",\"\",VLOOKUP($Q$10,DATA!$P$2:$R$196,3))","v":""},{"$f":"IF(TLI18=\"\",\"\",VLOOKUP($Q$10,DATA!$P$2:$R$196,3))","v":""},{"$f":"IF(TLJ18=\"\",\"\",VLOOKUP($Q$10,DATA!$P$2:$R$196,3))","v":""},{"$f":"IF(TLK18=\"\",\"\",VLOOKUP($Q$10,DATA!$P$2:$R$196,3))","v":""},{"$f":"IF(TLL18=\"\",\"\",VLOOKUP($Q$10,DATA!$P$2:$R$196,3))","v":""},{"$f":"IF(TLM18=\"\",\"\",VLOOKUP($Q$10,DATA!$P$2:$R$196,3))","v":""},{"$f":"IF(TLN18=\"\",\"\",VLOOKUP($Q$10,DATA!$P$2:$R$196,3))","v":""},{"$f":"IF(TLO18=\"\",\"\",VLOOKUP($Q$10,DATA!$P$2:$R$196,3))","v":""},{"$f":"IF(TLP18=\"\",\"\",VLOOKUP($Q$10,DATA!$P$2:$R$196,3))","v":""},{"$f":"IF(TLQ18=\"\",\"\",VLOOKUP($Q$10,DATA!$P$2:$R$196,3))","v":""},{"$f":"IF(TLR18=\"\",\"\",VLOOKUP($Q$10,DATA!$P$2:$R$196,3))","v":""},{"$f":"IF(TLS18=\"\",\"\",VLOOKUP($Q$10,DATA!$P$2:$R$196,3))","v":""},{"$f":"IF(TLT18=\"\",\"\",VLOOKUP($Q$10,DATA!$P$2:$R$196,3))","v":""},{"$f":"IF(TLU18=\"\",\"\",VLOOKUP($Q$10,DATA!$P$2:$R$196,3))","v":""},{"$f":"IF(TLV18=\"\",\"\",VLOOKUP($Q$10,DATA!$P$2:$R$196,3))","v":""},{"$f":"IF(TLW18=\"\",\"\",VLOOKUP($Q$10,DATA!$P$2:$R$196,3))","v":""},{"$f":"IF(TLX18=\"\",\"\",VLOOKUP($Q$10,DATA!$P$2:$R$196,3))","v":""},{"$f":"IF(TLY18=\"\",\"\",VLOOKUP($Q$10,DATA!$P$2:$R$196,3))","v":""},{"$f":"IF(TLZ18=\"\",\"\",VLOOKUP($Q$10,DATA!$P$2:$R$196,3))","v":""},{"$f":"IF(TMA18=\"\",\"\",VLOOKUP($Q$10,DATA!$P$2:$R$196,3))","v":""},{"$f":"IF(TMB18=\"\",\"\",VLOOKUP($Q$10,DATA!$P$2:$R$196,3))","v":""},{"$f":"IF(TMC18=\"\",\"\",VLOOKUP($Q$10,DATA!$P$2:$R$196,3))","v":""},{"$f":"IF(TMD18=\"\",\"\",VLOOKUP($Q$10,DATA!$P$2:$R$196,3))","v":""},{"$f":"IF(TME18=\"\",\"\",VLOOKUP($Q$10,DATA!$P$2:$R$196,3))","v":""},{"$f":"IF(TMF18=\"\",\"\",VLOOKUP($Q$10,DATA!$P$2:$R$196,3))","v":""},{"$f":"IF(TMG18=\"\",\"\",VLOOKUP($Q$10,DATA!$P$2:$R$196,3))","v":""},{"$f":"IF(TMH18=\"\",\"\",VLOOKUP($Q$10,DATA!$P$2:$R$196,3))","v":""},{"$f":"IF(TMI18=\"\",\"\",VLOOKUP($Q$10,DATA!$P$2:$R$196,3))","v":""},{"$f":"IF(TMJ18=\"\",\"\",VLOOKUP($Q$10,DATA!$P$2:$R$196,3))","v":""},{"$f":"IF(TMK18=\"\",\"\",VLOOKUP($Q$10,DATA!$P$2:$R$196,3))","v":""},{"$f":"IF(TML18=\"\",\"\",VLOOKUP($Q$10,DATA!$P$2:$R$196,3))","v":""},{"$f":"IF(TMM18=\"\",\"\",VLOOKUP($Q$10,DATA!$P$2:$R$196,3))","v":""},{"$f":"IF(TMN18=\"\",\"\",VLOOKUP($Q$10,DATA!$P$2:$R$196,3))","v":""},{"$f":"IF(TMO18=\"\",\"\",VLOOKUP($Q$10,DATA!$P$2:$R$196,3))","v":""},{"$f":"IF(TMP18=\"\",\"\",VLOOKUP($Q$10,DATA!$P$2:$R$196,3))","v":""},{"$f":"IF(TMQ18=\"\",\"\",VLOOKUP($Q$10,DATA!$P$2:$R$196,3))","v":""},{"$f":"IF(TMR18=\"\",\"\",VLOOKUP($Q$10,DATA!$P$2:$R$196,3))","v":""},{"$f":"IF(TMS18=\"\",\"\",VLOOKUP($Q$10,DATA!$P$2:$R$196,3))","v":""},{"$f":"IF(TMT18=\"\",\"\",VLOOKUP($Q$10,DATA!$P$2:$R$196,3))","v":""},{"$f":"IF(TMU18=\"\",\"\",VLOOKUP($Q$10,DATA!$P$2:$R$196,3))","v":""},{"$f":"IF(TMV18=\"\",\"\",VLOOKUP($Q$10,DATA!$P$2:$R$196,3))","v":""},{"$f":"IF(TMW18=\"\",\"\",VLOOKUP($Q$10,DATA!$P$2:$R$196,3))","v":""},{"$f":"IF(TMX18=\"\",\"\",VLOOKUP($Q$10,DATA!$P$2:$R$196,3))","v":""},{"$f":"IF(TMY18=\"\",\"\",VLOOKUP($Q$10,DATA!$P$2:$R$196,3))","v":""},{"$f":"IF(TMZ18=\"\",\"\",VLOOKUP($Q$10,DATA!$P$2:$R$196,3))","v":""},{"$f":"IF(TNA18=\"\",\"\",VLOOKUP($Q$10,DATA!$P$2:$R$196,3))","v":""},{"$f":"IF(TNB18=\"\",\"\",VLOOKUP($Q$10,DATA!$P$2:$R$196,3))","v":""},{"$f":"IF(TNC18=\"\",\"\",VLOOKUP($Q$10,DATA!$P$2:$R$196,3))","v":""},{"$f":"IF(TND18=\"\",\"\",VLOOKUP($Q$10,DATA!$P$2:$R$196,3))","v":""},{"$f":"IF(TNE18=\"\",\"\",VLOOKUP($Q$10,DATA!$P$2:$R$196,3))","v":""},{"$f":"IF(TNF18=\"\",\"\",VLOOKUP($Q$10,DATA!$P$2:$R$196,3))","v":""},{"$f":"IF(TNG18=\"\",\"\",VLOOKUP($Q$10,DATA!$P$2:$R$196,3))","v":""},{"$f":"IF(TNH18=\"\",\"\",VLOOKUP($Q$10,DATA!$P$2:$R$196,3))","v":""},{"$f":"IF(TNI18=\"\",\"\",VLOOKUP($Q$10,DATA!$P$2:$R$196,3))","v":""},{"$f":"IF(TNJ18=\"\",\"\",VLOOKUP($Q$10,DATA!$P$2:$R$196,3))","v":""},{"$f":"IF(TNK18=\"\",\"\",VLOOKUP($Q$10,DATA!$P$2:$R$196,3))","v":""},{"$f":"IF(TNL18=\"\",\"\",VLOOKUP($Q$10,DATA!$P$2:$R$196,3))","v":""},{"$f":"IF(TNM18=\"\",\"\",VLOOKUP($Q$10,DATA!$P$2:$R$196,3))","v":""},{"$f":"IF(TNN18=\"\",\"\",VLOOKUP($Q$10,DATA!$P$2:$R$196,3))","v":""},{"$f":"IF(TNO18=\"\",\"\",VLOOKUP($Q$10,DATA!$P$2:$R$196,3))","v":""},{"$f":"IF(TNP18=\"\",\"\",VLOOKUP($Q$10,DATA!$P$2:$R$196,3))","v":""},{"$f":"IF(TNQ18=\"\",\"\",VLOOKUP($Q$10,DATA!$P$2:$R$196,3))","v":""},{"$f":"IF(TNR18=\"\",\"\",VLOOKUP($Q$10,DATA!$P$2:$R$196,3))","v":""},{"$f":"IF(TNS18=\"\",\"\",VLOOKUP($Q$10,DATA!$P$2:$R$196,3))","v":""},{"$f":"IF(TNT18=\"\",\"\",VLOOKUP($Q$10,DATA!$P$2:$R$196,3))","v":""},{"$f":"IF(TNU18=\"\",\"\",VLOOKUP($Q$10,DATA!$P$2:$R$196,3))","v":""},{"$f":"IF(TNV18=\"\",\"\",VLOOKUP($Q$10,DATA!$P$2:$R$196,3))","v":""},{"$f":"IF(TNW18=\"\",\"\",VLOOKUP($Q$10,DATA!$P$2:$R$196,3))","v":""},{"$f":"IF(TNX18=\"\",\"\",VLOOKUP($Q$10,DATA!$P$2:$R$196,3))","v":""},{"$f":"IF(TNY18=\"\",\"\",VLOOKUP($Q$10,DATA!$P$2:$R$196,3))","v":""},{"$f":"IF(TNZ18=\"\",\"\",VLOOKUP($Q$10,DATA!$P$2:$R$196,3))","v":""},{"$f":"IF(TOA18=\"\",\"\",VLOOKUP($Q$10,DATA!$P$2:$R$196,3))","v":""},{"$f":"IF(TOB18=\"\",\"\",VLOOKUP($Q$10,DATA!$P$2:$R$196,3))","v":""},{"$f":"IF(TOC18=\"\",\"\",VLOOKUP($Q$10,DATA!$P$2:$R$196,3))","v":""},{"$f":"IF(TOD18=\"\",\"\",VLOOKUP($Q$10,DATA!$P$2:$R$196,3))","v":""},{"$f":"IF(TOE18=\"\",\"\",VLOOKUP($Q$10,DATA!$P$2:$R$196,3))","v":""},{"$f":"IF(TOF18=\"\",\"\",VLOOKUP($Q$10,DATA!$P$2:$R$196,3))","v":""},{"$f":"IF(TOG18=\"\",\"\",VLOOKUP($Q$10,DATA!$P$2:$R$196,3))","v":""},{"$f":"IF(TOH18=\"\",\"\",VLOOKUP($Q$10,DATA!$P$2:$R$196,3))","v":""},{"$f":"IF(TOI18=\"\",\"\",VLOOKUP($Q$10,DATA!$P$2:$R$196,3))","v":""},{"$f":"IF(TOJ18=\"\",\"\",VLOOKUP($Q$10,DATA!$P$2:$R$196,3))","v":""},{"$f":"IF(TOK18=\"\",\"\",VLOOKUP($Q$10,DATA!$P$2:$R$196,3))","v":""},{"$f":"IF(TOL18=\"\",\"\",VLOOKUP($Q$10,DATA!$P$2:$R$196,3))","v":""},{"$f":"IF(TOM18=\"\",\"\",VLOOKUP($Q$10,DATA!$P$2:$R$196,3))","v":""},{"$f":"IF(TON18=\"\",\"\",VLOOKUP($Q$10,DATA!$P$2:$R$196,3))","v":""},{"$f":"IF(TOO18=\"\",\"\",VLOOKUP($Q$10,DATA!$P$2:$R$196,3))","v":""},{"$f":"IF(TOP18=\"\",\"\",VLOOKUP($Q$10,DATA!$P$2:$R$196,3))","v":""},{"$f":"IF(TOQ18=\"\",\"\",VLOOKUP($Q$10,DATA!$P$2:$R$196,3))","v":""},{"$f":"IF(TOR18=\"\",\"\",VLOOKUP($Q$10,DATA!$P$2:$R$196,3))","v":""},{"$f":"IF(TOS18=\"\",\"\",VLOOKUP($Q$10,DATA!$P$2:$R$196,3))","v":""},{"$f":"IF(TOT18=\"\",\"\",VLOOKUP($Q$10,DATA!$P$2:$R$196,3))","v":""},{"$f":"IF(TOU18=\"\",\"\",VLOOKUP($Q$10,DATA!$P$2:$R$196,3))","v":""},{"$f":"IF(TOV18=\"\",\"\",VLOOKUP($Q$10,DATA!$P$2:$R$196,3))","v":""},{"$f":"IF(TOW18=\"\",\"\",VLOOKUP($Q$10,DATA!$P$2:$R$196,3))","v":""},{"$f":"IF(TOX18=\"\",\"\",VLOOKUP($Q$10,DATA!$P$2:$R$196,3))","v":""},{"$f":"IF(TOY18=\"\",\"\",VLOOKUP($Q$10,DATA!$P$2:$R$196,3))","v":""},{"$f":"IF(TOZ18=\"\",\"\",VLOOKUP($Q$10,DATA!$P$2:$R$196,3))","v":""},{"$f":"IF(TPA18=\"\",\"\",VLOOKUP($Q$10,DATA!$P$2:$R$196,3))","v":""},{"$f":"IF(TPB18=\"\",\"\",VLOOKUP($Q$10,DATA!$P$2:$R$196,3))","v":""},{"$f":"IF(TPC18=\"\",\"\",VLOOKUP($Q$10,DATA!$P$2:$R$196,3))","v":""},{"$f":"IF(TPD18=\"\",\"\",VLOOKUP($Q$10,DATA!$P$2:$R$196,3))","v":""},{"$f":"IF(TPE18=\"\",\"\",VLOOKUP($Q$10,DATA!$P$2:$R$196,3))","v":""},{"$f":"IF(TPF18=\"\",\"\",VLOOKUP($Q$10,DATA!$P$2:$R$196,3))","v":""},{"$f":"IF(TPG18=\"\",\"\",VLOOKUP($Q$10,DATA!$P$2:$R$196,3))","v":""},{"$f":"IF(TPH18=\"\",\"\",VLOOKUP($Q$10,DATA!$P$2:$R$196,3))","v":""},{"$f":"IF(TPI18=\"\",\"\",VLOOKUP($Q$10,DATA!$P$2:$R$196,3))","v":""},{"$f":"IF(TPJ18=\"\",\"\",VLOOKUP($Q$10,DATA!$P$2:$R$196,3))","v":""},{"$f":"IF(TPK18=\"\",\"\",VLOOKUP($Q$10,DATA!$P$2:$R$196,3))","v":""},{"$f":"IF(TPL18=\"\",\"\",VLOOKUP($Q$10,DATA!$P$2:$R$196,3))","v":""},{"$f":"IF(TPM18=\"\",\"\",VLOOKUP($Q$10,DATA!$P$2:$R$196,3))","v":""},{"$f":"IF(TPN18=\"\",\"\",VLOOKUP($Q$10,DATA!$P$2:$R$196,3))","v":""},{"$f":"IF(TPO18=\"\",\"\",VLOOKUP($Q$10,DATA!$P$2:$R$196,3))","v":""},{"$f":"IF(TPP18=\"\",\"\",VLOOKUP($Q$10,DATA!$P$2:$R$196,3))","v":""},{"$f":"IF(TPQ18=\"\",\"\",VLOOKUP($Q$10,DATA!$P$2:$R$196,3))","v":""},{"$f":"IF(TPR18=\"\",\"\",VLOOKUP($Q$10,DATA!$P$2:$R$196,3))","v":""},{"$f":"IF(TPS18=\"\",\"\",VLOOKUP($Q$10,DATA!$P$2:$R$196,3))","v":""},{"$f":"IF(TPT18=\"\",\"\",VLOOKUP($Q$10,DATA!$P$2:$R$196,3))","v":""},{"$f":"IF(TPU18=\"\",\"\",VLOOKUP($Q$10,DATA!$P$2:$R$196,3))","v":""},{"$f":"IF(TPV18=\"\",\"\",VLOOKUP($Q$10,DATA!$P$2:$R$196,3))","v":""},{"$f":"IF(TPW18=\"\",\"\",VLOOKUP($Q$10,DATA!$P$2:$R$196,3))","v":""},{"$f":"IF(TPX18=\"\",\"\",VLOOKUP($Q$10,DATA!$P$2:$R$196,3))","v":""},{"$f":"IF(TPY18=\"\",\"\",VLOOKUP($Q$10,DATA!$P$2:$R$196,3))","v":""},{"$f":"IF(TPZ18=\"\",\"\",VLOOKUP($Q$10,DATA!$P$2:$R$196,3))","v":""},{"$f":"IF(TQA18=\"\",\"\",VLOOKUP($Q$10,DATA!$P$2:$R$196,3))","v":""},{"$f":"IF(TQB18=\"\",\"\",VLOOKUP($Q$10,DATA!$P$2:$R$196,3))","v":""},{"$f":"IF(TQC18=\"\",\"\",VLOOKUP($Q$10,DATA!$P$2:$R$196,3))","v":""},{"$f":"IF(TQD18=\"\",\"\",VLOOKUP($Q$10,DATA!$P$2:$R$196,3))","v":""},{"$f":"IF(TQE18=\"\",\"\",VLOOKUP($Q$10,DATA!$P$2:$R$196,3))","v":""},{"$f":"IF(TQF18=\"\",\"\",VLOOKUP($Q$10,DATA!$P$2:$R$196,3))","v":""},{"$f":"IF(TQG18=\"\",\"\",VLOOKUP($Q$10,DATA!$P$2:$R$196,3))","v":""},{"$f":"IF(TQH18=\"\",\"\",VLOOKUP($Q$10,DATA!$P$2:$R$196,3))","v":""},{"$f":"IF(TQI18=\"\",\"\",VLOOKUP($Q$10,DATA!$P$2:$R$196,3))","v":""},{"$f":"IF(TQJ18=\"\",\"\",VLOOKUP($Q$10,DATA!$P$2:$R$196,3))","v":""},{"$f":"IF(TQK18=\"\",\"\",VLOOKUP($Q$10,DATA!$P$2:$R$196,3))","v":""},{"$f":"IF(TQL18=\"\",\"\",VLOOKUP($Q$10,DATA!$P$2:$R$196,3))","v":""},{"$f":"IF(TQM18=\"\",\"\",VLOOKUP($Q$10,DATA!$P$2:$R$196,3))","v":""},{"$f":"IF(TQN18=\"\",\"\",VLOOKUP($Q$10,DATA!$P$2:$R$196,3))","v":""},{"$f":"IF(TQO18=\"\",\"\",VLOOKUP($Q$10,DATA!$P$2:$R$196,3))","v":""},{"$f":"IF(TQP18=\"\",\"\",VLOOKUP($Q$10,DATA!$P$2:$R$196,3))","v":""},{"$f":"IF(TQQ18=\"\",\"\",VLOOKUP($Q$10,DATA!$P$2:$R$196,3))","v":""},{"$f":"IF(TQR18=\"\",\"\",VLOOKUP($Q$10,DATA!$P$2:$R$196,3))","v":""},{"$f":"IF(TQS18=\"\",\"\",VLOOKUP($Q$10,DATA!$P$2:$R$196,3))","v":""},{"$f":"IF(TQT18=\"\",\"\",VLOOKUP($Q$10,DATA!$P$2:$R$196,3))","v":""},{"$f":"IF(TQU18=\"\",\"\",VLOOKUP($Q$10,DATA!$P$2:$R$196,3))","v":""},{"$f":"IF(TQV18=\"\",\"\",VLOOKUP($Q$10,DATA!$P$2:$R$196,3))","v":""},{"$f":"IF(TQW18=\"\",\"\",VLOOKUP($Q$10,DATA!$P$2:$R$196,3))","v":""},{"$f":"IF(TQX18=\"\",\"\",VLOOKUP($Q$10,DATA!$P$2:$R$196,3))","v":""},{"$f":"IF(TQY18=\"\",\"\",VLOOKUP($Q$10,DATA!$P$2:$R$196,3))","v":""},{"$f":"IF(TQZ18=\"\",\"\",VLOOKUP($Q$10,DATA!$P$2:$R$196,3))","v":""},{"$f":"IF(TRA18=\"\",\"\",VLOOKUP($Q$10,DATA!$P$2:$R$196,3))","v":""},{"$f":"IF(TRB18=\"\",\"\",VLOOKUP($Q$10,DATA!$P$2:$R$196,3))","v":""},{"$f":"IF(TRC18=\"\",\"\",VLOOKUP($Q$10,DATA!$P$2:$R$196,3))","v":""},{"$f":"IF(TRD18=\"\",\"\",VLOOKUP($Q$10,DATA!$P$2:$R$196,3))","v":""},{"$f":"IF(TRE18=\"\",\"\",VLOOKUP($Q$10,DATA!$P$2:$R$196,3))","v":""},{"$f":"IF(TRF18=\"\",\"\",VLOOKUP($Q$10,DATA!$P$2:$R$196,3))","v":""},{"$f":"IF(TRG18=\"\",\"\",VLOOKUP($Q$10,DATA!$P$2:$R$196,3))","v":""},{"$f":"IF(TRH18=\"\",\"\",VLOOKUP($Q$10,DATA!$P$2:$R$196,3))","v":""},{"$f":"IF(TRI18=\"\",\"\",VLOOKUP($Q$10,DATA!$P$2:$R$196,3))","v":""},{"$f":"IF(TRJ18=\"\",\"\",VLOOKUP($Q$10,DATA!$P$2:$R$196,3))","v":""},{"$f":"IF(TRK18=\"\",\"\",VLOOKUP($Q$10,DATA!$P$2:$R$196,3))","v":""},{"$f":"IF(TRL18=\"\",\"\",VLOOKUP($Q$10,DATA!$P$2:$R$196,3))","v":""},{"$f":"IF(TRM18=\"\",\"\",VLOOKUP($Q$10,DATA!$P$2:$R$196,3))","v":""},{"$f":"IF(TRN18=\"\",\"\",VLOOKUP($Q$10,DATA!$P$2:$R$196,3))","v":""},{"$f":"IF(TRO18=\"\",\"\",VLOOKUP($Q$10,DATA!$P$2:$R$196,3))","v":""},{"$f":"IF(TRP18=\"\",\"\",VLOOKUP($Q$10,DATA!$P$2:$R$196,3))","v":""},{"$f":"IF(TRQ18=\"\",\"\",VLOOKUP($Q$10,DATA!$P$2:$R$196,3))","v":""},{"$f":"IF(TRR18=\"\",\"\",VLOOKUP($Q$10,DATA!$P$2:$R$196,3))","v":""},{"$f":"IF(TRS18=\"\",\"\",VLOOKUP($Q$10,DATA!$P$2:$R$196,3))","v":""},{"$f":"IF(TRT18=\"\",\"\",VLOOKUP($Q$10,DATA!$P$2:$R$196,3))","v":""},{"$f":"IF(TRU18=\"\",\"\",VLOOKUP($Q$10,DATA!$P$2:$R$196,3))","v":""},{"$f":"IF(TRV18=\"\",\"\",VLOOKUP($Q$10,DATA!$P$2:$R$196,3))","v":""},{"$f":"IF(TRW18=\"\",\"\",VLOOKUP($Q$10,DATA!$P$2:$R$196,3))","v":""},{"$f":"IF(TRX18=\"\",\"\",VLOOKUP($Q$10,DATA!$P$2:$R$196,3))","v":""},{"$f":"IF(TRY18=\"\",\"\",VLOOKUP($Q$10,DATA!$P$2:$R$196,3))","v":""},{"$f":"IF(TRZ18=\"\",\"\",VLOOKUP($Q$10,DATA!$P$2:$R$196,3))","v":""},{"$f":"IF(TSA18=\"\",\"\",VLOOKUP($Q$10,DATA!$P$2:$R$196,3))","v":""},{"$f":"IF(TSB18=\"\",\"\",VLOOKUP($Q$10,DATA!$P$2:$R$196,3))","v":""},{"$f":"IF(TSC18=\"\",\"\",VLOOKUP($Q$10,DATA!$P$2:$R$196,3))","v":""},{"$f":"IF(TSD18=\"\",\"\",VLOOKUP($Q$10,DATA!$P$2:$R$196,3))","v":""},{"$f":"IF(TSE18=\"\",\"\",VLOOKUP($Q$10,DATA!$P$2:$R$196,3))","v":""},{"$f":"IF(TSF18=\"\",\"\",VLOOKUP($Q$10,DATA!$P$2:$R$196,3))","v":""},{"$f":"IF(TSG18=\"\",\"\",VLOOKUP($Q$10,DATA!$P$2:$R$196,3))","v":""},{"$f":"IF(TSH18=\"\",\"\",VLOOKUP($Q$10,DATA!$P$2:$R$196,3))","v":""},{"$f":"IF(TSI18=\"\",\"\",VLOOKUP($Q$10,DATA!$P$2:$R$196,3))","v":""},{"$f":"IF(TSJ18=\"\",\"\",VLOOKUP($Q$10,DATA!$P$2:$R$196,3))","v":""},{"$f":"IF(TSK18=\"\",\"\",VLOOKUP($Q$10,DATA!$P$2:$R$196,3))","v":""},{"$f":"IF(TSL18=\"\",\"\",VLOOKUP($Q$10,DATA!$P$2:$R$196,3))","v":""},{"$f":"IF(TSM18=\"\",\"\",VLOOKUP($Q$10,DATA!$P$2:$R$196,3))","v":""},{"$f":"IF(TSN18=\"\",\"\",VLOOKUP($Q$10,DATA!$P$2:$R$196,3))","v":""},{"$f":"IF(TSO18=\"\",\"\",VLOOKUP($Q$10,DATA!$P$2:$R$196,3))","v":""},{"$f":"IF(TSP18=\"\",\"\",VLOOKUP($Q$10,DATA!$P$2:$R$196,3))","v":""},{"$f":"IF(TSQ18=\"\",\"\",VLOOKUP($Q$10,DATA!$P$2:$R$196,3))","v":""},{"$f":"IF(TSR18=\"\",\"\",VLOOKUP($Q$10,DATA!$P$2:$R$196,3))","v":""},{"$f":"IF(TSS18=\"\",\"\",VLOOKUP($Q$10,DATA!$P$2:$R$196,3))","v":""},{"$f":"IF(TST18=\"\",\"\",VLOOKUP($Q$10,DATA!$P$2:$R$196,3))","v":""},{"$f":"IF(TSU18=\"\",\"\",VLOOKUP($Q$10,DATA!$P$2:$R$196,3))","v":""},{"$f":"IF(TSV18=\"\",\"\",VLOOKUP($Q$10,DATA!$P$2:$R$196,3))","v":""},{"$f":"IF(TSW18=\"\",\"\",VLOOKUP($Q$10,DATA!$P$2:$R$196,3))","v":""},{"$f":"IF(TSX18=\"\",\"\",VLOOKUP($Q$10,DATA!$P$2:$R$196,3))","v":""},{"$f":"IF(TSY18=\"\",\"\",VLOOKUP($Q$10,DATA!$P$2:$R$196,3))","v":""},{"$f":"IF(TSZ18=\"\",\"\",VLOOKUP($Q$10,DATA!$P$2:$R$196,3))","v":""},{"$f":"IF(TTA18=\"\",\"\",VLOOKUP($Q$10,DATA!$P$2:$R$196,3))","v":""},{"$f":"IF(TTB18=\"\",\"\",VLOOKUP($Q$10,DATA!$P$2:$R$196,3))","v":""},{"$f":"IF(TTC18=\"\",\"\",VLOOKUP($Q$10,DATA!$P$2:$R$196,3))","v":""},{"$f":"IF(TTD18=\"\",\"\",VLOOKUP($Q$10,DATA!$P$2:$R$196,3))","v":""},{"$f":"IF(TTE18=\"\",\"\",VLOOKUP($Q$10,DATA!$P$2:$R$196,3))","v":""},{"$f":"IF(TTF18=\"\",\"\",VLOOKUP($Q$10,DATA!$P$2:$R$196,3))","v":""},{"$f":"IF(TTG18=\"\",\"\",VLOOKUP($Q$10,DATA!$P$2:$R$196,3))","v":""},{"$f":"IF(TTH18=\"\",\"\",VLOOKUP($Q$10,DATA!$P$2:$R$196,3))","v":""},{"$f":"IF(TTI18=\"\",\"\",VLOOKUP($Q$10,DATA!$P$2:$R$196,3))","v":""},{"$f":"IF(TTJ18=\"\",\"\",VLOOKUP($Q$10,DATA!$P$2:$R$196,3))","v":""},{"$f":"IF(TTK18=\"\",\"\",VLOOKUP($Q$10,DATA!$P$2:$R$196,3))","v":""},{"$f":"IF(TTL18=\"\",\"\",VLOOKUP($Q$10,DATA!$P$2:$R$196,3))","v":""},{"$f":"IF(TTM18=\"\",\"\",VLOOKUP($Q$10,DATA!$P$2:$R$196,3))","v":""},{"$f":"IF(TTN18=\"\",\"\",VLOOKUP($Q$10,DATA!$P$2:$R$196,3))","v":""},{"$f":"IF(TTO18=\"\",\"\",VLOOKUP($Q$10,DATA!$P$2:$R$196,3))","v":""},{"$f":"IF(TTP18=\"\",\"\",VLOOKUP($Q$10,DATA!$P$2:$R$196,3))","v":""},{"$f":"IF(TTQ18=\"\",\"\",VLOOKUP($Q$10,DATA!$P$2:$R$196,3))","v":""},{"$f":"IF(TTR18=\"\",\"\",VLOOKUP($Q$10,DATA!$P$2:$R$196,3))","v":""},{"$f":"IF(TTS18=\"\",\"\",VLOOKUP($Q$10,DATA!$P$2:$R$196,3))","v":""},{"$f":"IF(TTT18=\"\",\"\",VLOOKUP($Q$10,DATA!$P$2:$R$196,3))","v":""},{"$f":"IF(TTU18=\"\",\"\",VLOOKUP($Q$10,DATA!$P$2:$R$196,3))","v":""},{"$f":"IF(TTV18=\"\",\"\",VLOOKUP($Q$10,DATA!$P$2:$R$196,3))","v":""},{"$f":"IF(TTW18=\"\",\"\",VLOOKUP($Q$10,DATA!$P$2:$R$196,3))","v":""},{"$f":"IF(TTX18=\"\",\"\",VLOOKUP($Q$10,DATA!$P$2:$R$196,3))","v":""},{"$f":"IF(TTY18=\"\",\"\",VLOOKUP($Q$10,DATA!$P$2:$R$196,3))","v":""},{"$f":"IF(TTZ18=\"\",\"\",VLOOKUP($Q$10,DATA!$P$2:$R$196,3))","v":""},{"$f":"IF(TUA18=\"\",\"\",VLOOKUP($Q$10,DATA!$P$2:$R$196,3))","v":""},{"$f":"IF(TUB18=\"\",\"\",VLOOKUP($Q$10,DATA!$P$2:$R$196,3))","v":""},{"$f":"IF(TUC18=\"\",\"\",VLOOKUP($Q$10,DATA!$P$2:$R$196,3))","v":""},{"$f":"IF(TUD18=\"\",\"\",VLOOKUP($Q$10,DATA!$P$2:$R$196,3))","v":""},{"$f":"IF(TUE18=\"\",\"\",VLOOKUP($Q$10,DATA!$P$2:$R$196,3))","v":""},{"$f":"IF(TUF18=\"\",\"\",VLOOKUP($Q$10,DATA!$P$2:$R$196,3))","v":""},{"$f":"IF(TUG18=\"\",\"\",VLOOKUP($Q$10,DATA!$P$2:$R$196,3))","v":""},{"$f":"IF(TUH18=\"\",\"\",VLOOKUP($Q$10,DATA!$P$2:$R$196,3))","v":""},{"$f":"IF(TUI18=\"\",\"\",VLOOKUP($Q$10,DATA!$P$2:$R$196,3))","v":""},{"$f":"IF(TUJ18=\"\",\"\",VLOOKUP($Q$10,DATA!$P$2:$R$196,3))","v":""},{"$f":"IF(TUK18=\"\",\"\",VLOOKUP($Q$10,DATA!$P$2:$R$196,3))","v":""},{"$f":"IF(TUL18=\"\",\"\",VLOOKUP($Q$10,DATA!$P$2:$R$196,3))","v":""},{"$f":"IF(TUM18=\"\",\"\",VLOOKUP($Q$10,DATA!$P$2:$R$196,3))","v":""},{"$f":"IF(TUN18=\"\",\"\",VLOOKUP($Q$10,DATA!$P$2:$R$196,3))","v":""},{"$f":"IF(TUO18=\"\",\"\",VLOOKUP($Q$10,DATA!$P$2:$R$196,3))","v":""},{"$f":"IF(TUP18=\"\",\"\",VLOOKUP($Q$10,DATA!$P$2:$R$196,3))","v":""},{"$f":"IF(TUQ18=\"\",\"\",VLOOKUP($Q$10,DATA!$P$2:$R$196,3))","v":""},{"$f":"IF(TUR18=\"\",\"\",VLOOKUP($Q$10,DATA!$P$2:$R$196,3))","v":""},{"$f":"IF(TUS18=\"\",\"\",VLOOKUP($Q$10,DATA!$P$2:$R$196,3))","v":""},{"$f":"IF(TUT18=\"\",\"\",VLOOKUP($Q$10,DATA!$P$2:$R$196,3))","v":""},{"$f":"IF(TUU18=\"\",\"\",VLOOKUP($Q$10,DATA!$P$2:$R$196,3))","v":""},{"$f":"IF(TUV18=\"\",\"\",VLOOKUP($Q$10,DATA!$P$2:$R$196,3))","v":""},{"$f":"IF(TUW18=\"\",\"\",VLOOKUP($Q$10,DATA!$P$2:$R$196,3))","v":""},{"$f":"IF(TUX18=\"\",\"\",VLOOKUP($Q$10,DATA!$P$2:$R$196,3))","v":""},{"$f":"IF(TUY18=\"\",\"\",VLOOKUP($Q$10,DATA!$P$2:$R$196,3))","v":""},{"$f":"IF(TUZ18=\"\",\"\",VLOOKUP($Q$10,DATA!$P$2:$R$196,3))","v":""},{"$f":"IF(TVA18=\"\",\"\",VLOOKUP($Q$10,DATA!$P$2:$R$196,3))","v":""},{"$f":"IF(TVB18=\"\",\"\",VLOOKUP($Q$10,DATA!$P$2:$R$196,3))","v":""},{"$f":"IF(TVC18=\"\",\"\",VLOOKUP($Q$10,DATA!$P$2:$R$196,3))","v":""},{"$f":"IF(TVD18=\"\",\"\",VLOOKUP($Q$10,DATA!$P$2:$R$196,3))","v":""},{"$f":"IF(TVE18=\"\",\"\",VLOOKUP($Q$10,DATA!$P$2:$R$196,3))","v":""},{"$f":"IF(TVF18=\"\",\"\",VLOOKUP($Q$10,DATA!$P$2:$R$196,3))","v":""},{"$f":"IF(TVG18=\"\",\"\",VLOOKUP($Q$10,DATA!$P$2:$R$196,3))","v":""},{"$f":"IF(TVH18=\"\",\"\",VLOOKUP($Q$10,DATA!$P$2:$R$196,3))","v":""},{"$f":"IF(TVI18=\"\",\"\",VLOOKUP($Q$10,DATA!$P$2:$R$196,3))","v":""},{"$f":"IF(TVJ18=\"\",\"\",VLOOKUP($Q$10,DATA!$P$2:$R$196,3))","v":""},{"$f":"IF(TVK18=\"\",\"\",VLOOKUP($Q$10,DATA!$P$2:$R$196,3))","v":""},{"$f":"IF(TVL18=\"\",\"\",VLOOKUP($Q$10,DATA!$P$2:$R$196,3))","v":""},{"$f":"IF(TVM18=\"\",\"\",VLOOKUP($Q$10,DATA!$P$2:$R$196,3))","v":""},{"$f":"IF(TVN18=\"\",\"\",VLOOKUP($Q$10,DATA!$P$2:$R$196,3))","v":""},{"$f":"IF(TVO18=\"\",\"\",VLOOKUP($Q$10,DATA!$P$2:$R$196,3))","v":""},{"$f":"IF(TVP18=\"\",\"\",VLOOKUP($Q$10,DATA!$P$2:$R$196,3))","v":""},{"$f":"IF(TVQ18=\"\",\"\",VLOOKUP($Q$10,DATA!$P$2:$R$196,3))","v":""},{"$f":"IF(TVR18=\"\",\"\",VLOOKUP($Q$10,DATA!$P$2:$R$196,3))","v":""},{"$f":"IF(TVS18=\"\",\"\",VLOOKUP($Q$10,DATA!$P$2:$R$196,3))","v":""},{"$f":"IF(TVT18=\"\",\"\",VLOOKUP($Q$10,DATA!$P$2:$R$196,3))","v":""},{"$f":"IF(TVU18=\"\",\"\",VLOOKUP($Q$10,DATA!$P$2:$R$196,3))","v":""},{"$f":"IF(TVV18=\"\",\"\",VLOOKUP($Q$10,DATA!$P$2:$R$196,3))","v":""},{"$f":"IF(TVW18=\"\",\"\",VLOOKUP($Q$10,DATA!$P$2:$R$196,3))","v":""},{"$f":"IF(TVX18=\"\",\"\",VLOOKUP($Q$10,DATA!$P$2:$R$196,3))","v":""},{"$f":"IF(TVY18=\"\",\"\",VLOOKUP($Q$10,DATA!$P$2:$R$196,3))","v":""},{"$f":"IF(TVZ18=\"\",\"\",VLOOKUP($Q$10,DATA!$P$2:$R$196,3))","v":""},{"$f":"IF(TWA18=\"\",\"\",VLOOKUP($Q$10,DATA!$P$2:$R$196,3))","v":""},{"$f":"IF(TWB18=\"\",\"\",VLOOKUP($Q$10,DATA!$P$2:$R$196,3))","v":""},{"$f":"IF(TWC18=\"\",\"\",VLOOKUP($Q$10,DATA!$P$2:$R$196,3))","v":""},{"$f":"IF(TWD18=\"\",\"\",VLOOKUP($Q$10,DATA!$P$2:$R$196,3))","v":""},{"$f":"IF(TWE18=\"\",\"\",VLOOKUP($Q$10,DATA!$P$2:$R$196,3))","v":""},{"$f":"IF(TWF18=\"\",\"\",VLOOKUP($Q$10,DATA!$P$2:$R$196,3))","v":""},{"$f":"IF(TWG18=\"\",\"\",VLOOKUP($Q$10,DATA!$P$2:$R$196,3))","v":""},{"$f":"IF(TWH18=\"\",\"\",VLOOKUP($Q$10,DATA!$P$2:$R$196,3))","v":""},{"$f":"IF(TWI18=\"\",\"\",VLOOKUP($Q$10,DATA!$P$2:$R$196,3))","v":""},{"$f":"IF(TWJ18=\"\",\"\",VLOOKUP($Q$10,DATA!$P$2:$R$196,3))","v":""},{"$f":"IF(TWK18=\"\",\"\",VLOOKUP($Q$10,DATA!$P$2:$R$196,3))","v":""},{"$f":"IF(TWL18=\"\",\"\",VLOOKUP($Q$10,DATA!$P$2:$R$196,3))","v":""},{"$f":"IF(TWM18=\"\",\"\",VLOOKUP($Q$10,DATA!$P$2:$R$196,3))","v":""},{"$f":"IF(TWN18=\"\",\"\",VLOOKUP($Q$10,DATA!$P$2:$R$196,3))","v":""},{"$f":"IF(TWO18=\"\",\"\",VLOOKUP($Q$10,DATA!$P$2:$R$196,3))","v":""},{"$f":"IF(TWP18=\"\",\"\",VLOOKUP($Q$10,DATA!$P$2:$R$196,3))","v":""},{"$f":"IF(TWQ18=\"\",\"\",VLOOKUP($Q$10,DATA!$P$2:$R$196,3))","v":""},{"$f":"IF(TWR18=\"\",\"\",VLOOKUP($Q$10,DATA!$P$2:$R$196,3))","v":""},{"$f":"IF(TWS18=\"\",\"\",VLOOKUP($Q$10,DATA!$P$2:$R$196,3))","v":""},{"$f":"IF(TWT18=\"\",\"\",VLOOKUP($Q$10,DATA!$P$2:$R$196,3))","v":""},{"$f":"IF(TWU18=\"\",\"\",VLOOKUP($Q$10,DATA!$P$2:$R$196,3))","v":""},{"$f":"IF(TWV18=\"\",\"\",VLOOKUP($Q$10,DATA!$P$2:$R$196,3))","v":""},{"$f":"IF(TWW18=\"\",\"\",VLOOKUP($Q$10,DATA!$P$2:$R$196,3))","v":""},{"$f":"IF(TWX18=\"\",\"\",VLOOKUP($Q$10,DATA!$P$2:$R$196,3))","v":""},{"$f":"IF(TWY18=\"\",\"\",VLOOKUP($Q$10,DATA!$P$2:$R$196,3))","v":""},{"$f":"IF(TWZ18=\"\",\"\",VLOOKUP($Q$10,DATA!$P$2:$R$196,3))","v":""},{"$f":"IF(TXA18=\"\",\"\",VLOOKUP($Q$10,DATA!$P$2:$R$196,3))","v":""},{"$f":"IF(TXB18=\"\",\"\",VLOOKUP($Q$10,DATA!$P$2:$R$196,3))","v":""},{"$f":"IF(TXC18=\"\",\"\",VLOOKUP($Q$10,DATA!$P$2:$R$196,3))","v":""},{"$f":"IF(TXD18=\"\",\"\",VLOOKUP($Q$10,DATA!$P$2:$R$196,3))","v":""},{"$f":"IF(TXE18=\"\",\"\",VLOOKUP($Q$10,DATA!$P$2:$R$196,3))","v":""},{"$f":"IF(TXF18=\"\",\"\",VLOOKUP($Q$10,DATA!$P$2:$R$196,3))","v":""},{"$f":"IF(TXG18=\"\",\"\",VLOOKUP($Q$10,DATA!$P$2:$R$196,3))","v":""},{"$f":"IF(TXH18=\"\",\"\",VLOOKUP($Q$10,DATA!$P$2:$R$196,3))","v":""},{"$f":"IF(TXI18=\"\",\"\",VLOOKUP($Q$10,DATA!$P$2:$R$196,3))","v":""},{"$f":"IF(TXJ18=\"\",\"\",VLOOKUP($Q$10,DATA!$P$2:$R$196,3))","v":""},{"$f":"IF(TXK18=\"\",\"\",VLOOKUP($Q$10,DATA!$P$2:$R$196,3))","v":""},{"$f":"IF(TXL18=\"\",\"\",VLOOKUP($Q$10,DATA!$P$2:$R$196,3))","v":""},{"$f":"IF(TXM18=\"\",\"\",VLOOKUP($Q$10,DATA!$P$2:$R$196,3))","v":""},{"$f":"IF(TXN18=\"\",\"\",VLOOKUP($Q$10,DATA!$P$2:$R$196,3))","v":""},{"$f":"IF(TXO18=\"\",\"\",VLOOKUP($Q$10,DATA!$P$2:$R$196,3))","v":""},{"$f":"IF(TXP18=\"\",\"\",VLOOKUP($Q$10,DATA!$P$2:$R$196,3))","v":""},{"$f":"IF(TXQ18=\"\",\"\",VLOOKUP($Q$10,DATA!$P$2:$R$196,3))","v":""},{"$f":"IF(TXR18=\"\",\"\",VLOOKUP($Q$10,DATA!$P$2:$R$196,3))","v":""},{"$f":"IF(TXS18=\"\",\"\",VLOOKUP($Q$10,DATA!$P$2:$R$196,3))","v":""},{"$f":"IF(TXT18=\"\",\"\",VLOOKUP($Q$10,DATA!$P$2:$R$196,3))","v":""},{"$f":"IF(TXU18=\"\",\"\",VLOOKUP($Q$10,DATA!$P$2:$R$196,3))","v":""},{"$f":"IF(TXV18=\"\",\"\",VLOOKUP($Q$10,DATA!$P$2:$R$196,3))","v":""},{"$f":"IF(TXW18=\"\",\"\",VLOOKUP($Q$10,DATA!$P$2:$R$196,3))","v":""},{"$f":"IF(TXX18=\"\",\"\",VLOOKUP($Q$10,DATA!$P$2:$R$196,3))","v":""},{"$f":"IF(TXY18=\"\",\"\",VLOOKUP($Q$10,DATA!$P$2:$R$196,3))","v":""},{"$f":"IF(TXZ18=\"\",\"\",VLOOKUP($Q$10,DATA!$P$2:$R$196,3))","v":""},{"$f":"IF(TYA18=\"\",\"\",VLOOKUP($Q$10,DATA!$P$2:$R$196,3))","v":""},{"$f":"IF(TYB18=\"\",\"\",VLOOKUP($Q$10,DATA!$P$2:$R$196,3))","v":""},{"$f":"IF(TYC18=\"\",\"\",VLOOKUP($Q$10,DATA!$P$2:$R$196,3))","v":""},{"$f":"IF(TYD18=\"\",\"\",VLOOKUP($Q$10,DATA!$P$2:$R$196,3))","v":""},{"$f":"IF(TYE18=\"\",\"\",VLOOKUP($Q$10,DATA!$P$2:$R$196,3))","v":""},{"$f":"IF(TYF18=\"\",\"\",VLOOKUP($Q$10,DATA!$P$2:$R$196,3))","v":""},{"$f":"IF(TYG18=\"\",\"\",VLOOKUP($Q$10,DATA!$P$2:$R$196,3))","v":""},{"$f":"IF(TYH18=\"\",\"\",VLOOKUP($Q$10,DATA!$P$2:$R$196,3))","v":""},{"$f":"IF(TYI18=\"\",\"\",VLOOKUP($Q$10,DATA!$P$2:$R$196,3))","v":""},{"$f":"IF(TYJ18=\"\",\"\",VLOOKUP($Q$10,DATA!$P$2:$R$196,3))","v":""},{"$f":"IF(TYK18=\"\",\"\",VLOOKUP($Q$10,DATA!$P$2:$R$196,3))","v":""},{"$f":"IF(TYL18=\"\",\"\",VLOOKUP($Q$10,DATA!$P$2:$R$196,3))","v":""},{"$f":"IF(TYM18=\"\",\"\",VLOOKUP($Q$10,DATA!$P$2:$R$196,3))","v":""},{"$f":"IF(TYN18=\"\",\"\",VLOOKUP($Q$10,DATA!$P$2:$R$196,3))","v":""},{"$f":"IF(TYO18=\"\",\"\",VLOOKUP($Q$10,DATA!$P$2:$R$196,3))","v":""},{"$f":"IF(TYP18=\"\",\"\",VLOOKUP($Q$10,DATA!$P$2:$R$196,3))","v":""},{"$f":"IF(TYQ18=\"\",\"\",VLOOKUP($Q$10,DATA!$P$2:$R$196,3))","v":""},{"$f":"IF(TYR18=\"\",\"\",VLOOKUP($Q$10,DATA!$P$2:$R$196,3))","v":""},{"$f":"IF(TYS18=\"\",\"\",VLOOKUP($Q$10,DATA!$P$2:$R$196,3))","v":""},{"$f":"IF(TYT18=\"\",\"\",VLOOKUP($Q$10,DATA!$P$2:$R$196,3))","v":""},{"$f":"IF(TYU18=\"\",\"\",VLOOKUP($Q$10,DATA!$P$2:$R$196,3))","v":""},{"$f":"IF(TYV18=\"\",\"\",VLOOKUP($Q$10,DATA!$P$2:$R$196,3))","v":""},{"$f":"IF(TYW18=\"\",\"\",VLOOKUP($Q$10,DATA!$P$2:$R$196,3))","v":""},{"$f":"IF(TYX18=\"\",\"\",VLOOKUP($Q$10,DATA!$P$2:$R$196,3))","v":""},{"$f":"IF(TYY18=\"\",\"\",VLOOKUP($Q$10,DATA!$P$2:$R$196,3))","v":""},{"$f":"IF(TYZ18=\"\",\"\",VLOOKUP($Q$10,DATA!$P$2:$R$196,3))","v":""},{"$f":"IF(TZA18=\"\",\"\",VLOOKUP($Q$10,DATA!$P$2:$R$196,3))","v":""},{"$f":"IF(TZB18=\"\",\"\",VLOOKUP($Q$10,DATA!$P$2:$R$196,3))","v":""},{"$f":"IF(TZC18=\"\",\"\",VLOOKUP($Q$10,DATA!$P$2:$R$196,3))","v":""},{"$f":"IF(TZD18=\"\",\"\",VLOOKUP($Q$10,DATA!$P$2:$R$196,3))","v":""},{"$f":"IF(TZE18=\"\",\"\",VLOOKUP($Q$10,DATA!$P$2:$R$196,3))","v":""},{"$f":"IF(TZF18=\"\",\"\",VLOOKUP($Q$10,DATA!$P$2:$R$196,3))","v":""},{"$f":"IF(TZG18=\"\",\"\",VLOOKUP($Q$10,DATA!$P$2:$R$196,3))","v":""},{"$f":"IF(TZH18=\"\",\"\",VLOOKUP($Q$10,DATA!$P$2:$R$196,3))","v":""},{"$f":"IF(TZI18=\"\",\"\",VLOOKUP($Q$10,DATA!$P$2:$R$196,3))","v":""},{"$f":"IF(TZJ18=\"\",\"\",VLOOKUP($Q$10,DATA!$P$2:$R$196,3))","v":""},{"$f":"IF(TZK18=\"\",\"\",VLOOKUP($Q$10,DATA!$P$2:$R$196,3))","v":""},{"$f":"IF(TZL18=\"\",\"\",VLOOKUP($Q$10,DATA!$P$2:$R$196,3))","v":""},{"$f":"IF(TZM18=\"\",\"\",VLOOKUP($Q$10,DATA!$P$2:$R$196,3))","v":""},{"$f":"IF(TZN18=\"\",\"\",VLOOKUP($Q$10,DATA!$P$2:$R$196,3))","v":""},{"$f":"IF(TZO18=\"\",\"\",VLOOKUP($Q$10,DATA!$P$2:$R$196,3))","v":""},{"$f":"IF(TZP18=\"\",\"\",VLOOKUP($Q$10,DATA!$P$2:$R$196,3))","v":""},{"$f":"IF(TZQ18=\"\",\"\",VLOOKUP($Q$10,DATA!$P$2:$R$196,3))","v":""},{"$f":"IF(TZR18=\"\",\"\",VLOOKUP($Q$10,DATA!$P$2:$R$196,3))","v":""},{"$f":"IF(TZS18=\"\",\"\",VLOOKUP($Q$10,DATA!$P$2:$R$196,3))","v":""},{"$f":"IF(TZT18=\"\",\"\",VLOOKUP($Q$10,DATA!$P$2:$R$196,3))","v":""},{"$f":"IF(TZU18=\"\",\"\",VLOOKUP($Q$10,DATA!$P$2:$R$196,3))","v":""},{"$f":"IF(TZV18=\"\",\"\",VLOOKUP($Q$10,DATA!$P$2:$R$196,3))","v":""},{"$f":"IF(TZW18=\"\",\"\",VLOOKUP($Q$10,DATA!$P$2:$R$196,3))","v":""},{"$f":"IF(TZX18=\"\",\"\",VLOOKUP($Q$10,DATA!$P$2:$R$196,3))","v":""},{"$f":"IF(TZY18=\"\",\"\",VLOOKUP($Q$10,DATA!$P$2:$R$196,3))","v":""},{"$f":"IF(TZZ18=\"\",\"\",VLOOKUP($Q$10,DATA!$P$2:$R$196,3))","v":""},{"$f":"IF(UAA18=\"\",\"\",VLOOKUP($Q$10,DATA!$P$2:$R$196,3))","v":""},{"$f":"IF(UAB18=\"\",\"\",VLOOKUP($Q$10,DATA!$P$2:$R$196,3))","v":""},{"$f":"IF(UAC18=\"\",\"\",VLOOKUP($Q$10,DATA!$P$2:$R$196,3))","v":""},{"$f":"IF(UAD18=\"\",\"\",VLOOKUP($Q$10,DATA!$P$2:$R$196,3))","v":""},{"$f":"IF(UAE18=\"\",\"\",VLOOKUP($Q$10,DATA!$P$2:$R$196,3))","v":""},{"$f":"IF(UAF18=\"\",\"\",VLOOKUP($Q$10,DATA!$P$2:$R$196,3))","v":""},{"$f":"IF(UAG18=\"\",\"\",VLOOKUP($Q$10,DATA!$P$2:$R$196,3))","v":""},{"$f":"IF(UAH18=\"\",\"\",VLOOKUP($Q$10,DATA!$P$2:$R$196,3))","v":""},{"$f":"IF(UAI18=\"\",\"\",VLOOKUP($Q$10,DATA!$P$2:$R$196,3))","v":""},{"$f":"IF(UAJ18=\"\",\"\",VLOOKUP($Q$10,DATA!$P$2:$R$196,3))","v":""},{"$f":"IF(UAK18=\"\",\"\",VLOOKUP($Q$10,DATA!$P$2:$R$196,3))","v":""},{"$f":"IF(UAL18=\"\",\"\",VLOOKUP($Q$10,DATA!$P$2:$R$196,3))","v":""},{"$f":"IF(UAM18=\"\",\"\",VLOOKUP($Q$10,DATA!$P$2:$R$196,3))","v":""},{"$f":"IF(UAN18=\"\",\"\",VLOOKUP($Q$10,DATA!$P$2:$R$196,3))","v":""},{"$f":"IF(UAO18=\"\",\"\",VLOOKUP($Q$10,DATA!$P$2:$R$196,3))","v":""},{"$f":"IF(UAP18=\"\",\"\",VLOOKUP($Q$10,DATA!$P$2:$R$196,3))","v":""},{"$f":"IF(UAQ18=\"\",\"\",VLOOKUP($Q$10,DATA!$P$2:$R$196,3))","v":""},{"$f":"IF(UAR18=\"\",\"\",VLOOKUP($Q$10,DATA!$P$2:$R$196,3))","v":""},{"$f":"IF(UAS18=\"\",\"\",VLOOKUP($Q$10,DATA!$P$2:$R$196,3))","v":""},{"$f":"IF(UAT18=\"\",\"\",VLOOKUP($Q$10,DATA!$P$2:$R$196,3))","v":""},{"$f":"IF(UAU18=\"\",\"\",VLOOKUP($Q$10,DATA!$P$2:$R$196,3))","v":""},{"$f":"IF(UAV18=\"\",\"\",VLOOKUP($Q$10,DATA!$P$2:$R$196,3))","v":""},{"$f":"IF(UAW18=\"\",\"\",VLOOKUP($Q$10,DATA!$P$2:$R$196,3))","v":""},{"$f":"IF(UAX18=\"\",\"\",VLOOKUP($Q$10,DATA!$P$2:$R$196,3))","v":""},{"$f":"IF(UAY18=\"\",\"\",VLOOKUP($Q$10,DATA!$P$2:$R$196,3))","v":""},{"$f":"IF(UAZ18=\"\",\"\",VLOOKUP($Q$10,DATA!$P$2:$R$196,3))","v":""},{"$f":"IF(UBA18=\"\",\"\",VLOOKUP($Q$10,DATA!$P$2:$R$196,3))","v":""},{"$f":"IF(UBB18=\"\",\"\",VLOOKUP($Q$10,DATA!$P$2:$R$196,3))","v":""},{"$f":"IF(UBC18=\"\",\"\",VLOOKUP($Q$10,DATA!$P$2:$R$196,3))","v":""},{"$f":"IF(UBD18=\"\",\"\",VLOOKUP($Q$10,DATA!$P$2:$R$196,3))","v":""},{"$f":"IF(UBE18=\"\",\"\",VLOOKUP($Q$10,DATA!$P$2:$R$196,3))","v":""},{"$f":"IF(UBF18=\"\",\"\",VLOOKUP($Q$10,DATA!$P$2:$R$196,3))","v":""},{"$f":"IF(UBG18=\"\",\"\",VLOOKUP($Q$10,DATA!$P$2:$R$196,3))","v":""},{"$f":"IF(UBH18=\"\",\"\",VLOOKUP($Q$10,DATA!$P$2:$R$196,3))","v":""},{"$f":"IF(UBI18=\"\",\"\",VLOOKUP($Q$10,DATA!$P$2:$R$196,3))","v":""},{"$f":"IF(UBJ18=\"\",\"\",VLOOKUP($Q$10,DATA!$P$2:$R$196,3))","v":""},{"$f":"IF(UBK18=\"\",\"\",VLOOKUP($Q$10,DATA!$P$2:$R$196,3))","v":""},{"$f":"IF(UBL18=\"\",\"\",VLOOKUP($Q$10,DATA!$P$2:$R$196,3))","v":""},{"$f":"IF(UBM18=\"\",\"\",VLOOKUP($Q$10,DATA!$P$2:$R$196,3))","v":""},{"$f":"IF(UBN18=\"\",\"\",VLOOKUP($Q$10,DATA!$P$2:$R$196,3))","v":""},{"$f":"IF(UBO18=\"\",\"\",VLOOKUP($Q$10,DATA!$P$2:$R$196,3))","v":""},{"$f":"IF(UBP18=\"\",\"\",VLOOKUP($Q$10,DATA!$P$2:$R$196,3))","v":""},{"$f":"IF(UBQ18=\"\",\"\",VLOOKUP($Q$10,DATA!$P$2:$R$196,3))","v":""},{"$f":"IF(UBR18=\"\",\"\",VLOOKUP($Q$10,DATA!$P$2:$R$196,3))","v":""},{"$f":"IF(UBS18=\"\",\"\",VLOOKUP($Q$10,DATA!$P$2:$R$196,3))","v":""},{"$f":"IF(UBT18=\"\",\"\",VLOOKUP($Q$10,DATA!$P$2:$R$196,3))","v":""},{"$f":"IF(UBU18=\"\",\"\",VLOOKUP($Q$10,DATA!$P$2:$R$196,3))","v":""},{"$f":"IF(UBV18=\"\",\"\",VLOOKUP($Q$10,DATA!$P$2:$R$196,3))","v":""},{"$f":"IF(UBW18=\"\",\"\",VLOOKUP($Q$10,DATA!$P$2:$R$196,3))","v":""},{"$f":"IF(UBX18=\"\",\"\",VLOOKUP($Q$10,DATA!$P$2:$R$196,3))","v":""},{"$f":"IF(UBY18=\"\",\"\",VLOOKUP($Q$10,DATA!$P$2:$R$196,3))","v":""},{"$f":"IF(UBZ18=\"\",\"\",VLOOKUP($Q$10,DATA!$P$2:$R$196,3))","v":""},{"$f":"IF(UCA18=\"\",\"\",VLOOKUP($Q$10,DATA!$P$2:$R$196,3))","v":""},{"$f":"IF(UCB18=\"\",\"\",VLOOKUP($Q$10,DATA!$P$2:$R$196,3))","v":""},{"$f":"IF(UCC18=\"\",\"\",VLOOKUP($Q$10,DATA!$P$2:$R$196,3))","v":""},{"$f":"IF(UCD18=\"\",\"\",VLOOKUP($Q$10,DATA!$P$2:$R$196,3))","v":""},{"$f":"IF(UCE18=\"\",\"\",VLOOKUP($Q$10,DATA!$P$2:$R$196,3))","v":""},{"$f":"IF(UCF18=\"\",\"\",VLOOKUP($Q$10,DATA!$P$2:$R$196,3))","v":""},{"$f":"IF(UCG18=\"\",\"\",VLOOKUP($Q$10,DATA!$P$2:$R$196,3))","v":""},{"$f":"IF(UCH18=\"\",\"\",VLOOKUP($Q$10,DATA!$P$2:$R$196,3))","v":""},{"$f":"IF(UCI18=\"\",\"\",VLOOKUP($Q$10,DATA!$P$2:$R$196,3))","v":""},{"$f":"IF(UCJ18=\"\",\"\",VLOOKUP($Q$10,DATA!$P$2:$R$196,3))","v":""},{"$f":"IF(UCK18=\"\",\"\",VLOOKUP($Q$10,DATA!$P$2:$R$196,3))","v":""},{"$f":"IF(UCL18=\"\",\"\",VLOOKUP($Q$10,DATA!$P$2:$R$196,3))","v":""},{"$f":"IF(UCM18=\"\",\"\",VLOOKUP($Q$10,DATA!$P$2:$R$196,3))","v":""},{"$f":"IF(UCN18=\"\",\"\",VLOOKUP($Q$10,DATA!$P$2:$R$196,3))","v":""},{"$f":"IF(UCO18=\"\",\"\",VLOOKUP($Q$10,DATA!$P$2:$R$196,3))","v":""},{"$f":"IF(UCP18=\"\",\"\",VLOOKUP($Q$10,DATA!$P$2:$R$196,3))","v":""},{"$f":"IF(UCQ18=\"\",\"\",VLOOKUP($Q$10,DATA!$P$2:$R$196,3))","v":""},{"$f":"IF(UCR18=\"\",\"\",VLOOKUP($Q$10,DATA!$P$2:$R$196,3))","v":""},{"$f":"IF(UCS18=\"\",\"\",VLOOKUP($Q$10,DATA!$P$2:$R$196,3))","v":""},{"$f":"IF(UCT18=\"\",\"\",VLOOKUP($Q$10,DATA!$P$2:$R$196,3))","v":""},{"$f":"IF(UCU18=\"\",\"\",VLOOKUP($Q$10,DATA!$P$2:$R$196,3))","v":""},{"$f":"IF(UCV18=\"\",\"\",VLOOKUP($Q$10,DATA!$P$2:$R$196,3))","v":""},{"$f":"IF(UCW18=\"\",\"\",VLOOKUP($Q$10,DATA!$P$2:$R$196,3))","v":""},{"$f":"IF(UCX18=\"\",\"\",VLOOKUP($Q$10,DATA!$P$2:$R$196,3))","v":""},{"$f":"IF(UCY18=\"\",\"\",VLOOKUP($Q$10,DATA!$P$2:$R$196,3))","v":""},{"$f":"IF(UCZ18=\"\",\"\",VLOOKUP($Q$10,DATA!$P$2:$R$196,3))","v":""},{"$f":"IF(UDA18=\"\",\"\",VLOOKUP($Q$10,DATA!$P$2:$R$196,3))","v":""},{"$f":"IF(UDB18=\"\",\"\",VLOOKUP($Q$10,DATA!$P$2:$R$196,3))","v":""},{"$f":"IF(UDC18=\"\",\"\",VLOOKUP($Q$10,DATA!$P$2:$R$196,3))","v":""},{"$f":"IF(UDD18=\"\",\"\",VLOOKUP($Q$10,DATA!$P$2:$R$196,3))","v":""},{"$f":"IF(UDE18=\"\",\"\",VLOOKUP($Q$10,DATA!$P$2:$R$196,3))","v":""},{"$f":"IF(UDF18=\"\",\"\",VLOOKUP($Q$10,DATA!$P$2:$R$196,3))","v":""},{"$f":"IF(UDG18=\"\",\"\",VLOOKUP($Q$10,DATA!$P$2:$R$196,3))","v":""},{"$f":"IF(UDH18=\"\",\"\",VLOOKUP($Q$10,DATA!$P$2:$R$196,3))","v":""},{"$f":"IF(UDI18=\"\",\"\",VLOOKUP($Q$10,DATA!$P$2:$R$196,3))","v":""},{"$f":"IF(UDJ18=\"\",\"\",VLOOKUP($Q$10,DATA!$P$2:$R$196,3))","v":""},{"$f":"IF(UDK18=\"\",\"\",VLOOKUP($Q$10,DATA!$P$2:$R$196,3))","v":""},{"$f":"IF(UDL18=\"\",\"\",VLOOKUP($Q$10,DATA!$P$2:$R$196,3))","v":""},{"$f":"IF(UDM18=\"\",\"\",VLOOKUP($Q$10,DATA!$P$2:$R$196,3))","v":""},{"$f":"IF(UDN18=\"\",\"\",VLOOKUP($Q$10,DATA!$P$2:$R$196,3))","v":""},{"$f":"IF(UDO18=\"\",\"\",VLOOKUP($Q$10,DATA!$P$2:$R$196,3))","v":""},{"$f":"IF(UDP18=\"\",\"\",VLOOKUP($Q$10,DATA!$P$2:$R$196,3))","v":""},{"$f":"IF(UDQ18=\"\",\"\",VLOOKUP($Q$10,DATA!$P$2:$R$196,3))","v":""},{"$f":"IF(UDR18=\"\",\"\",VLOOKUP($Q$10,DATA!$P$2:$R$196,3))","v":""},{"$f":"IF(UDS18=\"\",\"\",VLOOKUP($Q$10,DATA!$P$2:$R$196,3))","v":""},{"$f":"IF(UDT18=\"\",\"\",VLOOKUP($Q$10,DATA!$P$2:$R$196,3))","v":""},{"$f":"IF(UDU18=\"\",\"\",VLOOKUP($Q$10,DATA!$P$2:$R$196,3))","v":""},{"$f":"IF(UDV18=\"\",\"\",VLOOKUP($Q$10,DATA!$P$2:$R$196,3))","v":""},{"$f":"IF(UDW18=\"\",\"\",VLOOKUP($Q$10,DATA!$P$2:$R$196,3))","v":""},{"$f":"IF(UDX18=\"\",\"\",VLOOKUP($Q$10,DATA!$P$2:$R$196,3))","v":""},{"$f":"IF(UDY18=\"\",\"\",VLOOKUP($Q$10,DATA!$P$2:$R$196,3))","v":""},{"$f":"IF(UDZ18=\"\",\"\",VLOOKUP($Q$10,DATA!$P$2:$R$196,3))","v":""},{"$f":"IF(UEA18=\"\",\"\",VLOOKUP($Q$10,DATA!$P$2:$R$196,3))","v":""},{"$f":"IF(UEB18=\"\",\"\",VLOOKUP($Q$10,DATA!$P$2:$R$196,3))","v":""},{"$f":"IF(UEC18=\"\",\"\",VLOOKUP($Q$10,DATA!$P$2:$R$196,3))","v":""},{"$f":"IF(UED18=\"\",\"\",VLOOKUP($Q$10,DATA!$P$2:$R$196,3))","v":""},{"$f":"IF(UEE18=\"\",\"\",VLOOKUP($Q$10,DATA!$P$2:$R$196,3))","v":""},{"$f":"IF(UEF18=\"\",\"\",VLOOKUP($Q$10,DATA!$P$2:$R$196,3))","v":""},{"$f":"IF(UEG18=\"\",\"\",VLOOKUP($Q$10,DATA!$P$2:$R$196,3))","v":""},{"$f":"IF(UEH18=\"\",\"\",VLOOKUP($Q$10,DATA!$P$2:$R$196,3))","v":""},{"$f":"IF(UEI18=\"\",\"\",VLOOKUP($Q$10,DATA!$P$2:$R$196,3))","v":""},{"$f":"IF(UEJ18=\"\",\"\",VLOOKUP($Q$10,DATA!$P$2:$R$196,3))","v":""},{"$f":"IF(UEK18=\"\",\"\",VLOOKUP($Q$10,DATA!$P$2:$R$196,3))","v":""},{"$f":"IF(UEL18=\"\",\"\",VLOOKUP($Q$10,DATA!$P$2:$R$196,3))","v":""},{"$f":"IF(UEM18=\"\",\"\",VLOOKUP($Q$10,DATA!$P$2:$R$196,3))","v":""},{"$f":"IF(UEN18=\"\",\"\",VLOOKUP($Q$10,DATA!$P$2:$R$196,3))","v":""},{"$f":"IF(UEO18=\"\",\"\",VLOOKUP($Q$10,DATA!$P$2:$R$196,3))","v":""},{"$f":"IF(UEP18=\"\",\"\",VLOOKUP($Q$10,DATA!$P$2:$R$196,3))","v":""},{"$f":"IF(UEQ18=\"\",\"\",VLOOKUP($Q$10,DATA!$P$2:$R$196,3))","v":""},{"$f":"IF(UER18=\"\",\"\",VLOOKUP($Q$10,DATA!$P$2:$R$196,3))","v":""},{"$f":"IF(UES18=\"\",\"\",VLOOKUP($Q$10,DATA!$P$2:$R$196,3))","v":""},{"$f":"IF(UET18=\"\",\"\",VLOOKUP($Q$10,DATA!$P$2:$R$196,3))","v":""},{"$f":"IF(UEU18=\"\",\"\",VLOOKUP($Q$10,DATA!$P$2:$R$196,3))","v":""},{"$f":"IF(UEV18=\"\",\"\",VLOOKUP($Q$10,DATA!$P$2:$R$196,3))","v":""},{"$f":"IF(UEW18=\"\",\"\",VLOOKUP($Q$10,DATA!$P$2:$R$196,3))","v":""},{"$f":"IF(UEX18=\"\",\"\",VLOOKUP($Q$10,DATA!$P$2:$R$196,3))","v":""},{"$f":"IF(UEY18=\"\",\"\",VLOOKUP($Q$10,DATA!$P$2:$R$196,3))","v":""},{"$f":"IF(UEZ18=\"\",\"\",VLOOKUP($Q$10,DATA!$P$2:$R$196,3))","v":""},{"$f":"IF(UFA18=\"\",\"\",VLOOKUP($Q$10,DATA!$P$2:$R$196,3))","v":""},{"$f":"IF(UFB18=\"\",\"\",VLOOKUP($Q$10,DATA!$P$2:$R$196,3))","v":""},{"$f":"IF(UFC18=\"\",\"\",VLOOKUP($Q$10,DATA!$P$2:$R$196,3))","v":""},{"$f":"IF(UFD18=\"\",\"\",VLOOKUP($Q$10,DATA!$P$2:$R$196,3))","v":""},{"$f":"IF(UFE18=\"\",\"\",VLOOKUP($Q$10,DATA!$P$2:$R$196,3))","v":""},{"$f":"IF(UFF18=\"\",\"\",VLOOKUP($Q$10,DATA!$P$2:$R$196,3))","v":""},{"$f":"IF(UFG18=\"\",\"\",VLOOKUP($Q$10,DATA!$P$2:$R$196,3))","v":""},{"$f":"IF(UFH18=\"\",\"\",VLOOKUP($Q$10,DATA!$P$2:$R$196,3))","v":""},{"$f":"IF(UFI18=\"\",\"\",VLOOKUP($Q$10,DATA!$P$2:$R$196,3))","v":""},{"$f":"IF(UFJ18=\"\",\"\",VLOOKUP($Q$10,DATA!$P$2:$R$196,3))","v":""},{"$f":"IF(UFK18=\"\",\"\",VLOOKUP($Q$10,DATA!$P$2:$R$196,3))","v":""},{"$f":"IF(UFL18=\"\",\"\",VLOOKUP($Q$10,DATA!$P$2:$R$196,3))","v":""},{"$f":"IF(UFM18=\"\",\"\",VLOOKUP($Q$10,DATA!$P$2:$R$196,3))","v":""},{"$f":"IF(UFN18=\"\",\"\",VLOOKUP($Q$10,DATA!$P$2:$R$196,3))","v":""},{"$f":"IF(UFO18=\"\",\"\",VLOOKUP($Q$10,DATA!$P$2:$R$196,3))","v":""},{"$f":"IF(UFP18=\"\",\"\",VLOOKUP($Q$10,DATA!$P$2:$R$196,3))","v":""},{"$f":"IF(UFQ18=\"\",\"\",VLOOKUP($Q$10,DATA!$P$2:$R$196,3))","v":""},{"$f":"IF(UFR18=\"\",\"\",VLOOKUP($Q$10,DATA!$P$2:$R$196,3))","v":""},{"$f":"IF(UFS18=\"\",\"\",VLOOKUP($Q$10,DATA!$P$2:$R$196,3))","v":""},{"$f":"IF(UFT18=\"\",\"\",VLOOKUP($Q$10,DATA!$P$2:$R$196,3))","v":""},{"$f":"IF(UFU18=\"\",\"\",VLOOKUP($Q$10,DATA!$P$2:$R$196,3))","v":""},{"$f":"IF(UFV18=\"\",\"\",VLOOKUP($Q$10,DATA!$P$2:$R$196,3))","v":""},{"$f":"IF(UFW18=\"\",\"\",VLOOKUP($Q$10,DATA!$P$2:$R$196,3))","v":""},{"$f":"IF(UFX18=\"\",\"\",VLOOKUP($Q$10,DATA!$P$2:$R$196,3))","v":""},{"$f":"IF(UFY18=\"\",\"\",VLOOKUP($Q$10,DATA!$P$2:$R$196,3))","v":""},{"$f":"IF(UFZ18=\"\",\"\",VLOOKUP($Q$10,DATA!$P$2:$R$196,3))","v":""},{"$f":"IF(UGA18=\"\",\"\",VLOOKUP($Q$10,DATA!$P$2:$R$196,3))","v":""},{"$f":"IF(UGB18=\"\",\"\",VLOOKUP($Q$10,DATA!$P$2:$R$196,3))","v":""},{"$f":"IF(UGC18=\"\",\"\",VLOOKUP($Q$10,DATA!$P$2:$R$196,3))","v":""},{"$f":"IF(UGD18=\"\",\"\",VLOOKUP($Q$10,DATA!$P$2:$R$196,3))","v":""},{"$f":"IF(UGE18=\"\",\"\",VLOOKUP($Q$10,DATA!$P$2:$R$196,3))","v":""},{"$f":"IF(UGF18=\"\",\"\",VLOOKUP($Q$10,DATA!$P$2:$R$196,3))","v":""},{"$f":"IF(UGG18=\"\",\"\",VLOOKUP($Q$10,DATA!$P$2:$R$196,3))","v":""},{"$f":"IF(UGH18=\"\",\"\",VLOOKUP($Q$10,DATA!$P$2:$R$196,3))","v":""},{"$f":"IF(UGI18=\"\",\"\",VLOOKUP($Q$10,DATA!$P$2:$R$196,3))","v":""},{"$f":"IF(UGJ18=\"\",\"\",VLOOKUP($Q$10,DATA!$P$2:$R$196,3))","v":""},{"$f":"IF(UGK18=\"\",\"\",VLOOKUP($Q$10,DATA!$P$2:$R$196,3))","v":""},{"$f":"IF(UGL18=\"\",\"\",VLOOKUP($Q$10,DATA!$P$2:$R$196,3))","v":""},{"$f":"IF(UGM18=\"\",\"\",VLOOKUP($Q$10,DATA!$P$2:$R$196,3))","v":""},{"$f":"IF(UGN18=\"\",\"\",VLOOKUP($Q$10,DATA!$P$2:$R$196,3))","v":""},{"$f":"IF(UGO18=\"\",\"\",VLOOKUP($Q$10,DATA!$P$2:$R$196,3))","v":""},{"$f":"IF(UGP18=\"\",\"\",VLOOKUP($Q$10,DATA!$P$2:$R$196,3))","v":""},{"$f":"IF(UGQ18=\"\",\"\",VLOOKUP($Q$10,DATA!$P$2:$R$196,3))","v":""},{"$f":"IF(UGR18=\"\",\"\",VLOOKUP($Q$10,DATA!$P$2:$R$196,3))","v":""},{"$f":"IF(UGS18=\"\",\"\",VLOOKUP($Q$10,DATA!$P$2:$R$196,3))","v":""},{"$f":"IF(UGT18=\"\",\"\",VLOOKUP($Q$10,DATA!$P$2:$R$196,3))","v":""},{"$f":"IF(UGU18=\"\",\"\",VLOOKUP($Q$10,DATA!$P$2:$R$196,3))","v":""},{"$f":"IF(UGV18=\"\",\"\",VLOOKUP($Q$10,DATA!$P$2:$R$196,3))","v":""},{"$f":"IF(UGW18=\"\",\"\",VLOOKUP($Q$10,DATA!$P$2:$R$196,3))","v":""},{"$f":"IF(UGX18=\"\",\"\",VLOOKUP($Q$10,DATA!$P$2:$R$196,3))","v":""},{"$f":"IF(UGY18=\"\",\"\",VLOOKUP($Q$10,DATA!$P$2:$R$196,3))","v":""},{"$f":"IF(UGZ18=\"\",\"\",VLOOKUP($Q$10,DATA!$P$2:$R$196,3))","v":""},{"$f":"IF(UHA18=\"\",\"\",VLOOKUP($Q$10,DATA!$P$2:$R$196,3))","v":""},{"$f":"IF(UHB18=\"\",\"\",VLOOKUP($Q$10,DATA!$P$2:$R$196,3))","v":""},{"$f":"IF(UHC18=\"\",\"\",VLOOKUP($Q$10,DATA!$P$2:$R$196,3))","v":""},{"$f":"IF(UHD18=\"\",\"\",VLOOKUP($Q$10,DATA!$P$2:$R$196,3))","v":""},{"$f":"IF(UHE18=\"\",\"\",VLOOKUP($Q$10,DATA!$P$2:$R$196,3))","v":""},{"$f":"IF(UHF18=\"\",\"\",VLOOKUP($Q$10,DATA!$P$2:$R$196,3))","v":""},{"$f":"IF(UHG18=\"\",\"\",VLOOKUP($Q$10,DATA!$P$2:$R$196,3))","v":""},{"$f":"IF(UHH18=\"\",\"\",VLOOKUP($Q$10,DATA!$P$2:$R$196,3))","v":""},{"$f":"IF(UHI18=\"\",\"\",VLOOKUP($Q$10,DATA!$P$2:$R$196,3))","v":""},{"$f":"IF(UHJ18=\"\",\"\",VLOOKUP($Q$10,DATA!$P$2:$R$196,3))","v":""},{"$f":"IF(UHK18=\"\",\"\",VLOOKUP($Q$10,DATA!$P$2:$R$196,3))","v":""},{"$f":"IF(UHL18=\"\",\"\",VLOOKUP($Q$10,DATA!$P$2:$R$196,3))","v":""},{"$f":"IF(UHM18=\"\",\"\",VLOOKUP($Q$10,DATA!$P$2:$R$196,3))","v":""},{"$f":"IF(UHN18=\"\",\"\",VLOOKUP($Q$10,DATA!$P$2:$R$196,3))","v":""},{"$f":"IF(UHO18=\"\",\"\",VLOOKUP($Q$10,DATA!$P$2:$R$196,3))","v":""},{"$f":"IF(UHP18=\"\",\"\",VLOOKUP($Q$10,DATA!$P$2:$R$196,3))","v":""},{"$f":"IF(UHQ18=\"\",\"\",VLOOKUP($Q$10,DATA!$P$2:$R$196,3))","v":""},{"$f":"IF(UHR18=\"\",\"\",VLOOKUP($Q$10,DATA!$P$2:$R$196,3))","v":""},{"$f":"IF(UHS18=\"\",\"\",VLOOKUP($Q$10,DATA!$P$2:$R$196,3))","v":""},{"$f":"IF(UHT18=\"\",\"\",VLOOKUP($Q$10,DATA!$P$2:$R$196,3))","v":""},{"$f":"IF(UHU18=\"\",\"\",VLOOKUP($Q$10,DATA!$P$2:$R$196,3))","v":""},{"$f":"IF(UHV18=\"\",\"\",VLOOKUP($Q$10,DATA!$P$2:$R$196,3))","v":""},{"$f":"IF(UHW18=\"\",\"\",VLOOKUP($Q$10,DATA!$P$2:$R$196,3))","v":""},{"$f":"IF(UHX18=\"\",\"\",VLOOKUP($Q$10,DATA!$P$2:$R$196,3))","v":""},{"$f":"IF(UHY18=\"\",\"\",VLOOKUP($Q$10,DATA!$P$2:$R$196,3))","v":""},{"$f":"IF(UHZ18=\"\",\"\",VLOOKUP($Q$10,DATA!$P$2:$R$196,3))","v":""},{"$f":"IF(UIA18=\"\",\"\",VLOOKUP($Q$10,DATA!$P$2:$R$196,3))","v":""},{"$f":"IF(UIB18=\"\",\"\",VLOOKUP($Q$10,DATA!$P$2:$R$196,3))","v":""},{"$f":"IF(UIC18=\"\",\"\",VLOOKUP($Q$10,DATA!$P$2:$R$196,3))","v":""},{"$f":"IF(UID18=\"\",\"\",VLOOKUP($Q$10,DATA!$P$2:$R$196,3))","v":""},{"$f":"IF(UIE18=\"\",\"\",VLOOKUP($Q$10,DATA!$P$2:$R$196,3))","v":""},{"$f":"IF(UIF18=\"\",\"\",VLOOKUP($Q$10,DATA!$P$2:$R$196,3))","v":""},{"$f":"IF(UIG18=\"\",\"\",VLOOKUP($Q$10,DATA!$P$2:$R$196,3))","v":""},{"$f":"IF(UIH18=\"\",\"\",VLOOKUP($Q$10,DATA!$P$2:$R$196,3))","v":""},{"$f":"IF(UII18=\"\",\"\",VLOOKUP($Q$10,DATA!$P$2:$R$196,3))","v":""},{"$f":"IF(UIJ18=\"\",\"\",VLOOKUP($Q$10,DATA!$P$2:$R$196,3))","v":""},{"$f":"IF(UIK18=\"\",\"\",VLOOKUP($Q$10,DATA!$P$2:$R$196,3))","v":""},{"$f":"IF(UIL18=\"\",\"\",VLOOKUP($Q$10,DATA!$P$2:$R$196,3))","v":""},{"$f":"IF(UIM18=\"\",\"\",VLOOKUP($Q$10,DATA!$P$2:$R$196,3))","v":""},{"$f":"IF(UIN18=\"\",\"\",VLOOKUP($Q$10,DATA!$P$2:$R$196,3))","v":""},{"$f":"IF(UIO18=\"\",\"\",VLOOKUP($Q$10,DATA!$P$2:$R$196,3))","v":""},{"$f":"IF(UIP18=\"\",\"\",VLOOKUP($Q$10,DATA!$P$2:$R$196,3))","v":""},{"$f":"IF(UIQ18=\"\",\"\",VLOOKUP($Q$10,DATA!$P$2:$R$196,3))","v":""},{"$f":"IF(UIR18=\"\",\"\",VLOOKUP($Q$10,DATA!$P$2:$R$196,3))","v":""},{"$f":"IF(UIS18=\"\",\"\",VLOOKUP($Q$10,DATA!$P$2:$R$196,3))","v":""},{"$f":"IF(UIT18=\"\",\"\",VLOOKUP($Q$10,DATA!$P$2:$R$196,3))","v":""},{"$f":"IF(UIU18=\"\",\"\",VLOOKUP($Q$10,DATA!$P$2:$R$196,3))","v":""},{"$f":"IF(UIV18=\"\",\"\",VLOOKUP($Q$10,DATA!$P$2:$R$196,3))","v":""},{"$f":"IF(UIW18=\"\",\"\",VLOOKUP($Q$10,DATA!$P$2:$R$196,3))","v":""},{"$f":"IF(UIX18=\"\",\"\",VLOOKUP($Q$10,DATA!$P$2:$R$196,3))","v":""},{"$f":"IF(UIY18=\"\",\"\",VLOOKUP($Q$10,DATA!$P$2:$R$196,3))","v":""},{"$f":"IF(UIZ18=\"\",\"\",VLOOKUP($Q$10,DATA!$P$2:$R$196,3))","v":""},{"$f":"IF(UJA18=\"\",\"\",VLOOKUP($Q$10,DATA!$P$2:$R$196,3))","v":""},{"$f":"IF(UJB18=\"\",\"\",VLOOKUP($Q$10,DATA!$P$2:$R$196,3))","v":""},{"$f":"IF(UJC18=\"\",\"\",VLOOKUP($Q$10,DATA!$P$2:$R$196,3))","v":""},{"$f":"IF(UJD18=\"\",\"\",VLOOKUP($Q$10,DATA!$P$2:$R$196,3))","v":""},{"$f":"IF(UJE18=\"\",\"\",VLOOKUP($Q$10,DATA!$P$2:$R$196,3))","v":""},{"$f":"IF(UJF18=\"\",\"\",VLOOKUP($Q$10,DATA!$P$2:$R$196,3))","v":""},{"$f":"IF(UJG18=\"\",\"\",VLOOKUP($Q$10,DATA!$P$2:$R$196,3))","v":""},{"$f":"IF(UJH18=\"\",\"\",VLOOKUP($Q$10,DATA!$P$2:$R$196,3))","v":""},{"$f":"IF(UJI18=\"\",\"\",VLOOKUP($Q$10,DATA!$P$2:$R$196,3))","v":""},{"$f":"IF(UJJ18=\"\",\"\",VLOOKUP($Q$10,DATA!$P$2:$R$196,3))","v":""},{"$f":"IF(UJK18=\"\",\"\",VLOOKUP($Q$10,DATA!$P$2:$R$196,3))","v":""},{"$f":"IF(UJL18=\"\",\"\",VLOOKUP($Q$10,DATA!$P$2:$R$196,3))","v":""},{"$f":"IF(UJM18=\"\",\"\",VLOOKUP($Q$10,DATA!$P$2:$R$196,3))","v":""},{"$f":"IF(UJN18=\"\",\"\",VLOOKUP($Q$10,DATA!$P$2:$R$196,3))","v":""},{"$f":"IF(UJO18=\"\",\"\",VLOOKUP($Q$10,DATA!$P$2:$R$196,3))","v":""},{"$f":"IF(UJP18=\"\",\"\",VLOOKUP($Q$10,DATA!$P$2:$R$196,3))","v":""},{"$f":"IF(UJQ18=\"\",\"\",VLOOKUP($Q$10,DATA!$P$2:$R$196,3))","v":""},{"$f":"IF(UJR18=\"\",\"\",VLOOKUP($Q$10,DATA!$P$2:$R$196,3))","v":""},{"$f":"IF(UJS18=\"\",\"\",VLOOKUP($Q$10,DATA!$P$2:$R$196,3))","v":""},{"$f":"IF(UJT18=\"\",\"\",VLOOKUP($Q$10,DATA!$P$2:$R$196,3))","v":""},{"$f":"IF(UJU18=\"\",\"\",VLOOKUP($Q$10,DATA!$P$2:$R$196,3))","v":""},{"$f":"IF(UJV18=\"\",\"\",VLOOKUP($Q$10,DATA!$P$2:$R$196,3))","v":""},{"$f":"IF(UJW18=\"\",\"\",VLOOKUP($Q$10,DATA!$P$2:$R$196,3))","v":""},{"$f":"IF(UJX18=\"\",\"\",VLOOKUP($Q$10,DATA!$P$2:$R$196,3))","v":""},{"$f":"IF(UJY18=\"\",\"\",VLOOKUP($Q$10,DATA!$P$2:$R$196,3))","v":""},{"$f":"IF(UJZ18=\"\",\"\",VLOOKUP($Q$10,DATA!$P$2:$R$196,3))","v":""},{"$f":"IF(UKA18=\"\",\"\",VLOOKUP($Q$10,DATA!$P$2:$R$196,3))","v":""},{"$f":"IF(UKB18=\"\",\"\",VLOOKUP($Q$10,DATA!$P$2:$R$196,3))","v":""},{"$f":"IF(UKC18=\"\",\"\",VLOOKUP($Q$10,DATA!$P$2:$R$196,3))","v":""},{"$f":"IF(UKD18=\"\",\"\",VLOOKUP($Q$10,DATA!$P$2:$R$196,3))","v":""},{"$f":"IF(UKE18=\"\",\"\",VLOOKUP($Q$10,DATA!$P$2:$R$196,3))","v":""},{"$f":"IF(UKF18=\"\",\"\",VLOOKUP($Q$10,DATA!$P$2:$R$196,3))","v":""},{"$f":"IF(UKG18=\"\",\"\",VLOOKUP($Q$10,DATA!$P$2:$R$196,3))","v":""},{"$f":"IF(UKH18=\"\",\"\",VLOOKUP($Q$10,DATA!$P$2:$R$196,3))","v":""},{"$f":"IF(UKI18=\"\",\"\",VLOOKUP($Q$10,DATA!$P$2:$R$196,3))","v":""},{"$f":"IF(UKJ18=\"\",\"\",VLOOKUP($Q$10,DATA!$P$2:$R$196,3))","v":""},{"$f":"IF(UKK18=\"\",\"\",VLOOKUP($Q$10,DATA!$P$2:$R$196,3))","v":""},{"$f":"IF(UKL18=\"\",\"\",VLOOKUP($Q$10,DATA!$P$2:$R$196,3))","v":""},{"$f":"IF(UKM18=\"\",\"\",VLOOKUP($Q$10,DATA!$P$2:$R$196,3))","v":""},{"$f":"IF(UKN18=\"\",\"\",VLOOKUP($Q$10,DATA!$P$2:$R$196,3))","v":""},{"$f":"IF(UKO18=\"\",\"\",VLOOKUP($Q$10,DATA!$P$2:$R$196,3))","v":""},{"$f":"IF(UKP18=\"\",\"\",VLOOKUP($Q$10,DATA!$P$2:$R$196,3))","v":""},{"$f":"IF(UKQ18=\"\",\"\",VLOOKUP($Q$10,DATA!$P$2:$R$196,3))","v":""},{"$f":"IF(UKR18=\"\",\"\",VLOOKUP($Q$10,DATA!$P$2:$R$196,3))","v":""},{"$f":"IF(UKS18=\"\",\"\",VLOOKUP($Q$10,DATA!$P$2:$R$196,3))","v":""},{"$f":"IF(UKT18=\"\",\"\",VLOOKUP($Q$10,DATA!$P$2:$R$196,3))","v":""},{"$f":"IF(UKU18=\"\",\"\",VLOOKUP($Q$10,DATA!$P$2:$R$196,3))","v":""},{"$f":"IF(UKV18=\"\",\"\",VLOOKUP($Q$10,DATA!$P$2:$R$196,3))","v":""},{"$f":"IF(UKW18=\"\",\"\",VLOOKUP($Q$10,DATA!$P$2:$R$196,3))","v":""},{"$f":"IF(UKX18=\"\",\"\",VLOOKUP($Q$10,DATA!$P$2:$R$196,3))","v":""},{"$f":"IF(UKY18=\"\",\"\",VLOOKUP($Q$10,DATA!$P$2:$R$196,3))","v":""},{"$f":"IF(UKZ18=\"\",\"\",VLOOKUP($Q$10,DATA!$P$2:$R$196,3))","v":""},{"$f":"IF(ULA18=\"\",\"\",VLOOKUP($Q$10,DATA!$P$2:$R$196,3))","v":""},{"$f":"IF(ULB18=\"\",\"\",VLOOKUP($Q$10,DATA!$P$2:$R$196,3))","v":""},{"$f":"IF(ULC18=\"\",\"\",VLOOKUP($Q$10,DATA!$P$2:$R$196,3))","v":""},{"$f":"IF(ULD18=\"\",\"\",VLOOKUP($Q$10,DATA!$P$2:$R$196,3))","v":""},{"$f":"IF(ULE18=\"\",\"\",VLOOKUP($Q$10,DATA!$P$2:$R$196,3))","v":""},{"$f":"IF(ULF18=\"\",\"\",VLOOKUP($Q$10,DATA!$P$2:$R$196,3))","v":""},{"$f":"IF(ULG18=\"\",\"\",VLOOKUP($Q$10,DATA!$P$2:$R$196,3))","v":""},{"$f":"IF(ULH18=\"\",\"\",VLOOKUP($Q$10,DATA!$P$2:$R$196,3))","v":""},{"$f":"IF(ULI18=\"\",\"\",VLOOKUP($Q$10,DATA!$P$2:$R$196,3))","v":""},{"$f":"IF(ULJ18=\"\",\"\",VLOOKUP($Q$10,DATA!$P$2:$R$196,3))","v":""},{"$f":"IF(ULK18=\"\",\"\",VLOOKUP($Q$10,DATA!$P$2:$R$196,3))","v":""},{"$f":"IF(ULL18=\"\",\"\",VLOOKUP($Q$10,DATA!$P$2:$R$196,3))","v":""},{"$f":"IF(ULM18=\"\",\"\",VLOOKUP($Q$10,DATA!$P$2:$R$196,3))","v":""},{"$f":"IF(ULN18=\"\",\"\",VLOOKUP($Q$10,DATA!$P$2:$R$196,3))","v":""},{"$f":"IF(ULO18=\"\",\"\",VLOOKUP($Q$10,DATA!$P$2:$R$196,3))","v":""},{"$f":"IF(ULP18=\"\",\"\",VLOOKUP($Q$10,DATA!$P$2:$R$196,3))","v":""},{"$f":"IF(ULQ18=\"\",\"\",VLOOKUP($Q$10,DATA!$P$2:$R$196,3))","v":""},{"$f":"IF(ULR18=\"\",\"\",VLOOKUP($Q$10,DATA!$P$2:$R$196,3))","v":""},{"$f":"IF(ULS18=\"\",\"\",VLOOKUP($Q$10,DATA!$P$2:$R$196,3))","v":""},{"$f":"IF(ULT18=\"\",\"\",VLOOKUP($Q$10,DATA!$P$2:$R$196,3))","v":""},{"$f":"IF(ULU18=\"\",\"\",VLOOKUP($Q$10,DATA!$P$2:$R$196,3))","v":""},{"$f":"IF(ULV18=\"\",\"\",VLOOKUP($Q$10,DATA!$P$2:$R$196,3))","v":""},{"$f":"IF(ULW18=\"\",\"\",VLOOKUP($Q$10,DATA!$P$2:$R$196,3))","v":""},{"$f":"IF(ULX18=\"\",\"\",VLOOKUP($Q$10,DATA!$P$2:$R$196,3))","v":""},{"$f":"IF(ULY18=\"\",\"\",VLOOKUP($Q$10,DATA!$P$2:$R$196,3))","v":""},{"$f":"IF(ULZ18=\"\",\"\",VLOOKUP($Q$10,DATA!$P$2:$R$196,3))","v":""},{"$f":"IF(UMA18=\"\",\"\",VLOOKUP($Q$10,DATA!$P$2:$R$196,3))","v":""},{"$f":"IF(UMB18=\"\",\"\",VLOOKUP($Q$10,DATA!$P$2:$R$196,3))","v":""},{"$f":"IF(UMC18=\"\",\"\",VLOOKUP($Q$10,DATA!$P$2:$R$196,3))","v":""},{"$f":"IF(UMD18=\"\",\"\",VLOOKUP($Q$10,DATA!$P$2:$R$196,3))","v":""},{"$f":"IF(UME18=\"\",\"\",VLOOKUP($Q$10,DATA!$P$2:$R$196,3))","v":""},{"$f":"IF(UMF18=\"\",\"\",VLOOKUP($Q$10,DATA!$P$2:$R$196,3))","v":""},{"$f":"IF(UMG18=\"\",\"\",VLOOKUP($Q$10,DATA!$P$2:$R$196,3))","v":""},{"$f":"IF(UMH18=\"\",\"\",VLOOKUP($Q$10,DATA!$P$2:$R$196,3))","v":""},{"$f":"IF(UMI18=\"\",\"\",VLOOKUP($Q$10,DATA!$P$2:$R$196,3))","v":""},{"$f":"IF(UMJ18=\"\",\"\",VLOOKUP($Q$10,DATA!$P$2:$R$196,3))","v":""},{"$f":"IF(UMK18=\"\",\"\",VLOOKUP($Q$10,DATA!$P$2:$R$196,3))","v":""},{"$f":"IF(UML18=\"\",\"\",VLOOKUP($Q$10,DATA!$P$2:$R$196,3))","v":""},{"$f":"IF(UMM18=\"\",\"\",VLOOKUP($Q$10,DATA!$P$2:$R$196,3))","v":""},{"$f":"IF(UMN18=\"\",\"\",VLOOKUP($Q$10,DATA!$P$2:$R$196,3))","v":""},{"$f":"IF(UMO18=\"\",\"\",VLOOKUP($Q$10,DATA!$P$2:$R$196,3))","v":""},{"$f":"IF(UMP18=\"\",\"\",VLOOKUP($Q$10,DATA!$P$2:$R$196,3))","v":""},{"$f":"IF(UMQ18=\"\",\"\",VLOOKUP($Q$10,DATA!$P$2:$R$196,3))","v":""},{"$f":"IF(UMR18=\"\",\"\",VLOOKUP($Q$10,DATA!$P$2:$R$196,3))","v":""},{"$f":"IF(UMS18=\"\",\"\",VLOOKUP($Q$10,DATA!$P$2:$R$196,3))","v":""},{"$f":"IF(UMT18=\"\",\"\",VLOOKUP($Q$10,DATA!$P$2:$R$196,3))","v":""},{"$f":"IF(UMU18=\"\",\"\",VLOOKUP($Q$10,DATA!$P$2:$R$196,3))","v":""},{"$f":"IF(UMV18=\"\",\"\",VLOOKUP($Q$10,DATA!$P$2:$R$196,3))","v":""},{"$f":"IF(UMW18=\"\",\"\",VLOOKUP($Q$10,DATA!$P$2:$R$196,3))","v":""},{"$f":"IF(UMX18=\"\",\"\",VLOOKUP($Q$10,DATA!$P$2:$R$196,3))","v":""},{"$f":"IF(UMY18=\"\",\"\",VLOOKUP($Q$10,DATA!$P$2:$R$196,3))","v":""},{"$f":"IF(UMZ18=\"\",\"\",VLOOKUP($Q$10,DATA!$P$2:$R$196,3))","v":""},{"$f":"IF(UNA18=\"\",\"\",VLOOKUP($Q$10,DATA!$P$2:$R$196,3))","v":""},{"$f":"IF(UNB18=\"\",\"\",VLOOKUP($Q$10,DATA!$P$2:$R$196,3))","v":""},{"$f":"IF(UNC18=\"\",\"\",VLOOKUP($Q$10,DATA!$P$2:$R$196,3))","v":""},{"$f":"IF(UND18=\"\",\"\",VLOOKUP($Q$10,DATA!$P$2:$R$196,3))","v":""},{"$f":"IF(UNE18=\"\",\"\",VLOOKUP($Q$10,DATA!$P$2:$R$196,3))","v":""},{"$f":"IF(UNF18=\"\",\"\",VLOOKUP($Q$10,DATA!$P$2:$R$196,3))","v":""},{"$f":"IF(UNG18=\"\",\"\",VLOOKUP($Q$10,DATA!$P$2:$R$196,3))","v":""},{"$f":"IF(UNH18=\"\",\"\",VLOOKUP($Q$10,DATA!$P$2:$R$196,3))","v":""},{"$f":"IF(UNI18=\"\",\"\",VLOOKUP($Q$10,DATA!$P$2:$R$196,3))","v":""},{"$f":"IF(UNJ18=\"\",\"\",VLOOKUP($Q$10,DATA!$P$2:$R$196,3))","v":""},{"$f":"IF(UNK18=\"\",\"\",VLOOKUP($Q$10,DATA!$P$2:$R$196,3))","v":""},{"$f":"IF(UNL18=\"\",\"\",VLOOKUP($Q$10,DATA!$P$2:$R$196,3))","v":""},{"$f":"IF(UNM18=\"\",\"\",VLOOKUP($Q$10,DATA!$P$2:$R$196,3))","v":""},{"$f":"IF(UNN18=\"\",\"\",VLOOKUP($Q$10,DATA!$P$2:$R$196,3))","v":""},{"$f":"IF(UNO18=\"\",\"\",VLOOKUP($Q$10,DATA!$P$2:$R$196,3))","v":""},{"$f":"IF(UNP18=\"\",\"\",VLOOKUP($Q$10,DATA!$P$2:$R$196,3))","v":""},{"$f":"IF(UNQ18=\"\",\"\",VLOOKUP($Q$10,DATA!$P$2:$R$196,3))","v":""},{"$f":"IF(UNR18=\"\",\"\",VLOOKUP($Q$10,DATA!$P$2:$R$196,3))","v":""},{"$f":"IF(UNS18=\"\",\"\",VLOOKUP($Q$10,DATA!$P$2:$R$196,3))","v":""},{"$f":"IF(UNT18=\"\",\"\",VLOOKUP($Q$10,DATA!$P$2:$R$196,3))","v":""},{"$f":"IF(UNU18=\"\",\"\",VLOOKUP($Q$10,DATA!$P$2:$R$196,3))","v":""},{"$f":"IF(UNV18=\"\",\"\",VLOOKUP($Q$10,DATA!$P$2:$R$196,3))","v":""},{"$f":"IF(UNW18=\"\",\"\",VLOOKUP($Q$10,DATA!$P$2:$R$196,3))","v":""},{"$f":"IF(UNX18=\"\",\"\",VLOOKUP($Q$10,DATA!$P$2:$R$196,3))","v":""},{"$f":"IF(UNY18=\"\",\"\",VLOOKUP($Q$10,DATA!$P$2:$R$196,3))","v":""},{"$f":"IF(UNZ18=\"\",\"\",VLOOKUP($Q$10,DATA!$P$2:$R$196,3))","v":""},{"$f":"IF(UOA18=\"\",\"\",VLOOKUP($Q$10,DATA!$P$2:$R$196,3))","v":""},{"$f":"IF(UOB18=\"\",\"\",VLOOKUP($Q$10,DATA!$P$2:$R$196,3))","v":""},{"$f":"IF(UOC18=\"\",\"\",VLOOKUP($Q$10,DATA!$P$2:$R$196,3))","v":""},{"$f":"IF(UOD18=\"\",\"\",VLOOKUP($Q$10,DATA!$P$2:$R$196,3))","v":""},{"$f":"IF(UOE18=\"\",\"\",VLOOKUP($Q$10,DATA!$P$2:$R$196,3))","v":""},{"$f":"IF(UOF18=\"\",\"\",VLOOKUP($Q$10,DATA!$P$2:$R$196,3))","v":""},{"$f":"IF(UOG18=\"\",\"\",VLOOKUP($Q$10,DATA!$P$2:$R$196,3))","v":""},{"$f":"IF(UOH18=\"\",\"\",VLOOKUP($Q$10,DATA!$P$2:$R$196,3))","v":""},{"$f":"IF(UOI18=\"\",\"\",VLOOKUP($Q$10,DATA!$P$2:$R$196,3))","v":""},{"$f":"IF(UOJ18=\"\",\"\",VLOOKUP($Q$10,DATA!$P$2:$R$196,3))","v":""},{"$f":"IF(UOK18=\"\",\"\",VLOOKUP($Q$10,DATA!$P$2:$R$196,3))","v":""},{"$f":"IF(UOL18=\"\",\"\",VLOOKUP($Q$10,DATA!$P$2:$R$196,3))","v":""},{"$f":"IF(UOM18=\"\",\"\",VLOOKUP($Q$10,DATA!$P$2:$R$196,3))","v":""},{"$f":"IF(UON18=\"\",\"\",VLOOKUP($Q$10,DATA!$P$2:$R$196,3))","v":""},{"$f":"IF(UOO18=\"\",\"\",VLOOKUP($Q$10,DATA!$P$2:$R$196,3))","v":""},{"$f":"IF(UOP18=\"\",\"\",VLOOKUP($Q$10,DATA!$P$2:$R$196,3))","v":""},{"$f":"IF(UOQ18=\"\",\"\",VLOOKUP($Q$10,DATA!$P$2:$R$196,3))","v":""},{"$f":"IF(UOR18=\"\",\"\",VLOOKUP($Q$10,DATA!$P$2:$R$196,3))","v":""},{"$f":"IF(UOS18=\"\",\"\",VLOOKUP($Q$10,DATA!$P$2:$R$196,3))","v":""},{"$f":"IF(UOT18=\"\",\"\",VLOOKUP($Q$10,DATA!$P$2:$R$196,3))","v":""},{"$f":"IF(UOU18=\"\",\"\",VLOOKUP($Q$10,DATA!$P$2:$R$196,3))","v":""},{"$f":"IF(UOV18=\"\",\"\",VLOOKUP($Q$10,DATA!$P$2:$R$196,3))","v":""},{"$f":"IF(UOW18=\"\",\"\",VLOOKUP($Q$10,DATA!$P$2:$R$196,3))","v":""},{"$f":"IF(UOX18=\"\",\"\",VLOOKUP($Q$10,DATA!$P$2:$R$196,3))","v":""},{"$f":"IF(UOY18=\"\",\"\",VLOOKUP($Q$10,DATA!$P$2:$R$196,3))","v":""},{"$f":"IF(UOZ18=\"\",\"\",VLOOKUP($Q$10,DATA!$P$2:$R$196,3))","v":""},{"$f":"IF(UPA18=\"\",\"\",VLOOKUP($Q$10,DATA!$P$2:$R$196,3))","v":""},{"$f":"IF(UPB18=\"\",\"\",VLOOKUP($Q$10,DATA!$P$2:$R$196,3))","v":""},{"$f":"IF(UPC18=\"\",\"\",VLOOKUP($Q$10,DATA!$P$2:$R$196,3))","v":""},{"$f":"IF(UPD18=\"\",\"\",VLOOKUP($Q$10,DATA!$P$2:$R$196,3))","v":""},{"$f":"IF(UPE18=\"\",\"\",VLOOKUP($Q$10,DATA!$P$2:$R$196,3))","v":""},{"$f":"IF(UPF18=\"\",\"\",VLOOKUP($Q$10,DATA!$P$2:$R$196,3))","v":""},{"$f":"IF(UPG18=\"\",\"\",VLOOKUP($Q$10,DATA!$P$2:$R$196,3))","v":""},{"$f":"IF(UPH18=\"\",\"\",VLOOKUP($Q$10,DATA!$P$2:$R$196,3))","v":""},{"$f":"IF(UPI18=\"\",\"\",VLOOKUP($Q$10,DATA!$P$2:$R$196,3))","v":""},{"$f":"IF(UPJ18=\"\",\"\",VLOOKUP($Q$10,DATA!$P$2:$R$196,3))","v":""},{"$f":"IF(UPK18=\"\",\"\",VLOOKUP($Q$10,DATA!$P$2:$R$196,3))","v":""},{"$f":"IF(UPL18=\"\",\"\",VLOOKUP($Q$10,DATA!$P$2:$R$196,3))","v":""},{"$f":"IF(UPM18=\"\",\"\",VLOOKUP($Q$10,DATA!$P$2:$R$196,3))","v":""},{"$f":"IF(UPN18=\"\",\"\",VLOOKUP($Q$10,DATA!$P$2:$R$196,3))","v":""},{"$f":"IF(UPO18=\"\",\"\",VLOOKUP($Q$10,DATA!$P$2:$R$196,3))","v":""},{"$f":"IF(UPP18=\"\",\"\",VLOOKUP($Q$10,DATA!$P$2:$R$196,3))","v":""},{"$f":"IF(UPQ18=\"\",\"\",VLOOKUP($Q$10,DATA!$P$2:$R$196,3))","v":""},{"$f":"IF(UPR18=\"\",\"\",VLOOKUP($Q$10,DATA!$P$2:$R$196,3))","v":""},{"$f":"IF(UPS18=\"\",\"\",VLOOKUP($Q$10,DATA!$P$2:$R$196,3))","v":""},{"$f":"IF(UPT18=\"\",\"\",VLOOKUP($Q$10,DATA!$P$2:$R$196,3))","v":""},{"$f":"IF(UPU18=\"\",\"\",VLOOKUP($Q$10,DATA!$P$2:$R$196,3))","v":""},{"$f":"IF(UPV18=\"\",\"\",VLOOKUP($Q$10,DATA!$P$2:$R$196,3))","v":""},{"$f":"IF(UPW18=\"\",\"\",VLOOKUP($Q$10,DATA!$P$2:$R$196,3))","v":""},{"$f":"IF(UPX18=\"\",\"\",VLOOKUP($Q$10,DATA!$P$2:$R$196,3))","v":""},{"$f":"IF(UPY18=\"\",\"\",VLOOKUP($Q$10,DATA!$P$2:$R$196,3))","v":""},{"$f":"IF(UPZ18=\"\",\"\",VLOOKUP($Q$10,DATA!$P$2:$R$196,3))","v":""},{"$f":"IF(UQA18=\"\",\"\",VLOOKUP($Q$10,DATA!$P$2:$R$196,3))","v":""},{"$f":"IF(UQB18=\"\",\"\",VLOOKUP($Q$10,DATA!$P$2:$R$196,3))","v":""},{"$f":"IF(UQC18=\"\",\"\",VLOOKUP($Q$10,DATA!$P$2:$R$196,3))","v":""},{"$f":"IF(UQD18=\"\",\"\",VLOOKUP($Q$10,DATA!$P$2:$R$196,3))","v":""},{"$f":"IF(UQE18=\"\",\"\",VLOOKUP($Q$10,DATA!$P$2:$R$196,3))","v":""},{"$f":"IF(UQF18=\"\",\"\",VLOOKUP($Q$10,DATA!$P$2:$R$196,3))","v":""},{"$f":"IF(UQG18=\"\",\"\",VLOOKUP($Q$10,DATA!$P$2:$R$196,3))","v":""},{"$f":"IF(UQH18=\"\",\"\",VLOOKUP($Q$10,DATA!$P$2:$R$196,3))","v":""},{"$f":"IF(UQI18=\"\",\"\",VLOOKUP($Q$10,DATA!$P$2:$R$196,3))","v":""},{"$f":"IF(UQJ18=\"\",\"\",VLOOKUP($Q$10,DATA!$P$2:$R$196,3))","v":""},{"$f":"IF(UQK18=\"\",\"\",VLOOKUP($Q$10,DATA!$P$2:$R$196,3))","v":""},{"$f":"IF(UQL18=\"\",\"\",VLOOKUP($Q$10,DATA!$P$2:$R$196,3))","v":""},{"$f":"IF(UQM18=\"\",\"\",VLOOKUP($Q$10,DATA!$P$2:$R$196,3))","v":""},{"$f":"IF(UQN18=\"\",\"\",VLOOKUP($Q$10,DATA!$P$2:$R$196,3))","v":""},{"$f":"IF(UQO18=\"\",\"\",VLOOKUP($Q$10,DATA!$P$2:$R$196,3))","v":""},{"$f":"IF(UQP18=\"\",\"\",VLOOKUP($Q$10,DATA!$P$2:$R$196,3))","v":""},{"$f":"IF(UQQ18=\"\",\"\",VLOOKUP($Q$10,DATA!$P$2:$R$196,3))","v":""},{"$f":"IF(UQR18=\"\",\"\",VLOOKUP($Q$10,DATA!$P$2:$R$196,3))","v":""},{"$f":"IF(UQS18=\"\",\"\",VLOOKUP($Q$10,DATA!$P$2:$R$196,3))","v":""},{"$f":"IF(UQT18=\"\",\"\",VLOOKUP($Q$10,DATA!$P$2:$R$196,3))","v":""},{"$f":"IF(UQU18=\"\",\"\",VLOOKUP($Q$10,DATA!$P$2:$R$196,3))","v":""},{"$f":"IF(UQV18=\"\",\"\",VLOOKUP($Q$10,DATA!$P$2:$R$196,3))","v":""},{"$f":"IF(UQW18=\"\",\"\",VLOOKUP($Q$10,DATA!$P$2:$R$196,3))","v":""},{"$f":"IF(UQX18=\"\",\"\",VLOOKUP($Q$10,DATA!$P$2:$R$196,3))","v":""},{"$f":"IF(UQY18=\"\",\"\",VLOOKUP($Q$10,DATA!$P$2:$R$196,3))","v":""},{"$f":"IF(UQZ18=\"\",\"\",VLOOKUP($Q$10,DATA!$P$2:$R$196,3))","v":""},{"$f":"IF(URA18=\"\",\"\",VLOOKUP($Q$10,DATA!$P$2:$R$196,3))","v":""},{"$f":"IF(URB18=\"\",\"\",VLOOKUP($Q$10,DATA!$P$2:$R$196,3))","v":""},{"$f":"IF(URC18=\"\",\"\",VLOOKUP($Q$10,DATA!$P$2:$R$196,3))","v":""},{"$f":"IF(URD18=\"\",\"\",VLOOKUP($Q$10,DATA!$P$2:$R$196,3))","v":""},{"$f":"IF(URE18=\"\",\"\",VLOOKUP($Q$10,DATA!$P$2:$R$196,3))","v":""},{"$f":"IF(URF18=\"\",\"\",VLOOKUP($Q$10,DATA!$P$2:$R$196,3))","v":""},{"$f":"IF(URG18=\"\",\"\",VLOOKUP($Q$10,DATA!$P$2:$R$196,3))","v":""},{"$f":"IF(URH18=\"\",\"\",VLOOKUP($Q$10,DATA!$P$2:$R$196,3))","v":""},{"$f":"IF(URI18=\"\",\"\",VLOOKUP($Q$10,DATA!$P$2:$R$196,3))","v":""},{"$f":"IF(URJ18=\"\",\"\",VLOOKUP($Q$10,DATA!$P$2:$R$196,3))","v":""},{"$f":"IF(URK18=\"\",\"\",VLOOKUP($Q$10,DATA!$P$2:$R$196,3))","v":""},{"$f":"IF(URL18=\"\",\"\",VLOOKUP($Q$10,DATA!$P$2:$R$196,3))","v":""},{"$f":"IF(URM18=\"\",\"\",VLOOKUP($Q$10,DATA!$P$2:$R$196,3))","v":""},{"$f":"IF(URN18=\"\",\"\",VLOOKUP($Q$10,DATA!$P$2:$R$196,3))","v":""},{"$f":"IF(URO18=\"\",\"\",VLOOKUP($Q$10,DATA!$P$2:$R$196,3))","v":""},{"$f":"IF(URP18=\"\",\"\",VLOOKUP($Q$10,DATA!$P$2:$R$196,3))","v":""},{"$f":"IF(URQ18=\"\",\"\",VLOOKUP($Q$10,DATA!$P$2:$R$196,3))","v":""},{"$f":"IF(URR18=\"\",\"\",VLOOKUP($Q$10,DATA!$P$2:$R$196,3))","v":""},{"$f":"IF(URS18=\"\",\"\",VLOOKUP($Q$10,DATA!$P$2:$R$196,3))","v":""},{"$f":"IF(URT18=\"\",\"\",VLOOKUP($Q$10,DATA!$P$2:$R$196,3))","v":""},{"$f":"IF(URU18=\"\",\"\",VLOOKUP($Q$10,DATA!$P$2:$R$196,3))","v":""},{"$f":"IF(URV18=\"\",\"\",VLOOKUP($Q$10,DATA!$P$2:$R$196,3))","v":""},{"$f":"IF(URW18=\"\",\"\",VLOOKUP($Q$10,DATA!$P$2:$R$196,3))","v":""},{"$f":"IF(URX18=\"\",\"\",VLOOKUP($Q$10,DATA!$P$2:$R$196,3))","v":""},{"$f":"IF(URY18=\"\",\"\",VLOOKUP($Q$10,DATA!$P$2:$R$196,3))","v":""},{"$f":"IF(URZ18=\"\",\"\",VLOOKUP($Q$10,DATA!$P$2:$R$196,3))","v":""},{"$f":"IF(USA18=\"\",\"\",VLOOKUP($Q$10,DATA!$P$2:$R$196,3))","v":""},{"$f":"IF(USB18=\"\",\"\",VLOOKUP($Q$10,DATA!$P$2:$R$196,3))","v":""},{"$f":"IF(USC18=\"\",\"\",VLOOKUP($Q$10,DATA!$P$2:$R$196,3))","v":""},{"$f":"IF(USD18=\"\",\"\",VLOOKUP($Q$10,DATA!$P$2:$R$196,3))","v":""},{"$f":"IF(USE18=\"\",\"\",VLOOKUP($Q$10,DATA!$P$2:$R$196,3))","v":""},{"$f":"IF(USF18=\"\",\"\",VLOOKUP($Q$10,DATA!$P$2:$R$196,3))","v":""},{"$f":"IF(USG18=\"\",\"\",VLOOKUP($Q$10,DATA!$P$2:$R$196,3))","v":""},{"$f":"IF(USH18=\"\",\"\",VLOOKUP($Q$10,DATA!$P$2:$R$196,3))","v":""},{"$f":"IF(USI18=\"\",\"\",VLOOKUP($Q$10,DATA!$P$2:$R$196,3))","v":""},{"$f":"IF(USJ18=\"\",\"\",VLOOKUP($Q$10,DATA!$P$2:$R$196,3))","v":""},{"$f":"IF(USK18=\"\",\"\",VLOOKUP($Q$10,DATA!$P$2:$R$196,3))","v":""},{"$f":"IF(USL18=\"\",\"\",VLOOKUP($Q$10,DATA!$P$2:$R$196,3))","v":""},{"$f":"IF(USM18=\"\",\"\",VLOOKUP($Q$10,DATA!$P$2:$R$196,3))","v":""},{"$f":"IF(USN18=\"\",\"\",VLOOKUP($Q$10,DATA!$P$2:$R$196,3))","v":""},{"$f":"IF(USO18=\"\",\"\",VLOOKUP($Q$10,DATA!$P$2:$R$196,3))","v":""},{"$f":"IF(USP18=\"\",\"\",VLOOKUP($Q$10,DATA!$P$2:$R$196,3))","v":""},{"$f":"IF(USQ18=\"\",\"\",VLOOKUP($Q$10,DATA!$P$2:$R$196,3))","v":""},{"$f":"IF(USR18=\"\",\"\",VLOOKUP($Q$10,DATA!$P$2:$R$196,3))","v":""},{"$f":"IF(USS18=\"\",\"\",VLOOKUP($Q$10,DATA!$P$2:$R$196,3))","v":""},{"$f":"IF(UST18=\"\",\"\",VLOOKUP($Q$10,DATA!$P$2:$R$196,3))","v":""},{"$f":"IF(USU18=\"\",\"\",VLOOKUP($Q$10,DATA!$P$2:$R$196,3))","v":""},{"$f":"IF(USV18=\"\",\"\",VLOOKUP($Q$10,DATA!$P$2:$R$196,3))","v":""},{"$f":"IF(USW18=\"\",\"\",VLOOKUP($Q$10,DATA!$P$2:$R$196,3))","v":""},{"$f":"IF(USX18=\"\",\"\",VLOOKUP($Q$10,DATA!$P$2:$R$196,3))","v":""},{"$f":"IF(USY18=\"\",\"\",VLOOKUP($Q$10,DATA!$P$2:$R$196,3))","v":""},{"$f":"IF(USZ18=\"\",\"\",VLOOKUP($Q$10,DATA!$P$2:$R$196,3))","v":""},{"$f":"IF(UTA18=\"\",\"\",VLOOKUP($Q$10,DATA!$P$2:$R$196,3))","v":""},{"$f":"IF(UTB18=\"\",\"\",VLOOKUP($Q$10,DATA!$P$2:$R$196,3))","v":""},{"$f":"IF(UTC18=\"\",\"\",VLOOKUP($Q$10,DATA!$P$2:$R$196,3))","v":""},{"$f":"IF(UTD18=\"\",\"\",VLOOKUP($Q$10,DATA!$P$2:$R$196,3))","v":""},{"$f":"IF(UTE18=\"\",\"\",VLOOKUP($Q$10,DATA!$P$2:$R$196,3))","v":""},{"$f":"IF(UTF18=\"\",\"\",VLOOKUP($Q$10,DATA!$P$2:$R$196,3))","v":""},{"$f":"IF(UTG18=\"\",\"\",VLOOKUP($Q$10,DATA!$P$2:$R$196,3))","v":""},{"$f":"IF(UTH18=\"\",\"\",VLOOKUP($Q$10,DATA!$P$2:$R$196,3))","v":""},{"$f":"IF(UTI18=\"\",\"\",VLOOKUP($Q$10,DATA!$P$2:$R$196,3))","v":""},{"$f":"IF(UTJ18=\"\",\"\",VLOOKUP($Q$10,DATA!$P$2:$R$196,3))","v":""},{"$f":"IF(UTK18=\"\",\"\",VLOOKUP($Q$10,DATA!$P$2:$R$196,3))","v":""},{"$f":"IF(UTL18=\"\",\"\",VLOOKUP($Q$10,DATA!$P$2:$R$196,3))","v":""},{"$f":"IF(UTM18=\"\",\"\",VLOOKUP($Q$10,DATA!$P$2:$R$196,3))","v":""},{"$f":"IF(UTN18=\"\",\"\",VLOOKUP($Q$10,DATA!$P$2:$R$196,3))","v":""},{"$f":"IF(UTO18=\"\",\"\",VLOOKUP($Q$10,DATA!$P$2:$R$196,3))","v":""},{"$f":"IF(UTP18=\"\",\"\",VLOOKUP($Q$10,DATA!$P$2:$R$196,3))","v":""},{"$f":"IF(UTQ18=\"\",\"\",VLOOKUP($Q$10,DATA!$P$2:$R$196,3))","v":""},{"$f":"IF(UTR18=\"\",\"\",VLOOKUP($Q$10,DATA!$P$2:$R$196,3))","v":""},{"$f":"IF(UTS18=\"\",\"\",VLOOKUP($Q$10,DATA!$P$2:$R$196,3))","v":""},{"$f":"IF(UTT18=\"\",\"\",VLOOKUP($Q$10,DATA!$P$2:$R$196,3))","v":""},{"$f":"IF(UTU18=\"\",\"\",VLOOKUP($Q$10,DATA!$P$2:$R$196,3))","v":""},{"$f":"IF(UTV18=\"\",\"\",VLOOKUP($Q$10,DATA!$P$2:$R$196,3))","v":""},{"$f":"IF(UTW18=\"\",\"\",VLOOKUP($Q$10,DATA!$P$2:$R$196,3))","v":""},{"$f":"IF(UTX18=\"\",\"\",VLOOKUP($Q$10,DATA!$P$2:$R$196,3))","v":""},{"$f":"IF(UTY18=\"\",\"\",VLOOKUP($Q$10,DATA!$P$2:$R$196,3))","v":""},{"$f":"IF(UTZ18=\"\",\"\",VLOOKUP($Q$10,DATA!$P$2:$R$196,3))","v":""},{"$f":"IF(UUA18=\"\",\"\",VLOOKUP($Q$10,DATA!$P$2:$R$196,3))","v":""},{"$f":"IF(UUB18=\"\",\"\",VLOOKUP($Q$10,DATA!$P$2:$R$196,3))","v":""},{"$f":"IF(UUC18=\"\",\"\",VLOOKUP($Q$10,DATA!$P$2:$R$196,3))","v":""},{"$f":"IF(UUD18=\"\",\"\",VLOOKUP($Q$10,DATA!$P$2:$R$196,3))","v":""},{"$f":"IF(UUE18=\"\",\"\",VLOOKUP($Q$10,DATA!$P$2:$R$196,3))","v":""},{"$f":"IF(UUF18=\"\",\"\",VLOOKUP($Q$10,DATA!$P$2:$R$196,3))","v":""},{"$f":"IF(UUG18=\"\",\"\",VLOOKUP($Q$10,DATA!$P$2:$R$196,3))","v":""},{"$f":"IF(UUH18=\"\",\"\",VLOOKUP($Q$10,DATA!$P$2:$R$196,3))","v":""},{"$f":"IF(UUI18=\"\",\"\",VLOOKUP($Q$10,DATA!$P$2:$R$196,3))","v":""},{"$f":"IF(UUJ18=\"\",\"\",VLOOKUP($Q$10,DATA!$P$2:$R$196,3))","v":""},{"$f":"IF(UUK18=\"\",\"\",VLOOKUP($Q$10,DATA!$P$2:$R$196,3))","v":""},{"$f":"IF(UUL18=\"\",\"\",VLOOKUP($Q$10,DATA!$P$2:$R$196,3))","v":""},{"$f":"IF(UUM18=\"\",\"\",VLOOKUP($Q$10,DATA!$P$2:$R$196,3))","v":""},{"$f":"IF(UUN18=\"\",\"\",VLOOKUP($Q$10,DATA!$P$2:$R$196,3))","v":""},{"$f":"IF(UUO18=\"\",\"\",VLOOKUP($Q$10,DATA!$P$2:$R$196,3))","v":""},{"$f":"IF(UUP18=\"\",\"\",VLOOKUP($Q$10,DATA!$P$2:$R$196,3))","v":""},{"$f":"IF(UUQ18=\"\",\"\",VLOOKUP($Q$10,DATA!$P$2:$R$196,3))","v":""},{"$f":"IF(UUR18=\"\",\"\",VLOOKUP($Q$10,DATA!$P$2:$R$196,3))","v":""},{"$f":"IF(UUS18=\"\",\"\",VLOOKUP($Q$10,DATA!$P$2:$R$196,3))","v":""},{"$f":"IF(UUT18=\"\",\"\",VLOOKUP($Q$10,DATA!$P$2:$R$196,3))","v":""},{"$f":"IF(UUU18=\"\",\"\",VLOOKUP($Q$10,DATA!$P$2:$R$196,3))","v":""},{"$f":"IF(UUV18=\"\",\"\",VLOOKUP($Q$10,DATA!$P$2:$R$196,3))","v":""},{"$f":"IF(UUW18=\"\",\"\",VLOOKUP($Q$10,DATA!$P$2:$R$196,3))","v":""},{"$f":"IF(UUX18=\"\",\"\",VLOOKUP($Q$10,DATA!$P$2:$R$196,3))","v":""},{"$f":"IF(UUY18=\"\",\"\",VLOOKUP($Q$10,DATA!$P$2:$R$196,3))","v":""},{"$f":"IF(UUZ18=\"\",\"\",VLOOKUP($Q$10,DATA!$P$2:$R$196,3))","v":""},{"$f":"IF(UVA18=\"\",\"\",VLOOKUP($Q$10,DATA!$P$2:$R$196,3))","v":""},{"$f":"IF(UVB18=\"\",\"\",VLOOKUP($Q$10,DATA!$P$2:$R$196,3))","v":""},{"$f":"IF(UVC18=\"\",\"\",VLOOKUP($Q$10,DATA!$P$2:$R$196,3))","v":""},{"$f":"IF(UVD18=\"\",\"\",VLOOKUP($Q$10,DATA!$P$2:$R$196,3))","v":""},{"$f":"IF(UVE18=\"\",\"\",VLOOKUP($Q$10,DATA!$P$2:$R$196,3))","v":""},{"$f":"IF(UVF18=\"\",\"\",VLOOKUP($Q$10,DATA!$P$2:$R$196,3))","v":""},{"$f":"IF(UVG18=\"\",\"\",VLOOKUP($Q$10,DATA!$P$2:$R$196,3))","v":""},{"$f":"IF(UVH18=\"\",\"\",VLOOKUP($Q$10,DATA!$P$2:$R$196,3))","v":""},{"$f":"IF(UVI18=\"\",\"\",VLOOKUP($Q$10,DATA!$P$2:$R$196,3))","v":""},{"$f":"IF(UVJ18=\"\",\"\",VLOOKUP($Q$10,DATA!$P$2:$R$196,3))","v":""},{"$f":"IF(UVK18=\"\",\"\",VLOOKUP($Q$10,DATA!$P$2:$R$196,3))","v":""},{"$f":"IF(UVL18=\"\",\"\",VLOOKUP($Q$10,DATA!$P$2:$R$196,3))","v":""},{"$f":"IF(UVM18=\"\",\"\",VLOOKUP($Q$10,DATA!$P$2:$R$196,3))","v":""},{"$f":"IF(UVN18=\"\",\"\",VLOOKUP($Q$10,DATA!$P$2:$R$196,3))","v":""},{"$f":"IF(UVO18=\"\",\"\",VLOOKUP($Q$10,DATA!$P$2:$R$196,3))","v":""},{"$f":"IF(UVP18=\"\",\"\",VLOOKUP($Q$10,DATA!$P$2:$R$196,3))","v":""},{"$f":"IF(UVQ18=\"\",\"\",VLOOKUP($Q$10,DATA!$P$2:$R$196,3))","v":""},{"$f":"IF(UVR18=\"\",\"\",VLOOKUP($Q$10,DATA!$P$2:$R$196,3))","v":""},{"$f":"IF(UVS18=\"\",\"\",VLOOKUP($Q$10,DATA!$P$2:$R$196,3))","v":""},{"$f":"IF(UVT18=\"\",\"\",VLOOKUP($Q$10,DATA!$P$2:$R$196,3))","v":""},{"$f":"IF(UVU18=\"\",\"\",VLOOKUP($Q$10,DATA!$P$2:$R$196,3))","v":""},{"$f":"IF(UVV18=\"\",\"\",VLOOKUP($Q$10,DATA!$P$2:$R$196,3))","v":""},{"$f":"IF(UVW18=\"\",\"\",VLOOKUP($Q$10,DATA!$P$2:$R$196,3))","v":""},{"$f":"IF(UVX18=\"\",\"\",VLOOKUP($Q$10,DATA!$P$2:$R$196,3))","v":""},{"$f":"IF(UVY18=\"\",\"\",VLOOKUP($Q$10,DATA!$P$2:$R$196,3))","v":""},{"$f":"IF(UVZ18=\"\",\"\",VLOOKUP($Q$10,DATA!$P$2:$R$196,3))","v":""},{"$f":"IF(UWA18=\"\",\"\",VLOOKUP($Q$10,DATA!$P$2:$R$196,3))","v":""},{"$f":"IF(UWB18=\"\",\"\",VLOOKUP($Q$10,DATA!$P$2:$R$196,3))","v":""},{"$f":"IF(UWC18=\"\",\"\",VLOOKUP($Q$10,DATA!$P$2:$R$196,3))","v":""},{"$f":"IF(UWD18=\"\",\"\",VLOOKUP($Q$10,DATA!$P$2:$R$196,3))","v":""},{"$f":"IF(UWE18=\"\",\"\",VLOOKUP($Q$10,DATA!$P$2:$R$196,3))","v":""},{"$f":"IF(UWF18=\"\",\"\",VLOOKUP($Q$10,DATA!$P$2:$R$196,3))","v":""},{"$f":"IF(UWG18=\"\",\"\",VLOOKUP($Q$10,DATA!$P$2:$R$196,3))","v":""},{"$f":"IF(UWH18=\"\",\"\",VLOOKUP($Q$10,DATA!$P$2:$R$196,3))","v":""},{"$f":"IF(UWI18=\"\",\"\",VLOOKUP($Q$10,DATA!$P$2:$R$196,3))","v":""},{"$f":"IF(UWJ18=\"\",\"\",VLOOKUP($Q$10,DATA!$P$2:$R$196,3))","v":""},{"$f":"IF(UWK18=\"\",\"\",VLOOKUP($Q$10,DATA!$P$2:$R$196,3))","v":""},{"$f":"IF(UWL18=\"\",\"\",VLOOKUP($Q$10,DATA!$P$2:$R$196,3))","v":""},{"$f":"IF(UWM18=\"\",\"\",VLOOKUP($Q$10,DATA!$P$2:$R$196,3))","v":""},{"$f":"IF(UWN18=\"\",\"\",VLOOKUP($Q$10,DATA!$P$2:$R$196,3))","v":""},{"$f":"IF(UWO18=\"\",\"\",VLOOKUP($Q$10,DATA!$P$2:$R$196,3))","v":""},{"$f":"IF(UWP18=\"\",\"\",VLOOKUP($Q$10,DATA!$P$2:$R$196,3))","v":""},{"$f":"IF(UWQ18=\"\",\"\",VLOOKUP($Q$10,DATA!$P$2:$R$196,3))","v":""},{"$f":"IF(UWR18=\"\",\"\",VLOOKUP($Q$10,DATA!$P$2:$R$196,3))","v":""},{"$f":"IF(UWS18=\"\",\"\",VLOOKUP($Q$10,DATA!$P$2:$R$196,3))","v":""},{"$f":"IF(UWT18=\"\",\"\",VLOOKUP($Q$10,DATA!$P$2:$R$196,3))","v":""},{"$f":"IF(UWU18=\"\",\"\",VLOOKUP($Q$10,DATA!$P$2:$R$196,3))","v":""},{"$f":"IF(UWV18=\"\",\"\",VLOOKUP($Q$10,DATA!$P$2:$R$196,3))","v":""},{"$f":"IF(UWW18=\"\",\"\",VLOOKUP($Q$10,DATA!$P$2:$R$196,3))","v":""},{"$f":"IF(UWX18=\"\",\"\",VLOOKUP($Q$10,DATA!$P$2:$R$196,3))","v":""},{"$f":"IF(UWY18=\"\",\"\",VLOOKUP($Q$10,DATA!$P$2:$R$196,3))","v":""},{"$f":"IF(UWZ18=\"\",\"\",VLOOKUP($Q$10,DATA!$P$2:$R$196,3))","v":""},{"$f":"IF(UXA18=\"\",\"\",VLOOKUP($Q$10,DATA!$P$2:$R$196,3))","v":""},{"$f":"IF(UXB18=\"\",\"\",VLOOKUP($Q$10,DATA!$P$2:$R$196,3))","v":""},{"$f":"IF(UXC18=\"\",\"\",VLOOKUP($Q$10,DATA!$P$2:$R$196,3))","v":""},{"$f":"IF(UXD18=\"\",\"\",VLOOKUP($Q$10,DATA!$P$2:$R$196,3))","v":""},{"$f":"IF(UXE18=\"\",\"\",VLOOKUP($Q$10,DATA!$P$2:$R$196,3))","v":""},{"$f":"IF(UXF18=\"\",\"\",VLOOKUP($Q$10,DATA!$P$2:$R$196,3))","v":""},{"$f":"IF(UXG18=\"\",\"\",VLOOKUP($Q$10,DATA!$P$2:$R$196,3))","v":""},{"$f":"IF(UXH18=\"\",\"\",VLOOKUP($Q$10,DATA!$P$2:$R$196,3))","v":""},{"$f":"IF(UXI18=\"\",\"\",VLOOKUP($Q$10,DATA!$P$2:$R$196,3))","v":""},{"$f":"IF(UXJ18=\"\",\"\",VLOOKUP($Q$10,DATA!$P$2:$R$196,3))","v":""},{"$f":"IF(UXK18=\"\",\"\",VLOOKUP($Q$10,DATA!$P$2:$R$196,3))","v":""},{"$f":"IF(UXL18=\"\",\"\",VLOOKUP($Q$10,DATA!$P$2:$R$196,3))","v":""},{"$f":"IF(UXM18=\"\",\"\",VLOOKUP($Q$10,DATA!$P$2:$R$196,3))","v":""},{"$f":"IF(UXN18=\"\",\"\",VLOOKUP($Q$10,DATA!$P$2:$R$196,3))","v":""},{"$f":"IF(UXO18=\"\",\"\",VLOOKUP($Q$10,DATA!$P$2:$R$196,3))","v":""},{"$f":"IF(UXP18=\"\",\"\",VLOOKUP($Q$10,DATA!$P$2:$R$196,3))","v":""},{"$f":"IF(UXQ18=\"\",\"\",VLOOKUP($Q$10,DATA!$P$2:$R$196,3))","v":""},{"$f":"IF(UXR18=\"\",\"\",VLOOKUP($Q$10,DATA!$P$2:$R$196,3))","v":""},{"$f":"IF(UXS18=\"\",\"\",VLOOKUP($Q$10,DATA!$P$2:$R$196,3))","v":""},{"$f":"IF(UXT18=\"\",\"\",VLOOKUP($Q$10,DATA!$P$2:$R$196,3))","v":""},{"$f":"IF(UXU18=\"\",\"\",VLOOKUP($Q$10,DATA!$P$2:$R$196,3))","v":""},{"$f":"IF(UXV18=\"\",\"\",VLOOKUP($Q$10,DATA!$P$2:$R$196,3))","v":""},{"$f":"IF(UXW18=\"\",\"\",VLOOKUP($Q$10,DATA!$P$2:$R$196,3))","v":""},{"$f":"IF(UXX18=\"\",\"\",VLOOKUP($Q$10,DATA!$P$2:$R$196,3))","v":""},{"$f":"IF(UXY18=\"\",\"\",VLOOKUP($Q$10,DATA!$P$2:$R$196,3))","v":""},{"$f":"IF(UXZ18=\"\",\"\",VLOOKUP($Q$10,DATA!$P$2:$R$196,3))","v":""},{"$f":"IF(UYA18=\"\",\"\",VLOOKUP($Q$10,DATA!$P$2:$R$196,3))","v":""},{"$f":"IF(UYB18=\"\",\"\",VLOOKUP($Q$10,DATA!$P$2:$R$196,3))","v":""},{"$f":"IF(UYC18=\"\",\"\",VLOOKUP($Q$10,DATA!$P$2:$R$196,3))","v":""},{"$f":"IF(UYD18=\"\",\"\",VLOOKUP($Q$10,DATA!$P$2:$R$196,3))","v":""},{"$f":"IF(UYE18=\"\",\"\",VLOOKUP($Q$10,DATA!$P$2:$R$196,3))","v":""},{"$f":"IF(UYF18=\"\",\"\",VLOOKUP($Q$10,DATA!$P$2:$R$196,3))","v":""},{"$f":"IF(UYG18=\"\",\"\",VLOOKUP($Q$10,DATA!$P$2:$R$196,3))","v":""},{"$f":"IF(UYH18=\"\",\"\",VLOOKUP($Q$10,DATA!$P$2:$R$196,3))","v":""},{"$f":"IF(UYI18=\"\",\"\",VLOOKUP($Q$10,DATA!$P$2:$R$196,3))","v":""},{"$f":"IF(UYJ18=\"\",\"\",VLOOKUP($Q$10,DATA!$P$2:$R$196,3))","v":""},{"$f":"IF(UYK18=\"\",\"\",VLOOKUP($Q$10,DATA!$P$2:$R$196,3))","v":""},{"$f":"IF(UYL18=\"\",\"\",VLOOKUP($Q$10,DATA!$P$2:$R$196,3))","v":""},{"$f":"IF(UYM18=\"\",\"\",VLOOKUP($Q$10,DATA!$P$2:$R$196,3))","v":""},{"$f":"IF(UYN18=\"\",\"\",VLOOKUP($Q$10,DATA!$P$2:$R$196,3))","v":""},{"$f":"IF(UYO18=\"\",\"\",VLOOKUP($Q$10,DATA!$P$2:$R$196,3))","v":""},{"$f":"IF(UYP18=\"\",\"\",VLOOKUP($Q$10,DATA!$P$2:$R$196,3))","v":""},{"$f":"IF(UYQ18=\"\",\"\",VLOOKUP($Q$10,DATA!$P$2:$R$196,3))","v":""},{"$f":"IF(UYR18=\"\",\"\",VLOOKUP($Q$10,DATA!$P$2:$R$196,3))","v":""},{"$f":"IF(UYS18=\"\",\"\",VLOOKUP($Q$10,DATA!$P$2:$R$196,3))","v":""},{"$f":"IF(UYT18=\"\",\"\",VLOOKUP($Q$10,DATA!$P$2:$R$196,3))","v":""},{"$f":"IF(UYU18=\"\",\"\",VLOOKUP($Q$10,DATA!$P$2:$R$196,3))","v":""},{"$f":"IF(UYV18=\"\",\"\",VLOOKUP($Q$10,DATA!$P$2:$R$196,3))","v":""},{"$f":"IF(UYW18=\"\",\"\",VLOOKUP($Q$10,DATA!$P$2:$R$196,3))","v":""},{"$f":"IF(UYX18=\"\",\"\",VLOOKUP($Q$10,DATA!$P$2:$R$196,3))","v":""},{"$f":"IF(UYY18=\"\",\"\",VLOOKUP($Q$10,DATA!$P$2:$R$196,3))","v":""},{"$f":"IF(UYZ18=\"\",\"\",VLOOKUP($Q$10,DATA!$P$2:$R$196,3))","v":""},{"$f":"IF(UZA18=\"\",\"\",VLOOKUP($Q$10,DATA!$P$2:$R$196,3))","v":""},{"$f":"IF(UZB18=\"\",\"\",VLOOKUP($Q$10,DATA!$P$2:$R$196,3))","v":""},{"$f":"IF(UZC18=\"\",\"\",VLOOKUP($Q$10,DATA!$P$2:$R$196,3))","v":""},{"$f":"IF(UZD18=\"\",\"\",VLOOKUP($Q$10,DATA!$P$2:$R$196,3))","v":""},{"$f":"IF(UZE18=\"\",\"\",VLOOKUP($Q$10,DATA!$P$2:$R$196,3))","v":""},{"$f":"IF(UZF18=\"\",\"\",VLOOKUP($Q$10,DATA!$P$2:$R$196,3))","v":""},{"$f":"IF(UZG18=\"\",\"\",VLOOKUP($Q$10,DATA!$P$2:$R$196,3))","v":""},{"$f":"IF(UZH18=\"\",\"\",VLOOKUP($Q$10,DATA!$P$2:$R$196,3))","v":""},{"$f":"IF(UZI18=\"\",\"\",VLOOKUP($Q$10,DATA!$P$2:$R$196,3))","v":""},{"$f":"IF(UZJ18=\"\",\"\",VLOOKUP($Q$10,DATA!$P$2:$R$196,3))","v":""},{"$f":"IF(UZK18=\"\",\"\",VLOOKUP($Q$10,DATA!$P$2:$R$196,3))","v":""},{"$f":"IF(UZL18=\"\",\"\",VLOOKUP($Q$10,DATA!$P$2:$R$196,3))","v":""},{"$f":"IF(UZM18=\"\",\"\",VLOOKUP($Q$10,DATA!$P$2:$R$196,3))","v":""},{"$f":"IF(UZN18=\"\",\"\",VLOOKUP($Q$10,DATA!$P$2:$R$196,3))","v":""},{"$f":"IF(UZO18=\"\",\"\",VLOOKUP($Q$10,DATA!$P$2:$R$196,3))","v":""},{"$f":"IF(UZP18=\"\",\"\",VLOOKUP($Q$10,DATA!$P$2:$R$196,3))","v":""},{"$f":"IF(UZQ18=\"\",\"\",VLOOKUP($Q$10,DATA!$P$2:$R$196,3))","v":""},{"$f":"IF(UZR18=\"\",\"\",VLOOKUP($Q$10,DATA!$P$2:$R$196,3))","v":""},{"$f":"IF(UZS18=\"\",\"\",VLOOKUP($Q$10,DATA!$P$2:$R$196,3))","v":""},{"$f":"IF(UZT18=\"\",\"\",VLOOKUP($Q$10,DATA!$P$2:$R$196,3))","v":""},{"$f":"IF(UZU18=\"\",\"\",VLOOKUP($Q$10,DATA!$P$2:$R$196,3))","v":""},{"$f":"IF(UZV18=\"\",\"\",VLOOKUP($Q$10,DATA!$P$2:$R$196,3))","v":""},{"$f":"IF(UZW18=\"\",\"\",VLOOKUP($Q$10,DATA!$P$2:$R$196,3))","v":""},{"$f":"IF(UZX18=\"\",\"\",VLOOKUP($Q$10,DATA!$P$2:$R$196,3))","v":""},{"$f":"IF(UZY18=\"\",\"\",VLOOKUP($Q$10,DATA!$P$2:$R$196,3))","v":""},{"$f":"IF(UZZ18=\"\",\"\",VLOOKUP($Q$10,DATA!$P$2:$R$196,3))","v":""},{"$f":"IF(VAA18=\"\",\"\",VLOOKUP($Q$10,DATA!$P$2:$R$196,3))","v":""},{"$f":"IF(VAB18=\"\",\"\",VLOOKUP($Q$10,DATA!$P$2:$R$196,3))","v":""},{"$f":"IF(VAC18=\"\",\"\",VLOOKUP($Q$10,DATA!$P$2:$R$196,3))","v":""},{"$f":"IF(VAD18=\"\",\"\",VLOOKUP($Q$10,DATA!$P$2:$R$196,3))","v":""},{"$f":"IF(VAE18=\"\",\"\",VLOOKUP($Q$10,DATA!$P$2:$R$196,3))","v":""},{"$f":"IF(VAF18=\"\",\"\",VLOOKUP($Q$10,DATA!$P$2:$R$196,3))","v":""},{"$f":"IF(VAG18=\"\",\"\",VLOOKUP($Q$10,DATA!$P$2:$R$196,3))","v":""},{"$f":"IF(VAH18=\"\",\"\",VLOOKUP($Q$10,DATA!$P$2:$R$196,3))","v":""},{"$f":"IF(VAI18=\"\",\"\",VLOOKUP($Q$10,DATA!$P$2:$R$196,3))","v":""},{"$f":"IF(VAJ18=\"\",\"\",VLOOKUP($Q$10,DATA!$P$2:$R$196,3))","v":""},{"$f":"IF(VAK18=\"\",\"\",VLOOKUP($Q$10,DATA!$P$2:$R$196,3))","v":""},{"$f":"IF(VAL18=\"\",\"\",VLOOKUP($Q$10,DATA!$P$2:$R$196,3))","v":""},{"$f":"IF(VAM18=\"\",\"\",VLOOKUP($Q$10,DATA!$P$2:$R$196,3))","v":""},{"$f":"IF(VAN18=\"\",\"\",VLOOKUP($Q$10,DATA!$P$2:$R$196,3))","v":""},{"$f":"IF(VAO18=\"\",\"\",VLOOKUP($Q$10,DATA!$P$2:$R$196,3))","v":""},{"$f":"IF(VAP18=\"\",\"\",VLOOKUP($Q$10,DATA!$P$2:$R$196,3))","v":""},{"$f":"IF(VAQ18=\"\",\"\",VLOOKUP($Q$10,DATA!$P$2:$R$196,3))","v":""},{"$f":"IF(VAR18=\"\",\"\",VLOOKUP($Q$10,DATA!$P$2:$R$196,3))","v":""},{"$f":"IF(VAS18=\"\",\"\",VLOOKUP($Q$10,DATA!$P$2:$R$196,3))","v":""},{"$f":"IF(VAT18=\"\",\"\",VLOOKUP($Q$10,DATA!$P$2:$R$196,3))","v":""},{"$f":"IF(VAU18=\"\",\"\",VLOOKUP($Q$10,DATA!$P$2:$R$196,3))","v":""},{"$f":"IF(VAV18=\"\",\"\",VLOOKUP($Q$10,DATA!$P$2:$R$196,3))","v":""},{"$f":"IF(VAW18=\"\",\"\",VLOOKUP($Q$10,DATA!$P$2:$R$196,3))","v":""},{"$f":"IF(VAX18=\"\",\"\",VLOOKUP($Q$10,DATA!$P$2:$R$196,3))","v":""},{"$f":"IF(VAY18=\"\",\"\",VLOOKUP($Q$10,DATA!$P$2:$R$196,3))","v":""},{"$f":"IF(VAZ18=\"\",\"\",VLOOKUP($Q$10,DATA!$P$2:$R$196,3))","v":""},{"$f":"IF(VBA18=\"\",\"\",VLOOKUP($Q$10,DATA!$P$2:$R$196,3))","v":""},{"$f":"IF(VBB18=\"\",\"\",VLOOKUP($Q$10,DATA!$P$2:$R$196,3))","v":""},{"$f":"IF(VBC18=\"\",\"\",VLOOKUP($Q$10,DATA!$P$2:$R$196,3))","v":""},{"$f":"IF(VBD18=\"\",\"\",VLOOKUP($Q$10,DATA!$P$2:$R$196,3))","v":""},{"$f":"IF(VBE18=\"\",\"\",VLOOKUP($Q$10,DATA!$P$2:$R$196,3))","v":""},{"$f":"IF(VBF18=\"\",\"\",VLOOKUP($Q$10,DATA!$P$2:$R$196,3))","v":""},{"$f":"IF(VBG18=\"\",\"\",VLOOKUP($Q$10,DATA!$P$2:$R$196,3))","v":""},{"$f":"IF(VBH18=\"\",\"\",VLOOKUP($Q$10,DATA!$P$2:$R$196,3))","v":""},{"$f":"IF(VBI18=\"\",\"\",VLOOKUP($Q$10,DATA!$P$2:$R$196,3))","v":""},{"$f":"IF(VBJ18=\"\",\"\",VLOOKUP($Q$10,DATA!$P$2:$R$196,3))","v":""},{"$f":"IF(VBK18=\"\",\"\",VLOOKUP($Q$10,DATA!$P$2:$R$196,3))","v":""},{"$f":"IF(VBL18=\"\",\"\",VLOOKUP($Q$10,DATA!$P$2:$R$196,3))","v":""},{"$f":"IF(VBM18=\"\",\"\",VLOOKUP($Q$10,DATA!$P$2:$R$196,3))","v":""},{"$f":"IF(VBN18=\"\",\"\",VLOOKUP($Q$10,DATA!$P$2:$R$196,3))","v":""},{"$f":"IF(VBO18=\"\",\"\",VLOOKUP($Q$10,DATA!$P$2:$R$196,3))","v":""},{"$f":"IF(VBP18=\"\",\"\",VLOOKUP($Q$10,DATA!$P$2:$R$196,3))","v":""},{"$f":"IF(VBQ18=\"\",\"\",VLOOKUP($Q$10,DATA!$P$2:$R$196,3))","v":""},{"$f":"IF(VBR18=\"\",\"\",VLOOKUP($Q$10,DATA!$P$2:$R$196,3))","v":""},{"$f":"IF(VBS18=\"\",\"\",VLOOKUP($Q$10,DATA!$P$2:$R$196,3))","v":""},{"$f":"IF(VBT18=\"\",\"\",VLOOKUP($Q$10,DATA!$P$2:$R$196,3))","v":""},{"$f":"IF(VBU18=\"\",\"\",VLOOKUP($Q$10,DATA!$P$2:$R$196,3))","v":""},{"$f":"IF(VBV18=\"\",\"\",VLOOKUP($Q$10,DATA!$P$2:$R$196,3))","v":""},{"$f":"IF(VBW18=\"\",\"\",VLOOKUP($Q$10,DATA!$P$2:$R$196,3))","v":""},{"$f":"IF(VBX18=\"\",\"\",VLOOKUP($Q$10,DATA!$P$2:$R$196,3))","v":""},{"$f":"IF(VBY18=\"\",\"\",VLOOKUP($Q$10,DATA!$P$2:$R$196,3))","v":""},{"$f":"IF(VBZ18=\"\",\"\",VLOOKUP($Q$10,DATA!$P$2:$R$196,3))","v":""},{"$f":"IF(VCA18=\"\",\"\",VLOOKUP($Q$10,DATA!$P$2:$R$196,3))","v":""},{"$f":"IF(VCB18=\"\",\"\",VLOOKUP($Q$10,DATA!$P$2:$R$196,3))","v":""},{"$f":"IF(VCC18=\"\",\"\",VLOOKUP($Q$10,DATA!$P$2:$R$196,3))","v":""},{"$f":"IF(VCD18=\"\",\"\",VLOOKUP($Q$10,DATA!$P$2:$R$196,3))","v":""},{"$f":"IF(VCE18=\"\",\"\",VLOOKUP($Q$10,DATA!$P$2:$R$196,3))","v":""},{"$f":"IF(VCF18=\"\",\"\",VLOOKUP($Q$10,DATA!$P$2:$R$196,3))","v":""},{"$f":"IF(VCG18=\"\",\"\",VLOOKUP($Q$10,DATA!$P$2:$R$196,3))","v":""},{"$f":"IF(VCH18=\"\",\"\",VLOOKUP($Q$10,DATA!$P$2:$R$196,3))","v":""},{"$f":"IF(VCI18=\"\",\"\",VLOOKUP($Q$10,DATA!$P$2:$R$196,3))","v":""},{"$f":"IF(VCJ18=\"\",\"\",VLOOKUP($Q$10,DATA!$P$2:$R$196,3))","v":""},{"$f":"IF(VCK18=\"\",\"\",VLOOKUP($Q$10,DATA!$P$2:$R$196,3))","v":""},{"$f":"IF(VCL18=\"\",\"\",VLOOKUP($Q$10,DATA!$P$2:$R$196,3))","v":""},{"$f":"IF(VCM18=\"\",\"\",VLOOKUP($Q$10,DATA!$P$2:$R$196,3))","v":""},{"$f":"IF(VCN18=\"\",\"\",VLOOKUP($Q$10,DATA!$P$2:$R$196,3))","v":""},{"$f":"IF(VCO18=\"\",\"\",VLOOKUP($Q$10,DATA!$P$2:$R$196,3))","v":""},{"$f":"IF(VCP18=\"\",\"\",VLOOKUP($Q$10,DATA!$P$2:$R$196,3))","v":""},{"$f":"IF(VCQ18=\"\",\"\",VLOOKUP($Q$10,DATA!$P$2:$R$196,3))","v":""},{"$f":"IF(VCR18=\"\",\"\",VLOOKUP($Q$10,DATA!$P$2:$R$196,3))","v":""},{"$f":"IF(VCS18=\"\",\"\",VLOOKUP($Q$10,DATA!$P$2:$R$196,3))","v":""},{"$f":"IF(VCT18=\"\",\"\",VLOOKUP($Q$10,DATA!$P$2:$R$196,3))","v":""},{"$f":"IF(VCU18=\"\",\"\",VLOOKUP($Q$10,DATA!$P$2:$R$196,3))","v":""},{"$f":"IF(VCV18=\"\",\"\",VLOOKUP($Q$10,DATA!$P$2:$R$196,3))","v":""},{"$f":"IF(VCW18=\"\",\"\",VLOOKUP($Q$10,DATA!$P$2:$R$196,3))","v":""},{"$f":"IF(VCX18=\"\",\"\",VLOOKUP($Q$10,DATA!$P$2:$R$196,3))","v":""},{"$f":"IF(VCY18=\"\",\"\",VLOOKUP($Q$10,DATA!$P$2:$R$196,3))","v":""},{"$f":"IF(VCZ18=\"\",\"\",VLOOKUP($Q$10,DATA!$P$2:$R$196,3))","v":""},{"$f":"IF(VDA18=\"\",\"\",VLOOKUP($Q$10,DATA!$P$2:$R$196,3))","v":""},{"$f":"IF(VDB18=\"\",\"\",VLOOKUP($Q$10,DATA!$P$2:$R$196,3))","v":""},{"$f":"IF(VDC18=\"\",\"\",VLOOKUP($Q$10,DATA!$P$2:$R$196,3))","v":""},{"$f":"IF(VDD18=\"\",\"\",VLOOKUP($Q$10,DATA!$P$2:$R$196,3))","v":""},{"$f":"IF(VDE18=\"\",\"\",VLOOKUP($Q$10,DATA!$P$2:$R$196,3))","v":""},{"$f":"IF(VDF18=\"\",\"\",VLOOKUP($Q$10,DATA!$P$2:$R$196,3))","v":""},{"$f":"IF(VDG18=\"\",\"\",VLOOKUP($Q$10,DATA!$P$2:$R$196,3))","v":""},{"$f":"IF(VDH18=\"\",\"\",VLOOKUP($Q$10,DATA!$P$2:$R$196,3))","v":""},{"$f":"IF(VDI18=\"\",\"\",VLOOKUP($Q$10,DATA!$P$2:$R$196,3))","v":""},{"$f":"IF(VDJ18=\"\",\"\",VLOOKUP($Q$10,DATA!$P$2:$R$196,3))","v":""},{"$f":"IF(VDK18=\"\",\"\",VLOOKUP($Q$10,DATA!$P$2:$R$196,3))","v":""},{"$f":"IF(VDL18=\"\",\"\",VLOOKUP($Q$10,DATA!$P$2:$R$196,3))","v":""},{"$f":"IF(VDM18=\"\",\"\",VLOOKUP($Q$10,DATA!$P$2:$R$196,3))","v":""},{"$f":"IF(VDN18=\"\",\"\",VLOOKUP($Q$10,DATA!$P$2:$R$196,3))","v":""},{"$f":"IF(VDO18=\"\",\"\",VLOOKUP($Q$10,DATA!$P$2:$R$196,3))","v":""},{"$f":"IF(VDP18=\"\",\"\",VLOOKUP($Q$10,DATA!$P$2:$R$196,3))","v":""},{"$f":"IF(VDQ18=\"\",\"\",VLOOKUP($Q$10,DATA!$P$2:$R$196,3))","v":""},{"$f":"IF(VDR18=\"\",\"\",VLOOKUP($Q$10,DATA!$P$2:$R$196,3))","v":""},{"$f":"IF(VDS18=\"\",\"\",VLOOKUP($Q$10,DATA!$P$2:$R$196,3))","v":""},{"$f":"IF(VDT18=\"\",\"\",VLOOKUP($Q$10,DATA!$P$2:$R$196,3))","v":""},{"$f":"IF(VDU18=\"\",\"\",VLOOKUP($Q$10,DATA!$P$2:$R$196,3))","v":""},{"$f":"IF(VDV18=\"\",\"\",VLOOKUP($Q$10,DATA!$P$2:$R$196,3))","v":""},{"$f":"IF(VDW18=\"\",\"\",VLOOKUP($Q$10,DATA!$P$2:$R$196,3))","v":""},{"$f":"IF(VDX18=\"\",\"\",VLOOKUP($Q$10,DATA!$P$2:$R$196,3))","v":""},{"$f":"IF(VDY18=\"\",\"\",VLOOKUP($Q$10,DATA!$P$2:$R$196,3))","v":""},{"$f":"IF(VDZ18=\"\",\"\",VLOOKUP($Q$10,DATA!$P$2:$R$196,3))","v":""},{"$f":"IF(VEA18=\"\",\"\",VLOOKUP($Q$10,DATA!$P$2:$R$196,3))","v":""},{"$f":"IF(VEB18=\"\",\"\",VLOOKUP($Q$10,DATA!$P$2:$R$196,3))","v":""},{"$f":"IF(VEC18=\"\",\"\",VLOOKUP($Q$10,DATA!$P$2:$R$196,3))","v":""},{"$f":"IF(VED18=\"\",\"\",VLOOKUP($Q$10,DATA!$P$2:$R$196,3))","v":""},{"$f":"IF(VEE18=\"\",\"\",VLOOKUP($Q$10,DATA!$P$2:$R$196,3))","v":""},{"$f":"IF(VEF18=\"\",\"\",VLOOKUP($Q$10,DATA!$P$2:$R$196,3))","v":""},{"$f":"IF(VEG18=\"\",\"\",VLOOKUP($Q$10,DATA!$P$2:$R$196,3))","v":""},{"$f":"IF(VEH18=\"\",\"\",VLOOKUP($Q$10,DATA!$P$2:$R$196,3))","v":""},{"$f":"IF(VEI18=\"\",\"\",VLOOKUP($Q$10,DATA!$P$2:$R$196,3))","v":""},{"$f":"IF(VEJ18=\"\",\"\",VLOOKUP($Q$10,DATA!$P$2:$R$196,3))","v":""},{"$f":"IF(VEK18=\"\",\"\",VLOOKUP($Q$10,DATA!$P$2:$R$196,3))","v":""},{"$f":"IF(VEL18=\"\",\"\",VLOOKUP($Q$10,DATA!$P$2:$R$196,3))","v":""},{"$f":"IF(VEM18=\"\",\"\",VLOOKUP($Q$10,DATA!$P$2:$R$196,3))","v":""},{"$f":"IF(VEN18=\"\",\"\",VLOOKUP($Q$10,DATA!$P$2:$R$196,3))","v":""},{"$f":"IF(VEO18=\"\",\"\",VLOOKUP($Q$10,DATA!$P$2:$R$196,3))","v":""},{"$f":"IF(VEP18=\"\",\"\",VLOOKUP($Q$10,DATA!$P$2:$R$196,3))","v":""},{"$f":"IF(VEQ18=\"\",\"\",VLOOKUP($Q$10,DATA!$P$2:$R$196,3))","v":""},{"$f":"IF(VER18=\"\",\"\",VLOOKUP($Q$10,DATA!$P$2:$R$196,3))","v":""},{"$f":"IF(VES18=\"\",\"\",VLOOKUP($Q$10,DATA!$P$2:$R$196,3))","v":""},{"$f":"IF(VET18=\"\",\"\",VLOOKUP($Q$10,DATA!$P$2:$R$196,3))","v":""},{"$f":"IF(VEU18=\"\",\"\",VLOOKUP($Q$10,DATA!$P$2:$R$196,3))","v":""},{"$f":"IF(VEV18=\"\",\"\",VLOOKUP($Q$10,DATA!$P$2:$R$196,3))","v":""},{"$f":"IF(VEW18=\"\",\"\",VLOOKUP($Q$10,DATA!$P$2:$R$196,3))","v":""},{"$f":"IF(VEX18=\"\",\"\",VLOOKUP($Q$10,DATA!$P$2:$R$196,3))","v":""},{"$f":"IF(VEY18=\"\",\"\",VLOOKUP($Q$10,DATA!$P$2:$R$196,3))","v":""},{"$f":"IF(VEZ18=\"\",\"\",VLOOKUP($Q$10,DATA!$P$2:$R$196,3))","v":""},{"$f":"IF(VFA18=\"\",\"\",VLOOKUP($Q$10,DATA!$P$2:$R$196,3))","v":""},{"$f":"IF(VFB18=\"\",\"\",VLOOKUP($Q$10,DATA!$P$2:$R$196,3))","v":""},{"$f":"IF(VFC18=\"\",\"\",VLOOKUP($Q$10,DATA!$P$2:$R$196,3))","v":""},{"$f":"IF(VFD18=\"\",\"\",VLOOKUP($Q$10,DATA!$P$2:$R$196,3))","v":""},{"$f":"IF(VFE18=\"\",\"\",VLOOKUP($Q$10,DATA!$P$2:$R$196,3))","v":""},{"$f":"IF(VFF18=\"\",\"\",VLOOKUP($Q$10,DATA!$P$2:$R$196,3))","v":""},{"$f":"IF(VFG18=\"\",\"\",VLOOKUP($Q$10,DATA!$P$2:$R$196,3))","v":""},{"$f":"IF(VFH18=\"\",\"\",VLOOKUP($Q$10,DATA!$P$2:$R$196,3))","v":""},{"$f":"IF(VFI18=\"\",\"\",VLOOKUP($Q$10,DATA!$P$2:$R$196,3))","v":""},{"$f":"IF(VFJ18=\"\",\"\",VLOOKUP($Q$10,DATA!$P$2:$R$196,3))","v":""},{"$f":"IF(VFK18=\"\",\"\",VLOOKUP($Q$10,DATA!$P$2:$R$196,3))","v":""},{"$f":"IF(VFL18=\"\",\"\",VLOOKUP($Q$10,DATA!$P$2:$R$196,3))","v":""},{"$f":"IF(VFM18=\"\",\"\",VLOOKUP($Q$10,DATA!$P$2:$R$196,3))","v":""},{"$f":"IF(VFN18=\"\",\"\",VLOOKUP($Q$10,DATA!$P$2:$R$196,3))","v":""},{"$f":"IF(VFO18=\"\",\"\",VLOOKUP($Q$10,DATA!$P$2:$R$196,3))","v":""},{"$f":"IF(VFP18=\"\",\"\",VLOOKUP($Q$10,DATA!$P$2:$R$196,3))","v":""},{"$f":"IF(VFQ18=\"\",\"\",VLOOKUP($Q$10,DATA!$P$2:$R$196,3))","v":""},{"$f":"IF(VFR18=\"\",\"\",VLOOKUP($Q$10,DATA!$P$2:$R$196,3))","v":""},{"$f":"IF(VFS18=\"\",\"\",VLOOKUP($Q$10,DATA!$P$2:$R$196,3))","v":""},{"$f":"IF(VFT18=\"\",\"\",VLOOKUP($Q$10,DATA!$P$2:$R$196,3))","v":""},{"$f":"IF(VFU18=\"\",\"\",VLOOKUP($Q$10,DATA!$P$2:$R$196,3))","v":""},{"$f":"IF(VFV18=\"\",\"\",VLOOKUP($Q$10,DATA!$P$2:$R$196,3))","v":""},{"$f":"IF(VFW18=\"\",\"\",VLOOKUP($Q$10,DATA!$P$2:$R$196,3))","v":""},{"$f":"IF(VFX18=\"\",\"\",VLOOKUP($Q$10,DATA!$P$2:$R$196,3))","v":""},{"$f":"IF(VFY18=\"\",\"\",VLOOKUP($Q$10,DATA!$P$2:$R$196,3))","v":""},{"$f":"IF(VFZ18=\"\",\"\",VLOOKUP($Q$10,DATA!$P$2:$R$196,3))","v":""},{"$f":"IF(VGA18=\"\",\"\",VLOOKUP($Q$10,DATA!$P$2:$R$196,3))","v":""},{"$f":"IF(VGB18=\"\",\"\",VLOOKUP($Q$10,DATA!$P$2:$R$196,3))","v":""},{"$f":"IF(VGC18=\"\",\"\",VLOOKUP($Q$10,DATA!$P$2:$R$196,3))","v":""},{"$f":"IF(VGD18=\"\",\"\",VLOOKUP($Q$10,DATA!$P$2:$R$196,3))","v":""},{"$f":"IF(VGE18=\"\",\"\",VLOOKUP($Q$10,DATA!$P$2:$R$196,3))","v":""},{"$f":"IF(VGF18=\"\",\"\",VLOOKUP($Q$10,DATA!$P$2:$R$196,3))","v":""},{"$f":"IF(VGG18=\"\",\"\",VLOOKUP($Q$10,DATA!$P$2:$R$196,3))","v":""},{"$f":"IF(VGH18=\"\",\"\",VLOOKUP($Q$10,DATA!$P$2:$R$196,3))","v":""},{"$f":"IF(VGI18=\"\",\"\",VLOOKUP($Q$10,DATA!$P$2:$R$196,3))","v":""},{"$f":"IF(VGJ18=\"\",\"\",VLOOKUP($Q$10,DATA!$P$2:$R$196,3))","v":""},{"$f":"IF(VGK18=\"\",\"\",VLOOKUP($Q$10,DATA!$P$2:$R$196,3))","v":""},{"$f":"IF(VGL18=\"\",\"\",VLOOKUP($Q$10,DATA!$P$2:$R$196,3))","v":""},{"$f":"IF(VGM18=\"\",\"\",VLOOKUP($Q$10,DATA!$P$2:$R$196,3))","v":""},{"$f":"IF(VGN18=\"\",\"\",VLOOKUP($Q$10,DATA!$P$2:$R$196,3))","v":""},{"$f":"IF(VGO18=\"\",\"\",VLOOKUP($Q$10,DATA!$P$2:$R$196,3))","v":""},{"$f":"IF(VGP18=\"\",\"\",VLOOKUP($Q$10,DATA!$P$2:$R$196,3))","v":""},{"$f":"IF(VGQ18=\"\",\"\",VLOOKUP($Q$10,DATA!$P$2:$R$196,3))","v":""},{"$f":"IF(VGR18=\"\",\"\",VLOOKUP($Q$10,DATA!$P$2:$R$196,3))","v":""},{"$f":"IF(VGS18=\"\",\"\",VLOOKUP($Q$10,DATA!$P$2:$R$196,3))","v":""},{"$f":"IF(VGT18=\"\",\"\",VLOOKUP($Q$10,DATA!$P$2:$R$196,3))","v":""},{"$f":"IF(VGU18=\"\",\"\",VLOOKUP($Q$10,DATA!$P$2:$R$196,3))","v":""},{"$f":"IF(VGV18=\"\",\"\",VLOOKUP($Q$10,DATA!$P$2:$R$196,3))","v":""},{"$f":"IF(VGW18=\"\",\"\",VLOOKUP($Q$10,DATA!$P$2:$R$196,3))","v":""},{"$f":"IF(VGX18=\"\",\"\",VLOOKUP($Q$10,DATA!$P$2:$R$196,3))","v":""},{"$f":"IF(VGY18=\"\",\"\",VLOOKUP($Q$10,DATA!$P$2:$R$196,3))","v":""},{"$f":"IF(VGZ18=\"\",\"\",VLOOKUP($Q$10,DATA!$P$2:$R$196,3))","v":""},{"$f":"IF(VHA18=\"\",\"\",VLOOKUP($Q$10,DATA!$P$2:$R$196,3))","v":""},{"$f":"IF(VHB18=\"\",\"\",VLOOKUP($Q$10,DATA!$P$2:$R$196,3))","v":""},{"$f":"IF(VHC18=\"\",\"\",VLOOKUP($Q$10,DATA!$P$2:$R$196,3))","v":""},{"$f":"IF(VHD18=\"\",\"\",VLOOKUP($Q$10,DATA!$P$2:$R$196,3))","v":""},{"$f":"IF(VHE18=\"\",\"\",VLOOKUP($Q$10,DATA!$P$2:$R$196,3))","v":""},{"$f":"IF(VHF18=\"\",\"\",VLOOKUP($Q$10,DATA!$P$2:$R$196,3))","v":""},{"$f":"IF(VHG18=\"\",\"\",VLOOKUP($Q$10,DATA!$P$2:$R$196,3))","v":""},{"$f":"IF(VHH18=\"\",\"\",VLOOKUP($Q$10,DATA!$P$2:$R$196,3))","v":""},{"$f":"IF(VHI18=\"\",\"\",VLOOKUP($Q$10,DATA!$P$2:$R$196,3))","v":""},{"$f":"IF(VHJ18=\"\",\"\",VLOOKUP($Q$10,DATA!$P$2:$R$196,3))","v":""},{"$f":"IF(VHK18=\"\",\"\",VLOOKUP($Q$10,DATA!$P$2:$R$196,3))","v":""},{"$f":"IF(VHL18=\"\",\"\",VLOOKUP($Q$10,DATA!$P$2:$R$196,3))","v":""},{"$f":"IF(VHM18=\"\",\"\",VLOOKUP($Q$10,DATA!$P$2:$R$196,3))","v":""},{"$f":"IF(VHN18=\"\",\"\",VLOOKUP($Q$10,DATA!$P$2:$R$196,3))","v":""},{"$f":"IF(VHO18=\"\",\"\",VLOOKUP($Q$10,DATA!$P$2:$R$196,3))","v":""},{"$f":"IF(VHP18=\"\",\"\",VLOOKUP($Q$10,DATA!$P$2:$R$196,3))","v":""},{"$f":"IF(VHQ18=\"\",\"\",VLOOKUP($Q$10,DATA!$P$2:$R$196,3))","v":""},{"$f":"IF(VHR18=\"\",\"\",VLOOKUP($Q$10,DATA!$P$2:$R$196,3))","v":""},{"$f":"IF(VHS18=\"\",\"\",VLOOKUP($Q$10,DATA!$P$2:$R$196,3))","v":""},{"$f":"IF(VHT18=\"\",\"\",VLOOKUP($Q$10,DATA!$P$2:$R$196,3))","v":""},{"$f":"IF(VHU18=\"\",\"\",VLOOKUP($Q$10,DATA!$P$2:$R$196,3))","v":""},{"$f":"IF(VHV18=\"\",\"\",VLOOKUP($Q$10,DATA!$P$2:$R$196,3))","v":""},{"$f":"IF(VHW18=\"\",\"\",VLOOKUP($Q$10,DATA!$P$2:$R$196,3))","v":""},{"$f":"IF(VHX18=\"\",\"\",VLOOKUP($Q$10,DATA!$P$2:$R$196,3))","v":""},{"$f":"IF(VHY18=\"\",\"\",VLOOKUP($Q$10,DATA!$P$2:$R$196,3))","v":""},{"$f":"IF(VHZ18=\"\",\"\",VLOOKUP($Q$10,DATA!$P$2:$R$196,3))","v":""},{"$f":"IF(VIA18=\"\",\"\",VLOOKUP($Q$10,DATA!$P$2:$R$196,3))","v":""},{"$f":"IF(VIB18=\"\",\"\",VLOOKUP($Q$10,DATA!$P$2:$R$196,3))","v":""},{"$f":"IF(VIC18=\"\",\"\",VLOOKUP($Q$10,DATA!$P$2:$R$196,3))","v":""},{"$f":"IF(VID18=\"\",\"\",VLOOKUP($Q$10,DATA!$P$2:$R$196,3))","v":""},{"$f":"IF(VIE18=\"\",\"\",VLOOKUP($Q$10,DATA!$P$2:$R$196,3))","v":""},{"$f":"IF(VIF18=\"\",\"\",VLOOKUP($Q$10,DATA!$P$2:$R$196,3))","v":""},{"$f":"IF(VIG18=\"\",\"\",VLOOKUP($Q$10,DATA!$P$2:$R$196,3))","v":""},{"$f":"IF(VIH18=\"\",\"\",VLOOKUP($Q$10,DATA!$P$2:$R$196,3))","v":""},{"$f":"IF(VII18=\"\",\"\",VLOOKUP($Q$10,DATA!$P$2:$R$196,3))","v":""},{"$f":"IF(VIJ18=\"\",\"\",VLOOKUP($Q$10,DATA!$P$2:$R$196,3))","v":""},{"$f":"IF(VIK18=\"\",\"\",VLOOKUP($Q$10,DATA!$P$2:$R$196,3))","v":""},{"$f":"IF(VIL18=\"\",\"\",VLOOKUP($Q$10,DATA!$P$2:$R$196,3))","v":""},{"$f":"IF(VIM18=\"\",\"\",VLOOKUP($Q$10,DATA!$P$2:$R$196,3))","v":""},{"$f":"IF(VIN18=\"\",\"\",VLOOKUP($Q$10,DATA!$P$2:$R$196,3))","v":""},{"$f":"IF(VIO18=\"\",\"\",VLOOKUP($Q$10,DATA!$P$2:$R$196,3))","v":""},{"$f":"IF(VIP18=\"\",\"\",VLOOKUP($Q$10,DATA!$P$2:$R$196,3))","v":""},{"$f":"IF(VIQ18=\"\",\"\",VLOOKUP($Q$10,DATA!$P$2:$R$196,3))","v":""},{"$f":"IF(VIR18=\"\",\"\",VLOOKUP($Q$10,DATA!$P$2:$R$196,3))","v":""},{"$f":"IF(VIS18=\"\",\"\",VLOOKUP($Q$10,DATA!$P$2:$R$196,3))","v":""},{"$f":"IF(VIT18=\"\",\"\",VLOOKUP($Q$10,DATA!$P$2:$R$196,3))","v":""},{"$f":"IF(VIU18=\"\",\"\",VLOOKUP($Q$10,DATA!$P$2:$R$196,3))","v":""},{"$f":"IF(VIV18=\"\",\"\",VLOOKUP($Q$10,DATA!$P$2:$R$196,3))","v":""},{"$f":"IF(VIW18=\"\",\"\",VLOOKUP($Q$10,DATA!$P$2:$R$196,3))","v":""},{"$f":"IF(VIX18=\"\",\"\",VLOOKUP($Q$10,DATA!$P$2:$R$196,3))","v":""},{"$f":"IF(VIY18=\"\",\"\",VLOOKUP($Q$10,DATA!$P$2:$R$196,3))","v":""},{"$f":"IF(VIZ18=\"\",\"\",VLOOKUP($Q$10,DATA!$P$2:$R$196,3))","v":""},{"$f":"IF(VJA18=\"\",\"\",VLOOKUP($Q$10,DATA!$P$2:$R$196,3))","v":""},{"$f":"IF(VJB18=\"\",\"\",VLOOKUP($Q$10,DATA!$P$2:$R$196,3))","v":""},{"$f":"IF(VJC18=\"\",\"\",VLOOKUP($Q$10,DATA!$P$2:$R$196,3))","v":""},{"$f":"IF(VJD18=\"\",\"\",VLOOKUP($Q$10,DATA!$P$2:$R$196,3))","v":""},{"$f":"IF(VJE18=\"\",\"\",VLOOKUP($Q$10,DATA!$P$2:$R$196,3))","v":""},{"$f":"IF(VJF18=\"\",\"\",VLOOKUP($Q$10,DATA!$P$2:$R$196,3))","v":""},{"$f":"IF(VJG18=\"\",\"\",VLOOKUP($Q$10,DATA!$P$2:$R$196,3))","v":""},{"$f":"IF(VJH18=\"\",\"\",VLOOKUP($Q$10,DATA!$P$2:$R$196,3))","v":""},{"$f":"IF(VJI18=\"\",\"\",VLOOKUP($Q$10,DATA!$P$2:$R$196,3))","v":""},{"$f":"IF(VJJ18=\"\",\"\",VLOOKUP($Q$10,DATA!$P$2:$R$196,3))","v":""},{"$f":"IF(VJK18=\"\",\"\",VLOOKUP($Q$10,DATA!$P$2:$R$196,3))","v":""},{"$f":"IF(VJL18=\"\",\"\",VLOOKUP($Q$10,DATA!$P$2:$R$196,3))","v":""},{"$f":"IF(VJM18=\"\",\"\",VLOOKUP($Q$10,DATA!$P$2:$R$196,3))","v":""},{"$f":"IF(VJN18=\"\",\"\",VLOOKUP($Q$10,DATA!$P$2:$R$196,3))","v":""},{"$f":"IF(VJO18=\"\",\"\",VLOOKUP($Q$10,DATA!$P$2:$R$196,3))","v":""},{"$f":"IF(VJP18=\"\",\"\",VLOOKUP($Q$10,DATA!$P$2:$R$196,3))","v":""},{"$f":"IF(VJQ18=\"\",\"\",VLOOKUP($Q$10,DATA!$P$2:$R$196,3))","v":""},{"$f":"IF(VJR18=\"\",\"\",VLOOKUP($Q$10,DATA!$P$2:$R$196,3))","v":""},{"$f":"IF(VJS18=\"\",\"\",VLOOKUP($Q$10,DATA!$P$2:$R$196,3))","v":""},{"$f":"IF(VJT18=\"\",\"\",VLOOKUP($Q$10,DATA!$P$2:$R$196,3))","v":""},{"$f":"IF(VJU18=\"\",\"\",VLOOKUP($Q$10,DATA!$P$2:$R$196,3))","v":""},{"$f":"IF(VJV18=\"\",\"\",VLOOKUP($Q$10,DATA!$P$2:$R$196,3))","v":""},{"$f":"IF(VJW18=\"\",\"\",VLOOKUP($Q$10,DATA!$P$2:$R$196,3))","v":""},{"$f":"IF(VJX18=\"\",\"\",VLOOKUP($Q$10,DATA!$P$2:$R$196,3))","v":""},{"$f":"IF(VJY18=\"\",\"\",VLOOKUP($Q$10,DATA!$P$2:$R$196,3))","v":""},{"$f":"IF(VJZ18=\"\",\"\",VLOOKUP($Q$10,DATA!$P$2:$R$196,3))","v":""},{"$f":"IF(VKA18=\"\",\"\",VLOOKUP($Q$10,DATA!$P$2:$R$196,3))","v":""},{"$f":"IF(VKB18=\"\",\"\",VLOOKUP($Q$10,DATA!$P$2:$R$196,3))","v":""},{"$f":"IF(VKC18=\"\",\"\",VLOOKUP($Q$10,DATA!$P$2:$R$196,3))","v":""},{"$f":"IF(VKD18=\"\",\"\",VLOOKUP($Q$10,DATA!$P$2:$R$196,3))","v":""},{"$f":"IF(VKE18=\"\",\"\",VLOOKUP($Q$10,DATA!$P$2:$R$196,3))","v":""},{"$f":"IF(VKF18=\"\",\"\",VLOOKUP($Q$10,DATA!$P$2:$R$196,3))","v":""},{"$f":"IF(VKG18=\"\",\"\",VLOOKUP($Q$10,DATA!$P$2:$R$196,3))","v":""},{"$f":"IF(VKH18=\"\",\"\",VLOOKUP($Q$10,DATA!$P$2:$R$196,3))","v":""},{"$f":"IF(VKI18=\"\",\"\",VLOOKUP($Q$10,DATA!$P$2:$R$196,3))","v":""},{"$f":"IF(VKJ18=\"\",\"\",VLOOKUP($Q$10,DATA!$P$2:$R$196,3))","v":""},{"$f":"IF(VKK18=\"\",\"\",VLOOKUP($Q$10,DATA!$P$2:$R$196,3))","v":""},{"$f":"IF(VKL18=\"\",\"\",VLOOKUP($Q$10,DATA!$P$2:$R$196,3))","v":""},{"$f":"IF(VKM18=\"\",\"\",VLOOKUP($Q$10,DATA!$P$2:$R$196,3))","v":""},{"$f":"IF(VKN18=\"\",\"\",VLOOKUP($Q$10,DATA!$P$2:$R$196,3))","v":""},{"$f":"IF(VKO18=\"\",\"\",VLOOKUP($Q$10,DATA!$P$2:$R$196,3))","v":""},{"$f":"IF(VKP18=\"\",\"\",VLOOKUP($Q$10,DATA!$P$2:$R$196,3))","v":""},{"$f":"IF(VKQ18=\"\",\"\",VLOOKUP($Q$10,DATA!$P$2:$R$196,3))","v":""},{"$f":"IF(VKR18=\"\",\"\",VLOOKUP($Q$10,DATA!$P$2:$R$196,3))","v":""},{"$f":"IF(VKS18=\"\",\"\",VLOOKUP($Q$10,DATA!$P$2:$R$196,3))","v":""},{"$f":"IF(VKT18=\"\",\"\",VLOOKUP($Q$10,DATA!$P$2:$R$196,3))","v":""},{"$f":"IF(VKU18=\"\",\"\",VLOOKUP($Q$10,DATA!$P$2:$R$196,3))","v":""},{"$f":"IF(VKV18=\"\",\"\",VLOOKUP($Q$10,DATA!$P$2:$R$196,3))","v":""},{"$f":"IF(VKW18=\"\",\"\",VLOOKUP($Q$10,DATA!$P$2:$R$196,3))","v":""},{"$f":"IF(VKX18=\"\",\"\",VLOOKUP($Q$10,DATA!$P$2:$R$196,3))","v":""},{"$f":"IF(VKY18=\"\",\"\",VLOOKUP($Q$10,DATA!$P$2:$R$196,3))","v":""},{"$f":"IF(VKZ18=\"\",\"\",VLOOKUP($Q$10,DATA!$P$2:$R$196,3))","v":""},{"$f":"IF(VLA18=\"\",\"\",VLOOKUP($Q$10,DATA!$P$2:$R$196,3))","v":""},{"$f":"IF(VLB18=\"\",\"\",VLOOKUP($Q$10,DATA!$P$2:$R$196,3))","v":""},{"$f":"IF(VLC18=\"\",\"\",VLOOKUP($Q$10,DATA!$P$2:$R$196,3))","v":""},{"$f":"IF(VLD18=\"\",\"\",VLOOKUP($Q$10,DATA!$P$2:$R$196,3))","v":""},{"$f":"IF(VLE18=\"\",\"\",VLOOKUP($Q$10,DATA!$P$2:$R$196,3))","v":""},{"$f":"IF(VLF18=\"\",\"\",VLOOKUP($Q$10,DATA!$P$2:$R$196,3))","v":""},{"$f":"IF(VLG18=\"\",\"\",VLOOKUP($Q$10,DATA!$P$2:$R$196,3))","v":""},{"$f":"IF(VLH18=\"\",\"\",VLOOKUP($Q$10,DATA!$P$2:$R$196,3))","v":""},{"$f":"IF(VLI18=\"\",\"\",VLOOKUP($Q$10,DATA!$P$2:$R$196,3))","v":""},{"$f":"IF(VLJ18=\"\",\"\",VLOOKUP($Q$10,DATA!$P$2:$R$196,3))","v":""},{"$f":"IF(VLK18=\"\",\"\",VLOOKUP($Q$10,DATA!$P$2:$R$196,3))","v":""},{"$f":"IF(VLL18=\"\",\"\",VLOOKUP($Q$10,DATA!$P$2:$R$196,3))","v":""},{"$f":"IF(VLM18=\"\",\"\",VLOOKUP($Q$10,DATA!$P$2:$R$196,3))","v":""},{"$f":"IF(VLN18=\"\",\"\",VLOOKUP($Q$10,DATA!$P$2:$R$196,3))","v":""},{"$f":"IF(VLO18=\"\",\"\",VLOOKUP($Q$10,DATA!$P$2:$R$196,3))","v":""},{"$f":"IF(VLP18=\"\",\"\",VLOOKUP($Q$10,DATA!$P$2:$R$196,3))","v":""},{"$f":"IF(VLQ18=\"\",\"\",VLOOKUP($Q$10,DATA!$P$2:$R$196,3))","v":""},{"$f":"IF(VLR18=\"\",\"\",VLOOKUP($Q$10,DATA!$P$2:$R$196,3))","v":""},{"$f":"IF(VLS18=\"\",\"\",VLOOKUP($Q$10,DATA!$P$2:$R$196,3))","v":""},{"$f":"IF(VLT18=\"\",\"\",VLOOKUP($Q$10,DATA!$P$2:$R$196,3))","v":""},{"$f":"IF(VLU18=\"\",\"\",VLOOKUP($Q$10,DATA!$P$2:$R$196,3))","v":""},{"$f":"IF(VLV18=\"\",\"\",VLOOKUP($Q$10,DATA!$P$2:$R$196,3))","v":""},{"$f":"IF(VLW18=\"\",\"\",VLOOKUP($Q$10,DATA!$P$2:$R$196,3))","v":""},{"$f":"IF(VLX18=\"\",\"\",VLOOKUP($Q$10,DATA!$P$2:$R$196,3))","v":""},{"$f":"IF(VLY18=\"\",\"\",VLOOKUP($Q$10,DATA!$P$2:$R$196,3))","v":""},{"$f":"IF(VLZ18=\"\",\"\",VLOOKUP($Q$10,DATA!$P$2:$R$196,3))","v":""},{"$f":"IF(VMA18=\"\",\"\",VLOOKUP($Q$10,DATA!$P$2:$R$196,3))","v":""},{"$f":"IF(VMB18=\"\",\"\",VLOOKUP($Q$10,DATA!$P$2:$R$196,3))","v":""},{"$f":"IF(VMC18=\"\",\"\",VLOOKUP($Q$10,DATA!$P$2:$R$196,3))","v":""},{"$f":"IF(VMD18=\"\",\"\",VLOOKUP($Q$10,DATA!$P$2:$R$196,3))","v":""},{"$f":"IF(VME18=\"\",\"\",VLOOKUP($Q$10,DATA!$P$2:$R$196,3))","v":""},{"$f":"IF(VMF18=\"\",\"\",VLOOKUP($Q$10,DATA!$P$2:$R$196,3))","v":""},{"$f":"IF(VMG18=\"\",\"\",VLOOKUP($Q$10,DATA!$P$2:$R$196,3))","v":""},{"$f":"IF(VMH18=\"\",\"\",VLOOKUP($Q$10,DATA!$P$2:$R$196,3))","v":""},{"$f":"IF(VMI18=\"\",\"\",VLOOKUP($Q$10,DATA!$P$2:$R$196,3))","v":""},{"$f":"IF(VMJ18=\"\",\"\",VLOOKUP($Q$10,DATA!$P$2:$R$196,3))","v":""},{"$f":"IF(VMK18=\"\",\"\",VLOOKUP($Q$10,DATA!$P$2:$R$196,3))","v":""},{"$f":"IF(VML18=\"\",\"\",VLOOKUP($Q$10,DATA!$P$2:$R$196,3))","v":""},{"$f":"IF(VMM18=\"\",\"\",VLOOKUP($Q$10,DATA!$P$2:$R$196,3))","v":""},{"$f":"IF(VMN18=\"\",\"\",VLOOKUP($Q$10,DATA!$P$2:$R$196,3))","v":""},{"$f":"IF(VMO18=\"\",\"\",VLOOKUP($Q$10,DATA!$P$2:$R$196,3))","v":""},{"$f":"IF(VMP18=\"\",\"\",VLOOKUP($Q$10,DATA!$P$2:$R$196,3))","v":""},{"$f":"IF(VMQ18=\"\",\"\",VLOOKUP($Q$10,DATA!$P$2:$R$196,3))","v":""},{"$f":"IF(VMR18=\"\",\"\",VLOOKUP($Q$10,DATA!$P$2:$R$196,3))","v":""},{"$f":"IF(VMS18=\"\",\"\",VLOOKUP($Q$10,DATA!$P$2:$R$196,3))","v":""},{"$f":"IF(VMT18=\"\",\"\",VLOOKUP($Q$10,DATA!$P$2:$R$196,3))","v":""},{"$f":"IF(VMU18=\"\",\"\",VLOOKUP($Q$10,DATA!$P$2:$R$196,3))","v":""},{"$f":"IF(VMV18=\"\",\"\",VLOOKUP($Q$10,DATA!$P$2:$R$196,3))","v":""},{"$f":"IF(VMW18=\"\",\"\",VLOOKUP($Q$10,DATA!$P$2:$R$196,3))","v":""},{"$f":"IF(VMX18=\"\",\"\",VLOOKUP($Q$10,DATA!$P$2:$R$196,3))","v":""},{"$f":"IF(VMY18=\"\",\"\",VLOOKUP($Q$10,DATA!$P$2:$R$196,3))","v":""},{"$f":"IF(VMZ18=\"\",\"\",VLOOKUP($Q$10,DATA!$P$2:$R$196,3))","v":""},{"$f":"IF(VNA18=\"\",\"\",VLOOKUP($Q$10,DATA!$P$2:$R$196,3))","v":""},{"$f":"IF(VNB18=\"\",\"\",VLOOKUP($Q$10,DATA!$P$2:$R$196,3))","v":""},{"$f":"IF(VNC18=\"\",\"\",VLOOKUP($Q$10,DATA!$P$2:$R$196,3))","v":""},{"$f":"IF(VND18=\"\",\"\",VLOOKUP($Q$10,DATA!$P$2:$R$196,3))","v":""},{"$f":"IF(VNE18=\"\",\"\",VLOOKUP($Q$10,DATA!$P$2:$R$196,3))","v":""},{"$f":"IF(VNF18=\"\",\"\",VLOOKUP($Q$10,DATA!$P$2:$R$196,3))","v":""},{"$f":"IF(VNG18=\"\",\"\",VLOOKUP($Q$10,DATA!$P$2:$R$196,3))","v":""},{"$f":"IF(VNH18=\"\",\"\",VLOOKUP($Q$10,DATA!$P$2:$R$196,3))","v":""},{"$f":"IF(VNI18=\"\",\"\",VLOOKUP($Q$10,DATA!$P$2:$R$196,3))","v":""},{"$f":"IF(VNJ18=\"\",\"\",VLOOKUP($Q$10,DATA!$P$2:$R$196,3))","v":""},{"$f":"IF(VNK18=\"\",\"\",VLOOKUP($Q$10,DATA!$P$2:$R$196,3))","v":""},{"$f":"IF(VNL18=\"\",\"\",VLOOKUP($Q$10,DATA!$P$2:$R$196,3))","v":""},{"$f":"IF(VNM18=\"\",\"\",VLOOKUP($Q$10,DATA!$P$2:$R$196,3))","v":""},{"$f":"IF(VNN18=\"\",\"\",VLOOKUP($Q$10,DATA!$P$2:$R$196,3))","v":""},{"$f":"IF(VNO18=\"\",\"\",VLOOKUP($Q$10,DATA!$P$2:$R$196,3))","v":""},{"$f":"IF(VNP18=\"\",\"\",VLOOKUP($Q$10,DATA!$P$2:$R$196,3))","v":""},{"$f":"IF(VNQ18=\"\",\"\",VLOOKUP($Q$10,DATA!$P$2:$R$196,3))","v":""},{"$f":"IF(VNR18=\"\",\"\",VLOOKUP($Q$10,DATA!$P$2:$R$196,3))","v":""},{"$f":"IF(VNS18=\"\",\"\",VLOOKUP($Q$10,DATA!$P$2:$R$196,3))","v":""},{"$f":"IF(VNT18=\"\",\"\",VLOOKUP($Q$10,DATA!$P$2:$R$196,3))","v":""},{"$f":"IF(VNU18=\"\",\"\",VLOOKUP($Q$10,DATA!$P$2:$R$196,3))","v":""},{"$f":"IF(VNV18=\"\",\"\",VLOOKUP($Q$10,DATA!$P$2:$R$196,3))","v":""},{"$f":"IF(VNW18=\"\",\"\",VLOOKUP($Q$10,DATA!$P$2:$R$196,3))","v":""},{"$f":"IF(VNX18=\"\",\"\",VLOOKUP($Q$10,DATA!$P$2:$R$196,3))","v":""},{"$f":"IF(VNY18=\"\",\"\",VLOOKUP($Q$10,DATA!$P$2:$R$196,3))","v":""},{"$f":"IF(VNZ18=\"\",\"\",VLOOKUP($Q$10,DATA!$P$2:$R$196,3))","v":""},{"$f":"IF(VOA18=\"\",\"\",VLOOKUP($Q$10,DATA!$P$2:$R$196,3))","v":""},{"$f":"IF(VOB18=\"\",\"\",VLOOKUP($Q$10,DATA!$P$2:$R$196,3))","v":""},{"$f":"IF(VOC18=\"\",\"\",VLOOKUP($Q$10,DATA!$P$2:$R$196,3))","v":""},{"$f":"IF(VOD18=\"\",\"\",VLOOKUP($Q$10,DATA!$P$2:$R$196,3))","v":""},{"$f":"IF(VOE18=\"\",\"\",VLOOKUP($Q$10,DATA!$P$2:$R$196,3))","v":""},{"$f":"IF(VOF18=\"\",\"\",VLOOKUP($Q$10,DATA!$P$2:$R$196,3))","v":""},{"$f":"IF(VOG18=\"\",\"\",VLOOKUP($Q$10,DATA!$P$2:$R$196,3))","v":""},{"$f":"IF(VOH18=\"\",\"\",VLOOKUP($Q$10,DATA!$P$2:$R$196,3))","v":""},{"$f":"IF(VOI18=\"\",\"\",VLOOKUP($Q$10,DATA!$P$2:$R$196,3))","v":""},{"$f":"IF(VOJ18=\"\",\"\",VLOOKUP($Q$10,DATA!$P$2:$R$196,3))","v":""},{"$f":"IF(VOK18=\"\",\"\",VLOOKUP($Q$10,DATA!$P$2:$R$196,3))","v":""},{"$f":"IF(VOL18=\"\",\"\",VLOOKUP($Q$10,DATA!$P$2:$R$196,3))","v":""},{"$f":"IF(VOM18=\"\",\"\",VLOOKUP($Q$10,DATA!$P$2:$R$196,3))","v":""},{"$f":"IF(VON18=\"\",\"\",VLOOKUP($Q$10,DATA!$P$2:$R$196,3))","v":""},{"$f":"IF(VOO18=\"\",\"\",VLOOKUP($Q$10,DATA!$P$2:$R$196,3))","v":""},{"$f":"IF(VOP18=\"\",\"\",VLOOKUP($Q$10,DATA!$P$2:$R$196,3))","v":""},{"$f":"IF(VOQ18=\"\",\"\",VLOOKUP($Q$10,DATA!$P$2:$R$196,3))","v":""},{"$f":"IF(VOR18=\"\",\"\",VLOOKUP($Q$10,DATA!$P$2:$R$196,3))","v":""},{"$f":"IF(VOS18=\"\",\"\",VLOOKUP($Q$10,DATA!$P$2:$R$196,3))","v":""},{"$f":"IF(VOT18=\"\",\"\",VLOOKUP($Q$10,DATA!$P$2:$R$196,3))","v":""},{"$f":"IF(VOU18=\"\",\"\",VLOOKUP($Q$10,DATA!$P$2:$R$196,3))","v":""},{"$f":"IF(VOV18=\"\",\"\",VLOOKUP($Q$10,DATA!$P$2:$R$196,3))","v":""},{"$f":"IF(VOW18=\"\",\"\",VLOOKUP($Q$10,DATA!$P$2:$R$196,3))","v":""},{"$f":"IF(VOX18=\"\",\"\",VLOOKUP($Q$10,DATA!$P$2:$R$196,3))","v":""},{"$f":"IF(VOY18=\"\",\"\",VLOOKUP($Q$10,DATA!$P$2:$R$196,3))","v":""},{"$f":"IF(VOZ18=\"\",\"\",VLOOKUP($Q$10,DATA!$P$2:$R$196,3))","v":""},{"$f":"IF(VPA18=\"\",\"\",VLOOKUP($Q$10,DATA!$P$2:$R$196,3))","v":""},{"$f":"IF(VPB18=\"\",\"\",VLOOKUP($Q$10,DATA!$P$2:$R$196,3))","v":""},{"$f":"IF(VPC18=\"\",\"\",VLOOKUP($Q$10,DATA!$P$2:$R$196,3))","v":""},{"$f":"IF(VPD18=\"\",\"\",VLOOKUP($Q$10,DATA!$P$2:$R$196,3))","v":""},{"$f":"IF(VPE18=\"\",\"\",VLOOKUP($Q$10,DATA!$P$2:$R$196,3))","v":""},{"$f":"IF(VPF18=\"\",\"\",VLOOKUP($Q$10,DATA!$P$2:$R$196,3))","v":""},{"$f":"IF(VPG18=\"\",\"\",VLOOKUP($Q$10,DATA!$P$2:$R$196,3))","v":""},{"$f":"IF(VPH18=\"\",\"\",VLOOKUP($Q$10,DATA!$P$2:$R$196,3))","v":""},{"$f":"IF(VPI18=\"\",\"\",VLOOKUP($Q$10,DATA!$P$2:$R$196,3))","v":""},{"$f":"IF(VPJ18=\"\",\"\",VLOOKUP($Q$10,DATA!$P$2:$R$196,3))","v":""},{"$f":"IF(VPK18=\"\",\"\",VLOOKUP($Q$10,DATA!$P$2:$R$196,3))","v":""},{"$f":"IF(VPL18=\"\",\"\",VLOOKUP($Q$10,DATA!$P$2:$R$196,3))","v":""},{"$f":"IF(VPM18=\"\",\"\",VLOOKUP($Q$10,DATA!$P$2:$R$196,3))","v":""},{"$f":"IF(VPN18=\"\",\"\",VLOOKUP($Q$10,DATA!$P$2:$R$196,3))","v":""},{"$f":"IF(VPO18=\"\",\"\",VLOOKUP($Q$10,DATA!$P$2:$R$196,3))","v":""},{"$f":"IF(VPP18=\"\",\"\",VLOOKUP($Q$10,DATA!$P$2:$R$196,3))","v":""},{"$f":"IF(VPQ18=\"\",\"\",VLOOKUP($Q$10,DATA!$P$2:$R$196,3))","v":""},{"$f":"IF(VPR18=\"\",\"\",VLOOKUP($Q$10,DATA!$P$2:$R$196,3))","v":""},{"$f":"IF(VPS18=\"\",\"\",VLOOKUP($Q$10,DATA!$P$2:$R$196,3))","v":""},{"$f":"IF(VPT18=\"\",\"\",VLOOKUP($Q$10,DATA!$P$2:$R$196,3))","v":""},{"$f":"IF(VPU18=\"\",\"\",VLOOKUP($Q$10,DATA!$P$2:$R$196,3))","v":""},{"$f":"IF(VPV18=\"\",\"\",VLOOKUP($Q$10,DATA!$P$2:$R$196,3))","v":""},{"$f":"IF(VPW18=\"\",\"\",VLOOKUP($Q$10,DATA!$P$2:$R$196,3))","v":""},{"$f":"IF(VPX18=\"\",\"\",VLOOKUP($Q$10,DATA!$P$2:$R$196,3))","v":""},{"$f":"IF(VPY18=\"\",\"\",VLOOKUP($Q$10,DATA!$P$2:$R$196,3))","v":""},{"$f":"IF(VPZ18=\"\",\"\",VLOOKUP($Q$10,DATA!$P$2:$R$196,3))","v":""},{"$f":"IF(VQA18=\"\",\"\",VLOOKUP($Q$10,DATA!$P$2:$R$196,3))","v":""},{"$f":"IF(VQB18=\"\",\"\",VLOOKUP($Q$10,DATA!$P$2:$R$196,3))","v":""},{"$f":"IF(VQC18=\"\",\"\",VLOOKUP($Q$10,DATA!$P$2:$R$196,3))","v":""},{"$f":"IF(VQD18=\"\",\"\",VLOOKUP($Q$10,DATA!$P$2:$R$196,3))","v":""},{"$f":"IF(VQE18=\"\",\"\",VLOOKUP($Q$10,DATA!$P$2:$R$196,3))","v":""},{"$f":"IF(VQF18=\"\",\"\",VLOOKUP($Q$10,DATA!$P$2:$R$196,3))","v":""},{"$f":"IF(VQG18=\"\",\"\",VLOOKUP($Q$10,DATA!$P$2:$R$196,3))","v":""},{"$f":"IF(VQH18=\"\",\"\",VLOOKUP($Q$10,DATA!$P$2:$R$196,3))","v":""},{"$f":"IF(VQI18=\"\",\"\",VLOOKUP($Q$10,DATA!$P$2:$R$196,3))","v":""},{"$f":"IF(VQJ18=\"\",\"\",VLOOKUP($Q$10,DATA!$P$2:$R$196,3))","v":""},{"$f":"IF(VQK18=\"\",\"\",VLOOKUP($Q$10,DATA!$P$2:$R$196,3))","v":""},{"$f":"IF(VQL18=\"\",\"\",VLOOKUP($Q$10,DATA!$P$2:$R$196,3))","v":""},{"$f":"IF(VQM18=\"\",\"\",VLOOKUP($Q$10,DATA!$P$2:$R$196,3))","v":""},{"$f":"IF(VQN18=\"\",\"\",VLOOKUP($Q$10,DATA!$P$2:$R$196,3))","v":""},{"$f":"IF(VQO18=\"\",\"\",VLOOKUP($Q$10,DATA!$P$2:$R$196,3))","v":""},{"$f":"IF(VQP18=\"\",\"\",VLOOKUP($Q$10,DATA!$P$2:$R$196,3))","v":""},{"$f":"IF(VQQ18=\"\",\"\",VLOOKUP($Q$10,DATA!$P$2:$R$196,3))","v":""},{"$f":"IF(VQR18=\"\",\"\",VLOOKUP($Q$10,DATA!$P$2:$R$196,3))","v":""},{"$f":"IF(VQS18=\"\",\"\",VLOOKUP($Q$10,DATA!$P$2:$R$196,3))","v":""},{"$f":"IF(VQT18=\"\",\"\",VLOOKUP($Q$10,DATA!$P$2:$R$196,3))","v":""},{"$f":"IF(VQU18=\"\",\"\",VLOOKUP($Q$10,DATA!$P$2:$R$196,3))","v":""},{"$f":"IF(VQV18=\"\",\"\",VLOOKUP($Q$10,DATA!$P$2:$R$196,3))","v":""},{"$f":"IF(VQW18=\"\",\"\",VLOOKUP($Q$10,DATA!$P$2:$R$196,3))","v":""},{"$f":"IF(VQX18=\"\",\"\",VLOOKUP($Q$10,DATA!$P$2:$R$196,3))","v":""},{"$f":"IF(VQY18=\"\",\"\",VLOOKUP($Q$10,DATA!$P$2:$R$196,3))","v":""},{"$f":"IF(VQZ18=\"\",\"\",VLOOKUP($Q$10,DATA!$P$2:$R$196,3))","v":""},{"$f":"IF(VRA18=\"\",\"\",VLOOKUP($Q$10,DATA!$P$2:$R$196,3))","v":""},{"$f":"IF(VRB18=\"\",\"\",VLOOKUP($Q$10,DATA!$P$2:$R$196,3))","v":""},{"$f":"IF(VRC18=\"\",\"\",VLOOKUP($Q$10,DATA!$P$2:$R$196,3))","v":""},{"$f":"IF(VRD18=\"\",\"\",VLOOKUP($Q$10,DATA!$P$2:$R$196,3))","v":""},{"$f":"IF(VRE18=\"\",\"\",VLOOKUP($Q$10,DATA!$P$2:$R$196,3))","v":""},{"$f":"IF(VRF18=\"\",\"\",VLOOKUP($Q$10,DATA!$P$2:$R$196,3))","v":""},{"$f":"IF(VRG18=\"\",\"\",VLOOKUP($Q$10,DATA!$P$2:$R$196,3))","v":""},{"$f":"IF(VRH18=\"\",\"\",VLOOKUP($Q$10,DATA!$P$2:$R$196,3))","v":""},{"$f":"IF(VRI18=\"\",\"\",VLOOKUP($Q$10,DATA!$P$2:$R$196,3))","v":""},{"$f":"IF(VRJ18=\"\",\"\",VLOOKUP($Q$10,DATA!$P$2:$R$196,3))","v":""},{"$f":"IF(VRK18=\"\",\"\",VLOOKUP($Q$10,DATA!$P$2:$R$196,3))","v":""},{"$f":"IF(VRL18=\"\",\"\",VLOOKUP($Q$10,DATA!$P$2:$R$196,3))","v":""},{"$f":"IF(VRM18=\"\",\"\",VLOOKUP($Q$10,DATA!$P$2:$R$196,3))","v":""},{"$f":"IF(VRN18=\"\",\"\",VLOOKUP($Q$10,DATA!$P$2:$R$196,3))","v":""},{"$f":"IF(VRO18=\"\",\"\",VLOOKUP($Q$10,DATA!$P$2:$R$196,3))","v":""},{"$f":"IF(VRP18=\"\",\"\",VLOOKUP($Q$10,DATA!$P$2:$R$196,3))","v":""},{"$f":"IF(VRQ18=\"\",\"\",VLOOKUP($Q$10,DATA!$P$2:$R$196,3))","v":""},{"$f":"IF(VRR18=\"\",\"\",VLOOKUP($Q$10,DATA!$P$2:$R$196,3))","v":""},{"$f":"IF(VRS18=\"\",\"\",VLOOKUP($Q$10,DATA!$P$2:$R$196,3))","v":""},{"$f":"IF(VRT18=\"\",\"\",VLOOKUP($Q$10,DATA!$P$2:$R$196,3))","v":""},{"$f":"IF(VRU18=\"\",\"\",VLOOKUP($Q$10,DATA!$P$2:$R$196,3))","v":""},{"$f":"IF(VRV18=\"\",\"\",VLOOKUP($Q$10,DATA!$P$2:$R$196,3))","v":""},{"$f":"IF(VRW18=\"\",\"\",VLOOKUP($Q$10,DATA!$P$2:$R$196,3))","v":""},{"$f":"IF(VRX18=\"\",\"\",VLOOKUP($Q$10,DATA!$P$2:$R$196,3))","v":""},{"$f":"IF(VRY18=\"\",\"\",VLOOKUP($Q$10,DATA!$P$2:$R$196,3))","v":""},{"$f":"IF(VRZ18=\"\",\"\",VLOOKUP($Q$10,DATA!$P$2:$R$196,3))","v":""},{"$f":"IF(VSA18=\"\",\"\",VLOOKUP($Q$10,DATA!$P$2:$R$196,3))","v":""},{"$f":"IF(VSB18=\"\",\"\",VLOOKUP($Q$10,DATA!$P$2:$R$196,3))","v":""},{"$f":"IF(VSC18=\"\",\"\",VLOOKUP($Q$10,DATA!$P$2:$R$196,3))","v":""},{"$f":"IF(VSD18=\"\",\"\",VLOOKUP($Q$10,DATA!$P$2:$R$196,3))","v":""},{"$f":"IF(VSE18=\"\",\"\",VLOOKUP($Q$10,DATA!$P$2:$R$196,3))","v":""},{"$f":"IF(VSF18=\"\",\"\",VLOOKUP($Q$10,DATA!$P$2:$R$196,3))","v":""},{"$f":"IF(VSG18=\"\",\"\",VLOOKUP($Q$10,DATA!$P$2:$R$196,3))","v":""},{"$f":"IF(VSH18=\"\",\"\",VLOOKUP($Q$10,DATA!$P$2:$R$196,3))","v":""},{"$f":"IF(VSI18=\"\",\"\",VLOOKUP($Q$10,DATA!$P$2:$R$196,3))","v":""},{"$f":"IF(VSJ18=\"\",\"\",VLOOKUP($Q$10,DATA!$P$2:$R$196,3))","v":""},{"$f":"IF(VSK18=\"\",\"\",VLOOKUP($Q$10,DATA!$P$2:$R$196,3))","v":""},{"$f":"IF(VSL18=\"\",\"\",VLOOKUP($Q$10,DATA!$P$2:$R$196,3))","v":""},{"$f":"IF(VSM18=\"\",\"\",VLOOKUP($Q$10,DATA!$P$2:$R$196,3))","v":""},{"$f":"IF(VSN18=\"\",\"\",VLOOKUP($Q$10,DATA!$P$2:$R$196,3))","v":""},{"$f":"IF(VSO18=\"\",\"\",VLOOKUP($Q$10,DATA!$P$2:$R$196,3))","v":""},{"$f":"IF(VSP18=\"\",\"\",VLOOKUP($Q$10,DATA!$P$2:$R$196,3))","v":""},{"$f":"IF(VSQ18=\"\",\"\",VLOOKUP($Q$10,DATA!$P$2:$R$196,3))","v":""},{"$f":"IF(VSR18=\"\",\"\",VLOOKUP($Q$10,DATA!$P$2:$R$196,3))","v":""},{"$f":"IF(VSS18=\"\",\"\",VLOOKUP($Q$10,DATA!$P$2:$R$196,3))","v":""},{"$f":"IF(VST18=\"\",\"\",VLOOKUP($Q$10,DATA!$P$2:$R$196,3))","v":""},{"$f":"IF(VSU18=\"\",\"\",VLOOKUP($Q$10,DATA!$P$2:$R$196,3))","v":""},{"$f":"IF(VSV18=\"\",\"\",VLOOKUP($Q$10,DATA!$P$2:$R$196,3))","v":""},{"$f":"IF(VSW18=\"\",\"\",VLOOKUP($Q$10,DATA!$P$2:$R$196,3))","v":""},{"$f":"IF(VSX18=\"\",\"\",VLOOKUP($Q$10,DATA!$P$2:$R$196,3))","v":""},{"$f":"IF(VSY18=\"\",\"\",VLOOKUP($Q$10,DATA!$P$2:$R$196,3))","v":""},{"$f":"IF(VSZ18=\"\",\"\",VLOOKUP($Q$10,DATA!$P$2:$R$196,3))","v":""},{"$f":"IF(VTA18=\"\",\"\",VLOOKUP($Q$10,DATA!$P$2:$R$196,3))","v":""},{"$f":"IF(VTB18=\"\",\"\",VLOOKUP($Q$10,DATA!$P$2:$R$196,3))","v":""},{"$f":"IF(VTC18=\"\",\"\",VLOOKUP($Q$10,DATA!$P$2:$R$196,3))","v":""},{"$f":"IF(VTD18=\"\",\"\",VLOOKUP($Q$10,DATA!$P$2:$R$196,3))","v":""},{"$f":"IF(VTE18=\"\",\"\",VLOOKUP($Q$10,DATA!$P$2:$R$196,3))","v":""},{"$f":"IF(VTF18=\"\",\"\",VLOOKUP($Q$10,DATA!$P$2:$R$196,3))","v":""},{"$f":"IF(VTG18=\"\",\"\",VLOOKUP($Q$10,DATA!$P$2:$R$196,3))","v":""},{"$f":"IF(VTH18=\"\",\"\",VLOOKUP($Q$10,DATA!$P$2:$R$196,3))","v":""},{"$f":"IF(VTI18=\"\",\"\",VLOOKUP($Q$10,DATA!$P$2:$R$196,3))","v":""},{"$f":"IF(VTJ18=\"\",\"\",VLOOKUP($Q$10,DATA!$P$2:$R$196,3))","v":""},{"$f":"IF(VTK18=\"\",\"\",VLOOKUP($Q$10,DATA!$P$2:$R$196,3))","v":""},{"$f":"IF(VTL18=\"\",\"\",VLOOKUP($Q$10,DATA!$P$2:$R$196,3))","v":""},{"$f":"IF(VTM18=\"\",\"\",VLOOKUP($Q$10,DATA!$P$2:$R$196,3))","v":""},{"$f":"IF(VTN18=\"\",\"\",VLOOKUP($Q$10,DATA!$P$2:$R$196,3))","v":""},{"$f":"IF(VTO18=\"\",\"\",VLOOKUP($Q$10,DATA!$P$2:$R$196,3))","v":""},{"$f":"IF(VTP18=\"\",\"\",VLOOKUP($Q$10,DATA!$P$2:$R$196,3))","v":""},{"$f":"IF(VTQ18=\"\",\"\",VLOOKUP($Q$10,DATA!$P$2:$R$196,3))","v":""},{"$f":"IF(VTR18=\"\",\"\",VLOOKUP($Q$10,DATA!$P$2:$R$196,3))","v":""},{"$f":"IF(VTS18=\"\",\"\",VLOOKUP($Q$10,DATA!$P$2:$R$196,3))","v":""},{"$f":"IF(VTT18=\"\",\"\",VLOOKUP($Q$10,DATA!$P$2:$R$196,3))","v":""},{"$f":"IF(VTU18=\"\",\"\",VLOOKUP($Q$10,DATA!$P$2:$R$196,3))","v":""},{"$f":"IF(VTV18=\"\",\"\",VLOOKUP($Q$10,DATA!$P$2:$R$196,3))","v":""},{"$f":"IF(VTW18=\"\",\"\",VLOOKUP($Q$10,DATA!$P$2:$R$196,3))","v":""},{"$f":"IF(VTX18=\"\",\"\",VLOOKUP($Q$10,DATA!$P$2:$R$196,3))","v":""},{"$f":"IF(VTY18=\"\",\"\",VLOOKUP($Q$10,DATA!$P$2:$R$196,3))","v":""},{"$f":"IF(VTZ18=\"\",\"\",VLOOKUP($Q$10,DATA!$P$2:$R$196,3))","v":""},{"$f":"IF(VUA18=\"\",\"\",VLOOKUP($Q$10,DATA!$P$2:$R$196,3))","v":""},{"$f":"IF(VUB18=\"\",\"\",VLOOKUP($Q$10,DATA!$P$2:$R$196,3))","v":""},{"$f":"IF(VUC18=\"\",\"\",VLOOKUP($Q$10,DATA!$P$2:$R$196,3))","v":""},{"$f":"IF(VUD18=\"\",\"\",VLOOKUP($Q$10,DATA!$P$2:$R$196,3))","v":""},{"$f":"IF(VUE18=\"\",\"\",VLOOKUP($Q$10,DATA!$P$2:$R$196,3))","v":""},{"$f":"IF(VUF18=\"\",\"\",VLOOKUP($Q$10,DATA!$P$2:$R$196,3))","v":""},{"$f":"IF(VUG18=\"\",\"\",VLOOKUP($Q$10,DATA!$P$2:$R$196,3))","v":""},{"$f":"IF(VUH18=\"\",\"\",VLOOKUP($Q$10,DATA!$P$2:$R$196,3))","v":""},{"$f":"IF(VUI18=\"\",\"\",VLOOKUP($Q$10,DATA!$P$2:$R$196,3))","v":""},{"$f":"IF(VUJ18=\"\",\"\",VLOOKUP($Q$10,DATA!$P$2:$R$196,3))","v":""},{"$f":"IF(VUK18=\"\",\"\",VLOOKUP($Q$10,DATA!$P$2:$R$196,3))","v":""},{"$f":"IF(VUL18=\"\",\"\",VLOOKUP($Q$10,DATA!$P$2:$R$196,3))","v":""},{"$f":"IF(VUM18=\"\",\"\",VLOOKUP($Q$10,DATA!$P$2:$R$196,3))","v":""},{"$f":"IF(VUN18=\"\",\"\",VLOOKUP($Q$10,DATA!$P$2:$R$196,3))","v":""},{"$f":"IF(VUO18=\"\",\"\",VLOOKUP($Q$10,DATA!$P$2:$R$196,3))","v":""},{"$f":"IF(VUP18=\"\",\"\",VLOOKUP($Q$10,DATA!$P$2:$R$196,3))","v":""},{"$f":"IF(VUQ18=\"\",\"\",VLOOKUP($Q$10,DATA!$P$2:$R$196,3))","v":""},{"$f":"IF(VUR18=\"\",\"\",VLOOKUP($Q$10,DATA!$P$2:$R$196,3))","v":""},{"$f":"IF(VUS18=\"\",\"\",VLOOKUP($Q$10,DATA!$P$2:$R$196,3))","v":""},{"$f":"IF(VUT18=\"\",\"\",VLOOKUP($Q$10,DATA!$P$2:$R$196,3))","v":""},{"$f":"IF(VUU18=\"\",\"\",VLOOKUP($Q$10,DATA!$P$2:$R$196,3))","v":""},{"$f":"IF(VUV18=\"\",\"\",VLOOKUP($Q$10,DATA!$P$2:$R$196,3))","v":""},{"$f":"IF(VUW18=\"\",\"\",VLOOKUP($Q$10,DATA!$P$2:$R$196,3))","v":""},{"$f":"IF(VUX18=\"\",\"\",VLOOKUP($Q$10,DATA!$P$2:$R$196,3))","v":""},{"$f":"IF(VUY18=\"\",\"\",VLOOKUP($Q$10,DATA!$P$2:$R$196,3))","v":""},{"$f":"IF(VUZ18=\"\",\"\",VLOOKUP($Q$10,DATA!$P$2:$R$196,3))","v":""},{"$f":"IF(VVA18=\"\",\"\",VLOOKUP($Q$10,DATA!$P$2:$R$196,3))","v":""},{"$f":"IF(VVB18=\"\",\"\",VLOOKUP($Q$10,DATA!$P$2:$R$196,3))","v":""},{"$f":"IF(VVC18=\"\",\"\",VLOOKUP($Q$10,DATA!$P$2:$R$196,3))","v":""},{"$f":"IF(VVD18=\"\",\"\",VLOOKUP($Q$10,DATA!$P$2:$R$196,3))","v":""},{"$f":"IF(VVE18=\"\",\"\",VLOOKUP($Q$10,DATA!$P$2:$R$196,3))","v":""},{"$f":"IF(VVF18=\"\",\"\",VLOOKUP($Q$10,DATA!$P$2:$R$196,3))","v":""},{"$f":"IF(VVG18=\"\",\"\",VLOOKUP($Q$10,DATA!$P$2:$R$196,3))","v":""},{"$f":"IF(VVH18=\"\",\"\",VLOOKUP($Q$10,DATA!$P$2:$R$196,3))","v":""},{"$f":"IF(VVI18=\"\",\"\",VLOOKUP($Q$10,DATA!$P$2:$R$196,3))","v":""},{"$f":"IF(VVJ18=\"\",\"\",VLOOKUP($Q$10,DATA!$P$2:$R$196,3))","v":""},{"$f":"IF(VVK18=\"\",\"\",VLOOKUP($Q$10,DATA!$P$2:$R$196,3))","v":""},{"$f":"IF(VVL18=\"\",\"\",VLOOKUP($Q$10,DATA!$P$2:$R$196,3))","v":""},{"$f":"IF(VVM18=\"\",\"\",VLOOKUP($Q$10,DATA!$P$2:$R$196,3))","v":""},{"$f":"IF(VVN18=\"\",\"\",VLOOKUP($Q$10,DATA!$P$2:$R$196,3))","v":""},{"$f":"IF(VVO18=\"\",\"\",VLOOKUP($Q$10,DATA!$P$2:$R$196,3))","v":""},{"$f":"IF(VVP18=\"\",\"\",VLOOKUP($Q$10,DATA!$P$2:$R$196,3))","v":""},{"$f":"IF(VVQ18=\"\",\"\",VLOOKUP($Q$10,DATA!$P$2:$R$196,3))","v":""},{"$f":"IF(VVR18=\"\",\"\",VLOOKUP($Q$10,DATA!$P$2:$R$196,3))","v":""},{"$f":"IF(VVS18=\"\",\"\",VLOOKUP($Q$10,DATA!$P$2:$R$196,3))","v":""},{"$f":"IF(VVT18=\"\",\"\",VLOOKUP($Q$10,DATA!$P$2:$R$196,3))","v":""},{"$f":"IF(VVU18=\"\",\"\",VLOOKUP($Q$10,DATA!$P$2:$R$196,3))","v":""},{"$f":"IF(VVV18=\"\",\"\",VLOOKUP($Q$10,DATA!$P$2:$R$196,3))","v":""},{"$f":"IF(VVW18=\"\",\"\",VLOOKUP($Q$10,DATA!$P$2:$R$196,3))","v":""},{"$f":"IF(VVX18=\"\",\"\",VLOOKUP($Q$10,DATA!$P$2:$R$196,3))","v":""},{"$f":"IF(VVY18=\"\",\"\",VLOOKUP($Q$10,DATA!$P$2:$R$196,3))","v":""},{"$f":"IF(VVZ18=\"\",\"\",VLOOKUP($Q$10,DATA!$P$2:$R$196,3))","v":""},{"$f":"IF(VWA18=\"\",\"\",VLOOKUP($Q$10,DATA!$P$2:$R$196,3))","v":""},{"$f":"IF(VWB18=\"\",\"\",VLOOKUP($Q$10,DATA!$P$2:$R$196,3))","v":""},{"$f":"IF(VWC18=\"\",\"\",VLOOKUP($Q$10,DATA!$P$2:$R$196,3))","v":""},{"$f":"IF(VWD18=\"\",\"\",VLOOKUP($Q$10,DATA!$P$2:$R$196,3))","v":""},{"$f":"IF(VWE18=\"\",\"\",VLOOKUP($Q$10,DATA!$P$2:$R$196,3))","v":""},{"$f":"IF(VWF18=\"\",\"\",VLOOKUP($Q$10,DATA!$P$2:$R$196,3))","v":""},{"$f":"IF(VWG18=\"\",\"\",VLOOKUP($Q$10,DATA!$P$2:$R$196,3))","v":""},{"$f":"IF(VWH18=\"\",\"\",VLOOKUP($Q$10,DATA!$P$2:$R$196,3))","v":""},{"$f":"IF(VWI18=\"\",\"\",VLOOKUP($Q$10,DATA!$P$2:$R$196,3))","v":""},{"$f":"IF(VWJ18=\"\",\"\",VLOOKUP($Q$10,DATA!$P$2:$R$196,3))","v":""},{"$f":"IF(VWK18=\"\",\"\",VLOOKUP($Q$10,DATA!$P$2:$R$196,3))","v":""},{"$f":"IF(VWL18=\"\",\"\",VLOOKUP($Q$10,DATA!$P$2:$R$196,3))","v":""},{"$f":"IF(VWM18=\"\",\"\",VLOOKUP($Q$10,DATA!$P$2:$R$196,3))","v":""},{"$f":"IF(VWN18=\"\",\"\",VLOOKUP($Q$10,DATA!$P$2:$R$196,3))","v":""},{"$f":"IF(VWO18=\"\",\"\",VLOOKUP($Q$10,DATA!$P$2:$R$196,3))","v":""},{"$f":"IF(VWP18=\"\",\"\",VLOOKUP($Q$10,DATA!$P$2:$R$196,3))","v":""},{"$f":"IF(VWQ18=\"\",\"\",VLOOKUP($Q$10,DATA!$P$2:$R$196,3))","v":""},{"$f":"IF(VWR18=\"\",\"\",VLOOKUP($Q$10,DATA!$P$2:$R$196,3))","v":""},{"$f":"IF(VWS18=\"\",\"\",VLOOKUP($Q$10,DATA!$P$2:$R$196,3))","v":""},{"$f":"IF(VWT18=\"\",\"\",VLOOKUP($Q$10,DATA!$P$2:$R$196,3))","v":""},{"$f":"IF(VWU18=\"\",\"\",VLOOKUP($Q$10,DATA!$P$2:$R$196,3))","v":""},{"$f":"IF(VWV18=\"\",\"\",VLOOKUP($Q$10,DATA!$P$2:$R$196,3))","v":""},{"$f":"IF(VWW18=\"\",\"\",VLOOKUP($Q$10,DATA!$P$2:$R$196,3))","v":""},{"$f":"IF(VWX18=\"\",\"\",VLOOKUP($Q$10,DATA!$P$2:$R$196,3))","v":""},{"$f":"IF(VWY18=\"\",\"\",VLOOKUP($Q$10,DATA!$P$2:$R$196,3))","v":""},{"$f":"IF(VWZ18=\"\",\"\",VLOOKUP($Q$10,DATA!$P$2:$R$196,3))","v":""},{"$f":"IF(VXA18=\"\",\"\",VLOOKUP($Q$10,DATA!$P$2:$R$196,3))","v":""},{"$f":"IF(VXB18=\"\",\"\",VLOOKUP($Q$10,DATA!$P$2:$R$196,3))","v":""},{"$f":"IF(VXC18=\"\",\"\",VLOOKUP($Q$10,DATA!$P$2:$R$196,3))","v":""},{"$f":"IF(VXD18=\"\",\"\",VLOOKUP($Q$10,DATA!$P$2:$R$196,3))","v":""},{"$f":"IF(VXE18=\"\",\"\",VLOOKUP($Q$10,DATA!$P$2:$R$196,3))","v":""},{"$f":"IF(VXF18=\"\",\"\",VLOOKUP($Q$10,DATA!$P$2:$R$196,3))","v":""},{"$f":"IF(VXG18=\"\",\"\",VLOOKUP($Q$10,DATA!$P$2:$R$196,3))","v":""},{"$f":"IF(VXH18=\"\",\"\",VLOOKUP($Q$10,DATA!$P$2:$R$196,3))","v":""},{"$f":"IF(VXI18=\"\",\"\",VLOOKUP($Q$10,DATA!$P$2:$R$196,3))","v":""},{"$f":"IF(VXJ18=\"\",\"\",VLOOKUP($Q$10,DATA!$P$2:$R$196,3))","v":""},{"$f":"IF(VXK18=\"\",\"\",VLOOKUP($Q$10,DATA!$P$2:$R$196,3))","v":""},{"$f":"IF(VXL18=\"\",\"\",VLOOKUP($Q$10,DATA!$P$2:$R$196,3))","v":""},{"$f":"IF(VXM18=\"\",\"\",VLOOKUP($Q$10,DATA!$P$2:$R$196,3))","v":""},{"$f":"IF(VXN18=\"\",\"\",VLOOKUP($Q$10,DATA!$P$2:$R$196,3))","v":""},{"$f":"IF(VXO18=\"\",\"\",VLOOKUP($Q$10,DATA!$P$2:$R$196,3))","v":""},{"$f":"IF(VXP18=\"\",\"\",VLOOKUP($Q$10,DATA!$P$2:$R$196,3))","v":""},{"$f":"IF(VXQ18=\"\",\"\",VLOOKUP($Q$10,DATA!$P$2:$R$196,3))","v":""},{"$f":"IF(VXR18=\"\",\"\",VLOOKUP($Q$10,DATA!$P$2:$R$196,3))","v":""},{"$f":"IF(VXS18=\"\",\"\",VLOOKUP($Q$10,DATA!$P$2:$R$196,3))","v":""},{"$f":"IF(VXT18=\"\",\"\",VLOOKUP($Q$10,DATA!$P$2:$R$196,3))","v":""},{"$f":"IF(VXU18=\"\",\"\",VLOOKUP($Q$10,DATA!$P$2:$R$196,3))","v":""},{"$f":"IF(VXV18=\"\",\"\",VLOOKUP($Q$10,DATA!$P$2:$R$196,3))","v":""},{"$f":"IF(VXW18=\"\",\"\",VLOOKUP($Q$10,DATA!$P$2:$R$196,3))","v":""},{"$f":"IF(VXX18=\"\",\"\",VLOOKUP($Q$10,DATA!$P$2:$R$196,3))","v":""},{"$f":"IF(VXY18=\"\",\"\",VLOOKUP($Q$10,DATA!$P$2:$R$196,3))","v":""},{"$f":"IF(VXZ18=\"\",\"\",VLOOKUP($Q$10,DATA!$P$2:$R$196,3))","v":""},{"$f":"IF(VYA18=\"\",\"\",VLOOKUP($Q$10,DATA!$P$2:$R$196,3))","v":""},{"$f":"IF(VYB18=\"\",\"\",VLOOKUP($Q$10,DATA!$P$2:$R$196,3))","v":""},{"$f":"IF(VYC18=\"\",\"\",VLOOKUP($Q$10,DATA!$P$2:$R$196,3))","v":""},{"$f":"IF(VYD18=\"\",\"\",VLOOKUP($Q$10,DATA!$P$2:$R$196,3))","v":""},{"$f":"IF(VYE18=\"\",\"\",VLOOKUP($Q$10,DATA!$P$2:$R$196,3))","v":""},{"$f":"IF(VYF18=\"\",\"\",VLOOKUP($Q$10,DATA!$P$2:$R$196,3))","v":""},{"$f":"IF(VYG18=\"\",\"\",VLOOKUP($Q$10,DATA!$P$2:$R$196,3))","v":""},{"$f":"IF(VYH18=\"\",\"\",VLOOKUP($Q$10,DATA!$P$2:$R$196,3))","v":""},{"$f":"IF(VYI18=\"\",\"\",VLOOKUP($Q$10,DATA!$P$2:$R$196,3))","v":""},{"$f":"IF(VYJ18=\"\",\"\",VLOOKUP($Q$10,DATA!$P$2:$R$196,3))","v":""},{"$f":"IF(VYK18=\"\",\"\",VLOOKUP($Q$10,DATA!$P$2:$R$196,3))","v":""},{"$f":"IF(VYL18=\"\",\"\",VLOOKUP($Q$10,DATA!$P$2:$R$196,3))","v":""},{"$f":"IF(VYM18=\"\",\"\",VLOOKUP($Q$10,DATA!$P$2:$R$196,3))","v":""},{"$f":"IF(VYN18=\"\",\"\",VLOOKUP($Q$10,DATA!$P$2:$R$196,3))","v":""},{"$f":"IF(VYO18=\"\",\"\",VLOOKUP($Q$10,DATA!$P$2:$R$196,3))","v":""},{"$f":"IF(VYP18=\"\",\"\",VLOOKUP($Q$10,DATA!$P$2:$R$196,3))","v":""},{"$f":"IF(VYQ18=\"\",\"\",VLOOKUP($Q$10,DATA!$P$2:$R$196,3))","v":""},{"$f":"IF(VYR18=\"\",\"\",VLOOKUP($Q$10,DATA!$P$2:$R$196,3))","v":""},{"$f":"IF(VYS18=\"\",\"\",VLOOKUP($Q$10,DATA!$P$2:$R$196,3))","v":""},{"$f":"IF(VYT18=\"\",\"\",VLOOKUP($Q$10,DATA!$P$2:$R$196,3))","v":""},{"$f":"IF(VYU18=\"\",\"\",VLOOKUP($Q$10,DATA!$P$2:$R$196,3))","v":""},{"$f":"IF(VYV18=\"\",\"\",VLOOKUP($Q$10,DATA!$P$2:$R$196,3))","v":""},{"$f":"IF(VYW18=\"\",\"\",VLOOKUP($Q$10,DATA!$P$2:$R$196,3))","v":""},{"$f":"IF(VYX18=\"\",\"\",VLOOKUP($Q$10,DATA!$P$2:$R$196,3))","v":""},{"$f":"IF(VYY18=\"\",\"\",VLOOKUP($Q$10,DATA!$P$2:$R$196,3))","v":""},{"$f":"IF(VYZ18=\"\",\"\",VLOOKUP($Q$10,DATA!$P$2:$R$196,3))","v":""},{"$f":"IF(VZA18=\"\",\"\",VLOOKUP($Q$10,DATA!$P$2:$R$196,3))","v":""},{"$f":"IF(VZB18=\"\",\"\",VLOOKUP($Q$10,DATA!$P$2:$R$196,3))","v":""},{"$f":"IF(VZC18=\"\",\"\",VLOOKUP($Q$10,DATA!$P$2:$R$196,3))","v":""},{"$f":"IF(VZD18=\"\",\"\",VLOOKUP($Q$10,DATA!$P$2:$R$196,3))","v":""},{"$f":"IF(VZE18=\"\",\"\",VLOOKUP($Q$10,DATA!$P$2:$R$196,3))","v":""},{"$f":"IF(VZF18=\"\",\"\",VLOOKUP($Q$10,DATA!$P$2:$R$196,3))","v":""},{"$f":"IF(VZG18=\"\",\"\",VLOOKUP($Q$10,DATA!$P$2:$R$196,3))","v":""},{"$f":"IF(VZH18=\"\",\"\",VLOOKUP($Q$10,DATA!$P$2:$R$196,3))","v":""},{"$f":"IF(VZI18=\"\",\"\",VLOOKUP($Q$10,DATA!$P$2:$R$196,3))","v":""},{"$f":"IF(VZJ18=\"\",\"\",VLOOKUP($Q$10,DATA!$P$2:$R$196,3))","v":""},{"$f":"IF(VZK18=\"\",\"\",VLOOKUP($Q$10,DATA!$P$2:$R$196,3))","v":""},{"$f":"IF(VZL18=\"\",\"\",VLOOKUP($Q$10,DATA!$P$2:$R$196,3))","v":""},{"$f":"IF(VZM18=\"\",\"\",VLOOKUP($Q$10,DATA!$P$2:$R$196,3))","v":""},{"$f":"IF(VZN18=\"\",\"\",VLOOKUP($Q$10,DATA!$P$2:$R$196,3))","v":""},{"$f":"IF(VZO18=\"\",\"\",VLOOKUP($Q$10,DATA!$P$2:$R$196,3))","v":""},{"$f":"IF(VZP18=\"\",\"\",VLOOKUP($Q$10,DATA!$P$2:$R$196,3))","v":""},{"$f":"IF(VZQ18=\"\",\"\",VLOOKUP($Q$10,DATA!$P$2:$R$196,3))","v":""},{"$f":"IF(VZR18=\"\",\"\",VLOOKUP($Q$10,DATA!$P$2:$R$196,3))","v":""},{"$f":"IF(VZS18=\"\",\"\",VLOOKUP($Q$10,DATA!$P$2:$R$196,3))","v":""},{"$f":"IF(VZT18=\"\",\"\",VLOOKUP($Q$10,DATA!$P$2:$R$196,3))","v":""},{"$f":"IF(VZU18=\"\",\"\",VLOOKUP($Q$10,DATA!$P$2:$R$196,3))","v":""},{"$f":"IF(VZV18=\"\",\"\",VLOOKUP($Q$10,DATA!$P$2:$R$196,3))","v":""},{"$f":"IF(VZW18=\"\",\"\",VLOOKUP($Q$10,DATA!$P$2:$R$196,3))","v":""},{"$f":"IF(VZX18=\"\",\"\",VLOOKUP($Q$10,DATA!$P$2:$R$196,3))","v":""},{"$f":"IF(VZY18=\"\",\"\",VLOOKUP($Q$10,DATA!$P$2:$R$196,3))","v":""},{"$f":"IF(VZZ18=\"\",\"\",VLOOKUP($Q$10,DATA!$P$2:$R$196,3))","v":""},{"$f":"IF(WAA18=\"\",\"\",VLOOKUP($Q$10,DATA!$P$2:$R$196,3))","v":""},{"$f":"IF(WAB18=\"\",\"\",VLOOKUP($Q$10,DATA!$P$2:$R$196,3))","v":""},{"$f":"IF(WAC18=\"\",\"\",VLOOKUP($Q$10,DATA!$P$2:$R$196,3))","v":""},{"$f":"IF(WAD18=\"\",\"\",VLOOKUP($Q$10,DATA!$P$2:$R$196,3))","v":""},{"$f":"IF(WAE18=\"\",\"\",VLOOKUP($Q$10,DATA!$P$2:$R$196,3))","v":""},{"$f":"IF(WAF18=\"\",\"\",VLOOKUP($Q$10,DATA!$P$2:$R$196,3))","v":""},{"$f":"IF(WAG18=\"\",\"\",VLOOKUP($Q$10,DATA!$P$2:$R$196,3))","v":""},{"$f":"IF(WAH18=\"\",\"\",VLOOKUP($Q$10,DATA!$P$2:$R$196,3))","v":""},{"$f":"IF(WAI18=\"\",\"\",VLOOKUP($Q$10,DATA!$P$2:$R$196,3))","v":""},{"$f":"IF(WAJ18=\"\",\"\",VLOOKUP($Q$10,DATA!$P$2:$R$196,3))","v":""},{"$f":"IF(WAK18=\"\",\"\",VLOOKUP($Q$10,DATA!$P$2:$R$196,3))","v":""},{"$f":"IF(WAL18=\"\",\"\",VLOOKUP($Q$10,DATA!$P$2:$R$196,3))","v":""},{"$f":"IF(WAM18=\"\",\"\",VLOOKUP($Q$10,DATA!$P$2:$R$196,3))","v":""},{"$f":"IF(WAN18=\"\",\"\",VLOOKUP($Q$10,DATA!$P$2:$R$196,3))","v":""},{"$f":"IF(WAO18=\"\",\"\",VLOOKUP($Q$10,DATA!$P$2:$R$196,3))","v":""},{"$f":"IF(WAP18=\"\",\"\",VLOOKUP($Q$10,DATA!$P$2:$R$196,3))","v":""},{"$f":"IF(WAQ18=\"\",\"\",VLOOKUP($Q$10,DATA!$P$2:$R$196,3))","v":""},{"$f":"IF(WAR18=\"\",\"\",VLOOKUP($Q$10,DATA!$P$2:$R$196,3))","v":""},{"$f":"IF(WAS18=\"\",\"\",VLOOKUP($Q$10,DATA!$P$2:$R$196,3))","v":""},{"$f":"IF(WAT18=\"\",\"\",VLOOKUP($Q$10,DATA!$P$2:$R$196,3))","v":""},{"$f":"IF(WAU18=\"\",\"\",VLOOKUP($Q$10,DATA!$P$2:$R$196,3))","v":""},{"$f":"IF(WAV18=\"\",\"\",VLOOKUP($Q$10,DATA!$P$2:$R$196,3))","v":""},{"$f":"IF(WAW18=\"\",\"\",VLOOKUP($Q$10,DATA!$P$2:$R$196,3))","v":""},{"$f":"IF(WAX18=\"\",\"\",VLOOKUP($Q$10,DATA!$P$2:$R$196,3))","v":""},{"$f":"IF(WAY18=\"\",\"\",VLOOKUP($Q$10,DATA!$P$2:$R$196,3))","v":""},{"$f":"IF(WAZ18=\"\",\"\",VLOOKUP($Q$10,DATA!$P$2:$R$196,3))","v":""},{"$f":"IF(WBA18=\"\",\"\",VLOOKUP($Q$10,DATA!$P$2:$R$196,3))","v":""},{"$f":"IF(WBB18=\"\",\"\",VLOOKUP($Q$10,DATA!$P$2:$R$196,3))","v":""},{"$f":"IF(WBC18=\"\",\"\",VLOOKUP($Q$10,DATA!$P$2:$R$196,3))","v":""},{"$f":"IF(WBD18=\"\",\"\",VLOOKUP($Q$10,DATA!$P$2:$R$196,3))","v":""},{"$f":"IF(WBE18=\"\",\"\",VLOOKUP($Q$10,DATA!$P$2:$R$196,3))","v":""},{"$f":"IF(WBF18=\"\",\"\",VLOOKUP($Q$10,DATA!$P$2:$R$196,3))","v":""},{"$f":"IF(WBG18=\"\",\"\",VLOOKUP($Q$10,DATA!$P$2:$R$196,3))","v":""},{"$f":"IF(WBH18=\"\",\"\",VLOOKUP($Q$10,DATA!$P$2:$R$196,3))","v":""},{"$f":"IF(WBI18=\"\",\"\",VLOOKUP($Q$10,DATA!$P$2:$R$196,3))","v":""},{"$f":"IF(WBJ18=\"\",\"\",VLOOKUP($Q$10,DATA!$P$2:$R$196,3))","v":""},{"$f":"IF(WBK18=\"\",\"\",VLOOKUP($Q$10,DATA!$P$2:$R$196,3))","v":""},{"$f":"IF(WBL18=\"\",\"\",VLOOKUP($Q$10,DATA!$P$2:$R$196,3))","v":""},{"$f":"IF(WBM18=\"\",\"\",VLOOKUP($Q$10,DATA!$P$2:$R$196,3))","v":""},{"$f":"IF(WBN18=\"\",\"\",VLOOKUP($Q$10,DATA!$P$2:$R$196,3))","v":""},{"$f":"IF(WBO18=\"\",\"\",VLOOKUP($Q$10,DATA!$P$2:$R$196,3))","v":""},{"$f":"IF(WBP18=\"\",\"\",VLOOKUP($Q$10,DATA!$P$2:$R$196,3))","v":""},{"$f":"IF(WBQ18=\"\",\"\",VLOOKUP($Q$10,DATA!$P$2:$R$196,3))","v":""},{"$f":"IF(WBR18=\"\",\"\",VLOOKUP($Q$10,DATA!$P$2:$R$196,3))","v":""},{"$f":"IF(WBS18=\"\",\"\",VLOOKUP($Q$10,DATA!$P$2:$R$196,3))","v":""},{"$f":"IF(WBT18=\"\",\"\",VLOOKUP($Q$10,DATA!$P$2:$R$196,3))","v":""},{"$f":"IF(WBU18=\"\",\"\",VLOOKUP($Q$10,DATA!$P$2:$R$196,3))","v":""},{"$f":"IF(WBV18=\"\",\"\",VLOOKUP($Q$10,DATA!$P$2:$R$196,3))","v":""},{"$f":"IF(WBW18=\"\",\"\",VLOOKUP($Q$10,DATA!$P$2:$R$196,3))","v":""},{"$f":"IF(WBX18=\"\",\"\",VLOOKUP($Q$10,DATA!$P$2:$R$196,3))","v":""},{"$f":"IF(WBY18=\"\",\"\",VLOOKUP($Q$10,DATA!$P$2:$R$196,3))","v":""},{"$f":"IF(WBZ18=\"\",\"\",VLOOKUP($Q$10,DATA!$P$2:$R$196,3))","v":""},{"$f":"IF(WCA18=\"\",\"\",VLOOKUP($Q$10,DATA!$P$2:$R$196,3))","v":""},{"$f":"IF(WCB18=\"\",\"\",VLOOKUP($Q$10,DATA!$P$2:$R$196,3))","v":""},{"$f":"IF(WCC18=\"\",\"\",VLOOKUP($Q$10,DATA!$P$2:$R$196,3))","v":""},{"$f":"IF(WCD18=\"\",\"\",VLOOKUP($Q$10,DATA!$P$2:$R$196,3))","v":""},{"$f":"IF(WCE18=\"\",\"\",VLOOKUP($Q$10,DATA!$P$2:$R$196,3))","v":""},{"$f":"IF(WCF18=\"\",\"\",VLOOKUP($Q$10,DATA!$P$2:$R$196,3))","v":""},{"$f":"IF(WCG18=\"\",\"\",VLOOKUP($Q$10,DATA!$P$2:$R$196,3))","v":""},{"$f":"IF(WCH18=\"\",\"\",VLOOKUP($Q$10,DATA!$P$2:$R$196,3))","v":""},{"$f":"IF(WCI18=\"\",\"\",VLOOKUP($Q$10,DATA!$P$2:$R$196,3))","v":""},{"$f":"IF(WCJ18=\"\",\"\",VLOOKUP($Q$10,DATA!$P$2:$R$196,3))","v":""},{"$f":"IF(WCK18=\"\",\"\",VLOOKUP($Q$10,DATA!$P$2:$R$196,3))","v":""},{"$f":"IF(WCL18=\"\",\"\",VLOOKUP($Q$10,DATA!$P$2:$R$196,3))","v":""},{"$f":"IF(WCM18=\"\",\"\",VLOOKUP($Q$10,DATA!$P$2:$R$196,3))","v":""},{"$f":"IF(WCN18=\"\",\"\",VLOOKUP($Q$10,DATA!$P$2:$R$196,3))","v":""},{"$f":"IF(WCO18=\"\",\"\",VLOOKUP($Q$10,DATA!$P$2:$R$196,3))","v":""},{"$f":"IF(WCP18=\"\",\"\",VLOOKUP($Q$10,DATA!$P$2:$R$196,3))","v":""},{"$f":"IF(WCQ18=\"\",\"\",VLOOKUP($Q$10,DATA!$P$2:$R$196,3))","v":""},{"$f":"IF(WCR18=\"\",\"\",VLOOKUP($Q$10,DATA!$P$2:$R$196,3))","v":""},{"$f":"IF(WCS18=\"\",\"\",VLOOKUP($Q$10,DATA!$P$2:$R$196,3))","v":""},{"$f":"IF(WCT18=\"\",\"\",VLOOKUP($Q$10,DATA!$P$2:$R$196,3))","v":""},{"$f":"IF(WCU18=\"\",\"\",VLOOKUP($Q$10,DATA!$P$2:$R$196,3))","v":""},{"$f":"IF(WCV18=\"\",\"\",VLOOKUP($Q$10,DATA!$P$2:$R$196,3))","v":""},{"$f":"IF(WCW18=\"\",\"\",VLOOKUP($Q$10,DATA!$P$2:$R$196,3))","v":""},{"$f":"IF(WCX18=\"\",\"\",VLOOKUP($Q$10,DATA!$P$2:$R$196,3))","v":""},{"$f":"IF(WCY18=\"\",\"\",VLOOKUP($Q$10,DATA!$P$2:$R$196,3))","v":""},{"$f":"IF(WCZ18=\"\",\"\",VLOOKUP($Q$10,DATA!$P$2:$R$196,3))","v":""},{"$f":"IF(WDA18=\"\",\"\",VLOOKUP($Q$10,DATA!$P$2:$R$196,3))","v":""},{"$f":"IF(WDB18=\"\",\"\",VLOOKUP($Q$10,DATA!$P$2:$R$196,3))","v":""},{"$f":"IF(WDC18=\"\",\"\",VLOOKUP($Q$10,DATA!$P$2:$R$196,3))","v":""},{"$f":"IF(WDD18=\"\",\"\",VLOOKUP($Q$10,DATA!$P$2:$R$196,3))","v":""},{"$f":"IF(WDE18=\"\",\"\",VLOOKUP($Q$10,DATA!$P$2:$R$196,3))","v":""},{"$f":"IF(WDF18=\"\",\"\",VLOOKUP($Q$10,DATA!$P$2:$R$196,3))","v":""},{"$f":"IF(WDG18=\"\",\"\",VLOOKUP($Q$10,DATA!$P$2:$R$196,3))","v":""},{"$f":"IF(WDH18=\"\",\"\",VLOOKUP($Q$10,DATA!$P$2:$R$196,3))","v":""},{"$f":"IF(WDI18=\"\",\"\",VLOOKUP($Q$10,DATA!$P$2:$R$196,3))","v":""},{"$f":"IF(WDJ18=\"\",\"\",VLOOKUP($Q$10,DATA!$P$2:$R$196,3))","v":""},{"$f":"IF(WDK18=\"\",\"\",VLOOKUP($Q$10,DATA!$P$2:$R$196,3))","v":""},{"$f":"IF(WDL18=\"\",\"\",VLOOKUP($Q$10,DATA!$P$2:$R$196,3))","v":""},{"$f":"IF(WDM18=\"\",\"\",VLOOKUP($Q$10,DATA!$P$2:$R$196,3))","v":""},{"$f":"IF(WDN18=\"\",\"\",VLOOKUP($Q$10,DATA!$P$2:$R$196,3))","v":""},{"$f":"IF(WDO18=\"\",\"\",VLOOKUP($Q$10,DATA!$P$2:$R$196,3))","v":""},{"$f":"IF(WDP18=\"\",\"\",VLOOKUP($Q$10,DATA!$P$2:$R$196,3))","v":""},{"$f":"IF(WDQ18=\"\",\"\",VLOOKUP($Q$10,DATA!$P$2:$R$196,3))","v":""},{"$f":"IF(WDR18=\"\",\"\",VLOOKUP($Q$10,DATA!$P$2:$R$196,3))","v":""},{"$f":"IF(WDS18=\"\",\"\",VLOOKUP($Q$10,DATA!$P$2:$R$196,3))","v":""},{"$f":"IF(WDT18=\"\",\"\",VLOOKUP($Q$10,DATA!$P$2:$R$196,3))","v":""},{"$f":"IF(WDU18=\"\",\"\",VLOOKUP($Q$10,DATA!$P$2:$R$196,3))","v":""},{"$f":"IF(WDV18=\"\",\"\",VLOOKUP($Q$10,DATA!$P$2:$R$196,3))","v":""},{"$f":"IF(WDW18=\"\",\"\",VLOOKUP($Q$10,DATA!$P$2:$R$196,3))","v":""},{"$f":"IF(WDX18=\"\",\"\",VLOOKUP($Q$10,DATA!$P$2:$R$196,3))","v":""},{"$f":"IF(WDY18=\"\",\"\",VLOOKUP($Q$10,DATA!$P$2:$R$196,3))","v":""},{"$f":"IF(WDZ18=\"\",\"\",VLOOKUP($Q$10,DATA!$P$2:$R$196,3))","v":""},{"$f":"IF(WEA18=\"\",\"\",VLOOKUP($Q$10,DATA!$P$2:$R$196,3))","v":""},{"$f":"IF(WEB18=\"\",\"\",VLOOKUP($Q$10,DATA!$P$2:$R$196,3))","v":""},{"$f":"IF(WEC18=\"\",\"\",VLOOKUP($Q$10,DATA!$P$2:$R$196,3))","v":""},{"$f":"IF(WED18=\"\",\"\",VLOOKUP($Q$10,DATA!$P$2:$R$196,3))","v":""},{"$f":"IF(WEE18=\"\",\"\",VLOOKUP($Q$10,DATA!$P$2:$R$196,3))","v":""},{"$f":"IF(WEF18=\"\",\"\",VLOOKUP($Q$10,DATA!$P$2:$R$196,3))","v":""},{"$f":"IF(WEG18=\"\",\"\",VLOOKUP($Q$10,DATA!$P$2:$R$196,3))","v":""},{"$f":"IF(WEH18=\"\",\"\",VLOOKUP($Q$10,DATA!$P$2:$R$196,3))","v":""},{"$f":"IF(WEI18=\"\",\"\",VLOOKUP($Q$10,DATA!$P$2:$R$196,3))","v":""},{"$f":"IF(WEJ18=\"\",\"\",VLOOKUP($Q$10,DATA!$P$2:$R$196,3))","v":""},{"$f":"IF(WEK18=\"\",\"\",VLOOKUP($Q$10,DATA!$P$2:$R$196,3))","v":""},{"$f":"IF(WEL18=\"\",\"\",VLOOKUP($Q$10,DATA!$P$2:$R$196,3))","v":""},{"$f":"IF(WEM18=\"\",\"\",VLOOKUP($Q$10,DATA!$P$2:$R$196,3))","v":""},{"$f":"IF(WEN18=\"\",\"\",VLOOKUP($Q$10,DATA!$P$2:$R$196,3))","v":""},{"$f":"IF(WEO18=\"\",\"\",VLOOKUP($Q$10,DATA!$P$2:$R$196,3))","v":""},{"$f":"IF(WEP18=\"\",\"\",VLOOKUP($Q$10,DATA!$P$2:$R$196,3))","v":""},{"$f":"IF(WEQ18=\"\",\"\",VLOOKUP($Q$10,DATA!$P$2:$R$196,3))","v":""},{"$f":"IF(WER18=\"\",\"\",VLOOKUP($Q$10,DATA!$P$2:$R$196,3))","v":""},{"$f":"IF(WES18=\"\",\"\",VLOOKUP($Q$10,DATA!$P$2:$R$196,3))","v":""},{"$f":"IF(WET18=\"\",\"\",VLOOKUP($Q$10,DATA!$P$2:$R$196,3))","v":""},{"$f":"IF(WEU18=\"\",\"\",VLOOKUP($Q$10,DATA!$P$2:$R$196,3))","v":""},{"$f":"IF(WEV18=\"\",\"\",VLOOKUP($Q$10,DATA!$P$2:$R$196,3))","v":""},{"$f":"IF(WEW18=\"\",\"\",VLOOKUP($Q$10,DATA!$P$2:$R$196,3))","v":""},{"$f":"IF(WEX18=\"\",\"\",VLOOKUP($Q$10,DATA!$P$2:$R$196,3))","v":""},{"$f":"IF(WEY18=\"\",\"\",VLOOKUP($Q$10,DATA!$P$2:$R$196,3))","v":""},{"$f":"IF(WEZ18=\"\",\"\",VLOOKUP($Q$10,DATA!$P$2:$R$196,3))","v":""},{"$f":"IF(WFA18=\"\",\"\",VLOOKUP($Q$10,DATA!$P$2:$R$196,3))","v":""},{"$f":"IF(WFB18=\"\",\"\",VLOOKUP($Q$10,DATA!$P$2:$R$196,3))","v":""},{"$f":"IF(WFC18=\"\",\"\",VLOOKUP($Q$10,DATA!$P$2:$R$196,3))","v":""},{"$f":"IF(WFD18=\"\",\"\",VLOOKUP($Q$10,DATA!$P$2:$R$196,3))","v":""},{"$f":"IF(WFE18=\"\",\"\",VLOOKUP($Q$10,DATA!$P$2:$R$196,3))","v":""},{"$f":"IF(WFF18=\"\",\"\",VLOOKUP($Q$10,DATA!$P$2:$R$196,3))","v":""},{"$f":"IF(WFG18=\"\",\"\",VLOOKUP($Q$10,DATA!$P$2:$R$196,3))","v":""},{"$f":"IF(WFH18=\"\",\"\",VLOOKUP($Q$10,DATA!$P$2:$R$196,3))","v":""},{"$f":"IF(WFI18=\"\",\"\",VLOOKUP($Q$10,DATA!$P$2:$R$196,3))","v":""},{"$f":"IF(WFJ18=\"\",\"\",VLOOKUP($Q$10,DATA!$P$2:$R$196,3))","v":""},{"$f":"IF(WFK18=\"\",\"\",VLOOKUP($Q$10,DATA!$P$2:$R$196,3))","v":""},{"$f":"IF(WFL18=\"\",\"\",VLOOKUP($Q$10,DATA!$P$2:$R$196,3))","v":""},{"$f":"IF(WFM18=\"\",\"\",VLOOKUP($Q$10,DATA!$P$2:$R$196,3))","v":""},{"$f":"IF(WFN18=\"\",\"\",VLOOKUP($Q$10,DATA!$P$2:$R$196,3))","v":""},{"$f":"IF(WFO18=\"\",\"\",VLOOKUP($Q$10,DATA!$P$2:$R$196,3))","v":""},{"$f":"IF(WFP18=\"\",\"\",VLOOKUP($Q$10,DATA!$P$2:$R$196,3))","v":""},{"$f":"IF(WFQ18=\"\",\"\",VLOOKUP($Q$10,DATA!$P$2:$R$196,3))","v":""},{"$f":"IF(WFR18=\"\",\"\",VLOOKUP($Q$10,DATA!$P$2:$R$196,3))","v":""},{"$f":"IF(WFS18=\"\",\"\",VLOOKUP($Q$10,DATA!$P$2:$R$196,3))","v":""},{"$f":"IF(WFT18=\"\",\"\",VLOOKUP($Q$10,DATA!$P$2:$R$196,3))","v":""},{"$f":"IF(WFU18=\"\",\"\",VLOOKUP($Q$10,DATA!$P$2:$R$196,3))","v":""},{"$f":"IF(WFV18=\"\",\"\",VLOOKUP($Q$10,DATA!$P$2:$R$196,3))","v":""},{"$f":"IF(WFW18=\"\",\"\",VLOOKUP($Q$10,DATA!$P$2:$R$196,3))","v":""},{"$f":"IF(WFX18=\"\",\"\",VLOOKUP($Q$10,DATA!$P$2:$R$196,3))","v":""},{"$f":"IF(WFY18=\"\",\"\",VLOOKUP($Q$10,DATA!$P$2:$R$196,3))","v":""},{"$f":"IF(WFZ18=\"\",\"\",VLOOKUP($Q$10,DATA!$P$2:$R$196,3))","v":""},{"$f":"IF(WGA18=\"\",\"\",VLOOKUP($Q$10,DATA!$P$2:$R$196,3))","v":""},{"$f":"IF(WGB18=\"\",\"\",VLOOKUP($Q$10,DATA!$P$2:$R$196,3))","v":""},{"$f":"IF(WGC18=\"\",\"\",VLOOKUP($Q$10,DATA!$P$2:$R$196,3))","v":""},{"$f":"IF(WGD18=\"\",\"\",VLOOKUP($Q$10,DATA!$P$2:$R$196,3))","v":""},{"$f":"IF(WGE18=\"\",\"\",VLOOKUP($Q$10,DATA!$P$2:$R$196,3))","v":""},{"$f":"IF(WGF18=\"\",\"\",VLOOKUP($Q$10,DATA!$P$2:$R$196,3))","v":""},{"$f":"IF(WGG18=\"\",\"\",VLOOKUP($Q$10,DATA!$P$2:$R$196,3))","v":""},{"$f":"IF(WGH18=\"\",\"\",VLOOKUP($Q$10,DATA!$P$2:$R$196,3))","v":""},{"$f":"IF(WGI18=\"\",\"\",VLOOKUP($Q$10,DATA!$P$2:$R$196,3))","v":""},{"$f":"IF(WGJ18=\"\",\"\",VLOOKUP($Q$10,DATA!$P$2:$R$196,3))","v":""},{"$f":"IF(WGK18=\"\",\"\",VLOOKUP($Q$10,DATA!$P$2:$R$196,3))","v":""},{"$f":"IF(WGL18=\"\",\"\",VLOOKUP($Q$10,DATA!$P$2:$R$196,3))","v":""},{"$f":"IF(WGM18=\"\",\"\",VLOOKUP($Q$10,DATA!$P$2:$R$196,3))","v":""},{"$f":"IF(WGN18=\"\",\"\",VLOOKUP($Q$10,DATA!$P$2:$R$196,3))","v":""},{"$f":"IF(WGO18=\"\",\"\",VLOOKUP($Q$10,DATA!$P$2:$R$196,3))","v":""},{"$f":"IF(WGP18=\"\",\"\",VLOOKUP($Q$10,DATA!$P$2:$R$196,3))","v":""},{"$f":"IF(WGQ18=\"\",\"\",VLOOKUP($Q$10,DATA!$P$2:$R$196,3))","v":""},{"$f":"IF(WGR18=\"\",\"\",VLOOKUP($Q$10,DATA!$P$2:$R$196,3))","v":""},{"$f":"IF(WGS18=\"\",\"\",VLOOKUP($Q$10,DATA!$P$2:$R$196,3))","v":""},{"$f":"IF(WGT18=\"\",\"\",VLOOKUP($Q$10,DATA!$P$2:$R$196,3))","v":""},{"$f":"IF(WGU18=\"\",\"\",VLOOKUP($Q$10,DATA!$P$2:$R$196,3))","v":""},{"$f":"IF(WGV18=\"\",\"\",VLOOKUP($Q$10,DATA!$P$2:$R$196,3))","v":""},{"$f":"IF(WGW18=\"\",\"\",VLOOKUP($Q$10,DATA!$P$2:$R$196,3))","v":""},{"$f":"IF(WGX18=\"\",\"\",VLOOKUP($Q$10,DATA!$P$2:$R$196,3))","v":""},{"$f":"IF(WGY18=\"\",\"\",VLOOKUP($Q$10,DATA!$P$2:$R$196,3))","v":""},{"$f":"IF(WGZ18=\"\",\"\",VLOOKUP($Q$10,DATA!$P$2:$R$196,3))","v":""},{"$f":"IF(WHA18=\"\",\"\",VLOOKUP($Q$10,DATA!$P$2:$R$196,3))","v":""},{"$f":"IF(WHB18=\"\",\"\",VLOOKUP($Q$10,DATA!$P$2:$R$196,3))","v":""},{"$f":"IF(WHC18=\"\",\"\",VLOOKUP($Q$10,DATA!$P$2:$R$196,3))","v":""},{"$f":"IF(WHD18=\"\",\"\",VLOOKUP($Q$10,DATA!$P$2:$R$196,3))","v":""},{"$f":"IF(WHE18=\"\",\"\",VLOOKUP($Q$10,DATA!$P$2:$R$196,3))","v":""},{"$f":"IF(WHF18=\"\",\"\",VLOOKUP($Q$10,DATA!$P$2:$R$196,3))","v":""},{"$f":"IF(WHG18=\"\",\"\",VLOOKUP($Q$10,DATA!$P$2:$R$196,3))","v":""},{"$f":"IF(WHH18=\"\",\"\",VLOOKUP($Q$10,DATA!$P$2:$R$196,3))","v":""},{"$f":"IF(WHI18=\"\",\"\",VLOOKUP($Q$10,DATA!$P$2:$R$196,3))","v":""},{"$f":"IF(WHJ18=\"\",\"\",VLOOKUP($Q$10,DATA!$P$2:$R$196,3))","v":""},{"$f":"IF(WHK18=\"\",\"\",VLOOKUP($Q$10,DATA!$P$2:$R$196,3))","v":""},{"$f":"IF(WHL18=\"\",\"\",VLOOKUP($Q$10,DATA!$P$2:$R$196,3))","v":""},{"$f":"IF(WHM18=\"\",\"\",VLOOKUP($Q$10,DATA!$P$2:$R$196,3))","v":""},{"$f":"IF(WHN18=\"\",\"\",VLOOKUP($Q$10,DATA!$P$2:$R$196,3))","v":""},{"$f":"IF(WHO18=\"\",\"\",VLOOKUP($Q$10,DATA!$P$2:$R$196,3))","v":""},{"$f":"IF(WHP18=\"\",\"\",VLOOKUP($Q$10,DATA!$P$2:$R$196,3))","v":""},{"$f":"IF(WHQ18=\"\",\"\",VLOOKUP($Q$10,DATA!$P$2:$R$196,3))","v":""},{"$f":"IF(WHR18=\"\",\"\",VLOOKUP($Q$10,DATA!$P$2:$R$196,3))","v":""},{"$f":"IF(WHS18=\"\",\"\",VLOOKUP($Q$10,DATA!$P$2:$R$196,3))","v":""},{"$f":"IF(WHT18=\"\",\"\",VLOOKUP($Q$10,DATA!$P$2:$R$196,3))","v":""},{"$f":"IF(WHU18=\"\",\"\",VLOOKUP($Q$10,DATA!$P$2:$R$196,3))","v":""},{"$f":"IF(WHV18=\"\",\"\",VLOOKUP($Q$10,DATA!$P$2:$R$196,3))","v":""},{"$f":"IF(WHW18=\"\",\"\",VLOOKUP($Q$10,DATA!$P$2:$R$196,3))","v":""},{"$f":"IF(WHX18=\"\",\"\",VLOOKUP($Q$10,DATA!$P$2:$R$196,3))","v":""},{"$f":"IF(WHY18=\"\",\"\",VLOOKUP($Q$10,DATA!$P$2:$R$196,3))","v":""},{"$f":"IF(WHZ18=\"\",\"\",VLOOKUP($Q$10,DATA!$P$2:$R$196,3))","v":""},{"$f":"IF(WIA18=\"\",\"\",VLOOKUP($Q$10,DATA!$P$2:$R$196,3))","v":""},{"$f":"IF(WIB18=\"\",\"\",VLOOKUP($Q$10,DATA!$P$2:$R$196,3))","v":""},{"$f":"IF(WIC18=\"\",\"\",VLOOKUP($Q$10,DATA!$P$2:$R$196,3))","v":""},{"$f":"IF(WID18=\"\",\"\",VLOOKUP($Q$10,DATA!$P$2:$R$196,3))","v":""},{"$f":"IF(WIE18=\"\",\"\",VLOOKUP($Q$10,DATA!$P$2:$R$196,3))","v":""},{"$f":"IF(WIF18=\"\",\"\",VLOOKUP($Q$10,DATA!$P$2:$R$196,3))","v":""},{"$f":"IF(WIG18=\"\",\"\",VLOOKUP($Q$10,DATA!$P$2:$R$196,3))","v":""},{"$f":"IF(WIH18=\"\",\"\",VLOOKUP($Q$10,DATA!$P$2:$R$196,3))","v":""},{"$f":"IF(WII18=\"\",\"\",VLOOKUP($Q$10,DATA!$P$2:$R$196,3))","v":""},{"$f":"IF(WIJ18=\"\",\"\",VLOOKUP($Q$10,DATA!$P$2:$R$196,3))","v":""},{"$f":"IF(WIK18=\"\",\"\",VLOOKUP($Q$10,DATA!$P$2:$R$196,3))","v":""},{"$f":"IF(WIL18=\"\",\"\",VLOOKUP($Q$10,DATA!$P$2:$R$196,3))","v":""},{"$f":"IF(WIM18=\"\",\"\",VLOOKUP($Q$10,DATA!$P$2:$R$196,3))","v":""},{"$f":"IF(WIN18=\"\",\"\",VLOOKUP($Q$10,DATA!$P$2:$R$196,3))","v":""},{"$f":"IF(WIO18=\"\",\"\",VLOOKUP($Q$10,DATA!$P$2:$R$196,3))","v":""},{"$f":"IF(WIP18=\"\",\"\",VLOOKUP($Q$10,DATA!$P$2:$R$196,3))","v":""},{"$f":"IF(WIQ18=\"\",\"\",VLOOKUP($Q$10,DATA!$P$2:$R$196,3))","v":""},{"$f":"IF(WIR18=\"\",\"\",VLOOKUP($Q$10,DATA!$P$2:$R$196,3))","v":""},{"$f":"IF(WIS18=\"\",\"\",VLOOKUP($Q$10,DATA!$P$2:$R$196,3))","v":""},{"$f":"IF(WIT18=\"\",\"\",VLOOKUP($Q$10,DATA!$P$2:$R$196,3))","v":""},{"$f":"IF(WIU18=\"\",\"\",VLOOKUP($Q$10,DATA!$P$2:$R$196,3))","v":""},{"$f":"IF(WIV18=\"\",\"\",VLOOKUP($Q$10,DATA!$P$2:$R$196,3))","v":""},{"$f":"IF(WIW18=\"\",\"\",VLOOKUP($Q$10,DATA!$P$2:$R$196,3))","v":""},{"$f":"IF(WIX18=\"\",\"\",VLOOKUP($Q$10,DATA!$P$2:$R$196,3))","v":""},{"$f":"IF(WIY18=\"\",\"\",VLOOKUP($Q$10,DATA!$P$2:$R$196,3))","v":""},{"$f":"IF(WIZ18=\"\",\"\",VLOOKUP($Q$10,DATA!$P$2:$R$196,3))","v":""},{"$f":"IF(WJA18=\"\",\"\",VLOOKUP($Q$10,DATA!$P$2:$R$196,3))","v":""},{"$f":"IF(WJB18=\"\",\"\",VLOOKUP($Q$10,DATA!$P$2:$R$196,3))","v":""},{"$f":"IF(WJC18=\"\",\"\",VLOOKUP($Q$10,DATA!$P$2:$R$196,3))","v":""},{"$f":"IF(WJD18=\"\",\"\",VLOOKUP($Q$10,DATA!$P$2:$R$196,3))","v":""},{"$f":"IF(WJE18=\"\",\"\",VLOOKUP($Q$10,DATA!$P$2:$R$196,3))","v":""},{"$f":"IF(WJF18=\"\",\"\",VLOOKUP($Q$10,DATA!$P$2:$R$196,3))","v":""},{"$f":"IF(WJG18=\"\",\"\",VLOOKUP($Q$10,DATA!$P$2:$R$196,3))","v":""},{"$f":"IF(WJH18=\"\",\"\",VLOOKUP($Q$10,DATA!$P$2:$R$196,3))","v":""},{"$f":"IF(WJI18=\"\",\"\",VLOOKUP($Q$10,DATA!$P$2:$R$196,3))","v":""},{"$f":"IF(WJJ18=\"\",\"\",VLOOKUP($Q$10,DATA!$P$2:$R$196,3))","v":""},{"$f":"IF(WJK18=\"\",\"\",VLOOKUP($Q$10,DATA!$P$2:$R$196,3))","v":""},{"$f":"IF(WJL18=\"\",\"\",VLOOKUP($Q$10,DATA!$P$2:$R$196,3))","v":""},{"$f":"IF(WJM18=\"\",\"\",VLOOKUP($Q$10,DATA!$P$2:$R$196,3))","v":""},{"$f":"IF(WJN18=\"\",\"\",VLOOKUP($Q$10,DATA!$P$2:$R$196,3))","v":""},{"$f":"IF(WJO18=\"\",\"\",VLOOKUP($Q$10,DATA!$P$2:$R$196,3))","v":""},{"$f":"IF(WJP18=\"\",\"\",VLOOKUP($Q$10,DATA!$P$2:$R$196,3))","v":""},{"$f":"IF(WJQ18=\"\",\"\",VLOOKUP($Q$10,DATA!$P$2:$R$196,3))","v":""},{"$f":"IF(WJR18=\"\",\"\",VLOOKUP($Q$10,DATA!$P$2:$R$196,3))","v":""},{"$f":"IF(WJS18=\"\",\"\",VLOOKUP($Q$10,DATA!$P$2:$R$196,3))","v":""},{"$f":"IF(WJT18=\"\",\"\",VLOOKUP($Q$10,DATA!$P$2:$R$196,3))","v":""},{"$f":"IF(WJU18=\"\",\"\",VLOOKUP($Q$10,DATA!$P$2:$R$196,3))","v":""},{"$f":"IF(WJV18=\"\",\"\",VLOOKUP($Q$10,DATA!$P$2:$R$196,3))","v":""},{"$f":"IF(WJW18=\"\",\"\",VLOOKUP($Q$10,DATA!$P$2:$R$196,3))","v":""},{"$f":"IF(WJX18=\"\",\"\",VLOOKUP($Q$10,DATA!$P$2:$R$196,3))","v":""},{"$f":"IF(WJY18=\"\",\"\",VLOOKUP($Q$10,DATA!$P$2:$R$196,3))","v":""},{"$f":"IF(WJZ18=\"\",\"\",VLOOKUP($Q$10,DATA!$P$2:$R$196,3))","v":""},{"$f":"IF(WKA18=\"\",\"\",VLOOKUP($Q$10,DATA!$P$2:$R$196,3))","v":""},{"$f":"IF(WKB18=\"\",\"\",VLOOKUP($Q$10,DATA!$P$2:$R$196,3))","v":""},{"$f":"IF(WKC18=\"\",\"\",VLOOKUP($Q$10,DATA!$P$2:$R$196,3))","v":""},{"$f":"IF(WKD18=\"\",\"\",VLOOKUP($Q$10,DATA!$P$2:$R$196,3))","v":""},{"$f":"IF(WKE18=\"\",\"\",VLOOKUP($Q$10,DATA!$P$2:$R$196,3))","v":""},{"$f":"IF(WKF18=\"\",\"\",VLOOKUP($Q$10,DATA!$P$2:$R$196,3))","v":""},{"$f":"IF(WKG18=\"\",\"\",VLOOKUP($Q$10,DATA!$P$2:$R$196,3))","v":""},{"$f":"IF(WKH18=\"\",\"\",VLOOKUP($Q$10,DATA!$P$2:$R$196,3))","v":""},{"$f":"IF(WKI18=\"\",\"\",VLOOKUP($Q$10,DATA!$P$2:$R$196,3))","v":""},{"$f":"IF(WKJ18=\"\",\"\",VLOOKUP($Q$10,DATA!$P$2:$R$196,3))","v":""},{"$f":"IF(WKK18=\"\",\"\",VLOOKUP($Q$10,DATA!$P$2:$R$196,3))","v":""},{"$f":"IF(WKL18=\"\",\"\",VLOOKUP($Q$10,DATA!$P$2:$R$196,3))","v":""},{"$f":"IF(WKM18=\"\",\"\",VLOOKUP($Q$10,DATA!$P$2:$R$196,3))","v":""},{"$f":"IF(WKN18=\"\",\"\",VLOOKUP($Q$10,DATA!$P$2:$R$196,3))","v":""},{"$f":"IF(WKO18=\"\",\"\",VLOOKUP($Q$10,DATA!$P$2:$R$196,3))","v":""},{"$f":"IF(WKP18=\"\",\"\",VLOOKUP($Q$10,DATA!$P$2:$R$196,3))","v":""},{"$f":"IF(WKQ18=\"\",\"\",VLOOKUP($Q$10,DATA!$P$2:$R$196,3))","v":""},{"$f":"IF(WKR18=\"\",\"\",VLOOKUP($Q$10,DATA!$P$2:$R$196,3))","v":""},{"$f":"IF(WKS18=\"\",\"\",VLOOKUP($Q$10,DATA!$P$2:$R$196,3))","v":""},{"$f":"IF(WKT18=\"\",\"\",VLOOKUP($Q$10,DATA!$P$2:$R$196,3))","v":""},{"$f":"IF(WKU18=\"\",\"\",VLOOKUP($Q$10,DATA!$P$2:$R$196,3))","v":""},{"$f":"IF(WKV18=\"\",\"\",VLOOKUP($Q$10,DATA!$P$2:$R$196,3))","v":""},{"$f":"IF(WKW18=\"\",\"\",VLOOKUP($Q$10,DATA!$P$2:$R$196,3))","v":""},{"$f":"IF(WKX18=\"\",\"\",VLOOKUP($Q$10,DATA!$P$2:$R$196,3))","v":""},{"$f":"IF(WKY18=\"\",\"\",VLOOKUP($Q$10,DATA!$P$2:$R$196,3))","v":""},{"$f":"IF(WKZ18=\"\",\"\",VLOOKUP($Q$10,DATA!$P$2:$R$196,3))","v":""},{"$f":"IF(WLA18=\"\",\"\",VLOOKUP($Q$10,DATA!$P$2:$R$196,3))","v":""},{"$f":"IF(WLB18=\"\",\"\",VLOOKUP($Q$10,DATA!$P$2:$R$196,3))","v":""},{"$f":"IF(WLC18=\"\",\"\",VLOOKUP($Q$10,DATA!$P$2:$R$196,3))","v":""},{"$f":"IF(WLD18=\"\",\"\",VLOOKUP($Q$10,DATA!$P$2:$R$196,3))","v":""},{"$f":"IF(WLE18=\"\",\"\",VLOOKUP($Q$10,DATA!$P$2:$R$196,3))","v":""},{"$f":"IF(WLF18=\"\",\"\",VLOOKUP($Q$10,DATA!$P$2:$R$196,3))","v":""},{"$f":"IF(WLG18=\"\",\"\",VLOOKUP($Q$10,DATA!$P$2:$R$196,3))","v":""},{"$f":"IF(WLH18=\"\",\"\",VLOOKUP($Q$10,DATA!$P$2:$R$196,3))","v":""},{"$f":"IF(WLI18=\"\",\"\",VLOOKUP($Q$10,DATA!$P$2:$R$196,3))","v":""},{"$f":"IF(WLJ18=\"\",\"\",VLOOKUP($Q$10,DATA!$P$2:$R$196,3))","v":""},{"$f":"IF(WLK18=\"\",\"\",VLOOKUP($Q$10,DATA!$P$2:$R$196,3))","v":""},{"$f":"IF(WLL18=\"\",\"\",VLOOKUP($Q$10,DATA!$P$2:$R$196,3))","v":""},{"$f":"IF(WLM18=\"\",\"\",VLOOKUP($Q$10,DATA!$P$2:$R$196,3))","v":""},{"$f":"IF(WLN18=\"\",\"\",VLOOKUP($Q$10,DATA!$P$2:$R$196,3))","v":""},{"$f":"IF(WLO18=\"\",\"\",VLOOKUP($Q$10,DATA!$P$2:$R$196,3))","v":""},{"$f":"IF(WLP18=\"\",\"\",VLOOKUP($Q$10,DATA!$P$2:$R$196,3))","v":""},{"$f":"IF(WLQ18=\"\",\"\",VLOOKUP($Q$10,DATA!$P$2:$R$196,3))","v":""},{"$f":"IF(WLR18=\"\",\"\",VLOOKUP($Q$10,DATA!$P$2:$R$196,3))","v":""},{"$f":"IF(WLS18=\"\",\"\",VLOOKUP($Q$10,DATA!$P$2:$R$196,3))","v":""},{"$f":"IF(WLT18=\"\",\"\",VLOOKUP($Q$10,DATA!$P$2:$R$196,3))","v":""},{"$f":"IF(WLU18=\"\",\"\",VLOOKUP($Q$10,DATA!$P$2:$R$196,3))","v":""},{"$f":"IF(WLV18=\"\",\"\",VLOOKUP($Q$10,DATA!$P$2:$R$196,3))","v":""},{"$f":"IF(WLW18=\"\",\"\",VLOOKUP($Q$10,DATA!$P$2:$R$196,3))","v":""},{"$f":"IF(WLX18=\"\",\"\",VLOOKUP($Q$10,DATA!$P$2:$R$196,3))","v":""},{"$f":"IF(WLY18=\"\",\"\",VLOOKUP($Q$10,DATA!$P$2:$R$196,3))","v":""},{"$f":"IF(WLZ18=\"\",\"\",VLOOKUP($Q$10,DATA!$P$2:$R$196,3))","v":""},{"$f":"IF(WMA18=\"\",\"\",VLOOKUP($Q$10,DATA!$P$2:$R$196,3))","v":""},{"$f":"IF(WMB18=\"\",\"\",VLOOKUP($Q$10,DATA!$P$2:$R$196,3))","v":""},{"$f":"IF(WMC18=\"\",\"\",VLOOKUP($Q$10,DATA!$P$2:$R$196,3))","v":""},{"$f":"IF(WMD18=\"\",\"\",VLOOKUP($Q$10,DATA!$P$2:$R$196,3))","v":""},{"$f":"IF(WME18=\"\",\"\",VLOOKUP($Q$10,DATA!$P$2:$R$196,3))","v":""},{"$f":"IF(WMF18=\"\",\"\",VLOOKUP($Q$10,DATA!$P$2:$R$196,3))","v":""},{"$f":"IF(WMG18=\"\",\"\",VLOOKUP($Q$10,DATA!$P$2:$R$196,3))","v":""},{"$f":"IF(WMH18=\"\",\"\",VLOOKUP($Q$10,DATA!$P$2:$R$196,3))","v":""},{"$f":"IF(WMI18=\"\",\"\",VLOOKUP($Q$10,DATA!$P$2:$R$196,3))","v":""},{"$f":"IF(WMJ18=\"\",\"\",VLOOKUP($Q$10,DATA!$P$2:$R$196,3))","v":""},{"$f":"IF(WMK18=\"\",\"\",VLOOKUP($Q$10,DATA!$P$2:$R$196,3))","v":""},{"$f":"IF(WML18=\"\",\"\",VLOOKUP($Q$10,DATA!$P$2:$R$196,3))","v":""},{"$f":"IF(WMM18=\"\",\"\",VLOOKUP($Q$10,DATA!$P$2:$R$196,3))","v":""},{"$f":"IF(WMN18=\"\",\"\",VLOOKUP($Q$10,DATA!$P$2:$R$196,3))","v":""},{"$f":"IF(WMO18=\"\",\"\",VLOOKUP($Q$10,DATA!$P$2:$R$196,3))","v":""},{"$f":"IF(WMP18=\"\",\"\",VLOOKUP($Q$10,DATA!$P$2:$R$196,3))","v":""},{"$f":"IF(WMQ18=\"\",\"\",VLOOKUP($Q$10,DATA!$P$2:$R$196,3))","v":""},{"$f":"IF(WMR18=\"\",\"\",VLOOKUP($Q$10,DATA!$P$2:$R$196,3))","v":""},{"$f":"IF(WMS18=\"\",\"\",VLOOKUP($Q$10,DATA!$P$2:$R$196,3))","v":""},{"$f":"IF(WMT18=\"\",\"\",VLOOKUP($Q$10,DATA!$P$2:$R$196,3))","v":""},{"$f":"IF(WMU18=\"\",\"\",VLOOKUP($Q$10,DATA!$P$2:$R$196,3))","v":""},{"$f":"IF(WMV18=\"\",\"\",VLOOKUP($Q$10,DATA!$P$2:$R$196,3))","v":""},{"$f":"IF(WMW18=\"\",\"\",VLOOKUP($Q$10,DATA!$P$2:$R$196,3))","v":""},{"$f":"IF(WMX18=\"\",\"\",VLOOKUP($Q$10,DATA!$P$2:$R$196,3))","v":""},{"$f":"IF(WMY18=\"\",\"\",VLOOKUP($Q$10,DATA!$P$2:$R$196,3))","v":""},{"$f":"IF(WMZ18=\"\",\"\",VLOOKUP($Q$10,DATA!$P$2:$R$196,3))","v":""},{"$f":"IF(WNA18=\"\",\"\",VLOOKUP($Q$10,DATA!$P$2:$R$196,3))","v":""},{"$f":"IF(WNB18=\"\",\"\",VLOOKUP($Q$10,DATA!$P$2:$R$196,3))","v":""},{"$f":"IF(WNC18=\"\",\"\",VLOOKUP($Q$10,DATA!$P$2:$R$196,3))","v":""},{"$f":"IF(WND18=\"\",\"\",VLOOKUP($Q$10,DATA!$P$2:$R$196,3))","v":""},{"$f":"IF(WNE18=\"\",\"\",VLOOKUP($Q$10,DATA!$P$2:$R$196,3))","v":""},{"$f":"IF(WNF18=\"\",\"\",VLOOKUP($Q$10,DATA!$P$2:$R$196,3))","v":""},{"$f":"IF(WNG18=\"\",\"\",VLOOKUP($Q$10,DATA!$P$2:$R$196,3))","v":""},{"$f":"IF(WNH18=\"\",\"\",VLOOKUP($Q$10,DATA!$P$2:$R$196,3))","v":""},{"$f":"IF(WNI18=\"\",\"\",VLOOKUP($Q$10,DATA!$P$2:$R$196,3))","v":""},{"$f":"IF(WNJ18=\"\",\"\",VLOOKUP($Q$10,DATA!$P$2:$R$196,3))","v":""},{"$f":"IF(WNK18=\"\",\"\",VLOOKUP($Q$10,DATA!$P$2:$R$196,3))","v":""},{"$f":"IF(WNL18=\"\",\"\",VLOOKUP($Q$10,DATA!$P$2:$R$196,3))","v":""},{"$f":"IF(WNM18=\"\",\"\",VLOOKUP($Q$10,DATA!$P$2:$R$196,3))","v":""},{"$f":"IF(WNN18=\"\",\"\",VLOOKUP($Q$10,DATA!$P$2:$R$196,3))","v":""},{"$f":"IF(WNO18=\"\",\"\",VLOOKUP($Q$10,DATA!$P$2:$R$196,3))","v":""},{"$f":"IF(WNP18=\"\",\"\",VLOOKUP($Q$10,DATA!$P$2:$R$196,3))","v":""},{"$f":"IF(WNQ18=\"\",\"\",VLOOKUP($Q$10,DATA!$P$2:$R$196,3))","v":""},{"$f":"IF(WNR18=\"\",\"\",VLOOKUP($Q$10,DATA!$P$2:$R$196,3))","v":""},{"$f":"IF(WNS18=\"\",\"\",VLOOKUP($Q$10,DATA!$P$2:$R$196,3))","v":""},{"$f":"IF(WNT18=\"\",\"\",VLOOKUP($Q$10,DATA!$P$2:$R$196,3))","v":""},{"$f":"IF(WNU18=\"\",\"\",VLOOKUP($Q$10,DATA!$P$2:$R$196,3))","v":""},{"$f":"IF(WNV18=\"\",\"\",VLOOKUP($Q$10,DATA!$P$2:$R$196,3))","v":""},{"$f":"IF(WNW18=\"\",\"\",VLOOKUP($Q$10,DATA!$P$2:$R$196,3))","v":""},{"$f":"IF(WNX18=\"\",\"\",VLOOKUP($Q$10,DATA!$P$2:$R$196,3))","v":""},{"$f":"IF(WNY18=\"\",\"\",VLOOKUP($Q$10,DATA!$P$2:$R$196,3))","v":""},{"$f":"IF(WNZ18=\"\",\"\",VLOOKUP($Q$10,DATA!$P$2:$R$196,3))","v":""},{"$f":"IF(WOA18=\"\",\"\",VLOOKUP($Q$10,DATA!$P$2:$R$196,3))","v":""},{"$f":"IF(WOB18=\"\",\"\",VLOOKUP($Q$10,DATA!$P$2:$R$196,3))","v":""},{"$f":"IF(WOC18=\"\",\"\",VLOOKUP($Q$10,DATA!$P$2:$R$196,3))","v":""},{"$f":"IF(WOD18=\"\",\"\",VLOOKUP($Q$10,DATA!$P$2:$R$196,3))","v":""},{"$f":"IF(WOE18=\"\",\"\",VLOOKUP($Q$10,DATA!$P$2:$R$196,3))","v":""},{"$f":"IF(WOF18=\"\",\"\",VLOOKUP($Q$10,DATA!$P$2:$R$196,3))","v":""},{"$f":"IF(WOG18=\"\",\"\",VLOOKUP($Q$10,DATA!$P$2:$R$196,3))","v":""},{"$f":"IF(WOH18=\"\",\"\",VLOOKUP($Q$10,DATA!$P$2:$R$196,3))","v":""},{"$f":"IF(WOI18=\"\",\"\",VLOOKUP($Q$10,DATA!$P$2:$R$196,3))","v":""},{"$f":"IF(WOJ18=\"\",\"\",VLOOKUP($Q$10,DATA!$P$2:$R$196,3))","v":""},{"$f":"IF(WOK18=\"\",\"\",VLOOKUP($Q$10,DATA!$P$2:$R$196,3))","v":""},{"$f":"IF(WOL18=\"\",\"\",VLOOKUP($Q$10,DATA!$P$2:$R$196,3))","v":""},{"$f":"IF(WOM18=\"\",\"\",VLOOKUP($Q$10,DATA!$P$2:$R$196,3))","v":""},{"$f":"IF(WON18=\"\",\"\",VLOOKUP($Q$10,DATA!$P$2:$R$196,3))","v":""},{"$f":"IF(WOO18=\"\",\"\",VLOOKUP($Q$10,DATA!$P$2:$R$196,3))","v":""},{"$f":"IF(WOP18=\"\",\"\",VLOOKUP($Q$10,DATA!$P$2:$R$196,3))","v":""},{"$f":"IF(WOQ18=\"\",\"\",VLOOKUP($Q$10,DATA!$P$2:$R$196,3))","v":""},{"$f":"IF(WOR18=\"\",\"\",VLOOKUP($Q$10,DATA!$P$2:$R$196,3))","v":""},{"$f":"IF(WOS18=\"\",\"\",VLOOKUP($Q$10,DATA!$P$2:$R$196,3))","v":""},{"$f":"IF(WOT18=\"\",\"\",VLOOKUP($Q$10,DATA!$P$2:$R$196,3))","v":""},{"$f":"IF(WOU18=\"\",\"\",VLOOKUP($Q$10,DATA!$P$2:$R$196,3))","v":""},{"$f":"IF(WOV18=\"\",\"\",VLOOKUP($Q$10,DATA!$P$2:$R$196,3))","v":""},{"$f":"IF(WOW18=\"\",\"\",VLOOKUP($Q$10,DATA!$P$2:$R$196,3))","v":""},{"$f":"IF(WOX18=\"\",\"\",VLOOKUP($Q$10,DATA!$P$2:$R$196,3))","v":""},{"$f":"IF(WOY18=\"\",\"\",VLOOKUP($Q$10,DATA!$P$2:$R$196,3))","v":""},{"$f":"IF(WOZ18=\"\",\"\",VLOOKUP($Q$10,DATA!$P$2:$R$196,3))","v":""},{"$f":"IF(WPA18=\"\",\"\",VLOOKUP($Q$10,DATA!$P$2:$R$196,3))","v":""},{"$f":"IF(WPB18=\"\",\"\",VLOOKUP($Q$10,DATA!$P$2:$R$196,3))","v":""},{"$f":"IF(WPC18=\"\",\"\",VLOOKUP($Q$10,DATA!$P$2:$R$196,3))","v":""},{"$f":"IF(WPD18=\"\",\"\",VLOOKUP($Q$10,DATA!$P$2:$R$196,3))","v":""},{"$f":"IF(WPE18=\"\",\"\",VLOOKUP($Q$10,DATA!$P$2:$R$196,3))","v":""},{"$f":"IF(WPF18=\"\",\"\",VLOOKUP($Q$10,DATA!$P$2:$R$196,3))","v":""},{"$f":"IF(WPG18=\"\",\"\",VLOOKUP($Q$10,DATA!$P$2:$R$196,3))","v":""},{"$f":"IF(WPH18=\"\",\"\",VLOOKUP($Q$10,DATA!$P$2:$R$196,3))","v":""},{"$f":"IF(WPI18=\"\",\"\",VLOOKUP($Q$10,DATA!$P$2:$R$196,3))","v":""},{"$f":"IF(WPJ18=\"\",\"\",VLOOKUP($Q$10,DATA!$P$2:$R$196,3))","v":""},{"$f":"IF(WPK18=\"\",\"\",VLOOKUP($Q$10,DATA!$P$2:$R$196,3))","v":""},{"$f":"IF(WPL18=\"\",\"\",VLOOKUP($Q$10,DATA!$P$2:$R$196,3))","v":""},{"$f":"IF(WPM18=\"\",\"\",VLOOKUP($Q$10,DATA!$P$2:$R$196,3))","v":""},{"$f":"IF(WPN18=\"\",\"\",VLOOKUP($Q$10,DATA!$P$2:$R$196,3))","v":""},{"$f":"IF(WPO18=\"\",\"\",VLOOKUP($Q$10,DATA!$P$2:$R$196,3))","v":""},{"$f":"IF(WPP18=\"\",\"\",VLOOKUP($Q$10,DATA!$P$2:$R$196,3))","v":""},{"$f":"IF(WPQ18=\"\",\"\",VLOOKUP($Q$10,DATA!$P$2:$R$196,3))","v":""},{"$f":"IF(WPR18=\"\",\"\",VLOOKUP($Q$10,DATA!$P$2:$R$196,3))","v":""},{"$f":"IF(WPS18=\"\",\"\",VLOOKUP($Q$10,DATA!$P$2:$R$196,3))","v":""},{"$f":"IF(WPT18=\"\",\"\",VLOOKUP($Q$10,DATA!$P$2:$R$196,3))","v":""},{"$f":"IF(WPU18=\"\",\"\",VLOOKUP($Q$10,DATA!$P$2:$R$196,3))","v":""},{"$f":"IF(WPV18=\"\",\"\",VLOOKUP($Q$10,DATA!$P$2:$R$196,3))","v":""},{"$f":"IF(WPW18=\"\",\"\",VLOOKUP($Q$10,DATA!$P$2:$R$196,3))","v":""},{"$f":"IF(WPX18=\"\",\"\",VLOOKUP($Q$10,DATA!$P$2:$R$196,3))","v":""},{"$f":"IF(WPY18=\"\",\"\",VLOOKUP($Q$10,DATA!$P$2:$R$196,3))","v":""},{"$f":"IF(WPZ18=\"\",\"\",VLOOKUP($Q$10,DATA!$P$2:$R$196,3))","v":""},{"$f":"IF(WQA18=\"\",\"\",VLOOKUP($Q$10,DATA!$P$2:$R$196,3))","v":""},{"$f":"IF(WQB18=\"\",\"\",VLOOKUP($Q$10,DATA!$P$2:$R$196,3))","v":""},{"$f":"IF(WQC18=\"\",\"\",VLOOKUP($Q$10,DATA!$P$2:$R$196,3))","v":""},{"$f":"IF(WQD18=\"\",\"\",VLOOKUP($Q$10,DATA!$P$2:$R$196,3))","v":""},{"$f":"IF(WQE18=\"\",\"\",VLOOKUP($Q$10,DATA!$P$2:$R$196,3))","v":""},{"$f":"IF(WQF18=\"\",\"\",VLOOKUP($Q$10,DATA!$P$2:$R$196,3))","v":""},{"$f":"IF(WQG18=\"\",\"\",VLOOKUP($Q$10,DATA!$P$2:$R$196,3))","v":""},{"$f":"IF(WQH18=\"\",\"\",VLOOKUP($Q$10,DATA!$P$2:$R$196,3))","v":""},{"$f":"IF(WQI18=\"\",\"\",VLOOKUP($Q$10,DATA!$P$2:$R$196,3))","v":""},{"$f":"IF(WQJ18=\"\",\"\",VLOOKUP($Q$10,DATA!$P$2:$R$196,3))","v":""},{"$f":"IF(WQK18=\"\",\"\",VLOOKUP($Q$10,DATA!$P$2:$R$196,3))","v":""},{"$f":"IF(WQL18=\"\",\"\",VLOOKUP($Q$10,DATA!$P$2:$R$196,3))","v":""},{"$f":"IF(WQM18=\"\",\"\",VLOOKUP($Q$10,DATA!$P$2:$R$196,3))","v":""},{"$f":"IF(WQN18=\"\",\"\",VLOOKUP($Q$10,DATA!$P$2:$R$196,3))","v":""},{"$f":"IF(WQO18=\"\",\"\",VLOOKUP($Q$10,DATA!$P$2:$R$196,3))","v":""},{"$f":"IF(WQP18=\"\",\"\",VLOOKUP($Q$10,DATA!$P$2:$R$196,3))","v":""},{"$f":"IF(WQQ18=\"\",\"\",VLOOKUP($Q$10,DATA!$P$2:$R$196,3))","v":""},{"$f":"IF(WQR18=\"\",\"\",VLOOKUP($Q$10,DATA!$P$2:$R$196,3))","v":""},{"$f":"IF(WQS18=\"\",\"\",VLOOKUP($Q$10,DATA!$P$2:$R$196,3))","v":""},{"$f":"IF(WQT18=\"\",\"\",VLOOKUP($Q$10,DATA!$P$2:$R$196,3))","v":""},{"$f":"IF(WQU18=\"\",\"\",VLOOKUP($Q$10,DATA!$P$2:$R$196,3))","v":""},{"$f":"IF(WQV18=\"\",\"\",VLOOKUP($Q$10,DATA!$P$2:$R$196,3))","v":""},{"$f":"IF(WQW18=\"\",\"\",VLOOKUP($Q$10,DATA!$P$2:$R$196,3))","v":""},{"$f":"IF(WQX18=\"\",\"\",VLOOKUP($Q$10,DATA!$P$2:$R$196,3))","v":""},{"$f":"IF(WQY18=\"\",\"\",VLOOKUP($Q$10,DATA!$P$2:$R$196,3))","v":""},{"$f":"IF(WQZ18=\"\",\"\",VLOOKUP($Q$10,DATA!$P$2:$R$196,3))","v":""},{"$f":"IF(WRA18=\"\",\"\",VLOOKUP($Q$10,DATA!$P$2:$R$196,3))","v":""},{"$f":"IF(WRB18=\"\",\"\",VLOOKUP($Q$10,DATA!$P$2:$R$196,3))","v":""},{"$f":"IF(WRC18=\"\",\"\",VLOOKUP($Q$10,DATA!$P$2:$R$196,3))","v":""},{"$f":"IF(WRD18=\"\",\"\",VLOOKUP($Q$10,DATA!$P$2:$R$196,3))","v":""},{"$f":"IF(WRE18=\"\",\"\",VLOOKUP($Q$10,DATA!$P$2:$R$196,3))","v":""},{"$f":"IF(WRF18=\"\",\"\",VLOOKUP($Q$10,DATA!$P$2:$R$196,3))","v":""},{"$f":"IF(WRG18=\"\",\"\",VLOOKUP($Q$10,DATA!$P$2:$R$196,3))","v":""},{"$f":"IF(WRH18=\"\",\"\",VLOOKUP($Q$10,DATA!$P$2:$R$196,3))","v":""},{"$f":"IF(WRI18=\"\",\"\",VLOOKUP($Q$10,DATA!$P$2:$R$196,3))","v":""},{"$f":"IF(WRJ18=\"\",\"\",VLOOKUP($Q$10,DATA!$P$2:$R$196,3))","v":""},{"$f":"IF(WRK18=\"\",\"\",VLOOKUP($Q$10,DATA!$P$2:$R$196,3))","v":""},{"$f":"IF(WRL18=\"\",\"\",VLOOKUP($Q$10,DATA!$P$2:$R$196,3))","v":""},{"$f":"IF(WRM18=\"\",\"\",VLOOKUP($Q$10,DATA!$P$2:$R$196,3))","v":""},{"$f":"IF(WRN18=\"\",\"\",VLOOKUP($Q$10,DATA!$P$2:$R$196,3))","v":""},{"$f":"IF(WRO18=\"\",\"\",VLOOKUP($Q$10,DATA!$P$2:$R$196,3))","v":""},{"$f":"IF(WRP18=\"\",\"\",VLOOKUP($Q$10,DATA!$P$2:$R$196,3))","v":""},{"$f":"IF(WRQ18=\"\",\"\",VLOOKUP($Q$10,DATA!$P$2:$R$196,3))","v":""},{"$f":"IF(WRR18=\"\",\"\",VLOOKUP($Q$10,DATA!$P$2:$R$196,3))","v":""},{"$f":"IF(WRS18=\"\",\"\",VLOOKUP($Q$10,DATA!$P$2:$R$196,3))","v":""},{"$f":"IF(WRT18=\"\",\"\",VLOOKUP($Q$10,DATA!$P$2:$R$196,3))","v":""},{"$f":"IF(WRU18=\"\",\"\",VLOOKUP($Q$10,DATA!$P$2:$R$196,3))","v":""},{"$f":"IF(WRV18=\"\",\"\",VLOOKUP($Q$10,DATA!$P$2:$R$196,3))","v":""},{"$f":"IF(WRW18=\"\",\"\",VLOOKUP($Q$10,DATA!$P$2:$R$196,3))","v":""},{"$f":"IF(WRX18=\"\",\"\",VLOOKUP($Q$10,DATA!$P$2:$R$196,3))","v":""},{"$f":"IF(WRY18=\"\",\"\",VLOOKUP($Q$10,DATA!$P$2:$R$196,3))","v":""},{"$f":"IF(WRZ18=\"\",\"\",VLOOKUP($Q$10,DATA!$P$2:$R$196,3))","v":""},{"$f":"IF(WSA18=\"\",\"\",VLOOKUP($Q$10,DATA!$P$2:$R$196,3))","v":""},{"$f":"IF(WSB18=\"\",\"\",VLOOKUP($Q$10,DATA!$P$2:$R$196,3))","v":""},{"$f":"IF(WSC18=\"\",\"\",VLOOKUP($Q$10,DATA!$P$2:$R$196,3))","v":""},{"$f":"IF(WSD18=\"\",\"\",VLOOKUP($Q$10,DATA!$P$2:$R$196,3))","v":""},{"$f":"IF(WSE18=\"\",\"\",VLOOKUP($Q$10,DATA!$P$2:$R$196,3))","v":""},{"$f":"IF(WSF18=\"\",\"\",VLOOKUP($Q$10,DATA!$P$2:$R$196,3))","v":""},{"$f":"IF(WSG18=\"\",\"\",VLOOKUP($Q$10,DATA!$P$2:$R$196,3))","v":""},{"$f":"IF(WSH18=\"\",\"\",VLOOKUP($Q$10,DATA!$P$2:$R$196,3))","v":""},{"$f":"IF(WSI18=\"\",\"\",VLOOKUP($Q$10,DATA!$P$2:$R$196,3))","v":""},{"$f":"IF(WSJ18=\"\",\"\",VLOOKUP($Q$10,DATA!$P$2:$R$196,3))","v":""},{"$f":"IF(WSK18=\"\",\"\",VLOOKUP($Q$10,DATA!$P$2:$R$196,3))","v":""},{"$f":"IF(WSL18=\"\",\"\",VLOOKUP($Q$10,DATA!$P$2:$R$196,3))","v":""},{"$f":"IF(WSM18=\"\",\"\",VLOOKUP($Q$10,DATA!$P$2:$R$196,3))","v":""},{"$f":"IF(WSN18=\"\",\"\",VLOOKUP($Q$10,DATA!$P$2:$R$196,3))","v":""},{"$f":"IF(WSO18=\"\",\"\",VLOOKUP($Q$10,DATA!$P$2:$R$196,3))","v":""},{"$f":"IF(WSP18=\"\",\"\",VLOOKUP($Q$10,DATA!$P$2:$R$196,3))","v":""},{"$f":"IF(WSQ18=\"\",\"\",VLOOKUP($Q$10,DATA!$P$2:$R$196,3))","v":""},{"$f":"IF(WSR18=\"\",\"\",VLOOKUP($Q$10,DATA!$P$2:$R$196,3))","v":""},{"$f":"IF(WSS18=\"\",\"\",VLOOKUP($Q$10,DATA!$P$2:$R$196,3))","v":""},{"$f":"IF(WST18=\"\",\"\",VLOOKUP($Q$10,DATA!$P$2:$R$196,3))","v":""},{"$f":"IF(WSU18=\"\",\"\",VLOOKUP($Q$10,DATA!$P$2:$R$196,3))","v":""},{"$f":"IF(WSV18=\"\",\"\",VLOOKUP($Q$10,DATA!$P$2:$R$196,3))","v":""},{"$f":"IF(WSW18=\"\",\"\",VLOOKUP($Q$10,DATA!$P$2:$R$196,3))","v":""},{"$f":"IF(WSX18=\"\",\"\",VLOOKUP($Q$10,DATA!$P$2:$R$196,3))","v":""},{"$f":"IF(WSY18=\"\",\"\",VLOOKUP($Q$10,DATA!$P$2:$R$196,3))","v":""},{"$f":"IF(WSZ18=\"\",\"\",VLOOKUP($Q$10,DATA!$P$2:$R$196,3))","v":""},{"$f":"IF(WTA18=\"\",\"\",VLOOKUP($Q$10,DATA!$P$2:$R$196,3))","v":""},{"$f":"IF(WTB18=\"\",\"\",VLOOKUP($Q$10,DATA!$P$2:$R$196,3))","v":""},{"$f":"IF(WTC18=\"\",\"\",VLOOKUP($Q$10,DATA!$P$2:$R$196,3))","v":""},{"$f":"IF(WTD18=\"\",\"\",VLOOKUP($Q$10,DATA!$P$2:$R$196,3))","v":""},{"$f":"IF(WTE18=\"\",\"\",VLOOKUP($Q$10,DATA!$P$2:$R$196,3))","v":""},{"$f":"IF(WTF18=\"\",\"\",VLOOKUP($Q$10,DATA!$P$2:$R$196,3))","v":""},{"$f":"IF(WTG18=\"\",\"\",VLOOKUP($Q$10,DATA!$P$2:$R$196,3))","v":""},{"$f":"IF(WTH18=\"\",\"\",VLOOKUP($Q$10,DATA!$P$2:$R$196,3))","v":""},{"$f":"IF(WTI18=\"\",\"\",VLOOKUP($Q$10,DATA!$P$2:$R$196,3))","v":""},{"$f":"IF(WTJ18=\"\",\"\",VLOOKUP($Q$10,DATA!$P$2:$R$196,3))","v":""},{"$f":"IF(WTK18=\"\",\"\",VLOOKUP($Q$10,DATA!$P$2:$R$196,3))","v":""},{"$f":"IF(WTL18=\"\",\"\",VLOOKUP($Q$10,DATA!$P$2:$R$196,3))","v":""},{"$f":"IF(WTM18=\"\",\"\",VLOOKUP($Q$10,DATA!$P$2:$R$196,3))","v":""},{"$f":"IF(WTN18=\"\",\"\",VLOOKUP($Q$10,DATA!$P$2:$R$196,3))","v":""},{"$f":"IF(WTO18=\"\",\"\",VLOOKUP($Q$10,DATA!$P$2:$R$196,3))","v":""},{"$f":"IF(WTP18=\"\",\"\",VLOOKUP($Q$10,DATA!$P$2:$R$196,3))","v":""},{"$f":"IF(WTQ18=\"\",\"\",VLOOKUP($Q$10,DATA!$P$2:$R$196,3))","v":""},{"$f":"IF(WTR18=\"\",\"\",VLOOKUP($Q$10,DATA!$P$2:$R$196,3))","v":""},{"$f":"IF(WTS18=\"\",\"\",VLOOKUP($Q$10,DATA!$P$2:$R$196,3))","v":""},{"$f":"IF(WTT18=\"\",\"\",VLOOKUP($Q$10,DATA!$P$2:$R$196,3))","v":""},{"$f":"IF(WTU18=\"\",\"\",VLOOKUP($Q$10,DATA!$P$2:$R$196,3))","v":""},{"$f":"IF(WTV18=\"\",\"\",VLOOKUP($Q$10,DATA!$P$2:$R$196,3))","v":""},{"$f":"IF(WTW18=\"\",\"\",VLOOKUP($Q$10,DATA!$P$2:$R$196,3))","v":""},{"$f":"IF(WTX18=\"\",\"\",VLOOKUP($Q$10,DATA!$P$2:$R$196,3))","v":""},{"$f":"IF(WTY18=\"\",\"\",VLOOKUP($Q$10,DATA!$P$2:$R$196,3))","v":""},{"$f":"IF(WTZ18=\"\",\"\",VLOOKUP($Q$10,DATA!$P$2:$R$196,3))","v":""},{"$f":"IF(WUA18=\"\",\"\",VLOOKUP($Q$10,DATA!$P$2:$R$196,3))","v":""},{"$f":"IF(WUB18=\"\",\"\",VLOOKUP($Q$10,DATA!$P$2:$R$196,3))","v":""},{"$f":"IF(WUC18=\"\",\"\",VLOOKUP($Q$10,DATA!$P$2:$R$196,3))","v":""},{"$f":"IF(WUD18=\"\",\"\",VLOOKUP($Q$10,DATA!$P$2:$R$196,3))","v":""},{"$f":"IF(WUE18=\"\",\"\",VLOOKUP($Q$10,DATA!$P$2:$R$196,3))","v":""},{"$f":"IF(WUF18=\"\",\"\",VLOOKUP($Q$10,DATA!$P$2:$R$196,3))","v":""},{"$f":"IF(WUG18=\"\",\"\",VLOOKUP($Q$10,DATA!$P$2:$R$196,3))","v":""},{"$f":"IF(WUH18=\"\",\"\",VLOOKUP($Q$10,DATA!$P$2:$R$196,3))","v":""},{"$f":"IF(WUI18=\"\",\"\",VLOOKUP($Q$10,DATA!$P$2:$R$196,3))","v":""},{"$f":"IF(WUJ18=\"\",\"\",VLOOKUP($Q$10,DATA!$P$2:$R$196,3))","v":""},{"$f":"IF(WUK18=\"\",\"\",VLOOKUP($Q$10,DATA!$P$2:$R$196,3))","v":""},{"$f":"IF(WUL18=\"\",\"\",VLOOKUP($Q$10,DATA!$P$2:$R$196,3))","v":""},{"$f":"IF(WUM18=\"\",\"\",VLOOKUP($Q$10,DATA!$P$2:$R$196,3))","v":""},{"$f":"IF(WUN18=\"\",\"\",VLOOKUP($Q$10,DATA!$P$2:$R$196,3))","v":""},{"$f":"IF(WUO18=\"\",\"\",VLOOKUP($Q$10,DATA!$P$2:$R$196,3))","v":""},{"$f":"IF(WUP18=\"\",\"\",VLOOKUP($Q$10,DATA!$P$2:$R$196,3))","v":""},{"$f":"IF(WUQ18=\"\",\"\",VLOOKUP($Q$10,DATA!$P$2:$R$196,3))","v":""},{"$f":"IF(WUR18=\"\",\"\",VLOOKUP($Q$10,DATA!$P$2:$R$196,3))","v":""},{"$f":"IF(WUS18=\"\",\"\",VLOOKUP($Q$10,DATA!$P$2:$R$196,3))","v":""},{"$f":"IF(WUT18=\"\",\"\",VLOOKUP($Q$10,DATA!$P$2:$R$196,3))","v":""},{"$f":"IF(WUU18=\"\",\"\",VLOOKUP($Q$10,DATA!$P$2:$R$196,3))","v":""},{"$f":"IF(WUV18=\"\",\"\",VLOOKUP($Q$10,DATA!$P$2:$R$196,3))","v":""},{"$f":"IF(WUW18=\"\",\"\",VLOOKUP($Q$10,DATA!$P$2:$R$196,3))","v":""},{"$f":"IF(WUX18=\"\",\"\",VLOOKUP($Q$10,DATA!$P$2:$R$196,3))","v":""},{"$f":"IF(WUY18=\"\",\"\",VLOOKUP($Q$10,DATA!$P$2:$R$196,3))","v":""},{"$f":"IF(WUZ18=\"\",\"\",VLOOKUP($Q$10,DATA!$P$2:$R$196,3))","v":""},{"$f":"IF(WVA18=\"\",\"\",VLOOKUP($Q$10,DATA!$P$2:$R$196,3))","v":""},{"$f":"IF(WVB18=\"\",\"\",VLOOKUP($Q$10,DATA!$P$2:$R$196,3))","v":""},{"$f":"IF(WVC18=\"\",\"\",VLOOKUP($Q$10,DATA!$P$2:$R$196,3))","v":""},{"$f":"IF(WVD18=\"\",\"\",VLOOKUP($Q$10,DATA!$P$2:$R$196,3))","v":""},{"$f":"IF(WVE18=\"\",\"\",VLOOKUP($Q$10,DATA!$P$2:$R$196,3))","v":""},{"$f":"IF(WVF18=\"\",\"\",VLOOKUP($Q$10,DATA!$P$2:$R$196,3))","v":""},{"$f":"IF(WVG18=\"\",\"\",VLOOKUP($Q$10,DATA!$P$2:$R$196,3))","v":""},{"$f":"IF(WVH18=\"\",\"\",VLOOKUP($Q$10,DATA!$P$2:$R$196,3))","v":""},{"$f":"IF(WVI18=\"\",\"\",VLOOKUP($Q$10,DATA!$P$2:$R$196,3))","v":""},{"$f":"IF(WVJ18=\"\",\"\",VLOOKUP($Q$10,DATA!$P$2:$R$196,3))","v":""},{"$f":"IF(WVK18=\"\",\"\",VLOOKUP($Q$10,DATA!$P$2:$R$196,3))","v":""},{"$f":"IF(WVL18=\"\",\"\",VLOOKUP($Q$10,DATA!$P$2:$R$196,3))","v":""},{"$f":"IF(WVM18=\"\",\"\",VLOOKUP($Q$10,DATA!$P$2:$R$196,3))","v":""},{"$f":"IF(WVN18=\"\",\"\",VLOOKUP($Q$10,DATA!$P$2:$R$196,3))","v":""},{"$f":"IF(WVO18=\"\",\"\",VLOOKUP($Q$10,DATA!$P$2:$R$196,3))","v":""},{"$f":"IF(WVP18=\"\",\"\",VLOOKUP($Q$10,DATA!$P$2:$R$196,3))","v":""},{"$f":"IF(WVQ18=\"\",\"\",VLOOKUP($Q$10,DATA!$P$2:$R$196,3))","v":""},{"$f":"IF(WVR18=\"\",\"\",VLOOKUP($Q$10,DATA!$P$2:$R$196,3))","v":""},{"$f":"IF(WVS18=\"\",\"\",VLOOKUP($Q$10,DATA!$P$2:$R$196,3))","v":""},{"$f":"IF(WVT18=\"\",\"\",VLOOKUP($Q$10,DATA!$P$2:$R$196,3))","v":""},{"$f":"IF(WVU18=\"\",\"\",VLOOKUP($Q$10,DATA!$P$2:$R$196,3))","v":""},{"$f":"IF(WVV18=\"\",\"\",VLOOKUP($Q$10,DATA!$P$2:$R$196,3))","v":""},{"$f":"IF(WVW18=\"\",\"\",VLOOKUP($Q$10,DATA!$P$2:$R$196,3))","v":""},{"$f":"IF(WVX18=\"\",\"\",VLOOKUP($Q$10,DATA!$P$2:$R$196,3))","v":""},{"$f":"IF(WVY18=\"\",\"\",VLOOKUP($Q$10,DATA!$P$2:$R$196,3))","v":""},{"$f":"IF(WVZ18=\"\",\"\",VLOOKUP($Q$10,DATA!$P$2:$R$196,3))","v":""},{"$f":"IF(WWA18=\"\",\"\",VLOOKUP($Q$10,DATA!$P$2:$R$196,3))","v":""},{"$f":"IF(WWB18=\"\",\"\",VLOOKUP($Q$10,DATA!$P$2:$R$196,3))","v":""},{"$f":"IF(WWC18=\"\",\"\",VLOOKUP($Q$10,DATA!$P$2:$R$196,3))","v":""},{"$f":"IF(WWD18=\"\",\"\",VLOOKUP($Q$10,DATA!$P$2:$R$196,3))","v":""},{"$f":"IF(WWE18=\"\",\"\",VLOOKUP($Q$10,DATA!$P$2:$R$196,3))","v":""},{"$f":"IF(WWF18=\"\",\"\",VLOOKUP($Q$10,DATA!$P$2:$R$196,3))","v":""},{"$f":"IF(WWG18=\"\",\"\",VLOOKUP($Q$10,DATA!$P$2:$R$196,3))","v":""},{"$f":"IF(WWH18=\"\",\"\",VLOOKUP($Q$10,DATA!$P$2:$R$196,3))","v":""},{"$f":"IF(WWI18=\"\",\"\",VLOOKUP($Q$10,DATA!$P$2:$R$196,3))","v":""},{"$f":"IF(WWJ18=\"\",\"\",VLOOKUP($Q$10,DATA!$P$2:$R$196,3))","v":""},{"$f":"IF(WWK18=\"\",\"\",VLOOKUP($Q$10,DATA!$P$2:$R$196,3))","v":""},{"$f":"IF(WWL18=\"\",\"\",VLOOKUP($Q$10,DATA!$P$2:$R$196,3))","v":""},{"$f":"IF(WWM18=\"\",\"\",VLOOKUP($Q$10,DATA!$P$2:$R$196,3))","v":""},{"$f":"IF(WWN18=\"\",\"\",VLOOKUP($Q$10,DATA!$P$2:$R$196,3))","v":""},{"$f":"IF(WWO18=\"\",\"\",VLOOKUP($Q$10,DATA!$P$2:$R$196,3))","v":""},{"$f":"IF(WWP18=\"\",\"\",VLOOKUP($Q$10,DATA!$P$2:$R$196,3))","v":""},{"$f":"IF(WWQ18=\"\",\"\",VLOOKUP($Q$10,DATA!$P$2:$R$196,3))","v":""},{"$f":"IF(WWR18=\"\",\"\",VLOOKUP($Q$10,DATA!$P$2:$R$196,3))","v":""},{"$f":"IF(WWS18=\"\",\"\",VLOOKUP($Q$10,DATA!$P$2:$R$196,3))","v":""},{"$f":"IF(WWT18=\"\",\"\",VLOOKUP($Q$10,DATA!$P$2:$R$196,3))","v":""},{"$f":"IF(WWU18=\"\",\"\",VLOOKUP($Q$10,DATA!$P$2:$R$196,3))","v":""},{"$f":"IF(WWV18=\"\",\"\",VLOOKUP($Q$10,DATA!$P$2:$R$196,3))","v":""},{"$f":"IF(WWW18=\"\",\"\",VLOOKUP($Q$10,DATA!$P$2:$R$196,3))","v":""},{"$f":"IF(WWX18=\"\",\"\",VLOOKUP($Q$10,DATA!$P$2:$R$196,3))","v":""},{"$f":"IF(WWY18=\"\",\"\",VLOOKUP($Q$10,DATA!$P$2:$R$196,3))","v":""},{"$f":"IF(WWZ18=\"\",\"\",VLOOKUP($Q$10,DATA!$P$2:$R$196,3))","v":""},{"$f":"IF(WXA18=\"\",\"\",VLOOKUP($Q$10,DATA!$P$2:$R$196,3))","v":""},{"$f":"IF(WXB18=\"\",\"\",VLOOKUP($Q$10,DATA!$P$2:$R$196,3))","v":""},{"$f":"IF(WXC18=\"\",\"\",VLOOKUP($Q$10,DATA!$P$2:$R$196,3))","v":""},{"$f":"IF(WXD18=\"\",\"\",VLOOKUP($Q$10,DATA!$P$2:$R$196,3))","v":""},{"$f":"IF(WXE18=\"\",\"\",VLOOKUP($Q$10,DATA!$P$2:$R$196,3))","v":""},{"$f":"IF(WXF18=\"\",\"\",VLOOKUP($Q$10,DATA!$P$2:$R$196,3))","v":""},{"$f":"IF(WXG18=\"\",\"\",VLOOKUP($Q$10,DATA!$P$2:$R$196,3))","v":""},{"$f":"IF(WXH18=\"\",\"\",VLOOKUP($Q$10,DATA!$P$2:$R$196,3))","v":""},{"$f":"IF(WXI18=\"\",\"\",VLOOKUP($Q$10,DATA!$P$2:$R$196,3))","v":""},{"$f":"IF(WXJ18=\"\",\"\",VLOOKUP($Q$10,DATA!$P$2:$R$196,3))","v":""},{"$f":"IF(WXK18=\"\",\"\",VLOOKUP($Q$10,DATA!$P$2:$R$196,3))","v":""},{"$f":"IF(WXL18=\"\",\"\",VLOOKUP($Q$10,DATA!$P$2:$R$196,3))","v":""},{"$f":"IF(WXM18=\"\",\"\",VLOOKUP($Q$10,DATA!$P$2:$R$196,3))","v":""},{"$f":"IF(WXN18=\"\",\"\",VLOOKUP($Q$10,DATA!$P$2:$R$196,3))","v":""},{"$f":"IF(WXO18=\"\",\"\",VLOOKUP($Q$10,DATA!$P$2:$R$196,3))","v":""},{"$f":"IF(WXP18=\"\",\"\",VLOOKUP($Q$10,DATA!$P$2:$R$196,3))","v":""},{"$f":"IF(WXQ18=\"\",\"\",VLOOKUP($Q$10,DATA!$P$2:$R$196,3))","v":""},{"$f":"IF(WXR18=\"\",\"\",VLOOKUP($Q$10,DATA!$P$2:$R$196,3))","v":""},{"$f":"IF(WXS18=\"\",\"\",VLOOKUP($Q$10,DATA!$P$2:$R$196,3))","v":""},{"$f":"IF(WXT18=\"\",\"\",VLOOKUP($Q$10,DATA!$P$2:$R$196,3))","v":""},{"$f":"IF(WXU18=\"\",\"\",VLOOKUP($Q$10,DATA!$P$2:$R$196,3))","v":""},{"$f":"IF(WXV18=\"\",\"\",VLOOKUP($Q$10,DATA!$P$2:$R$196,3))","v":""},{"$f":"IF(WXW18=\"\",\"\",VLOOKUP($Q$10,DATA!$P$2:$R$196,3))","v":""},{"$f":"IF(WXX18=\"\",\"\",VLOOKUP($Q$10,DATA!$P$2:$R$196,3))","v":""},{"$f":"IF(WXY18=\"\",\"\",VLOOKUP($Q$10,DATA!$P$2:$R$196,3))","v":""},{"$f":"IF(WXZ18=\"\",\"\",VLOOKUP($Q$10,DATA!$P$2:$R$196,3))","v":""},{"$f":"IF(WYA18=\"\",\"\",VLOOKUP($Q$10,DATA!$P$2:$R$196,3))","v":""},{"$f":"IF(WYB18=\"\",\"\",VLOOKUP($Q$10,DATA!$P$2:$R$196,3))","v":""},{"$f":"IF(WYC18=\"\",\"\",VLOOKUP($Q$10,DATA!$P$2:$R$196,3))","v":""},{"$f":"IF(WYD18=\"\",\"\",VLOOKUP($Q$10,DATA!$P$2:$R$196,3))","v":""},{"$f":"IF(WYE18=\"\",\"\",VLOOKUP($Q$10,DATA!$P$2:$R$196,3))","v":""},{"$f":"IF(WYF18=\"\",\"\",VLOOKUP($Q$10,DATA!$P$2:$R$196,3))","v":""},{"$f":"IF(WYG18=\"\",\"\",VLOOKUP($Q$10,DATA!$P$2:$R$196,3))","v":""},{"$f":"IF(WYH18=\"\",\"\",VLOOKUP($Q$10,DATA!$P$2:$R$196,3))","v":""},{"$f":"IF(WYI18=\"\",\"\",VLOOKUP($Q$10,DATA!$P$2:$R$196,3))","v":""},{"$f":"IF(WYJ18=\"\",\"\",VLOOKUP($Q$10,DATA!$P$2:$R$196,3))","v":""},{"$f":"IF(WYK18=\"\",\"\",VLOOKUP($Q$10,DATA!$P$2:$R$196,3))","v":""},{"$f":"IF(WYL18=\"\",\"\",VLOOKUP($Q$10,DATA!$P$2:$R$196,3))","v":""},{"$f":"IF(WYM18=\"\",\"\",VLOOKUP($Q$10,DATA!$P$2:$R$196,3))","v":""},{"$f":"IF(WYN18=\"\",\"\",VLOOKUP($Q$10,DATA!$P$2:$R$196,3))","v":""},{"$f":"IF(WYO18=\"\",\"\",VLOOKUP($Q$10,DATA!$P$2:$R$196,3))","v":""},{"$f":"IF(WYP18=\"\",\"\",VLOOKUP($Q$10,DATA!$P$2:$R$196,3))","v":""},{"$f":"IF(WYQ18=\"\",\"\",VLOOKUP($Q$10,DATA!$P$2:$R$196,3))","v":""},{"$f":"IF(WYR18=\"\",\"\",VLOOKUP($Q$10,DATA!$P$2:$R$196,3))","v":""},{"$f":"IF(WYS18=\"\",\"\",VLOOKUP($Q$10,DATA!$P$2:$R$196,3))","v":""},{"$f":"IF(WYT18=\"\",\"\",VLOOKUP($Q$10,DATA!$P$2:$R$196,3))","v":""},{"$f":"IF(WYU18=\"\",\"\",VLOOKUP($Q$10,DATA!$P$2:$R$196,3))","v":""},{"$f":"IF(WYV18=\"\",\"\",VLOOKUP($Q$10,DATA!$P$2:$R$196,3))","v":""},{"$f":"IF(WYW18=\"\",\"\",VLOOKUP($Q$10,DATA!$P$2:$R$196,3))","v":""},{"$f":"IF(WYX18=\"\",\"\",VLOOKUP($Q$10,DATA!$P$2:$R$196,3))","v":""},{"$f":"IF(WYY18=\"\",\"\",VLOOKUP($Q$10,DATA!$P$2:$R$196,3))","v":""},{"$f":"IF(WYZ18=\"\",\"\",VLOOKUP($Q$10,DATA!$P$2:$R$196,3))","v":""},{"$f":"IF(WZA18=\"\",\"\",VLOOKUP($Q$10,DATA!$P$2:$R$196,3))","v":""},{"$f":"IF(WZB18=\"\",\"\",VLOOKUP($Q$10,DATA!$P$2:$R$196,3))","v":""},{"$f":"IF(WZC18=\"\",\"\",VLOOKUP($Q$10,DATA!$P$2:$R$196,3))","v":""},{"$f":"IF(WZD18=\"\",\"\",VLOOKUP($Q$10,DATA!$P$2:$R$196,3))","v":""},{"$f":"IF(WZE18=\"\",\"\",VLOOKUP($Q$10,DATA!$P$2:$R$196,3))","v":""},{"$f":"IF(WZF18=\"\",\"\",VLOOKUP($Q$10,DATA!$P$2:$R$196,3))","v":""},{"$f":"IF(WZG18=\"\",\"\",VLOOKUP($Q$10,DATA!$P$2:$R$196,3))","v":""},{"$f":"IF(WZH18=\"\",\"\",VLOOKUP($Q$10,DATA!$P$2:$R$196,3))","v":""},{"$f":"IF(WZI18=\"\",\"\",VLOOKUP($Q$10,DATA!$P$2:$R$196,3))","v":""},{"$f":"IF(WZJ18=\"\",\"\",VLOOKUP($Q$10,DATA!$P$2:$R$196,3))","v":""},{"$f":"IF(WZK18=\"\",\"\",VLOOKUP($Q$10,DATA!$P$2:$R$196,3))","v":""},{"$f":"IF(WZL18=\"\",\"\",VLOOKUP($Q$10,DATA!$P$2:$R$196,3))","v":""},{"$f":"IF(WZM18=\"\",\"\",VLOOKUP($Q$10,DATA!$P$2:$R$196,3))","v":""},{"$f":"IF(WZN18=\"\",\"\",VLOOKUP($Q$10,DATA!$P$2:$R$196,3))","v":""},{"$f":"IF(WZO18=\"\",\"\",VLOOKUP($Q$10,DATA!$P$2:$R$196,3))","v":""},{"$f":"IF(WZP18=\"\",\"\",VLOOKUP($Q$10,DATA!$P$2:$R$196,3))","v":""},{"$f":"IF(WZQ18=\"\",\"\",VLOOKUP($Q$10,DATA!$P$2:$R$196,3))","v":""},{"$f":"IF(WZR18=\"\",\"\",VLOOKUP($Q$10,DATA!$P$2:$R$196,3))","v":""},{"$f":"IF(WZS18=\"\",\"\",VLOOKUP($Q$10,DATA!$P$2:$R$196,3))","v":""},{"$f":"IF(WZT18=\"\",\"\",VLOOKUP($Q$10,DATA!$P$2:$R$196,3))","v":""},{"$f":"IF(WZU18=\"\",\"\",VLOOKUP($Q$10,DATA!$P$2:$R$196,3))","v":""},{"$f":"IF(WZV18=\"\",\"\",VLOOKUP($Q$10,DATA!$P$2:$R$196,3))","v":""},{"$f":"IF(WZW18=\"\",\"\",VLOOKUP($Q$10,DATA!$P$2:$R$196,3))","v":""},{"$f":"IF(WZX18=\"\",\"\",VLOOKUP($Q$10,DATA!$P$2:$R$196,3))","v":""},{"$f":"IF(WZY18=\"\",\"\",VLOOKUP($Q$10,DATA!$P$2:$R$196,3))","v":""},{"$f":"IF(WZZ18=\"\",\"\",VLOOKUP($Q$10,DATA!$P$2:$R$196,3))","v":""},{"$f":"IF(XAA18=\"\",\"\",VLOOKUP($Q$10,DATA!$P$2:$R$196,3))","v":""},{"$f":"IF(XAB18=\"\",\"\",VLOOKUP($Q$10,DATA!$P$2:$R$196,3))","v":""},{"$f":"IF(XAC18=\"\",\"\",VLOOKUP($Q$10,DATA!$P$2:$R$196,3))","v":""},{"$f":"IF(XAD18=\"\",\"\",VLOOKUP($Q$10,DATA!$P$2:$R$196,3))","v":""},{"$f":"IF(XAE18=\"\",\"\",VLOOKUP($Q$10,DATA!$P$2:$R$196,3))","v":""},{"$f":"IF(XAF18=\"\",\"\",VLOOKUP($Q$10,DATA!$P$2:$R$196,3))","v":""},{"$f":"IF(XAG18=\"\",\"\",VLOOKUP($Q$10,DATA!$P$2:$R$196,3))","v":""},{"$f":"IF(XAH18=\"\",\"\",VLOOKUP($Q$10,DATA!$P$2:$R$196,3))","v":""},{"$f":"IF(XAI18=\"\",\"\",VLOOKUP($Q$10,DATA!$P$2:$R$196,3))","v":""},{"$f":"IF(XAJ18=\"\",\"\",VLOOKUP($Q$10,DATA!$P$2:$R$196,3))","v":""},{"$f":"IF(XAK18=\"\",\"\",VLOOKUP($Q$10,DATA!$P$2:$R$196,3))","v":""},{"$f":"IF(XAL18=\"\",\"\",VLOOKUP($Q$10,DATA!$P$2:$R$196,3))","v":""},{"$f":"IF(XAM18=\"\",\"\",VLOOKUP($Q$10,DATA!$P$2:$R$196,3))","v":""},{"$f":"IF(XAN18=\"\",\"\",VLOOKUP($Q$10,DATA!$P$2:$R$196,3))","v":""},{"$f":"IF(XAO18=\"\",\"\",VLOOKUP($Q$10,DATA!$P$2:$R$196,3))","v":""},{"$f":"IF(XAP18=\"\",\"\",VLOOKUP($Q$10,DATA!$P$2:$R$196,3))","v":""},{"$f":"IF(XAQ18=\"\",\"\",VLOOKUP($Q$10,DATA!$P$2:$R$196,3))","v":""},{"$f":"IF(XAR18=\"\",\"\",VLOOKUP($Q$10,DATA!$P$2:$R$196,3))","v":""},{"$f":"IF(XAS18=\"\",\"\",VLOOKUP($Q$10,DATA!$P$2:$R$196,3))","v":""},{"$f":"IF(XAT18=\"\",\"\",VLOOKUP($Q$10,DATA!$P$2:$R$196,3))","v":""},{"$f":"IF(XAU18=\"\",\"\",VLOOKUP($Q$10,DATA!$P$2:$R$196,3))","v":""},{"$f":"IF(XAV18=\"\",\"\",VLOOKUP($Q$10,DATA!$P$2:$R$196,3))","v":""},{"$f":"IF(XAW18=\"\",\"\",VLOOKUP($Q$10,DATA!$P$2:$R$196,3))","v":""},{"$f":"IF(XAX18=\"\",\"\",VLOOKUP($Q$10,DATA!$P$2:$R$196,3))","v":""},{"$f":"IF(XAY18=\"\",\"\",VLOOKUP($Q$10,DATA!$P$2:$R$196,3))","v":""},{"$f":"IF(XAZ18=\"\",\"\",VLOOKUP($Q$10,DATA!$P$2:$R$196,3))","v":""},{"$f":"IF(XBA18=\"\",\"\",VLOOKUP($Q$10,DATA!$P$2:$R$196,3))","v":""},{"$f":"IF(XBB18=\"\",\"\",VLOOKUP($Q$10,DATA!$P$2:$R$196,3))","v":""},{"$f":"IF(XBC18=\"\",\"\",VLOOKUP($Q$10,DATA!$P$2:$R$196,3))","v":""},{"$f":"IF(XBD18=\"\",\"\",VLOOKUP($Q$10,DATA!$P$2:$R$196,3))","v":""},{"$f":"IF(XBE18=\"\",\"\",VLOOKUP($Q$10,DATA!$P$2:$R$196,3))","v":""},{"$f":"IF(XBF18=\"\",\"\",VLOOKUP($Q$10,DATA!$P$2:$R$196,3))","v":""},{"$f":"IF(XBG18=\"\",\"\",VLOOKUP($Q$10,DATA!$P$2:$R$196,3))","v":""},{"$f":"IF(XBH18=\"\",\"\",VLOOKUP($Q$10,DATA!$P$2:$R$196,3))","v":""},{"$f":"IF(XBI18=\"\",\"\",VLOOKUP($Q$10,DATA!$P$2:$R$196,3))","v":""},{"$f":"IF(XBJ18=\"\",\"\",VLOOKUP($Q$10,DATA!$P$2:$R$196,3))","v":""},{"$f":"IF(XBK18=\"\",\"\",VLOOKUP($Q$10,DATA!$P$2:$R$196,3))","v":""},{"$f":"IF(XBL18=\"\",\"\",VLOOKUP($Q$10,DATA!$P$2:$R$196,3))","v":""},{"$f":"IF(XBM18=\"\",\"\",VLOOKUP($Q$10,DATA!$P$2:$R$196,3))","v":""},{"$f":"IF(XBN18=\"\",\"\",VLOOKUP($Q$10,DATA!$P$2:$R$196,3))","v":""},{"$f":"IF(XBO18=\"\",\"\",VLOOKUP($Q$10,DATA!$P$2:$R$196,3))","v":""},{"$f":"IF(XBP18=\"\",\"\",VLOOKUP($Q$10,DATA!$P$2:$R$196,3))","v":""},{"$f":"IF(XBQ18=\"\",\"\",VLOOKUP($Q$10,DATA!$P$2:$R$196,3))","v":""},{"$f":"IF(XBR18=\"\",\"\",VLOOKUP($Q$10,DATA!$P$2:$R$196,3))","v":""},{"$f":"IF(XBS18=\"\",\"\",VLOOKUP($Q$10,DATA!$P$2:$R$196,3))","v":""},{"$f":"IF(XBT18=\"\",\"\",VLOOKUP($Q$10,DATA!$P$2:$R$196,3))","v":""},{"$f":"IF(XBU18=\"\",\"\",VLOOKUP($Q$10,DATA!$P$2:$R$196,3))","v":""},{"$f":"IF(XBV18=\"\",\"\",VLOOKUP($Q$10,DATA!$P$2:$R$196,3))","v":""},{"$f":"IF(XBW18=\"\",\"\",VLOOKUP($Q$10,DATA!$P$2:$R$196,3))","v":""},{"$f":"IF(XBX18=\"\",\"\",VLOOKUP($Q$10,DATA!$P$2:$R$196,3))","v":""},{"$f":"IF(XBY18=\"\",\"\",VLOOKUP($Q$10,DATA!$P$2:$R$196,3))","v":""},{"$f":"IF(XBZ18=\"\",\"\",VLOOKUP($Q$10,DATA!$P$2:$R$196,3))","v":""},{"$f":"IF(XCA18=\"\",\"\",VLOOKUP($Q$10,DATA!$P$2:$R$196,3))","v":""},{"$f":"IF(XCB18=\"\",\"\",VLOOKUP($Q$10,DATA!$P$2:$R$196,3))","v":""},{"$f":"IF(XCC18=\"\",\"\",VLOOKUP($Q$10,DATA!$P$2:$R$196,3))","v":""},{"$f":"IF(XCD18=\"\",\"\",VLOOKUP($Q$10,DATA!$P$2:$R$196,3))","v":""},{"$f":"IF(XCE18=\"\",\"\",VLOOKUP($Q$10,DATA!$P$2:$R$196,3))","v":""},{"$f":"IF(XCF18=\"\",\"\",VLOOKUP($Q$10,DATA!$P$2:$R$196,3))","v":""},{"$f":"IF(XCG18=\"\",\"\",VLOOKUP($Q$10,DATA!$P$2:$R$196,3))","v":""},{"$f":"IF(XCH18=\"\",\"\",VLOOKUP($Q$10,DATA!$P$2:$R$196,3))","v":""},{"$f":"IF(XCI18=\"\",\"\",VLOOKUP($Q$10,DATA!$P$2:$R$196,3))","v":""},{"$f":"IF(XCJ18=\"\",\"\",VLOOKUP($Q$10,DATA!$P$2:$R$196,3))","v":""},{"$f":"IF(XCK18=\"\",\"\",VLOOKUP($Q$10,DATA!$P$2:$R$196,3))","v":""},{"$f":"IF(XCL18=\"\",\"\",VLOOKUP($Q$10,DATA!$P$2:$R$196,3))","v":""},{"$f":"IF(XCM18=\"\",\"\",VLOOKUP($Q$10,DATA!$P$2:$R$196,3))","v":""},{"$f":"IF(XCN18=\"\",\"\",VLOOKUP($Q$10,DATA!$P$2:$R$196,3))","v":""},{"$f":"IF(XCO18=\"\",\"\",VLOOKUP($Q$10,DATA!$P$2:$R$196,3))","v":""},{"$f":"IF(XCP18=\"\",\"\",VLOOKUP($Q$10,DATA!$P$2:$R$196,3))","v":""},{"$f":"IF(XCQ18=\"\",\"\",VLOOKUP($Q$10,DATA!$P$2:$R$196,3))","v":""},{"$f":"IF(XCR18=\"\",\"\",VLOOKUP($Q$10,DATA!$P$2:$R$196,3))","v":""},{"$f":"IF(XCS18=\"\",\"\",VLOOKUP($Q$10,DATA!$P$2:$R$196,3))","v":""},{"$f":"IF(XCT18=\"\",\"\",VLOOKUP($Q$10,DATA!$P$2:$R$196,3))","v":""},{"$f":"IF(XCU18=\"\",\"\",VLOOKUP($Q$10,DATA!$P$2:$R$196,3))","v":""},{"$f":"IF(XCV18=\"\",\"\",VLOOKUP($Q$10,DATA!$P$2:$R$196,3))","v":""},{"$f":"IF(XCW18=\"\",\"\",VLOOKUP($Q$10,DATA!$P$2:$R$196,3))","v":""},{"$f":"IF(XCX18=\"\",\"\",VLOOKUP($Q$10,DATA!$P$2:$R$196,3))","v":""},{"$f":"IF(XCY18=\"\",\"\",VLOOKUP($Q$10,DATA!$P$2:$R$196,3))","v":""},{"$f":"IF(XCZ18=\"\",\"\",VLOOKUP($Q$10,DATA!$P$2:$R$196,3))","v":""},{"$f":"IF(XDA18=\"\",\"\",VLOOKUP($Q$10,DATA!$P$2:$R$196,3))","v":""},{"$f":"IF(XDB18=\"\",\"\",VLOOKUP($Q$10,DATA!$P$2:$R$196,3))","v":""},{"$f":"IF(XDC18=\"\",\"\",VLOOKUP($Q$10,DATA!$P$2:$R$196,3))","v":""},{"$f":"IF(XDD18=\"\",\"\",VLOOKUP($Q$10,DATA!$P$2:$R$196,3))","v":""},{"$f":"IF(XDE18=\"\",\"\",VLOOKUP($Q$10,DATA!$P$2:$R$196,3))","v":""},{"$f":"IF(XDF18=\"\",\"\",VLOOKUP($Q$10,DATA!$P$2:$R$196,3))","v":""},{"$f":"IF(XDG18=\"\",\"\",VLOOKUP($Q$10,DATA!$P$2:$R$196,3))","v":""},{"$f":"IF(XDH18=\"\",\"\",VLOOKUP($Q$10,DATA!$P$2:$R$196,3))","v":""},{"$f":"IF(XDI18=\"\",\"\",VLOOKUP($Q$10,DATA!$P$2:$R$196,3))","v":""},{"$f":"IF(XDJ18=\"\",\"\",VLOOKUP($Q$10,DATA!$P$2:$R$196,3))","v":""},{"$f":"IF(XDK18=\"\",\"\",VLOOKUP($Q$10,DATA!$P$2:$R$196,3))","v":""},{"$f":"IF(XDL18=\"\",\"\",VLOOKUP($Q$10,DATA!$P$2:$R$196,3))","v":""},{"$f":"IF(XDM18=\"\",\"\",VLOOKUP($Q$10,DATA!$P$2:$R$196,3))","v":""},{"$f":"IF(XDN18=\"\",\"\",VLOOKUP($Q$10,DATA!$P$2:$R$196,3))","v":""},{"$f":"IF(XDO18=\"\",\"\",VLOOKUP($Q$10,DATA!$P$2:$R$196,3))","v":""},{"$f":"IF(XDP18=\"\",\"\",VLOOKUP($Q$10,DATA!$P$2:$R$196,3))","v":""},{"$f":"IF(XDQ18=\"\",\"\",VLOOKUP($Q$10,DATA!$P$2:$R$196,3))","v":""},{"$f":"IF(XDR18=\"\",\"\",VLOOKUP($Q$10,DATA!$P$2:$R$196,3))","v":""},{"$f":"IF(XDS18=\"\",\"\",VLOOKUP($Q$10,DATA!$P$2:$R$196,3))","v":""},{"$f":"IF(XDT18=\"\",\"\",VLOOKUP($Q$10,DATA!$P$2:$R$196,3))","v":""},{"$f":"IF(XDU18=\"\",\"\",VLOOKUP($Q$10,DATA!$P$2:$R$196,3))","v":""},{"$f":"IF(XDV18=\"\",\"\",VLOOKUP($Q$10,DATA!$P$2:$R$196,3))","v":""},{"$f":"IF(XDW18=\"\",\"\",VLOOKUP($Q$10,DATA!$P$2:$R$196,3))","v":""},{"$f":"IF(XDX18=\"\",\"\",VLOOKUP($Q$10,DATA!$P$2:$R$196,3))","v":""},{"$f":"IF(XDY18=\"\",\"\",VLOOKUP($Q$10,DATA!$P$2:$R$196,3))","v":""},{"$f":"IF(XDZ18=\"\",\"\",VLOOKUP($Q$10,DATA!$P$2:$R$196,3))","v":""},{"$f":"IF(XEA18=\"\",\"\",VLOOKUP($Q$10,DATA!$P$2:$R$196,3))","v":""},{"$f":"IF(XEB18=\"\",\"\",VLOOKUP($Q$10,DATA!$P$2:$R$196,3))","v":""},{"$f":"IF(XEC18=\"\",\"\",VLOOKUP($Q$10,DATA!$P$2:$R$196,3))","v":""},{"$f":"IF(XED18=\"\",\"\",VLOOKUP($Q$10,DATA!$P$2:$R$196,3))","v":""},{"$f":"IF(XEE18=\"\",\"\",VLOOKUP($Q$10,DATA!$P$2:$R$196,3))","v":""},{"$f":"IF(XEF18=\"\",\"\",VLOOKUP($Q$10,DATA!$P$2:$R$196,3))","v":""},{"$f":"IF(XEG18=\"\",\"\",VLOOKUP($Q$10,DATA!$P$2:$R$196,3))","v":""},{"$f":"IF(XEH18=\"\",\"\",VLOOKUP($Q$10,DATA!$P$2:$R$196,3))","v":""},{"$f":"IF(XEI18=\"\",\"\",VLOOKUP($Q$10,DATA!$P$2:$R$196,3))","v":""},{"$f":"IF(XEJ18=\"\",\"\",VLOOKUP($Q$10,DATA!$P$2:$R$196,3))","v":""},{"$f":"IF(XEK18=\"\",\"\",VLOOKUP($Q$10,DATA!$P$2:$R$196,3))","v":""}]
[null,4,{"$nulls":14},{"$f":"IF(C19=\"\",\"\",VLOOKUP($Q$10,DATA!$P$2:$R$112,2))","v":""},"",{"$f":"IF(C19=\"\",\"\",V19-V19*$S$37)","v":""},"","",{"$f":"IF(C19=\"\",\"\",VLOOKUP($Q$10,DATA!$P$2:$S$114,4,FALSE))","v":""}]
[null,5,{"$nulls":14},{"$f":"IF(C20=\"\",\"\",VLOOKUP($Q$10,DATA!$P$2:$R$112,2))","v":""},"",{"$f":"IF(C20=\"\",\"\",V20-V20*$S$37)","v":""},"","",{"$f":"IF(C20=\"\",\"\",VLOOKUP($Q$10,DATA!$P$2:$S$114,4,FALSE))","v":""}]
[null,6,{"$nulls":14},{"$f":"IF(C21=\"\",\"\",VLOOKUP($Q$10,DATA!$P$2:$R$112,2))","v":""},"",{"$f":"IF(C21=\"\",\"\",V21-V21*$S$37)","v":""},"","",{"$f":"IF(C21=\"\",\"\",VLOOKUP($Q$10,DATA!$P$2:$S$114,4,FALSE))","v":""}]
[null,7,{"$nulls":14},{"$f":"IF(C22=\"\",\"\",VLOOKUP($Q$10,DATA!$P$2:$R$112,2))","v":""},"",{"$f":"IF(C22=\"\",\"\",V22-V22*$S$37)","v":""},"","",{"$f":"IF(C22=\"\",\"\",VLOOKUP($Q$10,DATA!$P$2:$S$114,4,FALSE))","v":""}]
[null,8,{"$nulls":14},{"$f":"IF(C23=\"\",\"\",VLOOKUP($Q$10,DATA!$P$2:$R$112,2))","v":""},"",{"$f":"IF(C23=\"\",\"\",V23-V23*$S$37)","v":""},"","",{"$f":"IF(C23=\"\",\"\",VLOOKUP($Q$10,DATA!$P$2:$S$114,4,FALSE))","v":""}]
[null,9,{"$nulls":14},{"$f":"IF(C24=\"\",\"\",VLOOKUP($Q$10,DATA!$P$2:$R$112,2))","v":""},"",{"$f":"IF(C24=\"\",\"\",V24-V24*$S$37)","v":""},"","",{"$f":"IF(C24=\"\",\"\",VLOOKUP($Q$10,DATA!$P$2:$S$114,4,FALSE))","v":""}]
[null,10,{"$nulls":14},{"$f":"IF(C25=\"\",\"\",VLOOKUP($Q$10,DATA!$P$2:$R$112,2))","v":""},"",{"$f":"IF(C25=\"\",\"\",V25-V25*$S$37)","v":""},"","",{"$f":"IF(C25=\"\",\"\",VLOOKUP($Q$10,DATA!$P$2:$S$114,4,FALSE))","v":""}]
[null,11,{"$nulls":14},{"$f":"IF(C26=\"\",\"\",VLOOKUP($Q$10,DATA!$P$2:$R$112,2))","v":""},"",{"$f":"IF(C26=\"\",\"\",V26-V26*$S$37)","v":""},"","",{"$f":"IF(C26=\"\",\"\",VLOOKUP($Q$10,DATA!$P$2:$S$114,4,FALSE))","v":""}]
[null,12,{"$nulls":14},{"$f":"IF(C27=\"\",\"\",VLOOKUP($Q$10,DATA!$P$2:$R$112,2))","v":""},"",{"$f":"IF(C27=\"\",\"\",V27-V27*$S$37)","v":""},"",{"$f":"IF(C27=\"\",\"\",C27*T27)","v":""},{"$f":"IF(C27=\"\",\"\",VLOOKUP($Q$10,DATA!$P$2:$S$114,4,FALSE))","v":""}]
[null,13,{"$nulls":14},{"$f":"IF(C28=\"\",\"\",VLOOKUP($Q$10,DATA!$P$2:$R$112,2))","v":""},"",{"$f":"IF(C28=\"\",\"\",V28-V28*$S$37)","v":""},"","",{"$f":"IF(C28=\"\",\"\",VLOOKUP($Q$10,DATA!$P$2:$S$114,4,FALSE))","v":""}]
[null,14,{"$nulls":14},{"$f":"IF(C29=\"\",\"\",VLOOKUP($Q$10,DATA!$P$2:$R$112,2))","v":""},"",{"$f":"IF(C29=\"\",\"\",V29-V29*$S$37)","v":""},"","",{"$f":"IF(C29=\"\",\"\",VLOOKUP($Q$10,DATA!$P$2:$S$114,4,FALSE))","v":""}]
[null,15,{"$nulls":14},{"$f":"IF(C30=\"\",\"\",VLOOKUP($Q$10,DATA!$P$2:$R$112,2))","v":""},"",{"$f":"IF(C30=\"\",\"\",V30-V30*$S$37)","v":""},"","",{"$f":"IF(C30=\"\",\"\",VLOOKUP($Q$10,DATA!$P$2:$S$114,4,FALSE))","v":""}]
[null,16,{"$nulls":14},{"$f":"IF(C31=\"\",\"\",VLOOKUP($Q$10,DATA!$P$2:$R$112,2))","v":""},"",{"$f":"IF(C31=\"\",\"\",V31-V31*$S$37)","v":""},"","",{"$f":"IF(C31=\"\",\"\",VLOOKUP($Q$10,DATA!$P$2:$S$114,4,FALSE))","v":""}]
[null,17,{"$nulls":14},{"$f":"IF(C32=\"\",\"\",VLOOKUP($Q$10,DATA!$P$2:$R$112,2))","v":""},"",{"$f":"IF(C32=\"\",\"\",V32-V32*$S$37)","v":""},"","",{"$f":"IF(C32=\"\",\"\",VLOOKUP($Q$10,DATA!$P$2:$S$114,4,FALSE))","v":""}]
[null,18,{"$nulls":14},{"$f":"IF(C33=\"\",\"\",VLOOKUP($Q$10,DATA!$P$2:$R$112,2))","v":""},"",{"$f":"IF(C33=\"\",\"\",V33-V33*$S$37)","v":""},"","",{"$f":"IF(C33=\"\",\"\",VLOOKUP($Q$10,DATA!$P$2:$S$114,4,FALSE))","v":""}]
[null,19,{"$nulls":14},{"$f":"IF(C34=\"\",\"\",VLOOKUP($Q$10,DATA!$P$2:$R$112,2))","v":""},"",{"$f":"IF(C34=\"\",\"\",V34-V34*$S$37)","v":""},"","",{"$f":"IF(C34=\"\",\"\",VLOOKUP($Q$10,DATA!$P$2:$S$114,4,FALSE))","v":""}]
[null,20,{"$nulls":14},{"$f":"IF(C35=\"\",\"\",VLOOKUP($Q$10,DATA!$P$2:$R$112,2))","v":""},"",{"$f":"IF(C35=\"\",\"\",V35-V35*$S$37)","v":""},"","",{"$f":"IF(C35=\"\",\"\",VLOOKUP($Q$10,DATA!$P$2:$S$114,4,FALSE))","v":""}]
[null,null,{"$f":"SUM(C16:C35)","v":0},"TOTAL PANELS",{"$nulls":6},{"$f":"SUM(K16:K35)","v":0},{"$f":"SUM(L16:L35)","v":0},{"$f":"SUM(M16:M35)","v":0},{"$f":"SUM(N16:N35)","v":0},null,null,"TOTAL M2:",{"$f":"SUM(R16:R35)","v":0},null,"BOARD TOTAL:",{"$f":"SUM(U16:U35)","v":0}]
[{"$nulls":16},"DISCOUNT %"]
[{"$nulls":14},"FABRICATION CHARGES"]
[{"$nulls":14},"Qty","Process",null,null,"LMX Code","Each","Price"]
[{"$nulls":14},{"$f":"IF(K36<1,\"\",SUM(K16:K35))","v":""},"Sensys Hinges / Mounting Plates (Pair)",null,null,973127,{"$f":"DATA!S115","v":15.8},{"$f":"IF(V40=\"\",\"\",O40*T40)","v":""},{"$f":"O40","v":""}]
[{"$nulls":14},{"$f":"IF(L36<1,\"\",SUM(L16:L35))","v":""},"Cut Outs / Drilling / Shaped Panels",null,null,973128,{"$f":"DATA!S116","v":31.2},{"$f":"IF(V41=\"\",\"\",O41*T41)","v":""},{"$f":"O41","v":""}]
[{"$nulls":14},{"$f":"IF(M36<1,\"\",SUM(M16:M35))","v":""},"Shark Nose / Specialist Cut",null,null,973129,{"$f":"DATA!S117","v":62.8},{"$f":"IF(V42=\"\",\"\",O42*T42)","v":""},{"$f":"O42","v":""}]
[{"$nulls":14},{"$f":"IF(N36<1,\"\",SUM(N16:N35))","v":""},"Pattern Set-Up Costs",null,null,973130,{"$f":"DATA!S118","v":41.2},{"$f":"IF(V43=\"\",\"\",O43*T43)","v":""},{"$f":"O43","v":""}]
[]
[{"$nulls":14},1,"Laminex Logistics / Delivery",null,null,null,31.5,31.5]
[{"$nulls":20},{"$f":"SUM(U40:U45)","v":31.5}]
[{"$nulls":19},"PROCESS/LOGISTICS:",{"$f":"SUM(U40:U45)","v":31.5}]
[]
[]
[]
[]
[null,null," "]
{"$rows_empty":7}
[{"$nulls":14},"QUOTES VALID for 60 days, changes to order attributes will change pricing accordingly. ",{"$nulls":4},"OVERALL TOTAL (excl. GST):",{"$f":"SUM(U36+U47)","v":31.5}]

{"sheet":"DATA","index":1,"n_rows":120,"n_cols":22,"rows_kept":120,"cut":false,"hidden":true,"merged":[]}
["Edge Profile","Profiles","Material","Material Groups","List Price","Southern region branches","13mm Multipurpose Compact","13mm Alfresco Compact","Corner Profile","ALASKAN",973104,"Multipurpose","Thickness","Code","Lamine Code Description 1","Lamine Code Description 3","Asw Code","Price Nov 1st\n2020","Price May 1st 2022","Price Nov 1st\n2021","Price July 1st\n2021","shape"]
["2ARS","2mm Aris","Alfresco","6mm Alfresco Compact",null,"Melbourne Airport","Alaskan","Bespeckled Grey","Square","BATTALION",978782,"Multipurpose",6,973104,"LCL Multipur Pan 13 Alaskan","13mm Alaskan Natural MP",{"$f":"N2","v":973104},316.00400000000002,387.9,341.8,325.5,"DOOR"]
["BN","8.5mm Bullnoe","Multipurpose","13mm Alfresco Compact",null,"Ballarat ","Battalion","Brushed Beam","3mm","BAYE",973106,"Multipurpose",13,988781,"LCL Multipur Pan 13 Aquamarine","13mm Aquamarine Natural MP",{"$f":"N3","v":988781},316.00400000000002,387.9,341.8,325.5,"DRAWER"]
["RSK","Reverse Sharknose","XR Grade","13mm Multipurpose Compact",null,"Hobart ","Baye","Manganese","5mm","BESPECKLED GREY",969479,"Alfresco",16,988782,"LCL Multipur Pan 13 Aries","13mm Aries Natural MP",{"$f":"N4","v":988782},316.00400000000002,387.9,341.8,325.5,"PANEL "]
["SK","Shark Nose","Lab Grade","13mm Multipurpose Nuance ",null,"Launceston","Black","Mortar","10mm","BLACK",969463,"Multipurpose",18,973122,"LCL XR GRADE Pan 13 Nat Astro","13mm Astro Carbide XR",{"$f":"N5","v":973122},398.8,489.5,431.3,410.8,"KICKER"]
["SQR","Square Cut",null,"13mm Multipurpose Chalk ",null,"Shepparton","Blackened Linewood","Sawn Lumber","Other-Specify","BLACKENED LINEWOOD",969467,"Multipurpose",32,978782,"LCL Multipur Pan 13 Battalion","13mm Battalion Natural MP",{"$f":"N6","v":978782},316.00400000000002,387.9,341.8,325.5,"INFILL"]
[null,null,null,"13mm XR grade Compact",null,"Wodonga","Brescia","Sentry",null,"BRESCIA",973111,"Multipurpose",null,969479,"LCL AlfrescoPanel 13 Bespeckle Grey","13mm Bespeckle Grey ALF",969479,398.8,489.5,431.3,410.8,"TABLE"]
[null,null,null,"16mm Lab Grade Compact",null,"Adelaide","Charcoal","Split Cedar",null,"BRUSHED BEAM",969476,"Alfresco",null,969463,"LCL Multipur Pan 13 Black","13mm Black Natural MP",{"$f":"N8","v":969463},316.00400000000002,387.9,341.8,325.5,"BENCHTOP"]
[null,null,null,"18mm Multipurpose Compact",null,"Welshpool","Fossil","Stone",null,"CHARCOAL",973112,"Multipurpose",null,994400,"13mm Black Nuance MPI","13mm Black Nuance MPI",994400,325.8,387.9,341.8,325.5,"CUSTOM"]
[null,null,null,"18mm Structural - 973178",null,"ACT","Jericho","13mm TBC-ALF",null,"FOSSIL",969458,"Multipurpose",null,969476,"LCL AlfrescoPanel 13 Brushed Beam","13mm Brushed Beam ALF",969476,398.8,489.5,431.3,410.8,"SQUARE"]
[null,null,null,"32mm Structural - 973179",null,"NSW","Juicy",null,null,"HAKATA",973105,"Multipurpose",null,988783,"LCL Multipur Pan 13 Burnished Wood","13mm Burnished Wood Natural MP",{"$f":"N11","v":988783},316.00400000000002,387.9,341.8,325.5,"ROUND"]
[{"$nulls":6},"Licorice Linea",null,null,"HUSK",973108,"Multipurpose",null,994401,"LCL Multipur Pan 13 Burnished Wood nuance ","13mm Burnished Wood Nuance MPI",994401,325.8,387.9,341.8,325.5]
[{"$nulls":6},"Lustrous Elm",null,null,"LICORICE LINEA",969466,"Multipurpose",null,973112,"LCL Multipur Pan 13 Charcoal","13mm Charcoal Natural MP",973112,316.00400000000002,387.9,341.8,325.5]
[{"$nulls":6},"Mandarin",null,null,"LUSTROUS ELM",973109,"Multipurpose",null,988784,"LCL Multipur Pan 13 Classic Oak","13mm Classsic Oak Natural MP",988784,316.00400000000002,387.9,341.8,325.5]
[{"$nulls":6},"Moose",null,null,"MANDARIN",969459,"Multipurpose",null,994402,"LCL Multipur Pan 13 Classic Oak nuance ","13mm Classsic Oak Nuance MPI",994402,325.8,387.9,341.8,325.5]
[{"$nulls":6},"New Graphite",null,null,"MANGANESE",969480,"Alfresco",null,973118,"LCL XR GRADE Pan 13 Nat Cosmic Black","13mm Cosmic Black Carbide XR",973118,398.8,489.5,431.3,410.8]
[{"$nulls":6},"Olympia Blue",null,null,"MOOSE",973110,"Multipurpose",null,973119,"LCL XR GRADE Pan 13 Nat Cosmic Grey","13mm Cosmic Grey Carbide XR",973119,398.8,489.5,431.3,410.8]
[{"$nulls":6},"Olympia Yellow",null,null,"MORTAR",969477,"Alfresco",null,973120,"LCL XR GRADE Pan 13 Nat Cosmic White","13mm Cosmic White Carbide XR",973120,398.8,489.5,431.3,410.8]
[{"$nulls":6},"Oyster Grey",null,null,"NEW ANTIQUE WHITE",973103,"Multipurpose",null,"TBA","LCL Multipur Pan 13 Curly Birch","13mm Curly Birch Natural MP","TBA",316.00400000000002,387.9,341.8,325.5]
[{"$nulls":6},"Oyster Linea",null,null,"NEW GRAPHITE",969457,"Multipurpose",null,"TBA","LCL Multipur Pan 13 Diamond","13mm Diamond Natural MP","TBA",316.00400000000002,387.9,341.8,325.5]
[{"$nulls":6},"Parchment",null,null,"NOCTURNE OAK",969465,"Multipurpose",null,988786,"LCL Multipur Pan 13 Elegant Oak","13mm Elegant Oak Natural MP",988786,316.00400000000002,387.9,341.8,325.5]
[{"$nulls":6},"Pillarbox",null,null,"OLIVE",969460,"Multipurpose",null,969458,"LCL Multipur Pan 13 Fossil","13mm Fossil Natural MP",969458,316.00400000000002,387.9,341.8,325.5]
[{"$nulls":6},"Platinum Micro",null,null,"OLYMPIA BLUE",969462,"Multipurpose",null,988787,"LCL Multipur Pan 13 Fox","13mm Fox Natural MP",988787,316.00400000000002,387.9,341.8,325.5]
[{"$nulls":6},"Polar White",null,null,"OLYMPIA YELLOW",978781,"Multipurpose",null,988788,"LCL Multipur Pan 13 Fox Teakwood","13mm Fox Teakwood Natural MP",988788,316.00400000000002,387.9,341.8,325.5]
[{"$nulls":6},"Pumice",null,null,"OYSTER GREY",969454,"Multipurpose",null,988789,"LCL Multipur Pan 13 Ghostgum","13mm Ghost Gum Natural MP",988789,316.00400000000002,387.9,341.8,325.5]
[{"$nulls":6},"Seasoned Oak",null,null,"OYSTER LINEA",973107,"Multipurpose",null,"TBA","LCL Multipur Pan 13 Greystone","13mm Greystone Natural MP","TBA",316.00400000000002,387.9,341.8,325.5]
[{"$nulls":6},"Stipple Hemp",null,null,"PARCHMENT",969450,"Multipurpose",null,978783,"LCL Multipur Pan  13 Juicy","13mm Juicy Natural MP",978783,316.00400000000002,387.9,341.8,325.5]
[{"$nulls":6},"Stipple Seal",null,null,"PILLARBOX",969461,"Multipurpose",null,988791,"LCL Multipur Pan 13 Lava Grey","13mm Lava Grey Natural MP",988791,316.00400000000002,387.9,341.8,325.5]
[{"$nulls":6},"Sublime Teak",null,null,"PLATINUM MICRO",969455,"Multipurpose",null,969466,"LCL Multipur Pan 13 Lic Linea","13mm Licorice Linea Natural MP",969466,316.00400000000002,387.9,341.8,325.5]
[{"$nulls":6},"Tawny Linewood",null,null,"POLAR WHITE",969449,"Multipurpose",null,973121,"LCL XR GRADE Pan 13 Nat Lunar Dust","13mm Lunar Dust Carbide XR",973121,398.8,489.5,431.3,325.5]
[{"$nulls":6},"Zincworks",null,null,"PUMICE",969451,"Multipurpose",null,973109,"LCL Multipur Pan 13 Lustrous Elm","13mm Lustrous Elm Natural MP",973109,316.00400000000002,387.9,341.8,410.8]
[{"$nulls":6},"13mm TBC-MP",null,null,"SAWN LUMBER",969474,"Alfresco",null,994403,"LCL Multipur Pan 13 Lustrous Elm Nuance ","13mm Lustrous Elm Nuance MPI",994403,325.8,387.9,341.8,325.5]
[{"$nulls":9},"SEASONED OAK",969464,"Multipurpose",null,969459,"LCL Multipur Pan 13 Mandarin","13mm Mandarin Natural MP",969459,316.00400000000002,387.9,341.8,325.5]
[{"$nulls":9},"SENTRY",969478,"Alfresco",null,969480,"LCL AlfrescoPanel 13 Manganese","13mm Manganese ALF",969480,398.8,489.5,431.3,325.5]
[{"$nulls":9},"SPLIT CEDAR",969475,"Alfresco",null,988792,"LCL Multipur Pan 13 Milkwood","13mm Milkwood Natural MP",{"$f":"N35","v":988792},316.00400000000002,387.9,341.8,410.8]
[{"$nulls":9},"STIPPLE HEMP",969452,"Multipurpose",null,988793,"LCL Multipur Pan 13 Moleskin","13mm Moleskin Natural MP",{"$f":"N36","v":988793},316.00400000000002,387.9,341.8,325.5]
[{"$nulls":9},"STIPPLE SEAL",969453,"Multipurpose",null,973110,"LCL Multipur Pan 13 Moose","13mm Moose Natural MP",{"$f":"N37","v":973110},316.00400000000002,387.9,341.8,325.5]
[{"$nulls":9},"STONE",969473,"Alfresco",null,969477,"LCL AlfrescoPanel 13 Mortar","13mm Mortar ALF",969477,398.8,489.5,431.3,325.5]
[{"$nulls":9},"SUBLIME TEAK",977026,"Multipurpose",null,988794,"LCL Multipur Pan 13 Natural Walnut","13mm Natural Walnut Natural MP",{"$f":"N39","v":988794},316.00400000000002,387.9,341.8,410.8]
[{"$nulls":9},"TAWNY LINEWOOD",969468,"Multipurpose",null,969457,"LCL Multipur Pan 13 New Graphite","13mm New Graphite Natural MP",969457,316.00400000000002,387.9,341.8,325.5]
[{"$nulls":9},"ZINCWORKS",969456,"Multipurpose",null,"TBA","LCL Multipur Pan 13 Nordic Terra","13mm Nordic Terra Natural MP","TBA",316.00400000000002,387.9,341.8,325.5]
[{"$nulls":9},"13mm TBC-ALF",900000,"Alfresco",null,969462,"LCL Multipur Pan 13 Olympia Blue","13mm Olympia Blue Natural MP",969462,316.00400000000002,387.9,341.8,325.5]
[{"$nulls":9},"13mm TBC-MP",900001,"Multipurpose",null,978781,"LCL Multipur Pan 13 Olympia Yellow","13mm Olympia Yellow Natural MP",978781,316.00400000000002,387.9,341.8,325.5]
[{"$nulls":9},"13mm TBC-XR Grade",900002,"Multipurpose",null,969454,"LCL Multipur Pan 13 Oyster Grey","13mm Oyster Grey Natural MP",969454,316.00400000000002,387.9,341.8,325.5]
[{"$nulls":9},"16mm TBC-Lab Grade",900003,"Multipurpose",null,973107,"LCL Multipur Pan 13 Oyster Linea","13mm Oyster Linea Natural MP",973107,316.00400000000002,387.9,341.8,325.5]
[{"$nulls":9},"18mm  TBC-MP",900004,"Multipurpose",null,969450,"LCL Multipur Pan 13 Parchment","13mm Parchment Natural MP",969450,316.00400000000002,387.9,341.8,325.5]
[{"$nulls":13},969461,"LCL Multipur Pan 13 Pillarbox","13mm Pillarbox Natural MP",969461,316.00400000000002,387.9,341.8,325.5]
[{"$nulls":13},969449,"LCL Multipur Pan 13 Polar White","13mm Polar White Natural MP",969449,316.00400000000002,387.9,341.8,325.5]
[{"$nulls":13},994409,"LCL Multipur Pan 13 Raw Birchply Chalk","13mm Raw BirchPly Chalk MPI",994409,336.1,387.9,341.8,325.5]
[{"$nulls":13},988795,"LCL Multipur Pan 13 Raw Birchply","13mm Raw BirchPly Natural MP",988795,316.00400000000002,387.9,341.8,325.5]
[{"$nulls":13},969474,"LCL AlfrescoPanel 13 Sawn Lumber","13mm Sawn Lumber ALF",969474,398.8,489.5,431.3,325.5]
[{"$nulls":13},994410,"LCL Multipur Pan 13 Seasoned Oak chalk","13mm Seasoned Oak Chalk MPI",{"$f":"N52","v":994410},336.1,387.9,341.8,410.8]
[{"$nulls":13},969464,"LCL Multipur Pan 13 Seasoned Oak","13mm Seasoned Oak Natural MP",{"$f":"N53","v":969464},316.00400000000002,387.9,341.8,325.5]
[{"$nulls":13},969478,"LCL AlfrescoPanel 13 Sentry","13mm Sentry ALF",969478,398.8,489.5,431.3,325.5]
[{"$nulls":13},969475,"LCL AlfrescoPanel 13 Split Cedar","13mm Split Cedar ALF",969475,398.8,489.5,431.3,410.8]
[{"$nulls":13},969473," LCL AlfrescoPanel 13 Stone","13mm Stone ALF",969473,398.8,489.5,431.3,410.8]
[{"$nulls":13},994411,"LCL Multipur Pan 13 Sublime Teak chalk","13mm Sublime Teak Chalk MPI",{"$f":"N57","v":994411},336.1,387.9,341.8,410.8]
[{"$nulls":13},977026,"LCL Multipur Pan 13 Sublime Teak","13mm Sublime Teak Natural MP",977026,316.00400000000002,387.9,341.8,325.5]
[{"$nulls":13},988796,"LCL Multipur Pan 13 Tornado","13mm Tornado Natural MP",988796,316.00400000000002,387.9,341.8,325.5]
[{"$nulls":13},988797,"LCL Multipur Pan 13 White","13mm White Natural MP",988797,316.00400000000002,387.9,341.8,325.5]
[{"$nulls":13},994404,"LCL Multipur Pan 13 White Nuance ","13mm White Nuance MPI",994404,325.8,387.9,341.8,325.5]
[{"$nulls":13},969456,"LCL Multipur Pan 13 Zincworks","13mm Zinkworks Natural MP",969456,316.00400000000002,387.9,341.8,325.5]
[{"$nulls":13},973123,"LCL LAB GRADE Pan 16 Nat Ashen","16mm Ashen Carbide SS Lab",973123,500.48,614.5,541.4,325.5]
[{"$nulls":13},973124,"LCL LAB GRADE Pan 16 Nat Night Shadow","16mm Night Shadow Carbide SS Lab",973124,500.48,614.5,541.4,515.6]
[{"$nulls":13},973125,"LCL LAB GRADE Pan 16 Nat Vapour","16mm Vapour Carbide SS Lab",973125,500.48,614.5,541.4,515.6]
[{"$nulls":13},"TBA","LCL Multipur Pan 18 Alaskan","18mm MP Alaskan Natural (min 30m2)","TBA",395,null,427.2,515.6]
[{"$nulls":13},"TBA","LCL Multipur Pan 18 Auqamarine","18mm MP Aquamarine Natural (min 30m2)","TBA",395,null,427.2,406.9]
[{"$nulls":13},"TBA","LCL Multipur Pan 18 Aries","18mm MP Aries Natural (min 30m2)","TBA",395,null,427.2,406.9]
[{"$nulls":13},"TBA","LCL Multipur Pan 18 Battalion","18mm MP Battalion Natural (min 30m2)","TBA",395,null,427.2,406.9]
[{"$nulls":13},973113,"LCL MultipurpPan 18 Black ","18mm MP Black Natural",973113,395,484.9,427.2,406.9]
[{"$nulls":13},"TBA","LCL Multipur Pan 18 Burnished Wood","18mm MP Burnished Wood Natural (min 30m2)","TBA",395,null,427.2,406.9]
[{"$nulls":13},"TBA","LCL Multipur Pan 18 Charcoal","18mm MP Charcoal Natural (min 30m2)","TBA",395,null,427.2,406.9]
[{"$nulls":13},"TBA","LCL Multipur Pan 18 Classic Oak","18mm MP Classsic Oak Natural (min 30m2)","TBA",395,null,427.2,406.9]
[{"$nulls":13},"TBA","LCL Multipur Pan 18 Elegant Oak","18mm MP Elegant Oak Natural (min 30m2)","TBA",395,null,427.2,406.9]
[{"$nulls":13},"TBA","LCL Multipur Pan 18 Fossil","18mm MP Fossil Natural (min 30m2)","TBA",395,null,427.2,406.9]
[{"$nulls":13},"TBA","LCL Multipur Pan 18 Fox","18mm MP Fox Natural (min 30m2)","TBA",395,null,427.2,406.9]
[{"$nulls":13},"TBA","LCL Multipur Pan 18 Fox Teakwood","18mm MP Fox Teakwood Natural (min 30m2)","TBA",395,null,427.2,406.9]
[{"$nulls":13},"TBA","LCL Multipur Pan 18 Ghost Gum","18mm MP Ghost Gum Natural (min 30m2)","TBA",395,null,427.2,406.9]
[{"$nulls":13},"TBA","LCL Multipur Pan 18 Juicy","18mm MP Juicy Natural (min 30m2)","TBA",395,null,427.2,406.9]
[{"$nulls":13},"TBA","LCL Multipur Pan 18 Lava Grey","18mm MP Lava Grey Natural (min 30m2)","TBA",395,null,427.2,406.9]
[{"$nulls":13},"TBA","LCL Multipur Pan 18 Licorice Linea","18mm MP Licorice Linea Natural (min 30m2)","TBA",395,null,427.2,406.9]
[{"$nulls":13},"TBA","LCL Multipur Pan 18 Lsutrous Elm","18mm MP Lustrous Elm Natural (min 30m2)","TBA",395,null,427.2,406.9]
[{"$nulls":13},"TBA","LCL Multipur Pan 18 Mandarin","18mm MP Mandarin Natural (min 30m2)","TBA",395,null,427.2,406.9]
[{"$nulls":13},"TBA","LCL Multipur Pan 18 Milkwood","18mm MP Milkwood Natural (min 30m2)","TBA",395,null,427.2,406.9]
[{"$nulls":13},"TBA","LCL Multipur Pan 18 Moleskin","18mm MP Moleskin Natural (min 30m2)","TBA",395,null,427.2,406.9]
[{"$nulls":13},"TBA","LCL Multipur Pan 18 Moose","18mm MP Moose Natural (min 30m2)","TBA",395,null,427.2,406.9]
[{"$nulls":13},"TBA","LCL Multipur Pan 18 Natural Walnut","18mm MP Natural Walnut Natural (min 30m2)","TBA",395,null,427.2,406.9]
[{"$nulls":13},"TBA","LCL Multipur Pan 18 New Graphite","18mm MP New Graphite Natural (min 30m2)","TBA",395,null,427.2,406.9]
[{"$nulls":13},"TBA","LCL Multipur Pan 18 Olympia Blue","18mm MP Olympia Blue Natural (min 30m2)","TBA",395,null,427.2,406.9]
[{"$nulls":13},"TBA","LCL Multipur Pan 18 Olympia Yellow","18mm MP Olympia Yellow Natural (min 30m2)","TBA",395,null,427.2,406.9]
[{"$nulls":13},"TBA","LCL Multipur Pan 18 Oyster Grey","18mm MP Oyster Grey Natural (min 30m2)","TBA",395,null,427.2,406.9]
[{"$nulls":13},"TBA","LCL Multipur Pan 18 Oyster Linea","18mm MP Oyster Linea Natural (min 30m2)","TBA",395,null,427.2,406.9]
[{"$nulls":13},973114,"LCL MultipurpPan 18 Parchment","18mm MP Parchment Natural",973114,395,484.9,427.2,406.9]
[{"$nulls":13},"TBA","LCL Multipur Pan 18 Pillarbox","18mm MP Pillarbox Natural (min 30m2)","TBA",395,null,427.2,406.9]
[{"$nulls":13},973116,"LCL MultipurpPan 18 Polar white","18mm MP Polar White Natural",973116,395,484.9,427.2,406.9]
[{"$nulls":13},"TBA","LCL Multipur Pan 18 Raw Birch","18mm MP Raw Birch Natural (min 30m2)","TBA",395,null,427.2,406.9]
[{"$nulls":13},"TBA","LCL Multipur Pan 18 Seasoned Oak","18mm MP Seasoned Oak Natural (min 30m2)","TBA",395,null,427.2,406.9]
[{"$nulls":13},"TBA","LCL Multipur Pan 18 Sublime Teak","18mm MP Sublime Teak Natural (min 30m2)","TBA",395,null,427.2,406.9]
[{"$nulls":13},"TBA","LCL Multipur Pan 18 Tornado","18mm MP Tornado Natural (min 30m2)","TBA",395,null,427.2,406.9]
[{"$nulls":13},"TBA","LCL Multipur Pan 18 White","18mm MP White Natural (min 30m2)","TBA",395,null,427.2,406.9]
[{"$nulls":13},"TBA","LCL Multipur Pan 18 Zincworks","18mm MP Zinkworks Natural (min 30m2)","TBA",395,null,427.2,406.9]
[{"$nulls":13},969484,"LCL Alfrescopanel 6 Manganese","6mm Manganese ALF",969484,319,391.6,345,406.9]
[{"$nulls":13},969482,"LCL Alfrescopanel 6 Mortar","6mm Mortar ALF",969482,319,391.6,345,406.9]
[{"$nulls":13},969483,"LCL Alfrescopanel 6 Sentry","6mm SentryALF",969483,319,391.6,345,328.6]
[{"$nulls":13},969481,"LCL Alfrescopanel 6 Stone","6mm Stone ALF",969481,319,391.6,345,328.6]
[{"$nulls":13},973178,"Structural MDF E0 Pan 18mm","Structural MDF E0 Pan 18mm","N/A",236.9,null,256.3,328.6]
[{"$nulls":13},973179,"Structural MDF E0 Pan 32mm","Structural MDF E0 Pan 32mm","N/A",276.5,null,299,328.6]
[{"$nulls":13},999990,"TBC - 13mm Alfresco","TBC - 13mm Alfresco",999990,398.8,489.5,431.3,244.1]
[{"$nulls":13},999991,"TBC - 13mm Multipurpose","TBC - 13mm Multipurpose",999991,316,387.9,341.8,284.8]
[{"$nulls":13},999994,"TBC - 13mm XR Grade","TBC - 13mm XR Grade",999994,null,489.5,431.3,410.8]
[{"$nulls":13},999993,"TBC - 16mm Lab Grade","TBC - 16mm Lab Grade",999993,null,614.5,541.4,325.5]
[{"$nulls":13},999992,"TBC - 18mm Multipurpose","TBC - 18mm Multipurpose",999992,395,484.9,427.2,410.8]
[{"$nulls":20},515.6]
[{"$nulls":13},973126,"CTS Fabrication extra 1","CTS Fabrication extra 1",973126,6.6,7.87,6.93,406.9]
[{"$nulls":13},973127,"CTS Fabrication extra 2","CTS Fabrication extra 2",973127,13.2,15.8,13.9]
[{"$nulls":13},973128,"CTS Fabrication extra 3","CTS Fabrication extra 3",973128,26.2,31.2,27.5,6.6]
[{"$nulls":13},973129,"CTS Fabrication extra 4","CTS Fabrication extra 4",973129,52.7,62.8,55.3,12.8]
[{"$nulls":13},973130,"CTS Design Fee","CTS Design Fee",973130,41.2,41.2,41.2,25.4]
[{"$nulls":20},51.1]
[{"$nulls":20},41.2]